{"text_format":"1","workbook":"xlsx","n_sheets":6,"sheets":["נתונים פיזיים","מקרא","פרטי רשות","עמודי תאורה","מרכזיות תאורה","סיכום"],"not_rendered":{"charts":0,"images":0,"macros":1,"external_links":0,"defined_names":17,"comments":0,"pivot_tables":1},"unopened":[],"bounds":{"document_bytes":16777216,"sheet_cells":100000,"rows_first":2000,"rows_last":500,"rows_between":2000,"halvings":0,"cell_chars":16384,"cell_head_chars":4096},"cells_cut":0,"cells_raw":0,"read":"whole","date_system":"1900"}

{"sheet":"נתונים פיזיים","index":0,"n_rows":259,"n_cols":17,"rows_kept":259,"cut":false,"hidden":true,"merged":[]}
["שם  הרשות","סמל הרשות","מחוז ","מעמד מוניציפלי","אשכול רשויות","מרחק מגבול מחוז תל אביב (ק\"מ)  ","שנת קבלת מעמד מוניציפלי  ","מרחב ימי, רשויות מקומיות הגובלות בחוף הים ","מספר חברי מועצה","סמל ועדת תכנון ובנייה","שם ועדת תכנון ובנייה","שטח \n(קמ\"ר)","צפיפות אוכלוסייה לקמ''ר ביישובים שמנו 5,000 תושבים ויותר","סה\"כ  אוכלוסייה בסוף השנה","אשכול סוציו-אקונומי","מענק מקסימלי","מספר מונים"]
["אבו גוש",472,"ירושלים","מועצה מקומית","-",41.316250851144801,1992,0,9,152,"הראל",1.8912415325048699,4205.3999999999996,7942.3156684100049,3,10000,500]
["אבו סנאן",473,"הצפון","מועצה מקומית","אשכול רשויות גליל מערבי",105.271006730932,1964,0,11,252,"הגליל המרכזי",6.4553397167012001,2275.1999999999998,14686.962578266915,3,20000,1000]
["אבן יהודה",182,"המרכז","מועצה מקומית","-",14.4853813589092,1950,0,11,457,"שרונים",8.1419615249172104,1764.3,14365.083938417119,9,20000,1000]
["אום אל-פחם",2710,"חיפה","עירייה","אשכול רשויות מישור החוף",60.581242748414603,1984,0,17,354,"עירון",26.028291611088001,2259.1999999999998,58664.530054457282,2,50000,2500]
["אופקים",31,"הדרום","עירייה","אשכול רשויות נגב מערבי",87.130838665736604,1995,0,15,601,"אופקים",16.3523994360751,2171.3000000000002,35506.139782210004,3,35000,1750]
["אור יהודה",2400,"תל אביב","עירייה","-",0,1988,0,15,510,"אור יהודה",6.7300239620150899,5773.2,38853.878165717513,5,35000,1750]
["אור עקיבא",1020,"חיפה","עירייה","-",39.407376186601297,2001,0,13,353,"יישובי הברון",5.5459996284664097,3763.8,20874.173811195935,5,35000,1750]
["אורנית",3760,"אזור יהודה והשומרון","מועצה מקומית","אשכולות רשויות יהודה ושומרון",15.178513942691,1990,0,9,718,"אורנית","..","..",9295.2003731826189,8,10000,500]
["אזור",565,"תל אביב","מועצה מקומית","-",0,1951,0,11,509,"אזור",2.2162576792531801,6127.4,13592.855514546694,7,20000,1000]
["אילת",2600,"הדרום","עירייה","-",323.002330261476,1959,0,17,602,"אילת",101.492515220559,539.1,53150.843427848398,6,50000,2500]
["אכסאל",478,"הצפון","מועצה מקומית","אשכול רשויות הגליל והעמקים",85.347011005019198,"..",0,11,257,"מבוא העמקים",9.3782880681493896,1635.3,15335.969968299696,3,20000,1000]
["אל-בטוף",65,"הצפון","מועצה אזורית","אשכול רשויות הכנרת והעמקים","-",2000,0,8,251,"הגליל המזרחי",4.2245221702687799,"..",8565.0658924476011,2,10000,500]
["אל קסום",69,"הדרום","מועצה אזורית","אשכול רשויות נגב מזרחי","-",2012,0,10,624,"אבו בסמה",38.705390265316403,"..",18100.856646118078,1,20000,1000]
["אלונה",45,"חיפה","מועצה אזורית","אשכול רשויות מישור החוף","-",1953,0,9,351,"מנשה-אלונה",27.585060520840099,"..",2260.8635246777576,8,10000,500]
["אליכין",41,"המרכז","מועצה מקומית","-",30.2706887023691,1977,0,9,457,"שרונים",1.6891032401175099,"..",3461.7069850263888,7,10000,500]
["אלעד",1309,"המרכז","עירייה","-",11.5731964987549,2007,0,15,422,"אלעד",3.4875835548110201,14189.6,49487.433149577417,2,35000,1750]
["אלפי מנשה",3750,"אזור יהודה והשומרון","מועצה מקומית","אשכולות רשויות יהודה ושומרון",18.176151461841702,1987,0,9,703,"אלפי מנשה","..","..",7975.1233055966377,8,10000,500]
["אלקנה",3560,"אזור יהודה והשומרון","מועצה מקומית","אשכולות רשויות יהודה ושומרון",17.440387985746401,1981,0,9,702,"אלקנה","..","..",4300.7946098087577,8,10000,500]
["אעבלין",529,"הצפון","מועצה מקומית","אשכול רשויות המפרץ",90.470919369712206,1960,0,11,261,"גבעות אלונים",12.082672998724799,1150.0999999999999,13842.513983145804,3,20000,1000]
["אפרת",3650,"אזור יהודה והשומרון","מועצה מקומית","-",66.052826004596795,1983,0,11,704,"אפרתה","..","..",11853.272700188762,7,20000,1000]
["אריאל",3570,"אזור יהודה והשומרון","עירייה","-",33.278948675188197,1998,0,13,701,"אריאל","..","..",20520.055215909462,6,35000,1750]
["אשדוד",70,"הדרום","עירייה","-",28.488399573388499,1968,1,29,603,"אשדוד",63.895261857380902,4809,226826.9499365105,5,50000,2500]
["אשכול",38,"הדרום","מועצה אזורית","אשכול רשויות נגב מערבי","-",1951,0,35,651,"נגב מערבי",737.34842289847802,"..",15336.200018614481,6,20000,1000]
["אשקלון",7100,"הדרום","עירייה","-",43.6771470285587,1955,1,25,604,"אשקלון",52.318021558308203,3376,153138.25632212483,5,50000,2500]
["באקה אל-גרביה",6000,"חיפה","עירייה","-",40.594331951417402,"..",0,15,354,"עירון",9.1807175302021005,3517.4,31397.336671209807,4,35000,1750]
["באר טוביה",33,"הדרום","מועצה אזורית","אשכול רשויות שורק דרומי","-",1950,1,22,616,"באר טוביה",127.03578713882,"..",23762.002027979994,7,35000,1750]
["באר יעקב",2530,"המרכז","עירייה","-",9.6579653550105196,2021,0,13,455,"מצפה אפק",9.4607731126734702,3311,31324.791315909428,7,35000,1750]
["באר שבע",9000,"הדרום","עירייה","-",91.509133617387704,1877,0,27,605,"באר שבע",117.393493204552,1824.3,214161.73563819038,5,50000,2500]
["בוסתן אל-מרג'",66,"הצפון","מועצה אזורית","אשכול רשויות הגליל והעמקים","-",2000,0,7,251,"הגליל המזרחי",9.0015988152538906,"..",8254.7276124412092,3,10000,500]
["בועיינה-נוג'ידאת",482,"הצפון","מועצה מקומית","אשכול רשויות הכנרת והעמקים",108.704748798827,1980,0,9,251,"הגליל המזרחי",7.1592908576517198,1437.1,10288.565647775251,2,20000,1000]
["בוקעאתא",4001,"הצפון","מועצה מקומית","אשכול רשויות גליל מזרחי",180.07045653364699,1982,0,9,256,"מעלה חרמון",19.540130387054798,348.3,6805.3012703637578,3,10000,500]
["ביר אל-מכסור",998,"הצפון","מועצה מקומית","אשכול רשויות המפרץ",90.0582246319983,1990,0,9,261,"גבעות אלונים",5.8498004769440604,1729.5,10174.873541827994,2,20000,1000]
["בית אל",3574,"אזור יהודה והשומרון","מועצה מקומית","אשכולות רשויות יהודה ושומרון",64.585080326232202,1997,0,9,722,"בית אל","..","..",6107.7586344380416,4,10000,500]
["בית אריה-עופרים",3652,"אזור יהודה והשומרון","מועצה מקומית","-",20.486011123853601,1989,0,9,719,"בית אריה","..","..",5516.5197417680174,7,10000,500]
["בית ג'ן",480,"הצפון","מועצה מקומית","אשכול רשויות גליל מערבי",125.05068337554199,1964,0,11,258,"מעלה נפתלי",7.1990727124770499,1726.3,12432.91800354159,4,20000,1000]
["בית דגן",466,"המרכז","מועצה מקומית","-",2.3524323717248801,1953,0,9,455,"מצפה אפק",1.4155523842696001,5526.8,7823.4818321144121,7,10000,500]
["בית שאן",9200,"הצפון","עירייה","אשכול רשויות הכנרת והעמקים",99.469050905649695,1999,0,13,203,"בית שאן",10.9684139704254,1738.9,19072.799516491632,5,20000,1000]
["בית שמש",2610,"ירושלים","עירייה","-",43.219492368656503,1991,0,21,102,"בית שמש",38.289930057323801,4040.1,154694.11829399713,2,50000,2500]
["ביתר עילית",3780,"אזור יהודה והשומרון","עירייה","-",59.0548051193934,2001,0,17,716,"ביתר עילית","..","..",64015.88455374819,1,50000,2500]
["בני ברק",6100,"תל אביב","עירייה","-",0,1950,0,27,501,"בני ברק",7.3485409723603397,29714.400000000001,218357.32398734236,2,50000,2500]
["בני עי\"ש",1066,"המרכז","מועצה מקומית","אשכול רשויות שורק דרומי",27.382826622065,1981,0,9,453,"זמורה",1.98418843857965,3475.6,6880.6824112352097,5,10000,500]
["בני שמעון",41,"הדרום","מועצה אזורית","אשכול רשויות נגב מערבי","-",1951,0,15,625,"בני שמעון",370.08449066027799,"..",11628.296079578928,7,20000,1000]
["בנימינה-גבעת עדה",9800,"חיפה","מועצה מקומית","אשכול רשויות מישור החוף",45.1606789494287,1950,0,13,353,"יישובי הברון",24.3962875937627,667.4,16281.10055226867,8,20000,1000]
["בסמ\"ה",1326,"חיפה","מועצה מקומית","-",56.062720160134901,1996,0,11,354,"עירון",5.6034853371703202,1896.5,10742.785601368829,2,20000,1000]
["בסמת טבעון",944,"הצפון","מועצה מקומית","אשכול רשויות המפרץ",80.383746871579206,1965,0,9,257,"מבוא העמקים",3.9293213394228901,2011.2,8145.2549382014558,3,10000,500]
["בענה",483,"הצפון","מועצה מקומית","אשכול רשויות בית הכרם הגלילי",109.13446941880299,"..",0,9,260,"בקעת בית הכרם",3.45818436781714,2495.3000000000002,8628.8518980172939,2,10000,500]
["ברנר",28,"המרכז","מועצה אזורית","אשכול רשויות שורק דרומי","-",1950,0,16,456,"שורקות",36.918837245527399,"..",8072.5731067514726,8,10000,500]
["בת ים",6200,"תל אביב","עירייה","-",0,1958,1,25,502,"בת ים",9.4106832313488002,15676.6,128465.4867957431,5,50000,2500]
["ג'דיידה-מכר",1292,"הצפון","מועצה מקומית","אשכול רשויות גליל מערבי",101.234836643137,1989,0,13,252,"הגליל המרכזי",9.0927654854024507,2377.3000000000002,21616.590292862416,3,35000,1750]
["ג'ולס",485,"הצפון","מועצה מקומית","אשכול רשויות גליל מערבי",104.50285197986599,1967,0,9,252,"הגליל המרכזי",3.99837373361783,1673.1,6737.7498788745952,5,10000,500]
["ג'לג'וליה",627,"המרכז","מועצה מקומית","אשכול רשויות השרון",11.4175199539325,1957,0,11,451,"קסם",2.4706066063977099,4294,10608.707846848773,3,20000,1000]
["ג'סר א-זרקא",541,"חיפה","מועצה מקומית","אשכול רשויות מישור החוף",44.535369858010696,1963,1,11,353,"יישובי הברון",2.0718089520665899,9396.6,15502.047313178178,2,20000,1000]
["ג'ש (גוש חלב)",487,"הצפון","מועצה מקומית","אשכול רשויות גליל מזרחי",136.97010954067201,1963,0,9,258,"מעלה נפתלי",7.0611352220347898,"..",3215.7137126910989,7,10000,500]
["ג'ת",628,"חיפה","מועצה מקומית","-",38.293639814214004,"..",0,11,354,"עירון",7.4629299839023702,1638.3,12644.981611642253,5,20000,1000]
["גבעת זאב",3730,"אזור יהודה והשומרון","מועצה מקומית","אשכולות רשויות יהודה ושומרון",42.6101190930599,1984,0,13,705,"גבעת זאב","..","..",21097.161820852696,5,35000,1750]
["גבעת שמואל",681,"המרכז","עירייה","-",0.41488225443843002,2007,0,15,427,"גבעת שמואל",2.5752591122258202,11269.8,28994.399526070065,8,35000,1750]
["גבעתיים",6300,"תל אביב","עירייה","-",0,1959,0,17,503,"גבעתיים",3.2423570341993599,19098.5,61924.142691460962,9,50000,2500]
["גדרה",2550,"המרכז","מועצה מקומית","אשכול רשויות שורק דרומי",23.5000200349088,1949,0,15,431,"גדרה",11.432664112636299,2749.8,31437.541680756109,7,35000,1750]
["גדרות",32,"המרכז","מועצה אזורית","-","-",1953,0,17,456,"שורקות",13.7193871117119,"..",5200.6700442797755,9,10000,500]
["גולן",71,"הצפון","מועצה אזורית","אשכול רשויות גליל מזרחי","-",1979,0,31,219,"גולן",1087.42061790394,"..",20102.954721151975,6,35000,1750]
["גוש עציון",76,"אזור יהודה והשומרון","מועצה אזורית","-","-",1980,0,16,714,"גוש עציון","..","..",26503.385786014831,6,35000,1750]
["גזר",30,"המרכז","מועצה אזורית","-","-",1949,0,28,426,"גזר",119.48804620538399,"..",27729.676690334698,8,35000,1750]
["גן יבנה",166,"המרכז","מועצה מקומית","-",30.468126322172299,1950,0,13,429,"גן יבנה",11.4523060122561,2147.1999999999998,24574.109175631125,7,35000,1750]
["גן רווה",27,"המרכז","מועצה אזורית","-","-",1952,1,16,456,"שורקות",43.393086890445097,"..",6575.1074214642276,8,10000,500]
["גני תקווה",229,"המרכז","מועצה מקומית","-",1.4325543587588201,1953,0,13,428,"גני תקווה",2.1578837555198098,10958,23646.003309735275,9,35000,1750]
["דאלית אל-כרמל",494,"חיפה","מועצה מקומית","אשכול רשויות המפרץ",72.435451757244195,1951,0,13,356,"רכס הכרמל",9.4396865411542201,1731.9,18190.205390415023,5,20000,1000]
["דבורייה",489,"הצפון","מועצה מקומית","אשכול רשויות הגליל והעמקים",90.344247032644205,1961,0,11,251,"הגליל המזרחי",5.6260729541658501,1925.1,10831.00783200624,4,20000,1000]
["דייר אל-אסד",490,"הצפון","מועצה מקומית","אשכול רשויות בית הכרם הגלילי",109.425188649088,"..",0,11,260,"בקעת בית הכרם",5.1558004979651102,2536.5,13078.114224831355,4,20000,1000]
["דייר חנא",492,"הצפון","מועצה מקומית","-",112.811764851844,1975,0,11,262,"לב הגליל",8.9179974558709798,1205.0999999999999,10747.488061553009,4,20000,1000]
["דימונה",2200,"הדרום","עירייה","אשכול רשויות נגב מזרחי",129.29538524950999,1969,0,15,607,"דימונה",220.455604872252,166.8,36775.652756639531,5,35000,1750]
["דרום השרון",20,"המרכז","מועצה אזורית","אשכול רשויות השרון","-",1980,0,42,417,"דרום השרון",95.581572171730102,"..",34506.922615271935,9,35000,1750]
["הגלבוע",8,"הצפון","מועצה אזורית","אשכול רשויות הגליל והעמקים","-",1949,0,36,204,"הגלבוע",251.923582357323,"..",32487.814541293661,5,35000,1750]
["הגליל העליון",1,"הצפון","מועצה אזורית","אשכול רשויות גליל מזרחי","-",1950,0,29,253,"הגליל העליון",296.08864360442101,"..",19922.022847538425,7,20000,1000]
["הגליל התחתון",3,"הצפון","מועצה אזורית","אשכול רשויות הכנרת והעמקים","-",1950,0,17,206,"הגליל התחתון",192.467076166206,"..",12981.887306530916,7,20000,1000]
["הוד השרון",9700,"המרכז","עירייה","אשכול רשויות השרון",7.0025399999485103,1990,0,17,423,"הוד השרון",19.260458775834898,3405.6,65613.893098962522,9,50000,2500]
["הערבה התיכונה",54,"הדרום","מועצה אזורית","אשכול רשויות נגב מזרחי","-",1976,0,7,657,"הערבה התיכונה",1538.1398228432099,"..",3958.2987046210951,7,10000,500]
["הר אדר",3769,"אזור יהודה והשומרון","מועצה מקומית","אשכולות רשויות יהודה ושומרון",44.289235698308701,1995,0,9,720,"הר אדר","..","..",4065.1106747004169,9,10000,500]
["הר חברון",78,"אזור יהודה והשומרון","מועצה אזורית","אשכולות רשויות יהודה ושומרון","-",1982,0,15,715,"הר חברון","..","..",10711.251851864976,5,20000,1000]
["הרצלייה",6400,"תל אביב","עירייה","-",0,1960,1,21,504,"הרצלייה",24.069694060213401,4917.8,106740.70079003133,8,50000,2500]
["זבולון",12,"חיפה","מועצה אזורית","אשכול רשויות המפרץ","-",1950,0,17,301,"זבולון",54.719428913923203,"..",14030.390284575684,5,20000,1000]
["זכרון יעקב",9300,"חיפה","מועצה מקומית","אשכול רשויות מישור החוף",48.790887254386,1950,0,13,353,"יישובי הברון",31.526389754823299,765.9,24144.958875663629,8,35000,1750]
["זמר",1290,"המרכז","מועצה מקומית","-",34.121110247893199,1988,0,9,458,"מזרח השרון",8.3301107348303098,895.2,7457.0045482078513,4,10000,500]
["זרזיר",975,"הצפון","מועצה מקומית","אשכול רשויות הגליל והעמקים",84.3781300081192,1996,0,9,254,"יזרעאלים",4.3102418953740402,1946.4,8564.6083292647563,2,10000,500]
["חבל אילות",53,"הדרום","מועצה אזורית","אשכול רשויות נגב מזרחי","-",1964,0,13,608,"חבל אילות",2631.1483766134702,"..",4856.7206357767564,5,10000,500]
["חבל יבנה",29,"המרכז","מועצה אזורית","אשכול רשויות שורק דרומי","-",1950,1,11,456,"שורקות",36.545363922390401,"..",6962.4402833137683,5,10000,500]
["חבל מודיעין",25,"המרכז","מועצה אזורית","-","-",1950,0,29,424,"חבל מודיעין",127.929369603437,"..",24003.336660893496,7,35000,1750]
["חדרה",6500,"חיפה","עירייה","-",32.909416236580597,1952,1,21,302,"חדרה",56.275294214324397,2019.3,103041.18670617031,6,50000,2500]
["חולון",6600,"תל אביב","עירייה","-",0,1950,0,27,505,"חולון",19.041690403487198,10395.5,197956.67614135618,7,50000,2500]
["חוף אשקלון",36,"הדרום","מועצה אזורית","אשכול רשויות נגב מערבי","-",1950,1,20,633,"חוף אשקלון",180.647006166138,"..",19566.718456770846,7,20000,1000]
["חוף הכרמל",15,"חיפה","מועצה אזורית","אשכול רשויות מישור החוף","-",1951,1,33,303,"חוף הכרמל",194.87207745419201,"..",36467.501932353822,7,35000,1750]
["חוף השרון",19,"המרכז","מועצה אזורית","-","-",1949,1,13,401,"חוף השרון",50.021736076172502,"..",15369.270299208367,9,20000,1000]
["חורה",1303,"הדרום","מועצה מקומית","אשכול רשויות נגב מזרחי",93.869225572051207,1996,0,13,652,"נגב מזרחי",8.7379740556516499,2840.7,24821.860551527545,1,35000,1750]
["חורפיש",496,"הצפון","מועצה מקומית","אשכול רשויות גליל מערבי",129.06516325405701,1967,0,9,258,"מעלה נפתלי",6.2280873746616798,1059.4000000000001,6639.1186041266237,5,10000,500]
["חיפה",4000,"חיפה","עירייה","-",79.647755976194802,1877,1,31,304,"חיפה",72.930087751600297,4417.7,290306.31322591665,7,50000,2500]
["חצור הגלילית",2034,"הצפון","מועצה מקומית","אשכול רשויות גליל מזרחי",136.90736845418601,1956,0,11,259,"אצבע הגליל",5.4568217940735497,1839,10046.790259794512,4,20000,1000]
["חריש",1247,"חיפה","עירייה","-",48.727053485002997,1996,0,9,307,"חריש",8.9951682334556704,3736.3,33380.12661251791,5,35000,1750]
["טבריה",6700,"הצפון","עירייה","אשכול רשויות הכנרת והעמקים",113.77774800412,1877,0,15,207,"טבריה",16.194608849814301,2992.9,48471.598229389449,4,35000,1750]
["טובא-זנגרייה",962,"הצפון","מועצה מקומית","אשכול רשויות גליל מזרחי",139.644023551967,1988,0,9,259,"אצבע הגליל",3.62194494564377,1893.6,7094.8307393250034,3,10000,500]
["טורעאן",498,"הצפון","מועצה מקומית","אשכול רשויות הכנרת והעמקים",100.06599039585799,1959,0,11,251,"הגליל המזרחי",12.246952637682099,1208.5999999999999,14808.977952555804,3,20000,1000]
["טייבה",2730,"המרכז","עירייה","אשכול רשויות השרון",20.610403797740101,1990,0,15,402,"טייבה",18.909047127950501,2434.1,46020.49041020091,3,35000,1750]
["טירה",2720,"המרכז","עירייה","אשכול רשויות השרון",13.182365896897901,1991,0,15,403,"טירה",11.8508997687902,2340.4,27802.423143876887,5,35000,1750]
["טירת כרמל",2100,"חיפה","עירייה","אשכול רשויות המפרץ",69.6584891755694,1992,1,13,355,"מורדות הכרמל",6.7107872504372299,4852.2,28752.661415046536,5,35000,1750]
["טמרה",8900,"הצפון","עירייה","אשכול רשויות המפרץ",93.378868793267003,1996,0,15,263,"שפלת הגליל",29.770120467097399,1203.7,35833.963184621796,3,35000,1750]
["יאנוח-ג'ת",1295,"הצפון","מועצה מקומית","-",114.573710497303,1990,0,9,255,"מעלה הגליל",13.555009452841899,511.3,6930.0964508216439,5,10000,500]
["יבנאל",46,"הצפון","מועצה מקומית","אשכול רשויות הכנרת והעמקים",102.30990181521101,1951,0,9,251,"הגליל המזרחי",31.210710883025001,"..",4542.106396364632,2,10000,500]
["יבנה",2660,"המרכז","עירייה","-",14.7045742668973,1986,0,15,404,"יבנה",29.179850385943698,1928.3,56231.919169910732,7,50000,2500]
["יהוד-מונוסון",9400,"המרכז","עירייה","-",2.0072604137025798,1995,0,15,411,"יהוד-נווה אפרים",5.73050463213304,5468.2,31404.972089527506,7,35000,1750]
["יואב",35,"הדרום","מועצה אזורית","אשכול רשויות שורק דרומי","-",1952,0,24,632,"יואב",198.65592075130999,"..",9257.2878860327728,8,10000,500]
["יסוד המעלה",29,"הצפון","מועצה מקומית","אשכול רשויות גליל מזרחי",147.553406630333,1949,0,7,259,"אצבע הגליל",11.689237015043201,"..",1797.6759709692119,7,10000,500]
["יפיע",499,"הצפון","מועצה מקומית","אשכול רשויות הגליל והעמקים",85.480245978099106,1960,0,13,257,"מבוא העמקים",4.0800012156482,4828.3999999999996,19704.128489362211,3,20000,1000]
["יקנעם עילית",240,"הצפון","עירייה","אשכול רשויות המפרץ",67.706645175523505,2007,0,13,222,"יקנעם עילית",8.3113655378284701,2961.9,24617.305131321598,7,35000,1750]
["ירוחם",831,"הדרום","מועצה מקומית","אשכול רשויות נגב מזרחי",126.29832651434999,1959,0,11,612,"ירוחם",58.598381573273599,190.6,11169.911314599456,4,20000,1000]
["ירושלים",3000,"ירושלים","עירייה","-",53.4009571806411,1877,0,31,101,"ירושלים",125.548220321957,7785.3,981711.23465278896,2,50000,2500]
["ירכא",502,"הצפון","מועצה מקומית","אשכול רשויות גליל מערבי",107.60500748232,"..",0,13,252,"הגליל המרכזי",16.069624038464799,1107.0999999999999,17759.46874564785,3,20000,1000]
["כאבול",504,"הצפון","מועצה מקומית","אשכול רשויות המפרץ",95.785616893063803,1976,0,11,263,"שפלת הגליל",7.2773244403110597,2010.1,14627.895359852748,3,20000,1000]
["כאוכב אבו אל-היג'א",505,"הצפון","מועצה מקומית","-",98.340990274442504,1984,0,9,261,"גבעות אלונים",2.7314614022924402,"..",3772.6263160970484,4,10000,500]
["כוכב יאיר",1224,"המרכז","מועצה מקומית","אשכול רשויות השרון",18.2393398983493,1981,0,11,455,"מצפה אפק",3.04652084176172,2941.3,8976.544152958144,10,10000,500]
["כסיפה",1059,"הדרום","מועצה מקומית","אשכול רשויות נגב מזרחי",110.509244856712,1996,0,13,652,"נגב מזרחי",13.526289616126601,1773.6,23989.77442701094,1,35000,1750]
["כסרא-סמיע",1296,"הצפון","מועצה מקומית","-",120.521170861141,1990,0,9,255,"מעלה הגליל",14.156489613721799,651.5,9223.2867716217715,3,10000,500]
["כעביה-טבאש-חג'אג'רה",978,"הצפון","מועצה מקומית","אשכול רשויות הגליל והעמקים",85.803565215588605,1996,0,9,254,"יזרעאלים",1.5531477674219301,3667.7,5878.2220949482426,3,10000,500]
["כפר ברא",633,"המרכז","מועצה מקומית","אשכול רשויות השרון",12.605514387094001,1963,0,9,451,"קסם",2.2805759796043099,"..",3945.5445173887633,4,10000,500]
["כפר ורדים",1263,"הצפון","מועצה מקומית","אשכול רשויות גליל מערבי",118.718614868372,1993,0,9,255,"מעלה הגליל",4.8556980336503797,1145.5,5561.9768664954308,9,10000,500]
["כפר יאסיף",507,"הצפון","מועצה מקומית","אשכול רשויות גליל מערבי",103.94848123176899,1925,0,11,252,"הגליל המרכזי",3.2648389509790401,3183.1,10393.807894983585,5,20000,1000]
["כפר יונה",168,"המרכז","עירייה","אשכול רשויות השרון",21.763138865009498,1940,0,13,430,"כפר יונה",11.511183245425,2558.3000000000002,29449.515406462488,7,35000,1750]
["כפר כמא",508,"הצפון","מועצה מקומית","אשכול רשויות הכנרת והעמקים",95.467928081040895,1950,0,9,251,"הגליל המזרחי",8.8269786461733801,"..",3499.8243338275988,6,10000,500]
["כפר כנא",509,"הצפון","מועצה מקומית","אשכול רשויות הגליל והעמקים",93.009718865810797,1968,0,13,257,"מבוא העמקים",10.056412183080599,2397.3000000000002,24108.192477953886,2,35000,1750]
["כפר מנדא",510,"הצפון","מועצה מקומית","-",92.326437741911803,1964,0,13,261,"גבעות אלונים",11.0284580916236,1947.2,21472.681336735808,2,35000,1750]
["כפר סבא",6900,"המרכז","עירייה","אשכול רשויות השרון",6.8591548130669704,1963,0,21,405,"כפר סבא",14.4838914347193,7010.3,101556.22780039557,8,50000,2500]
["כפר קאסם",634,"המרכז","עירייה","אשכול רשויות השרון",10.9260298343663,1958,0,13,451,"קסם",9.2997164713261693,2713.2,25284.674812562542,3,35000,1750]
["כפר קרע",654,"חיפה","מועצה מקומית","אשכול רשויות מישור החוף",50.771999701202198,1958,0,13,354,"עירון",7.8096372848407398,2562.5,20017.905195024599,5,35000,1750]
["כפר שמריהו",267,"תל אביב","מועצה מקומית","-",0,1950,0,7,504,"הרצלייה",2.7281158887269501,"..",1950.9260495413607,10,10000,500]
["כפר תבור",47,"הצפון","מועצה מקומית","אשכול רשויות הכנרת והעמקים",91.4781932908285,1949,0,9,251,"הגליל המזרחי",12.3873484541993,"..",4410.3248671751026,8,10000,500]
["כרמיאל",1139,"הצפון","עירייה","אשכול רשויות בית הכרם הגלילי",111.152918115096,1984,0,17,208,"כרמיאל",22.029350026490601,2147.9,47316.534406191255,6,35000,1750]
["לב השרון",18,"המרכז","מועצה אזורית","אשכול רשויות השרון","-",1984,0,18,412,"לב השרון",54.659292787058803,"..",23691.897727090505,8,35000,1750]
["להבים",1271,"הדרום","מועצה מקומית","-",79.339235878664795,1989,0,9,619,"להבים",11.152274616878501,647.29999999999995,7218.9138997296113,10,10000,500]
["לוד",7000,"המרכז","עירייה","-",12.507920141508,1877,0,19,406,"לוד",14.7857926021297,5769.9,85351.369738558118,4,50000,2500]
["לכיש",50,"הדרום","מועצה אזורית","-","-",1956,0,19,634,"לכיש",378.96107191776298,"..",14075.554205341283,7,20000,1000]
["לקיה",1060,"הדרום","מועצה מקומית","אשכול רשויות נגב מערבי",87.549207618275503,1996,0,11,652,"נגב מזרחי",6.8628630272006896,2259.3000000000002,16010.775736593596,1,20000,1000]
["מבואות החרמון",55,"הצפון","מועצה אזורית","אשכול רשויות גליל מזרחי","-",1981,0,13,253,"הגליל העליון",134.816362414498,"..",7727.9615433849067,7,10000,500]
["מבשרת ציון",1015,"ירושלים","מועצה מקומית","-",44.899986823759903,1964,0,15,152,"הראל",6.2903689828867702,4039.2,25486.781638450226,8,35000,1750]
["מג'ד אל-כרום",516,"הצפון","מועצה מקומית","אשכול רשויות בית הכרם הגלילי",106.818509029362,"..",0,13,260,"בקעת בית הכרם",9.3067765060534597,1695.3,15777.422658708741,3,20000,1000]
["מג'דל שמס",4201,"הצפון","מועצה מקומית","אשכול רשויות גליל מזרחי",184.99532775106701,1982,0,11,256,"מעלה חרמון",15.382178883225,744.9,11457.579431305687,3,20000,1000]
["מגאר",481,"הצפון","עירייה","אשכול רשויות הכנרת והעמקים",115.41366092374901,2021,0,13,251,"הגליל המזרחי",21.112480849875801,1136.7,23997.966840013607,3,35000,1750]
["מגדל",65,"הצפון","מועצה מקומית","אשכול רשויות הכנרת והעמקים",121.35454778889201,1949,0,7,251,"הגליל המזרחי",11.6278021664025,"..",2030.9537810925431,6,10000,500]
["מגדל העמק",874,"הצפון","עירייה","אשכול רשויות הגליל והעמקים",85.875669631892194,1988,0,15,221,"מגדל העמק",8.7134119647128507,3108.4,27088.052920582682,5,35000,1750]
["מגדל תפן",null,null,null,null,null,null,null,null,null,null,null,null,null,null,10000,500]
["מגידו",13,"הצפון","מועצה אזורית","אשכול רשויות הגליל והעמקים","-",1954,0,13,254,"יזרעאלים",173.263478628645,"..",12343.577524622831,7,20000,1000]
["מגילות ים המלח",74,"אזור יהודה והשומרון","מועצה אזורית","אשכולות רשויות יהודה ושומרון","-",1981,0,11,713,"מגילות","..","..",2102.8450190170511,7,10000,500]
["מודיעין-מכבים-רעות",1200,"המרכז","עירייה","-",25.053588454095099,2001,0,19,420,"מודיעין-מכבים-רעות",48.329485805658003,2052,99170.570500491449,9,50000,2500]
["מודיעין עילית",3797,"אזור יהודה והשומרון","עירייה","אשכולות רשויות יהודה ושומרון",27.470660871263501,1996,0,17,730,"מודיעין עילית","..","..",83356.355587009661,1,50000,2500]
["מזכרת בתיה",28,"המרכז","מועצה מקומית","אשכול רשויות שורק דרומי",19.460335971352201,1952,0,13,453,"זמורה",7.4254369423800304,2117.8000000000002,15725.943946840491,8,20000,1000]
["מזרעה",517,"הצפון","מועצה מקומית","אשכול רשויות גליל מערבי",103.07572734937,1996,0,9,201,"חבל אשר",0.98353876771431403,"..",4115.318483193023,4,10000,500]
["מטה אשר",4,"הצפון","מועצה אזורית","אשכול רשויות גליל מערבי","-",1982,1,33,201,"חבל אשר",215.44640064437499,"..",31585.687786787737,7,35000,1750]
["מטה בנימין",73,"אזור יהודה והשומרון","מועצה אזורית","אשכולות רשויות יהודה ושומרון","-",1980,0,30,711,"מטה בנימין","..","..",75447.383094846577,5,50000,2500]
["מטה יהודה",26,"ירושלים","מועצה אזורית","-","-",1964,0,59,151,"מטה יהודה",480.84496145721499,"..",62880.791990414487,7,50000,2500]
["מטולה",43,"הצפון","מועצה מקומית","אשכול רשויות גליל מזרחי",171.83611646803899,1949,0,7,259,"אצבע הגליל",9.3918559598985496,"..",1739.8937131613575,7,10000,500]
["מיתר",1268,"הדרום","מועצה מקומית","אשכול רשויות נגב מזרחי",92.9828183573823,1987,0,9,615,"מיתר",24.230284529237998,451.8,10946.863569185234,9,20000,1000]
["מנשה",14,"חיפה","מועצה אזורית","אשכול רשויות מישור החוף","-",1950,0,43,351,"מנשה-אלונה",111.26178040410799,"..",22147.334108159994,7,35000,1750]
["מסעדה",4203,"הצפון","מועצה מקומית","אשכול רשויות גליל מזרחי",181.211246889687,1982,0,9,256,"מעלה חרמון",12.011380982624701,"..",3869.3573840350318,2,10000,500]
["מעיליא",518,"הצפון","מועצה מקומית","אשכול רשויות גליל מערבי",120.97458232496599,1957,0,9,258,"מעלה נפתלי",2.1244718471983899,"..",3281.1785827625231,7,10000,500]
["מעלה אדומים",3616,"אזור יהודה והשומרון","עירייה","אשכולות רשויות יהודה ושומרון",62.733960297794802,1991,0,15,706,"מעלה אדומים","..","..",38046.077475845625,6,35000,1750]
["מעלה אפרים",3608,"אזור יהודה והשומרון","מועצה מקומית","-",61.789245043593603,1981,0,7,707,"מעלה אפרים","..","..",1376.9826353216724,4,10000,500]
["מעלה יוסף",52,"הצפון","מועצה אזורית","אשכול רשויות גליל מערבי","-",1957,0,22,255,"מעלה הגליל",93.234000855600996,"..",11447.288178296545,7,20000,1000]
["מעלה עירון",1327,"חיפה","מועצה מקומית","-",60.870553980148202,1996,0,11,354,"עירון",6.03349827256719,2541.8000000000002,15860.84461081914,2,20000,1000]
["מעלות-תרשיחא",1063,"הצפון","עירייה","אשכול רשויות גליל מערבי",121.379957244869,1996,0,13,223,"מעלות-תרשיחא",9.2605771712565197,2431.9,22521.138214929822,5,35000,1750]
["מצפה רמון",99,"הדרום","מועצה מקומית","אשכול רשויות נגב מזרחי",171.98941781185999,1964,0,9,613,"מצפה רמון",75.708028692663504,69.5,5263.01800192679,3,10000,500]
["מרום הגליל",2,"הצפון","מועצה אזורית","אשכול רשויות גליל מזרחי","-",1950,0,46,209,"מרום הגליל",178.027934246412,"..",16205.437248755628,5,20000,1000]
["מרחבים",42,"הדרום","מועצה אזורית","אשכול רשויות נגב מערבי","-",1951,0,15,651,"נגב מערבי",490.10501905818103,"..",14890.984786444185,6,20000,1000]
["משגב",56,"הצפון","מועצה אזורית","אשכול רשויות בית הכרם הגלילי","-",1982,0,35,205,"משגב",164.09348313812899,"..",30671.049138459264,7,35000,1750]
["משהד",520,"הצפון","מועצה מקומית","אשכול רשויות הגליל והעמקים",91.467023190541497,1960,0,9,257,"מבוא העמקים",7.16600192382373,1223.8,8770.5822717185056,2,10000,500]
["נאות חובב",null,null,null,null,null,null,null,null,null,null,null,null,null,null,10000,500]
["נהרייה",9100,"הצפון","עירייה","אשכול רשויות גליל מערבי",105.95180954412,1961,1,17,210,"נהרייה",13.826905624547599,5576.5,63947.022174626632,6,50000,2500]
["נווה מדבר",68,"הדרום","מועצה אזורית","אשכול רשויות נגב מזרחי","-",2012,0,4,624,"אבו בסמה",32.7210084969254,"..",13913.309260918553,1,20000,1000]
["נוף הגליל",1061,"הצפון","עירייה","אשכול רשויות הגליל והעמקים",87.868297851580394,1974,0,17,212,"נוף הגליל",32.861154200980302,1345.2,44184.015392173533,5,35000,1750]
["נחל שורק",31,"המרכז","מועצה אזורית","אשכול רשויות שורק דרומי","-",1950,0,8,456,"שורקות",28.324370328755801,"..",10229.776062373749,5,20000,1000]
["נחף",522,"הצפון","מועצה מקומית","אשכול רשויות בית הכרם הגלילי",113.852691345162,1968,0,11,260,"בקעת בית הכרם",6.0671191207460398,2260.9,13717.162232738068,2,20000,1000]
["נס ציונה",7200,"המרכז","עירייה","-",8.8594822813368701,1992,0,15,407,"נס ציונה",15.676943348850999,3211.3,50340.883918628562,8,50000,2500]
["נצרת",7300,"הצפון","עירייה","אשכול רשויות הגליל והעמקים",85.826737206613203,1877,0,19,211,"נצרת",14.172268207355099,5503.3,78006.687378559087,3,50000,2500]
["נשר",2500,"חיפה","עירייה","אשכול רשויות המפרץ",81.197565264819104,1995,0,13,355,"מורדות הכרמל",12.9438348449016,1835.6,23760.611315266106,7,35000,1750]
["נתיבות",246,"הדרום","עירייה","אשכול רשויות נגב מערבי",72.683338938096,2000,0,15,609,"נתיבות",16.2185987148506,2855,46373.548355075305,3,35000,1750]
["נתניה",7400,"המרכז","עירייה","-",15.610240355553801,1948,1,27,408,"נתניה",34.748858512695897,7526,233103.6899102907,6,50000,2500]
["סאג'ור",525,"הצפון","מועצה מקומית","אשכול רשויות בית הכרם הגלילי",118.323251299131,1992,0,9,260,"בקעת בית הכרם",3.5683991593637199,"..",4480.8152207950443,4,10000,500]
["סביון",587,"המרכז","מועצה מקומית","-",1.7015798573213701,1978,0,9,455,"מצפה אפק",3.7197939698289,"..",4053.8466816141326,10,10000,500]
["סח'נין",7500,"הצפון","עירייה","-",105.837195032552,1995,0,15,262,"לב הגליל",11.5286038833514,2878.7,33187.568885564433,4,35000,1750]
["ע'ג'ר",4501,"הצפון","מועצה מקומית","אשכול רשויות גליל מזרחי",178.74418176139201,1982,0,7,256,"מעלה חרמון",2.3924917889835799,"..",2805.6258017079331,3,10000,500]
["עומר",666,"הדרום","מועצה מקומית","-",93.897777928717701,1974,0,9,614,"עומר",18.2204130836197,423.2,7710.0961162083913,10,10000,500]
["עיילבון",530,"הצפון","מועצה מקומית","אשכול רשויות הכנרת והעמקים",108.863629135403,1973,0,9,251,"הגליל המזרחי",5.6277210231077701,1030.4000000000001,5798.953881790665,5,10000,500]
["עילוט",511,"הצפון","מועצה מקומית","אשכול רשויות הגליל והעמקים",89.621371953876107,1991,0,9,257,"מבוא העמקים",3.1147327226675001,2845.5,8863.0336799631459,2,10000,500]
["עין מאהל",532,"הצפון","מועצה מקומית","אשכול רשויות הגליל והעמקים",91.851044217313103,1964,0,11,257,"מבוא העמקים",5.2216226588296202,2662.5,13930.526286148257,2,20000,1000]
["עין קנייא",4502,"הצפון","מועצה מקומית","אשכול רשויות גליל מזרחי",183.570736362086,1982,0,7,256,"מעלה חרמון",5.4130198834742203,"..",2190.2464315704187,3,10000,500]
["עכו",7600,"הצפון","עירייה","אשכול רשויות גליל מערבי",97.064840812384404,1877,1,17,213,"עכו",18.0945451651348,3470.6,51419.564838377548,4,50000,2500]
["עמנואל",3660,"אזור יהודה והשומרון","מועצה מקומית","אשכולות רשויות יהודה ושומרון",35.082239348585802,1985,0,9,708,"עמנואל","..","..",4656.0861218562195,2,10000,500]
["עמק הירדן",6,"הצפון","מועצה אזורית","אשכול רשויות הכנרת והעמקים","-",1949,0,25,214,"עמק הירדן",185.70001949162699,"..",14583.997449314313,7,20000,1000]
["עמק המעיינות",7,"הצפון","מועצה אזורית","אשכול רשויות הכנרת והעמקים","-","..",0,23,202,"עמק המעיינות",245.668621614811,"..",14773.219429189436,6,20000,1000]
["עמק חפר",16,"המרכז","מועצה אזורית","-","-",1940,1,46,409,"עמק חפר",129.97692107721099,"..",43222.366958078681,8,35000,1750]
["עמק יזרעאל",9,"הצפון","מועצה אזורית","אשכול רשויות הגליל והעמקים","-",1980,0,44,254,"יזרעאלים",331.15273858672799,"..",40700.18441306756,8,35000,1750]
["עספיא",534,"חיפה","מועצה מקומית","אשכול רשויות המפרץ",75.283245970487002,"..",0,11,356,"רכס הכרמל",7.1806106241622096,1525.8,12896.050399582984,5,20000,1000]
["עפולה",7700,"הצפון","עירייה","אשכול רשויות הגליל והעמקים",76.541580923111596,1972,0,17,215,"עפולה",29.170349800770001,2108.8000000000002,61518.602294970689,5,50000,2500]
["עראבה",531,"הצפון","עירייה","-",109.25414465773,2016,0,15,262,"לב הגליל",8.3985981205581197,3228.6,27115.30766284094,3,35000,1750]
["ערבות הירדן",75,"אזור יהודה והשומרון","מועצה אזורית","אשכולות רשויות יהודה ושומרון","-",1979,0,20,712,"ערבות הירדן","..","..",6333.1840542529799,6,10000,500]
["ערד",2560,"הדרום","עירייה","אשכול רשויות נגב מזרחי",122.078469319544,1995,0,15,610,"ערד",126.13097794292,223.3,28169.54990259503,3,35000,1750]
["ערערה",637,"חיפה","מועצה מקומית","-",52.085747384676402,1970,0,13,354,"עירון",9.1767377168094502,2814.6,26146.640465348395,3,35000,1750]
["ערערה-בנגב",1192,"הדרום","מועצה מקומית","אשכול רשויות נגב מזרחי",118.822320473047,1996,0,13,652,"נגב מזרחי",14.026279350104399,1453,20380.707462710492,1,35000,1750]
["פוריידיס",537,"חיפה","מועצה מקומית","אשכול רשויות מישור החוף",50.832231658518502,1952,0,11,353,"יישובי הברון",4.0568977789475396,3382.3,13721.700733650972,3,20000,1000]
["פסוטה",535,"הצפון","מועצה מקומית","אשכול רשויות גליל מערבי",131.831567803713,1965,0,9,258,"מעלה נפתלי",11.0518636943959,"..",3254.7767700505692,6,10000,500]
["פקיעין (בוקייעה)",536,"הצפון","מועצה מקומית","-",124.332739877371,1958,0,9,258,"מעלה נפתלי",5.6442578917525603,1079.5,6104.2297492084363,5,10000,500]
["פרדס חנה-כרכור",7800,"חיפה","מועצה מקומית","אשכול רשויות מישור החוף",41.179164766606903,1949,0,15,308,"פרדס חנה כרכור",22.842815018905899,1983.9,44839.633369703428,7,35000,1750]
["פרדסייה",171,"המרכז","מועצה מקומית","-",18.624941328756599,1952,0,9,457,"שרונים",1.4746894784004201,5032.3,7421.1343969221425,9,10000,500]
["פתח תקווה",7900,"המרכז","עירייה","-",4.2329036440192498,1937,0,29,410,"פתח תקווה",35.766131827733098,7139.1,255387.31137445164,7,50000,2500]
["צפת",8000,"הצפון","עירייה","אשכול רשויות גליל מזרחי",142.696019474091,1877,0,15,216,"צפת",29.938776493463099,1270.2,38029.460899533537,2,35000,1750]
["קדומים",3557,"אזור יהודה והשומרון","מועצה מקומית","אשכולות רשויות יהודה ושומרון",34.590299541095099,1992,0,9,721,"קדומים","..","..",4547.755322040678,5,10000,500]
["קדימה-צורן",195,"המרכז","מועצה מקומית","אשכול רשויות השרון",17.1869460282104,1950,0,13,457,"שרונים",10.8452452290846,2141.3000000000002,23220.251189845898,8,35000,1750]
["קלנסווה",638,"המרכז","עירייה","אשכול רשויות השרון",24.229198984475602,2000,0,13,458,"מזרח השרון",8.3653811722466305,2870.9,24205.133125150533,3,35000,1750]
["קצרין",4100,"הצפון","מועצה מקומית","אשכול רשויות גליל מזרחי",156.06430378943901,1979,0,9,220,"קצרין",10.889033888233,723.3,7876.4107715332138,5,10000,500]
["קריית אונו",2620,"תל אביב","עירייה","-",0,1992,0,15,508,"קריית אונו",4.60467021493145,9390.6,43240.724316685883,9,35000,1750]
["קריית ארבע",3611,"אזור יהודה והשומרון","מועצה מקומית","אשכולות רשויות יהודה ושומרון",83.196215332896003,1979,0,9,709,"קריית ארבע","..","..",7489.8702627162556,3,10000,500]
["קריית אתא",6800,"חיפה","עירייה","אשכול רשויות המפרץ",86.501708833343699,1967,0,17,305,"קריית אתא",24.1583606290924,2524.1,61142.400162137645,6,50000,2500]
["קריית ביאליק",9500,"חיפה","עירייה","אשכול רשויות המפרץ",86.467944093445595,1976,0,15,352,"קריות",8.4765863611248502,5270.3,44619.630911073495,6,35000,1750]
["קריית גת",2630,"הדרום","עירייה","-",50.112774150565599,1972,0,17,606,"קריית גת",15.8492940348843,4065.3,64437.129898127292,4,50000,2500]
["קריית טבעון",2300,"חיפה","מועצה מקומית","אשכול רשויות המפרץ",75.742059491424996,1958,0,13,306,"קריית טבעון",9.2602293938428808,2094.1,19179.783355681298,8,20000,1000]
["קריית ים",9600,"חיפה","עירייה","אשכול רשויות המפרץ",85.964759726773906,1976,1,15,352,"קריות",11.338843424457,4032.1,41094.880715579253,5,35000,1750]
["קריית יערים",1137,"ירושלים","מועצה מקומית","-",40.162575209514301,1992,0,9,152,"הראל",0.49838960277362598,13042.5,6555.4703444866327,2,10000,500]
["קריית מוצקין",8200,"חיפה","עירייה","אשכול רשויות המפרץ",86.012869605254195,1976,0,15,352,"קריות",3.8352372782177899,12515.8,48001.190933072838,7,35000,1750]
["קריית מלאכי",1034,"הדרום","עירייה","אשכול רשויות שורק דרומי",35.688688353996298,1998,0,13,617,"קריית מלאכי",4.5786791518254697,5613.1,25704.561487892839,4,35000,1750]
["קריית עקרון",469,"המרכז","מועצה מקומית","אשכול רשויות שורק דרומי",16.470320165298102,1963,0,11,453,"זמורה",2.8091813490365101,3911.9,10993.320449429642,6,20000,1000]
["קריית שמונה",2800,"הצפון","עירייה","אשכול רשויות גליל מזרחי",163.263017244091,1974,0,13,217,"קריית שמונה",14.3827082045542,1563.9,22492.474876377717,5,35000,1750]
["קרני שומרון",3640,"אזור יהודה והשומרון","מועצה מקומית","אשכולות רשויות יהודה ושומרון",27.045612982297602,1991,0,9,717,"קרני שומרון","..","-",9920.3926781263544,6,10000,500]
["ראמה",543,"הצפון","מועצה מקומית","אשכול רשויות בית הכרם הגלילי",117.833880496906,1954,0,9,260,"בקעת בית הכרם",6.4915990194220798,1201.3,7798.2547819103866,5,10000,500]
["ראש העין",2640,"המרכז","עירייה","-",11.562317949743999,1994,0,17,418,"ראש העין",15.8643560519997,4647.8999999999996,73678.330234777328,7,50000,2500]
["ראש פינה",26,"הצפון","מועצה מקומית","אשכול רשויות גליל מזרחי",134.12894105779,1949,0,9,259,"אצבע הגליל",16.814395801909601,"..",3308.4310415192081,7,10000,500]
["ראשון לציון",8300,"המרכז","עירייה","-",3.6401875391069001,1950,1,29,413,"ראשון לציון",61.914557987577197,4395.1000000000004,260453.25699794033,7,50000,2500]
["רהט",1161,"הדרום","עירייה","אשכול רשויות נגב מערבי",76.692465325732499,1994,0,17,618,"רהט",33.481473413922103,2444,79063.763256603517,1,50000,2500]
["רחובות",8400,"המרכז","עירייה","-",13.2562156765271,1950,0,25,414,"רחובות",23.757676869779502,6345.1,150748.37528089684,7,50000,2500]
["ריינה",542,"הצפון","מועצה מקומית","אשכול רשויות הגליל והעמקים",88.605892627110705,1968,0,13,257,"מבוא העמקים",10.846366104924501,1788,19397.284079147521,3,20000,1000]
["רכסים",922,"חיפה","מועצה מקומית","אשכול רשויות המפרץ",82.542668626736997,1959,0,11,355,"מורדות הכרמל",3.3110775553073699,4288.7,14197.695330991972,2,20000,1000]
["רמלה",8500,"המרכז","עירייה","-",11.0212399434393,1877,0,19,415,"רמלה",13.3883523251491,5911,79132.058296562478,5,50000,2500]
["רמת גן",8600,"תל אביב","עירייה","-",0,1950,0,25,506,"רמת גן",16.394848023305901,10520.7,172486.08347094219,8,50000,2500]
["רמת השרון",2650,"תל אביב","עירייה","-",0,1949,0,17,553,"רמת השרון",16.732154240883901,2881.8,48180.505036247981,9,35000,1750]
["רמת ישי",122,"הצפון","מועצה מקומית","אשכול רשויות הגליל והעמקים",78.0147471066295,1958,0,9,257,"מבוא העמקים",2.3322900083629898,3481.4,8119.7068378641961,8,10000,500]
["רמת נגב",48,"הדרום","מועצה אזורית","אשכול רשויות נגב מזרחי","-",1954,0,15,620,"רמת הנגב",4088.5300295493498,"..",8482.3456542726672,6,10000,500]
["רעננה",8700,"המרכז","עירייה","אשכול רשויות השרון",2.5788503001912999,1982,0,19,416,"רעננה",14.8630220415916,5403.3,80260.449650831812,8,50000,2500]
["שבלי - אום אל-גנם",913,"הצפון","מועצה מקומית","אשכול רשויות הכנרת והעמקים",91.142060795217702,1984,0,9,251,"הגליל המזרחי",3.1464010538061302,2017.8,6369.7414229502792,3,10000,500]
["שגב-שלום",1286,"הדרום","מועצה מקומית","אשכול רשויות נגב מזרחי",100.401741360893,1996,0,11,652,"נגב מזרחי",13.524687574949899,927.2,12539.963492679628,1,20000,1000]
["שדות דן",40,"המרכז","מועצה אזורית","-","-",1952,0,15,425,"שדות דן",29.7959698394505,"..",15904.594304632557,6,20000,1000]
["שדות נגב",39,"הדרום","מועצה אזורית","אשכול רשויות נגב מערבי","-",1951,0,16,651,"נגב מערבי",113.471482800049,"..",11227.629677354898,6,20000,1000]
["שדרות",1031,"הדרום","עירייה","אשכול רשויות נגב מערבי",60.972943261399401,1996,0,15,611,"שדרות",10.656333161811499,3097,33002.318323581116,5,35000,1750]
["שוהם",1304,"המרכז","מועצה מקומית","-",12.790734242969,1993,0,13,421,"שוהם",7.1624826648465501,3163.9,22730.890137267827,9,35000,1750]
["שומרון",72,"אזור יהודה והשומרון","מועצה אזורית","אשכולות רשויות יהודה ושומרון","-",1979,0,30,710,"שומרון","..","..",43589.288384753752,6,35000,1750]
["שלומי",812,"הצפון","מועצה מקומית","אשכול רשויות גליל מערבי",116.943670586716,1960,0,9,255,"מעלה הגליל",5.85617216247313,1271.5,7446.366354398082,6,10000,500]
["שעב",538,"הצפון","מועצה מקומית","-",101.75115014471599,1975,0,9,263,"שפלת הגליל",5.3835425255456499,1387.3,7468.8111273176564,2,10000,500]
["שער הנגב",37,"הדרום","מועצה אזורית","אשכול רשויות נגב מערבי","-",1950,0,11,651,"נגב מערבי",176.15796150398401,"..",9361.8507468872231,7,10000,500]
["שער שומרון",3826,"אזור יהודה והשומרון","מועצה מקומית","אשכולות רשויות יהודה ושומרון",null,2022,0,7,710,"שומרון","..","..",8819.6797882105657,null,10000,500]
["שפיר",34,"הדרום","מועצה אזורית","-","-",1950,0,15,631,"שפיר",81.696426200904497,"..",13368.096401825953,5,20000,1000]
["שפרעם",8800,"הצפון","עירייה","אשכול רשויות המפרץ",88.981870763665995,1887,0,15,261,"גבעות אלונים",19.629626960603801,2212.9,43543.497797559197,3,35000,1750]
["תל אביב -יפו",5000,"תל אביב","עירייה","-",0,1934,1,31,507,"תל אביב-יפו",57.0967855397164,9177.4,474529.60197924468,8,50000,2500]
["תל מונד",154,"המרכז","מועצה מקומית","אשכול רשויות השרון",15.7640539819834,1954,0,11,457,"שרונים",7.1268637287118599,2030.5,14477.490832834917,9,20000,1000]
["תל שבע",1054,"הדרום","מועצה מקומית","אשכול רשויות נגב מזרחי",95.560066559369005,1984,0,13,652,"נגב מזרחי",9.4210723286980897,2425.3000000000002,22848.80442551677,1,35000,1750]
["תמר",51,"הדרום","מועצה אזורית","-","-",1956,0,9,656,"תמר",1623.0298704058901,"..",1593.6338020854948,7,10000,500]

{"sheet":"מקרא","index":1,"n_rows":503,"n_cols":10,"rows_kept":503,"cut":false,"hidden":true,"merged":[]}
[]
["סוג גוף תאורה",null,null,null,"טווחי הספקים"]
["נל\"ג",null,null,null,"מינימום","מקסימום","קטגורית",null,"טווח","קטגורית צריכה"]
["מטאל הלייד",null,null,null,0,25,{"$f":"E4& \" - \"& F4","v":"0 - 25"},null,1,"0 - 25"]
["כספית",null,null,null,25,50,{"$f":"E5& \" - \"& F5","v":"25 - 50"},null,2,"0 - 25"]
["לד",null,null,null,50,75,"50 - 75",null,3,"0 - 25"]
[null,null,null,null,75,100,"75 - 100",null,4,"0 - 25"]
[null,null,null,null,100,125,"100 - 125",null,5,"0 - 25"]
[null,null,null,null,125,150,"125 - 150",null,6,"0 - 25"]
[null,null,null,null,150,200,"150 - 200",null,7,"0 - 25"]
[null,null,null,null,200,250,"200 - 250",null,8,"0 - 25"]
[null,null,null,null,250,300,"250 - 300",null,9,"0 - 25"]
[null,null,null,null,300,400,"300 - 400",null,10,"0 - 25"]
[null,null,null,null,400,500,"400 - 500",null,11,"0 - 25"]
[null,null,null,null,500,1500,"500 - 1500",null,12,"0 - 25"]
[null,null,null,null,null,null,null,null,13,"0 - 25"]
[null,null,null,null,null,null,null,null,14,"0 - 25"]
[null,null,null,null,null,null,null,null,15,"0 - 25"]
[null,null,null,null,null,null,null,null,16,"0 - 25"]
[null,null,null,null,null,null,null,null,17,"0 - 25"]
[null,null,null,null,null,null,null,null,18,"0 - 25"]
[null,null,null,null,null,null,null,null,19,"0 - 25"]
[null,null,null,null,null,null,null,null,20,"0 - 25"]
[null,null,null,null,null,null,null,null,21,"0 - 25"]
[null,null,null,null,null,null,null,null,22,"0 - 25"]
[null,null,null,null,null,null,null,null,23,"0 - 25"]
[null,null,null,null,null,null,null,null,24,"0 - 25"]
[null,null,null,null,null,null,null,null,25,"0 - 25"]
[null,null,null,null,null,null,null,null,26,"25 - 50"]
[null,null,null,null,null,null,null,null,27,"25 - 50"]
[null,null,null,null,null,null,null,null,28,"25 - 50"]
[null,null,null,null,null,null,null,null,29,"25 - 50"]
[null,null,null,null,null,null,null,null,30,"25 - 50"]
[null,null,null,null,null,null,null,null,31,"25 - 50"]
[null,null,null,null,null,null,null,null,32,"25 - 50"]
[null,null,null,null,null,null,null,null,33,"25 - 50"]
[null,null,null,null,null,null,null,null,34,"25 - 50"]
[null,null,null,null,null,null,null,null,35,"25 - 50"]
[null,null,null,null,null,null,null,null,36,"25 - 50"]
[null,null,null,null,null,null,null,null,37,"25 - 50"]
[null,null,null,null,null,null,null,null,38,"25 - 50"]
[null,null,null,null,null,null,null,null,39,"25 - 50"]
[null,null,null,null,null,null,null,null,40,"25 - 50"]
[null,null,null,null,null,null,null,null,41,"25 - 50"]
[null,null,null,null,null,null,null,null,42,"25 - 50"]
[null,null,null,null,null,null,null,null,43,"25 - 50"]
[null,null,null,null,null,null,null,null,44,"25 - 50"]
[null,null,null,null,null,null,null,null,45,"25 - 50"]
[null,null,null,null,null,null,null,null,46,"25 - 50"]
[null,null,null,null,null,null,null,null,47,"25 - 50"]
[null,null,null,null,null,null,null,null,48,"25 - 50"]
[null,null,null,null,null,null,null,null,49,"25 - 50"]
[null,null,null,null,null,null,null,null,50,"25 - 50"]
[null,null,null,null,null,null,null,null,51,"50 - 75"]
[null,null,null,null,null,null,null,null,52,"50 - 75"]
[null,null,null,null,null,null,null,null,53,"50 - 75"]
[null,null,null,null,null,null,null,null,54,"50 - 75"]
[null,null,null,null,null,null,null,null,55,"50 - 75"]
[null,null,null,null,null,null,null,null,56,"50 - 75"]
[null,null,null,null,null,null,null,null,57,"50 - 75"]
[null,null,null,null,null,null,null,null,58,"50 - 75"]
[null,null,null,null,null,null,null,null,59,"50 - 75"]
[null,null,null,null,null,null,null,null,60,"50 - 75"]
[null,null,null,null,null,null,null,null,61,"50 - 75"]
[null,null,null,null,null,null,null,null,62,"50 - 75"]
[null,null,null,null,null,null,null,null,63,"50 - 75"]
[null,null,null,null,null,null,null,null,64,"50 - 75"]
[null,null,null,null,null,null,null,null,65,"50 - 75"]
[null,null,null,null,null,null,null,null,66,"50 - 75"]
[null,null,null,null,null,null,null,null,67,"50 - 75"]
[null,null,null,null,null,null,null,null,68,"50 - 75"]
[null,null,null,null,null,null,null,null,69,"50 - 75"]
[null,null,null,null,null,null,null,null,70,"50 - 75"]
[null,null,null,null,null,null,null,null,71,"50 - 75"]
[null,null,null,null,null,null,null,null,72,"50 - 75"]
[null,null,null,null,null,null,null,null,73,"50 - 75"]
[null,null,null,null,null,null,null,null,74,"50 - 75"]
[null,null,null,null,null,null,null,null,75,"50 - 75"]
[null,null,null,null,null,null,null,null,76,"75 - 100"]
[null,null,null,null,null,null,null,null,77,"75 - 100"]
[null,null,null,null,null,null,null,null,78,"75 - 100"]
[null,null,null,null,null,null,null,null,79,"75 - 100"]
[null,null,null,null,null,null,null,null,80,"75 - 100"]
[null,null,null,null,null,null,null,null,81,"75 - 100"]
[null,null,null,null,null,null,null,null,82,"75 - 100"]
[null,null,null,null,null,null,null,null,83,"75 - 100"]
[null,null,null,null,null,null,null,null,84,"75 - 100"]
[null,null,null,null,null,null,null,null,85,"75 - 100"]
[null,null,null,null,null,null,null,null,86,"75 - 100"]
[null,null,null,null,null,null,null,null,87,"75 - 100"]
[null,null,null,null,null,null,null,null,88,"75 - 100"]
[null,null,null,null,null,null,null,null,89,"75 - 100"]
[null,null,null,null,null,null,null,null,90,"75 - 100"]
[null,null,null,null,null,null,null,null,91,"75 - 100"]
[null,null,null,null,null,null,null,null,92,"75 - 100"]
[null,null,null,null,null,null,null,null,93,"75 - 100"]
[null,null,null,null,null,null,null,null,94,"75 - 100"]
[null,null,null,null,null,null,null,null,95,"75 - 100"]
[null,null,null,null,null,null,null,null,96,"75 - 100"]
[null,null,null,null,null,null,null,null,97,"75 - 100"]
[null,null,null,null,null,null,null,null,98,"75 - 100"]
[null,null,null,null,null,null,null,null,99,"75 - 100"]
[null,null,null,null,null,null,null,null,100,"75 - 100"]
[null,null,null,null,null,null,null,null,101,"100 - 125"]
[null,null,null,null,null,null,null,null,102,"100 - 125"]
[null,null,null,null,null,null,null,null,103,"100 - 125"]
[null,null,null,null,null,null,null,null,104,"100 - 125"]
[null,null,null,null,null,null,null,null,105,"100 - 125"]
[null,null,null,null,null,null,null,null,106,"100 - 125"]
[null,null,null,null,null,null,null,null,107,"100 - 125"]
[null,null,null,null,null,null,null,null,108,"100 - 125"]
[null,null,null,null,null,null,null,null,109,"100 - 125"]
[null,null,null,null,null,null,null,null,110,"100 - 125"]
[null,null,null,null,null,null,null,null,111,"100 - 125"]
[null,null,null,null,null,null,null,null,112,"100 - 125"]
[null,null,null,null,null,null,null,null,113,"100 - 125"]
[null,null,null,null,null,null,null,null,114,"100 - 125"]
[null,null,null,null,null,null,null,null,115,"100 - 125"]
[null,null,null,null,null,null,null,null,116,"100 - 125"]
[null,null,null,null,null,null,null,null,117,"100 - 125"]
[null,null,null,null,null,null,null,null,118,"100 - 125"]
[null,null,null,null,null,null,null,null,119,"100 - 125"]
[null,null,null,null,null,null,null,null,120,"100 - 125"]
[null,null,null,null,null,null,null,null,121,"100 - 125"]
[null,null,null,null,null,null,null,null,122,"100 - 125"]
[null,null,null,null,null,null,null,null,123,"100 - 125"]
[null,null,null,null,null,null,null,null,124,"100 - 125"]
[null,null,null,null,null,null,null,null,125,"100 - 125"]
[null,null,null,null,null,null,null,null,126,"125 - 150"]
[null,null,null,null,null,null,null,null,127,"125 - 150"]
[null,null,null,null,null,null,null,null,128,"125 - 150"]
[null,null,null,null,null,null,null,null,129,"125 - 150"]
[null,null,null,null,null,null,null,null,130,"125 - 150"]
[null,null,null,null,null,null,null,null,131,"125 - 150"]
[null,null,null,null,null,null,null,null,132,"125 - 150"]
[null,null,null,null,null,null,null,null,133,"125 - 150"]
[null,null,null,null,null,null,null,null,134,"125 - 150"]
[null,null,null,null,null,null,null,null,135,"125 - 150"]
[null,null,null,null,null,null,null,null,136,"125 - 150"]
[null,null,null,null,null,null,null,null,137,"125 - 150"]
[null,null,null,null,null,null,null,null,138,"125 - 150"]
[null,null,null,null,null,null,null,null,139,"125 - 150"]
[null,null,null,null,null,null,null,null,140,"125 - 150"]
[null,null,null,null,null,null,null,null,141,"125 - 150"]
[null,null,null,null,null,null,null,null,142,"125 - 150"]
[null,null,null,null,null,null,null,null,143,"125 - 150"]
[null,null,null,null,null,null,null,null,144,"125 - 150"]
[null,null,null,null,null,null,null,null,145,"125 - 150"]
[null,null,null,null,null,null,null,null,146,"125 - 150"]
[null,null,null,null,null,null,null,null,147,"125 - 150"]
[null,null,null,null,null,null,null,null,148,"125 - 150"]
[null,null,null,null,null,null,null,null,149,"125 - 150"]
[null,null,null,null,null,null,null,null,150,"125 - 150"]
[null,null,null,null,null,null,null,null,151,"150 - 200"]
[null,null,null,null,null,null,null,null,152,"150 - 200"]
[null,null,null,null,null,null,null,null,153,"150 - 200"]
[null,null,null,null,null,null,null,null,154,"150 - 200"]
[null,null,null,null,null,null,null,null,155,"150 - 200"]
[null,null,null,null,null,null,null,null,156,"150 - 200"]
[null,null,null,null,null,null,null,null,157,"150 - 200"]
[null,null,null,null,null,null,null,null,158,"150 - 200"]
[null,null,null,null,null,null,null,null,159,"150 - 200"]
[null,null,null,null,null,null,null,null,160,"150 - 200"]
[null,null,null,null,null,null,null,null,161,"150 - 200"]
[null,null,null,null,null,null,null,null,162,"150 - 200"]
[null,null,null,null,null,null,null,null,163,"150 - 200"]
[null,null,null,null,null,null,null,null,164,"150 - 200"]
[null,null,null,null,null,null,null,null,165,"150 - 200"]
[null,null,null,null,null,null,null,null,166,"150 - 200"]
[null,null,null,null,null,null,null,null,167,"150 - 200"]
[null,null,null,null,null,null,null,null,168,"150 - 200"]
[null,null,null,null,null,null,null,null,169,"150 - 200"]
[null,null,null,null,null,null,null,null,170,"150 - 200"]
[null,null,null,null,null,null,null,null,171,"150 - 200"]
[null,null,null,null,null,null,null,null,172,"150 - 200"]
[null,null,null,null,null,null,null,null,173,"150 - 200"]
[null,null,null,null,null,null,null,null,174,"150 - 200"]
[null,null,null,null,null,null,null,null,175,"150 - 200"]
[null,null,null,null,null,null,null,null,176,"150 - 200"]
[null,null,null,null,null,null,null,null,177,"150 - 200"]
[null,null,null,null,null,null,null,null,178,"150 - 200"]
[null,null,null,null,null,null,null,null,179,"150 - 200"]
[null,null,null,null,null,null,null,null,180,"150 - 200"]
[null,null,null,null,null,null,null,null,181,"150 - 200"]
[null,null,null,null,null,null,null,null,182,"150 - 200"]
[null,null,null,null,null,null,null,null,183,"150 - 200"]
[null,null,null,null,null,null,null,null,184,"150 - 200"]
[null,null,null,null,null,null,null,null,185,"150 - 200"]
[null,null,null,null,null,null,null,null,186,"150 - 200"]
[null,null,null,null,null,null,null,null,187,"150 - 200"]
[null,null,null,null,null,null,null,null,188,"150 - 200"]
[null,null,null,null,null,null,null,null,189,"150 - 200"]
[null,null,null,null,null,null,null,null,190,"150 - 200"]
[null,null,null,null,null,null,null,null,191,"150 - 200"]
[null,null,null,null,null,null,null,null,192,"150 - 200"]
[null,null,null,null,null,null,null,null,193,"150 - 200"]
[null,null,null,null,null,null,null,null,194,"150 - 200"]
[null,null,null,null,null,null,null,null,195,"150 - 200"]
[null,null,null,null,null,null,null,null,196,"150 - 200"]
[null,null,null,null,null,null,null,null,197,"150 - 200"]
[null,null,null,null,null,null,null,null,198,"150 - 200"]
[null,null,null,null,null,null,null,null,199,"150 - 200"]
[null,null,null,null,null,null,null,null,200,"150 - 200"]
[null,null,null,null,null,null,null,null,201,"200 - 250"]
[null,null,null,null,null,null,null,null,202,"200 - 250"]
[null,null,null,null,null,null,null,null,203,"200 - 250"]
[null,null,null,null,null,null,null,null,204,"200 - 250"]
[null,null,null,null,null,null,null,null,205,"200 - 250"]
[null,null,null,null,null,null,null,null,206,"200 - 250"]
[null,null,null,null,null,null,null,null,207,"200 - 250"]
[null,null,null,null,null,null,null,null,208,"200 - 250"]
[null,null,null,null,null,null,null,null,209,"200 - 250"]
[null,null,null,null,null,null,null,null,210,"200 - 250"]
[null,null,null,null,null,null,null,null,211,"200 - 250"]
[null,null,null,null,null,null,null,null,212,"200 - 250"]
[null,null,null,null,null,null,null,null,213,"200 - 250"]
[null,null,null,null,null,null,null,null,214,"200 - 250"]
[null,null,null,null,null,null,null,null,215,"200 - 250"]
[null,null,null,null,null,null,null,null,216,"200 - 250"]
[null,null,null,null,null,null,null,null,217,"200 - 250"]
[null,null,null,null,null,null,null,null,218,"200 - 250"]
[null,null,null,null,null,null,null,null,219,"200 - 250"]
[null,null,null,null,null,null,null,null,220,"200 - 250"]
[null,null,null,null,null,null,null,null,221,"200 - 250"]
[null,null,null,null,null,null,null,null,222,"200 - 250"]
[null,null,null,null,null,null,null,null,223,"200 - 250"]
[null,null,null,null,null,null,null,null,224,"200 - 250"]
[null,null,null,null,null,null,null,null,225,"200 - 250"]
[null,null,null,null,null,null,null,null,226,"200 - 250"]
[null,null,null,null,null,null,null,null,227,"200 - 250"]
[null,null,null,null,null,null,null,null,228,"200 - 250"]
[null,null,null,null,null,null,null,null,229,"200 - 250"]
[null,null,null,null,null,null,null,null,230,"200 - 250"]
[null,null,null,null,null,null,null,null,231,"200 - 250"]
[null,null,null,null,null,null,null,null,232,"200 - 250"]
[null,null,null,null,null,null,null,null,233,"200 - 250"]
[null,null,null,null,null,null,null,null,234,"200 - 250"]
[null,null,null,null,null,null,null,null,235,"200 - 250"]
[null,null,null,null,null,null,null,null,236,"200 - 250"]
[null,null,null,null,null,null,null,null,237,"200 - 250"]
[null,null,null,null,null,null,null,null,238,"200 - 250"]
[null,null,null,null,null,null,null,null,239,"200 - 250"]
[null,null,null,null,null,null,null,null,240,"200 - 250"]
[null,null,null,null,null,null,null,null,241,"200 - 250"]
[null,null,null,null,null,null,null,null,242,"200 - 250"]
[null,null,null,null,null,null,null,null,243,"200 - 250"]
[null,null,null,null,null,null,null,null,244,"200 - 250"]
[null,null,null,null,null,null,null,null,245,"200 - 250"]
[null,null,null,null,null,null,null,null,246,"200 - 250"]
[null,null,null,null,null,null,null,null,247,"200 - 250"]
[null,null,null,null,null,null,null,null,248,"200 - 250"]
[null,null,null,null,null,null,null,null,249,"200 - 250"]
[null,null,null,null,null,null,null,null,250,"200 - 250"]
[null,null,null,null,null,null,null,null,251,"250 - 300"]
[null,null,null,null,null,null,null,null,252,"250 - 300"]
[null,null,null,null,null,null,null,null,253,"250 - 300"]
[null,null,null,null,null,null,null,null,254,"250 - 300"]
[null,null,null,null,null,null,null,null,255,"250 - 300"]
[null,null,null,null,null,null,null,null,256,"250 - 300"]
[null,null,null,null,null,null,null,null,257,"250 - 300"]
[null,null,null,null,null,null,null,null,258,"250 - 300"]
[null,null,null,null,null,null,null,null,259,"250 - 300"]
[null,null,null,null,null,null,null,null,260,"250 - 300"]
[null,null,null,null,null,null,null,null,261,"250 - 300"]
[null,null,null,null,null,null,null,null,262,"250 - 300"]
[null,null,null,null,null,null,null,null,263,"250 - 300"]
[null,null,null,null,null,null,null,null,264,"250 - 300"]
[null,null,null,null,null,null,null,null,265,"250 - 300"]
[null,null,null,null,null,null,null,null,266,"250 - 300"]
[null,null,null,null,null,null,null,null,267,"250 - 300"]
[null,null,null,null,null,null,null,null,268,"250 - 300"]
[null,null,null,null,null,null,null,null,269,"250 - 300"]
[null,null,null,null,null,null,null,null,270,"250 - 300"]
[null,null,null,null,null,null,null,null,271,"250 - 300"]
[null,null,null,null,null,null,null,null,272,"250 - 300"]
[null,null,null,null,null,null,null,null,273,"250 - 300"]
[null,null,null,null,null,null,null,null,274,"250 - 300"]
[null,null,null,null,null,null,null,null,275,"250 - 300"]
[null,null,null,null,null,null,null,null,276,"250 - 300"]
[null,null,null,null,null,null,null,null,277,"250 - 300"]
[null,null,null,null,null,null,null,null,278,"250 - 300"]
[null,null,null,null,null,null,null,null,279,"250 - 300"]
[null,null,null,null,null,null,null,null,280,"250 - 300"]
[null,null,null,null,null,null,null,null,281,"250 - 300"]
[null,null,null,null,null,null,null,null,282,"250 - 300"]
[null,null,null,null,null,null,null,null,283,"250 - 300"]
[null,null,null,null,null,null,null,null,284,"250 - 300"]
[null,null,null,null,null,null,null,null,285,"250 - 300"]
[null,null,null,null,null,null,null,null,286,"250 - 300"]
[null,null,null,null,null,null,null,null,287,"250 - 300"]
[null,null,null,null,null,null,null,null,288,"250 - 300"]
[null,null,null,null,null,null,null,null,289,"250 - 300"]
[null,null,null,null,null,null,null,null,290,"250 - 300"]
[null,null,null,null,null,null,null,null,291,"250 - 300"]
[null,null,null,null,null,null,null,null,292,"250 - 300"]
[null,null,null,null,null,null,null,null,293,"250 - 300"]
[null,null,null,null,null,null,null,null,294,"250 - 300"]
[null,null,null,null,null,null,null,null,295,"250 - 300"]
[null,null,null,null,null,null,null,null,296,"250 - 300"]
[null,null,null,null,null,null,null,null,297,"250 - 300"]
[null,null,null,null,null,null,null,null,298,"250 - 300"]
[null,null,null,null,null,null,null,null,299,"250 - 300"]
[null,null,null,null,null,null,null,null,300,"250 - 300"]
[null,null,null,null,null,null,null,null,301,"300 - 400"]
[null,null,null,null,null,null,null,null,302,"300 - 400"]
[null,null,null,null,null,null,null,null,303,"300 - 400"]
[null,null,null,null,null,null,null,null,304,"300 - 400"]
[null,null,null,null,null,null,null,null,305,"300 - 400"]
[null,null,null,null,null,null,null,null,306,"300 - 400"]
[null,null,null,null,null,null,null,null,307,"300 - 400"]
[null,null,null,null,null,null,null,null,308,"300 - 400"]
[null,null,null,null,null,null,null,null,309,"300 - 400"]
[null,null,null,null,null,null,null,null,310,"300 - 400"]
[null,null,null,null,null,null,null,null,311,"300 - 400"]
[null,null,null,null,null,null,null,null,312,"300 - 400"]
[null,null,null,null,null,null,null,null,313,"300 - 400"]
[null,null,null,null,null,null,null,null,314,"300 - 400"]
[null,null,null,null,null,null,null,null,315,"300 - 400"]
[null,null,null,null,null,null,null,null,316,"300 - 400"]
[null,null,null,null,null,null,null,null,317,"300 - 400"]
[null,null,null,null,null,null,null,null,318,"300 - 400"]
[null,null,null,null,null,null,null,null,319,"300 - 400"]
[null,null,null,null,null,null,null,null,320,"300 - 400"]
[null,null,null,null,null,null,null,null,321,"300 - 400"]
[null,null,null,null,null,null,null,null,322,"300 - 400"]
[null,null,null,null,null,null,null,null,323,"300 - 400"]
[null,null,null,null,null,null,null,null,324,"300 - 400"]
[null,null,null,null,null,null,null,null,325,"300 - 400"]
[null,null,null,null,null,null,null,null,326,"300 - 400"]
[null,null,null,null,null,null,null,null,327,"300 - 400"]
[null,null,null,null,null,null,null,null,328,"300 - 400"]
[null,null,null,null,null,null,null,null,329,"300 - 400"]
[null,null,null,null,null,null,null,null,330,"300 - 400"]
[null,null,null,null,null,null,null,null,331,"300 - 400"]
[null,null,null,null,null,null,null,null,332,"300 - 400"]
[null,null,null,null,null,null,null,null,333,"300 - 400"]
[null,null,null,null,null,null,null,null,334,"300 - 400"]
[null,null,null,null,null,null,null,null,335,"300 - 400"]
[null,null,null,null,null,null,null,null,336,"300 - 400"]
[null,null,null,null,null,null,null,null,337,"300 - 400"]
[null,null,null,null,null,null,null,null,338,"300 - 400"]
[null,null,null,null,null,null,null,null,339,"300 - 400"]
[null,null,null,null,null,null,null,null,340,"300 - 400"]
[null,null,null,null,null,null,null,null,341,"300 - 400"]
[null,null,null,null,null,null,null,null,342,"300 - 400"]
[null,null,null,null,null,null,null,null,343,"300 - 400"]
[null,null,null,null,null,null,null,null,344,"300 - 400"]
[null,null,null,null,null,null,null,null,345,"300 - 400"]
[null,null,null,null,null,null,null,null,346,"300 - 400"]
[null,null,null,null,null,null,null,null,347,"300 - 400"]
[null,null,null,null,null,null,null,null,348,"300 - 400"]
[null,null,null,null,null,null,null,null,349,"300 - 400"]
[null,null,null,null,null,null,null,null,350,"300 - 400"]
[null,null,null,null,null,null,null,null,351,"300 - 400"]
[null,null,null,null,null,null,null,null,352,"300 - 400"]
[null,null,null,null,null,null,null,null,353,"300 - 400"]
[null,null,null,null,null,null,null,null,354,"300 - 400"]
[null,null,null,null,null,null,null,null,355,"300 - 400"]
[null,null,null,null,null,null,null,null,356,"300 - 400"]
[null,null,null,null,null,null,null,null,357,"300 - 400"]
[null,null,null,null,null,null,null,null,358,"300 - 400"]
[null,null,null,null,null,null,null,null,359,"300 - 400"]
[null,null,null,null,null,null,null,null,360,"300 - 400"]
[null,null,null,null,null,null,null,null,361,"300 - 400"]
[null,null,null,null,null,null,null,null,362,"300 - 400"]
[null,null,null,null,null,null,null,null,363,"300 - 400"]
[null,null,null,null,null,null,null,null,364,"300 - 400"]
[null,null,null,null,null,null,null,null,365,"300 - 400"]
[null,null,null,null,null,null,null,null,366,"300 - 400"]
[null,null,null,null,null,null,null,null,367,"300 - 400"]
[null,null,null,null,null,null,null,null,368,"300 - 400"]
[null,null,null,null,null,null,null,null,369,"300 - 400"]
[null,null,null,null,null,null,null,null,370,"300 - 400"]
[null,null,null,null,null,null,null,null,371,"300 - 400"]
[null,null,null,null,null,null,null,null,372,"300 - 400"]
[null,null,null,null,null,null,null,null,373,"300 - 400"]
[null,null,null,null,null,null,null,null,374,"300 - 400"]
[null,null,null,null,null,null,null,null,375,"300 - 400"]
[null,null,null,null,null,null,null,null,376,"300 - 400"]
[null,null,null,null,null,null,null,null,377,"300 - 400"]
[null,null,null,null,null,null,null,null,378,"300 - 400"]
[null,null,null,null,null,null,null,null,379,"300 - 400"]
[null,null,null,null,null,null,null,null,380,"300 - 400"]
[null,null,null,null,null,null,null,null,381,"300 - 400"]
[null,null,null,null,null,null,null,null,382,"300 - 400"]
[null,null,null,null,null,null,null,null,383,"300 - 400"]
[null,null,null,null,null,null,null,null,384,"300 - 400"]
[null,null,null,null,null,null,null,null,385,"300 - 400"]
[null,null,null,null,null,null,null,null,386,"300 - 400"]
[null,null,null,null,null,null,null,null,387,"300 - 400"]
[null,null,null,null,null,null,null,null,388,"300 - 400"]
[null,null,null,null,null,null,null,null,389,"300 - 400"]
[null,null,null,null,null,null,null,null,390,"300 - 400"]
[null,null,null,null,null,null,null,null,391,"300 - 400"]
[null,null,null,null,null,null,null,null,392,"300 - 400"]
[null,null,null,null,null,null,null,null,393,"300 - 400"]
[null,null,null,null,null,null,null,null,394,"300 - 400"]
[null,null,null,null,null,null,null,null,395,"300 - 400"]
[null,null,null,null,null,null,null,null,396,"300 - 400"]
[null,null,null,null,null,null,null,null,397,"300 - 400"]
[null,null,null,null,null,null,null,null,398,"300 - 400"]
[null,null,null,null,null,null,null,null,399,"300 - 400"]
[null,null,null,null,null,null,null,null,400,"300 - 400"]
[null,null,null,null,null,null,null,null,401,"400 - 500"]
[null,null,null,null,null,null,null,null,402,"400 - 500"]
[null,null,null,null,null,null,null,null,403,"400 - 500"]
[null,null,null,null,null,null,null,null,404,"400 - 500"]
[null,null,null,null,null,null,null,null,405,"400 - 500"]
[null,null,null,null,null,null,null,null,406,"400 - 500"]
[null,null,null,null,null,null,null,null,407,"400 - 500"]
[null,null,null,null,null,null,null,null,408,"400 - 500"]
[null,null,null,null,null,null,null,null,409,"400 - 500"]
[null,null,null,null,null,null,null,null,410,"400 - 500"]
[null,null,null,null,null,null,null,null,411,"400 - 500"]
[null,null,null,null,null,null,null,null,412,"400 - 500"]
[null,null,null,null,null,null,null,null,413,"400 - 500"]
[null,null,null,null,null,null,null,null,414,"400 - 500"]
[null,null,null,null,null,null,null,null,415,"400 - 500"]
[null,null,null,null,null,null,null,null,416,"400 - 500"]
[null,null,null,null,null,null,null,null,417,"400 - 500"]
[null,null,null,null,null,null,null,null,418,"400 - 500"]
[null,null,null,null,null,null,null,null,419,"400 - 500"]
[null,null,null,null,null,null,null,null,420,"400 - 500"]
[null,null,null,null,null,null,null,null,421,"400 - 500"]
[null,null,null,null,null,null,null,null,422,"400 - 500"]
[null,null,null,null,null,null,null,null,423,"400 - 500"]
[null,null,null,null,null,null,null,null,424,"400 - 500"]
[null,null,null,null,null,null,null,null,425,"400 - 500"]
[null,null,null,null,null,null,null,null,426,"400 - 500"]
[null,null,null,null,null,null,null,null,427,"400 - 500"]
[null,null,null,null,null,null,null,null,428,"400 - 500"]
[null,null,null,null,null,null,null,null,429,"400 - 500"]
[null,null,null,null,null,null,null,null,430,"400 - 500"]
[null,null,null,null,null,null,null,null,431,"400 - 500"]
[null,null,null,null,null,null,null,null,432,"400 - 500"]
[null,null,null,null,null,null,null,null,433,"400 - 500"]
[null,null,null,null,null,null,null,null,434,"400 - 500"]
[null,null,null,null,null,null,null,null,435,"400 - 500"]
[null,null,null,null,null,null,null,null,436,"400 - 500"]
[null,null,null,null,null,null,null,null,437,"400 - 500"]
[null,null,null,null,null,null,null,null,438,"400 - 500"]
[null,null,null,null,null,null,null,null,439,"400 - 500"]
[null,null,null,null,null,null,null,null,440,"400 - 500"]
[null,null,null,null,null,null,null,null,441,"400 - 500"]
[null,null,null,null,null,null,null,null,442,"400 - 500"]
[null,null,null,null,null,null,null,null,443,"400 - 500"]
[null,null,null,null,null,null,null,null,444,"400 - 500"]
[null,null,null,null,null,null,null,null,445,"400 - 500"]
[null,null,null,null,null,null,null,null,446,"400 - 500"]
[null,null,null,null,null,null,null,null,447,"400 - 500"]
[null,null,null,null,null,null,null,null,448,"400 - 500"]
[null,null,null,null,null,null,null,null,449,"400 - 500"]
[null,null,null,null,null,null,null,null,450,"400 - 500"]
[null,null,null,null,null,null,null,null,451,"400 - 500"]
[null,null,null,null,null,null,null,null,452,"400 - 500"]
[null,null,null,null,null,null,null,null,453,"400 - 500"]
[null,null,null,null,null,null,null,null,454,"400 - 500"]
[null,null,null,null,null,null,null,null,455,"400 - 500"]
[null,null,null,null,null,null,null,null,456,"400 - 500"]
[null,null,null,null,null,null,null,null,457,"400 - 500"]
[null,null,null,null,null,null,null,null,458,"400 - 500"]
[null,null,null,null,null,null,null,null,459,"400 - 500"]
[null,null,null,null,null,null,null,null,460,"400 - 500"]
[null,null,null,null,null,null,null,null,461,"400 - 500"]
[null,null,null,null,null,null,null,null,462,"400 - 500"]
[null,null,null,null,null,null,null,null,463,"400 - 500"]
[null,null,null,null,null,null,null,null,464,"400 - 500"]
[null,null,null,null,null,null,null,null,465,"400 - 500"]
[null,null,null,null,null,null,null,null,466,"400 - 500"]
[null,null,null,null,null,null,null,null,467,"400 - 500"]
[null,null,null,null,null,null,null,null,468,"400 - 500"]
[null,null,null,null,null,null,null,null,469,"400 - 500"]
[null,null,null,null,null,null,null,null,470,"400 - 500"]
[null,null,null,null,null,null,null,null,471,"400 - 500"]
[null,null,null,null,null,null,null,null,472,"400 - 500"]
[null,null,null,null,null,null,null,null,473,"400 - 500"]
[null,null,null,null,null,null,null,null,474,"400 - 500"]
[null,null,null,null,null,null,null,null,475,"400 - 500"]
[null,null,null,null,null,null,null,null,476,"400 - 500"]
[null,null,null,null,null,null,null,null,477,"400 - 500"]
[null,null,null,null,null,null,null,null,478,"400 - 500"]
[null,null,null,null,null,null,null,null,479,"400 - 500"]
[null,null,null,null,null,null,null,null,480,"400 - 500"]
[null,null,null,null,null,null,null,null,481,"400 - 500"]
[null,null,null,null,null,null,null,null,482,"400 - 500"]
[null,null,null,null,null,null,null,null,483,"400 - 500"]
[null,null,null,null,null,null,null,null,484,"400 - 500"]
[null,null,null,null,null,null,null,null,485,"400 - 500"]
[null,null,null,null,null,null,null,null,486,"400 - 500"]
[null,null,null,null,null,null,null,null,487,"400 - 500"]
[null,null,null,null,null,null,null,null,488,"400 - 500"]
[null,null,null,null,null,null,null,null,489,"400 - 500"]
[null,null,null,null,null,null,null,null,490,"400 - 500"]
[null,null,null,null,null,null,null,null,491,"400 - 500"]
[null,null,null,null,null,null,null,null,492,"400 - 500"]
[null,null,null,null,null,null,null,null,493,"400 - 500"]
[null,null,null,null,null,null,null,null,494,"400 - 500"]
[null,null,null,null,null,null,null,null,495,"400 - 500"]
[null,null,null,null,null,null,null,null,496,"400 - 500"]
[null,null,null,null,null,null,null,null,497,"400 - 500"]
[null,null,null,null,null,null,null,null,498,"400 - 500"]
[null,null,null,null,null,null,null,null,499,"400 - 500"]
[null,null,null,null,null,null,null,null,500,"400 - 500"]

{"sheet":"פרטי רשות","index":2,"n_rows":15,"n_cols":3,"rows_kept":15,"cut":false,"hidden":false,"merged":[]}
[]
[null,"הגשה עבור"]
[null,"שם הרשות > "]
[]
[]
[null,"פרטי המגיש"]
[null,"שם מלא >"]
[null,"תפקיד > "]
[null,"מספר טלפון נייד >"]
[null,"דואר אלקטרוני > "]
[]
[null,"נתוני מיפוי"]
[null,"מספר תושבים >",{"$f":"_xlfn.IFNA(VLOOKUP($C$3,'נתונים פיזיים'!A:Q,14,0),\"\")","v":""}]
[null,"סך המענק >",{"$f":"_xlfn.IFNA(VLOOKUP($C$3,'נתונים פיזיים'!A:Q,16,0),\"\")","v":""}]
[null,"מספר עמודי תאורה מינימלי למיפוי >",{"$f":"_xlfn.IFNA(VLOOKUP($C$3,'נתונים פיזיים'!A:Q,17,0),\"\")","v":""}]

{"sheet":"עמודי תאורה","index":3,"n_rows":20001,"n_cols":12,"rows_kept":4500,"cut":true,"hidden":false,"merged":[],"bounds":{"rows_first":2000,"rows_last":500,"rows_between":2000,"halvings":0}}
[]
["ישוב","כתובת","קואורדינטת Y","קואורדינטת X","שם מרכזייה","מספר חוזה","סוג עמוד תאורה","מספר נורות על עמוד התאורה","סוג נורה","הספק נורה",null,"קטגורית תאורה"]
[null,null,null,null,null,null,null,null,"לד",null,null,{"$f":"_xlfn.IFNA(IF(#REF!>500,\"ומעלה 500\",VLOOKUP(#REF!,טבלה1[#All],2,0)),\"\")","v":{"$error":"#REF!"}}]
[null,null,null,null,null,null,null,null,"כספית",null,null,{"$f":"_xlfn.IFNA(IF(#REF!>500,\"ומעלה 500\",VLOOKUP(#REF!,טבלה1[#All],2,0)),\"\")","v":{"$error":"#REF!"}}]
[null,null,null,null,null,null,null,null,"מטאל הלייד",null,null,{"$f":"_xlfn.IFNA(IF(#REF!>500,\"ומעלה 500\",VLOOKUP(#REF!,טבלה1[#All],2,0)),\"\")","v":{"$error":"#REF!"}}]
[null,null,null,null,null,null,null,null,"נל\"ג",null,null,{"$f":"_xlfn.IFNA(IF(J3>500,\"ומעלה 500\",VLOOKUP(J3,טבלה1[#All],2,0)),\"\")","v":""}]
[null,null,null,null,null,null,null,null,null,null,null,{"$f":"_xlfn.IFNA(IF(J4>500,\"ומעלה 500\",VLOOKUP(J4,טבלה1[#All],2,0)),\"\")","v":""}]
[null,null,null,null,null,null,null,null,null,null,null,{"$f":"_xlfn.IFNA(IF(J5>500,\"ומעלה 500\",VLOOKUP(J5,טבלה1[#All],2,0)),\"\")","v":""}]
[null,null,null,null,null,null,null,null,null,null,null,{"$f":"_xlfn.IFNA(IF(J6>500,\"ומעלה 500\",VLOOKUP(J6,טבלה1[#All],2,0)),\"\")","v":""}]
[null,null,null,null,null,null,null,null,null,null,null,{"$f":"_xlfn.IFNA(IF(J7>500,\"ומעלה 500\",VLOOKUP(J7,טבלה1[#All],2,0)),\"\")","v":""}]
[null,null,null,null,null,null,null,null,null,null,null,{"$f":"_xlfn.IFNA(IF(J8>500,\"ומעלה 500\",VLOOKUP(J8,טבלה1[#All],2,0)),\"\")","v":""}]
[null,null,null,null,null,null,null,null,null,null,null,{"$f":"_xlfn.IFNA(IF(J9>500,\"ומעלה 500\",VLOOKUP(J9,טבלה1[#All],2,0)),\"\")","v":""}]
[null,null,null,null,null,null,null,null,null,null,null,{"$f":"_xlfn.IFNA(IF(#REF!>500,\"ומעלה 500\",VLOOKUP(#REF!,טבלה1[#All],2,0)),\"\")","v":{"$error":"#REF!"}}]
[null,null,null,null,null,null,null,null,null,null,null,{"$f":"_xlfn.IFNA(IF(#REF!>500,\"ומעלה 500\",VLOOKUP(#REF!,טבלה1[#All],2,0)),\"\")","v":{"$error":"#REF!"}}]
[null,null,null,null,null,null,null,null,null,null,null,{"$f":"_xlfn.IFNA(IF(J15>500,\"ומעלה 500\",VLOOKUP(J15,טבלה1[#All],2,0)),\"\")","v":""}]
[null,null,null,null,null,null,null,null,null,null,null,{"$f":"_xlfn.IFNA(IF(J14>500,\"ומעלה 500\",VLOOKUP(J14,טבלה1[#All],2,0)),\"\")","v":""}]
[null,null,null,null,null,null,null,null,null,null,null,{"$f":"_xlfn.IFNA(IF(J17>500,\"ומעלה 500\",VLOOKUP(J17,טבלה1[#All],2,0)),\"\")","v":""}]
[null,null,null,null,null,null,null,null,null,null,null,{"$f":"_xlfn.IFNA(IF(J18>500,\"ומעלה 500\",VLOOKUP(J18,טבלה1[#All],2,0)),\"\")","v":""}]
[null,null,null,null,null,null,null,null,null,null,null,{"$f":"_xlfn.IFNA(IF(J19>500,\"ומעלה 500\",VLOOKUP(J19,טבלה1[#All],2,0)),\"\")","v":""}]
[null,null,null,null,null,null,null,null,null,null,null,{"$f":"_xlfn.IFNA(IF(J20>500,\"ומעלה 500\",VLOOKUP(J20,טבלה1[#All],2,0)),\"\")","v":""}]
[null,null,null,null,null,null,null,null,null,null,null,{"$f":"_xlfn.IFNA(IF(J21>500,\"ומעלה 500\",VLOOKUP(J21,טבלה1[#All],2,0)),\"\")","v":""}]
[null,null,null,null,null,null,null,null,null,null,null,{"$f":"_xlfn.IFNA(IF(J22>500,\"ומעלה 500\",VLOOKUP(J22,טבלה1[#All],2,0)),\"\")","v":""}]
[null,null,null,null,null,null,null,null,null,null,null,{"$f":"_xlfn.IFNA(IF(J23>500,\"ומעלה 500\",VLOOKUP(J23,טבלה1[#All],2,0)),\"\")","v":""}]
[null,null,null,null,null,null,null,null,null,null,null,{"$f":"_xlfn.IFNA(IF(J24>500,\"ומעלה 500\",VLOOKUP(J24,טבלה1[#All],2,0)),\"\")","v":""}]
[null,null,null,null,null,null,null,null,null,null,null,{"$f":"_xlfn.IFNA(IF(J25>500,\"ומעלה 500\",VLOOKUP(J25,טבלה1[#All],2,0)),\"\")","v":""}]
[null,null,null,null,null,null,null,null,null,null,null,{"$f":"_xlfn.IFNA(IF(J26>500,\"ומעלה 500\",VLOOKUP(J26,טבלה1[#All],2,0)),\"\")","v":""}]
[null,null,null,null,null,null,null,null,null,null,null,{"$f":"_xlfn.IFNA(IF(J27>500,\"ומעלה 500\",VLOOKUP(J27,טבלה1[#All],2,0)),\"\")","v":""}]
[null,null,null,null,null,null,null,null,null,null,null,{"$f":"_xlfn.IFNA(IF(J28>500,\"ומעלה 500\",VLOOKUP(J28,טבלה1[#All],2,0)),\"\")","v":""}]
[null,null,null,null,null,null,null,null,null,null,null,{"$f":"_xlfn.IFNA(IF(J29>500,\"ומעלה 500\",VLOOKUP(J29,טבלה1[#All],2,0)),\"\")","v":""}]
[null,null,null,null,null,null,null,null,null,null,null,{"$f":"_xlfn.IFNA(IF(J30>500,\"ומעלה 500\",VLOOKUP(J30,טבלה1[#All],2,0)),\"\")","v":""}]
[null,null,null,null,null,null,null,null,null,null,null,{"$f":"_xlfn.IFNA(IF(J31>500,\"ומעלה 500\",VLOOKUP(J31,טבלה1[#All],2,0)),\"\")","v":""}]
[null,null,null,null,null,null,null,null,null,null,null,{"$f":"_xlfn.IFNA(IF(J32>500,\"ומעלה 500\",VLOOKUP(J32,טבלה1[#All],2,0)),\"\")","v":""}]
[null,null,null,null,null,null,null,null,null,null,null,{"$f":"_xlfn.IFNA(IF(J33>500,\"ומעלה 500\",VLOOKUP(J33,טבלה1[#All],2,0)),\"\")","v":""}]
[null,null,null,null,null,null,null,null,null,null,null,{"$f":"_xlfn.IFNA(IF(J34>500,\"ומעלה 500\",VLOOKUP(J34,טבלה1[#All],2,0)),\"\")","v":""}]
[null,null,null,null,null,null,null,null,null,null,null,{"$f":"_xlfn.IFNA(IF(J35>500,\"ומעלה 500\",VLOOKUP(J35,טבלה1[#All],2,0)),\"\")","v":""}]
[null,null,null,null,null,null,null,null,null,null,null,{"$f":"_xlfn.IFNA(IF(J36>500,\"ומעלה 500\",VLOOKUP(J36,טבלה1[#All],2,0)),\"\")","v":""}]
[null,null,null,null,null,null,null,null,null,null,null,{"$f":"_xlfn.IFNA(IF(J37>500,\"ומעלה 500\",VLOOKUP(J37,טבלה1[#All],2,0)),\"\")","v":""}]
[null,null,null,null,null,null,null,null,null,null,null,{"$f":"_xlfn.IFNA(IF(J38>500,\"ומעלה 500\",VLOOKUP(J38,טבלה1[#All],2,0)),\"\")","v":""}]
[null,null,null,null,null,null,null,null,null,null,null,{"$f":"_xlfn.IFNA(IF(J39>500,\"ומעלה 500\",VLOOKUP(J39,טבלה1[#All],2,0)),\"\")","v":""}]
[null,null,null,null,null,null,null,null,null,null,null,{"$f":"_xlfn.IFNA(IF(J40>500,\"ומעלה 500\",VLOOKUP(J40,טבלה1[#All],2,0)),\"\")","v":""}]
[null,null,null,null,null,null,null,null,null,null,null,{"$f":"_xlfn.IFNA(IF(J41>500,\"ומעלה 500\",VLOOKUP(J41,טבלה1[#All],2,0)),\"\")","v":""}]
[null,null,null,null,null,null,null,null,null,null,null,{"$f":"_xlfn.IFNA(IF(J42>500,\"ומעלה 500\",VLOOKUP(J42,טבלה1[#All],2,0)),\"\")","v":""}]
[null,null,null,null,null,null,null,null,null,null,null,{"$f":"_xlfn.IFNA(IF(J43>500,\"ומעלה 500\",VLOOKUP(J43,טבלה1[#All],2,0)),\"\")","v":""}]
[null,null,null,null,null,null,null,null,null,null,null,{"$f":"_xlfn.IFNA(IF(J44>500,\"ומעלה 500\",VLOOKUP(J44,טבלה1[#All],2,0)),\"\")","v":""}]
[null,null,null,null,null,null,null,null,null,null,null,{"$f":"_xlfn.IFNA(IF(J45>500,\"ומעלה 500\",VLOOKUP(J45,טבלה1[#All],2,0)),\"\")","v":""}]
[null,null,null,null,null,null,null,null,null,null,null,{"$f":"_xlfn.IFNA(IF(J46>500,\"ומעלה 500\",VLOOKUP(J46,טבלה1[#All],2,0)),\"\")","v":""}]
[null,null,null,null,null,null,null,null,null,null,null,{"$f":"_xlfn.IFNA(IF(J47>500,\"ומעלה 500\",VLOOKUP(J47,טבלה1[#All],2,0)),\"\")","v":""}]
[null,null,null,null,null,null,null,null,null,null,null,{"$f":"_xlfn.IFNA(IF(J48>500,\"ומעלה 500\",VLOOKUP(J48,טבלה1[#All],2,0)),\"\")","v":""}]
[null,null,null,null,null,null,null,null,null,null,null,{"$f":"_xlfn.IFNA(IF(J49>500,\"ומעלה 500\",VLOOKUP(J49,טבלה1[#All],2,0)),\"\")","v":""}]
[null,null,null,null,null,null,null,null,null,null,null,{"$f":"_xlfn.IFNA(IF(J50>500,\"ומעלה 500\",VLOOKUP(J50,טבלה1[#All],2,0)),\"\")","v":""}]
[null,null,null,null,null,null,null,null,null,null,null,{"$f":"_xlfn.IFNA(IF(J51>500,\"ומעלה 500\",VLOOKUP(J51,טבלה1[#All],2,0)),\"\")","v":""}]
[null,null,null,null,null,null,null,null,null,null,null,{"$f":"_xlfn.IFNA(IF(J52>500,\"ומעלה 500\",VLOOKUP(J52,טבלה1[#All],2,0)),\"\")","v":""}]
[null,null,null,null,null,null,null,null,null,null,null,{"$f":"_xlfn.IFNA(IF(J53>500,\"ומעלה 500\",VLOOKUP(J53,טבלה1[#All],2,0)),\"\")","v":""}]
[null,null,null,null,null,null,null,null,null,null,null,{"$f":"_xlfn.IFNA(IF(J54>500,\"ומעלה 500\",VLOOKUP(J54,טבלה1[#All],2,0)),\"\")","v":""}]
[null,null,null,null,null,null,null,null,null,null,null,{"$f":"_xlfn.IFNA(IF(J55>500,\"ומעלה 500\",VLOOKUP(J55,טבלה1[#All],2,0)),\"\")","v":""}]
[null,null,null,null,null,null,null,null,null,null,null,{"$f":"_xlfn.IFNA(IF(J56>500,\"ומעלה 500\",VLOOKUP(J56,טבלה1[#All],2,0)),\"\")","v":""}]
[null,null,null,null,null,null,null,null,null,null,null,{"$f":"_xlfn.IFNA(IF(J57>500,\"ומעלה 500\",VLOOKUP(J57,טבלה1[#All],2,0)),\"\")","v":""}]
[null,null,null,null,null,null,null,null,null,null,null,{"$f":"_xlfn.IFNA(IF(J58>500,\"ומעלה 500\",VLOOKUP(J58,טבלה1[#All],2,0)),\"\")","v":""}]
[null,null,null,null,null,null,null,null,null,null,null,{"$f":"_xlfn.IFNA(IF(J59>500,\"ומעלה 500\",VLOOKUP(J59,טבלה1[#All],2,0)),\"\")","v":""}]
[null,null,null,null,null,null,null,null,null,null,null,{"$f":"_xlfn.IFNA(IF(J60>500,\"ומעלה 500\",VLOOKUP(J60,טבלה1[#All],2,0)),\"\")","v":""}]
[null,null,null,null,null,null,null,null,null,null,null,{"$f":"_xlfn.IFNA(IF(J61>500,\"ומעלה 500\",VLOOKUP(J61,טבלה1[#All],2,0)),\"\")","v":""}]
[null,null,null,null,null,null,null,null,null,null,null,{"$f":"_xlfn.IFNA(IF(J62>500,\"ומעלה 500\",VLOOKUP(J62,טבלה1[#All],2,0)),\"\")","v":""}]
[null,null,null,null,null,null,null,null,null,null,null,{"$f":"_xlfn.IFNA(IF(J63>500,\"ומעלה 500\",VLOOKUP(J63,טבלה1[#All],2,0)),\"\")","v":""}]
[null,null,null,null,null,null,null,null,null,null,null,{"$f":"_xlfn.IFNA(IF(J64>500,\"ומעלה 500\",VLOOKUP(J64,טבלה1[#All],2,0)),\"\")","v":""}]
[null,null,null,null,null,null,null,null,null,null,null,{"$f":"_xlfn.IFNA(IF(J65>500,\"ומעלה 500\",VLOOKUP(J65,טבלה1[#All],2,0)),\"\")","v":""}]
[null,null,null,null,null,null,null,null,null,null,null,{"$f":"_xlfn.IFNA(IF(J66>500,\"ומעלה 500\",VLOOKUP(J66,טבלה1[#All],2,0)),\"\")","v":""}]
[null,null,null,null,null,null,null,null,null,null,null,{"$f":"_xlfn.IFNA(IF(J67>500,\"ומעלה 500\",VLOOKUP(J67,טבלה1[#All],2,0)),\"\")","v":""}]
[null,null,null,null,null,null,null,null,null,null,null,{"$f":"_xlfn.IFNA(IF(J68>500,\"ומעלה 500\",VLOOKUP(J68,טבלה1[#All],2,0)),\"\")","v":""}]
[null,null,null,null,null,null,null,null,null,null,null,{"$f":"_xlfn.IFNA(IF(J69>500,\"ומעלה 500\",VLOOKUP(J69,טבלה1[#All],2,0)),\"\")","v":""}]
[null,null,null,null,null,null,null,null,null,null,null,{"$f":"_xlfn.IFNA(IF(J70>500,\"ומעלה 500\",VLOOKUP(J70,טבלה1[#All],2,0)),\"\")","v":""}]
[null,null,null,null,null,null,null,null,null,null,null,{"$f":"_xlfn.IFNA(IF(J71>500,\"ומעלה 500\",VLOOKUP(J71,טבלה1[#All],2,0)),\"\")","v":""}]
[null,null,null,null,null,null,null,null,null,null,null,{"$f":"_xlfn.IFNA(IF(J72>500,\"ומעלה 500\",VLOOKUP(J72,טבלה1[#All],2,0)),\"\")","v":""}]
[null,null,null,null,null,null,null,null,null,null,null,{"$f":"_xlfn.IFNA(IF(J73>500,\"ומעלה 500\",VLOOKUP(J73,טבלה1[#All],2,0)),\"\")","v":""}]
[null,null,null,null,null,null,null,null,null,null,null,{"$f":"_xlfn.IFNA(IF(J74>500,\"ומעלה 500\",VLOOKUP(J74,טבלה1[#All],2,0)),\"\")","v":""}]
[null,null,null,null,null,null,null,null,null,null,null,{"$f":"_xlfn.IFNA(IF(J75>500,\"ומעלה 500\",VLOOKUP(J75,טבלה1[#All],2,0)),\"\")","v":""}]
[null,null,null,null,null,null,null,null,null,null,null,{"$f":"_xlfn.IFNA(IF(J76>500,\"ומעלה 500\",VLOOKUP(J76,טבלה1[#All],2,0)),\"\")","v":""}]
[null,null,null,null,null,null,null,null,null,null,null,{"$f":"_xlfn.IFNA(IF(J77>500,\"ומעלה 500\",VLOOKUP(J77,טבלה1[#All],2,0)),\"\")","v":""}]
[null,null,null,null,null,null,null,null,null,null,null,{"$f":"_xlfn.IFNA(IF(J78>500,\"ומעלה 500\",VLOOKUP(J78,טבלה1[#All],2,0)),\"\")","v":""}]
[null,null,null,null,null,null,null,null,null,null,null,{"$f":"_xlfn.IFNA(IF(J79>500,\"ומעלה 500\",VLOOKUP(J79,טבלה1[#All],2,0)),\"\")","v":""}]
[null,null,null,null,null,null,null,null,null,null,null,{"$f":"_xlfn.IFNA(IF(J80>500,\"ומעלה 500\",VLOOKUP(J80,טבלה1[#All],2,0)),\"\")","v":""}]
[null,null,null,null,null,null,null,null,null,null,null,{"$f":"_xlfn.IFNA(IF(J81>500,\"ומעלה 500\",VLOOKUP(J81,טבלה1[#All],2,0)),\"\")","v":""}]
[null,null,null,null,null,null,null,null,null,null,null,{"$f":"_xlfn.IFNA(IF(J82>500,\"ומעלה 500\",VLOOKUP(J82,טבלה1[#All],2,0)),\"\")","v":""}]
[null,null,null,null,null,null,null,null,null,null,null,{"$f":"_xlfn.IFNA(IF(J83>500,\"ומעלה 500\",VLOOKUP(J83,טבלה1[#All],2,0)),\"\")","v":""}]
[null,null,null,null,null,null,null,null,null,null,null,{"$f":"_xlfn.IFNA(IF(J84>500,\"ומעלה 500\",VLOOKUP(J84,טבלה1[#All],2,0)),\"\")","v":""}]
[null,null,null,null,null,null,null,null,null,null,null,{"$f":"_xlfn.IFNA(IF(J85>500,\"ומעלה 500\",VLOOKUP(J85,טבלה1[#All],2,0)),\"\")","v":""}]
[null,null,null,null,null,null,null,null,null,null,null,{"$f":"_xlfn.IFNA(IF(J86>500,\"ומעלה 500\",VLOOKUP(J86,טבלה1[#All],2,0)),\"\")","v":""}]
[null,null,null,null,null,null,null,null,null,null,null,{"$f":"_xlfn.IFNA(IF(J87>500,\"ומעלה 500\",VLOOKUP(J87,טבלה1[#All],2,0)),\"\")","v":""}]
[null,null,null,null,null,null,null,null,null,null,null,{"$f":"_xlfn.IFNA(IF(J88>500,\"ומעלה 500\",VLOOKUP(J88,טבלה1[#All],2,0)),\"\")","v":""}]
[null,null,null,null,null,null,null,null,null,null,null,{"$f":"_xlfn.IFNA(IF(J89>500,\"ומעלה 500\",VLOOKUP(J89,טבלה1[#All],2,0)),\"\")","v":""}]
[null,null,null,null,null,null,null,null,null,null,null,{"$f":"_xlfn.IFNA(IF(J90>500,\"ומעלה 500\",VLOOKUP(J90,טבלה1[#All],2,0)),\"\")","v":""}]
[null,null,null,null,null,null,null,null,null,null,null,{"$f":"_xlfn.IFNA(IF(J91>500,\"ומעלה 500\",VLOOKUP(J91,טבלה1[#All],2,0)),\"\")","v":""}]
[null,null,null,null,null,null,null,null,null,null,null,{"$f":"_xlfn.IFNA(IF(J92>500,\"ומעלה 500\",VLOOKUP(J92,טבלה1[#All],2,0)),\"\")","v":""}]
[null,null,null,null,null,null,null,null,null,null,null,{"$f":"_xlfn.IFNA(IF(J93>500,\"ומעלה 500\",VLOOKUP(J93,טבלה1[#All],2,0)),\"\")","v":""}]
[null,null,null,null,null,null,null,null,null,null,null,{"$f":"_xlfn.IFNA(IF(J94>500,\"ומעלה 500\",VLOOKUP(J94,טבלה1[#All],2,0)),\"\")","v":""}]
[null,null,null,null,null,null,null,null,null,null,null,{"$f":"_xlfn.IFNA(IF(J95>500,\"ומעלה 500\",VLOOKUP(J95,טבלה1[#All],2,0)),\"\")","v":""}]
[null,null,null,null,null,null,null,null,null,null,null,{"$f":"_xlfn.IFNA(IF(J96>500,\"ומעלה 500\",VLOOKUP(J96,טבלה1[#All],2,0)),\"\")","v":""}]
[null,null,null,null,null,null,null,null,null,null,null,{"$f":"_xlfn.IFNA(IF(J97>500,\"ומעלה 500\",VLOOKUP(J97,טבלה1[#All],2,0)),\"\")","v":""}]
[null,null,null,null,null,null,null,null,null,null,null,{"$f":"_xlfn.IFNA(IF(J98>500,\"ומעלה 500\",VLOOKUP(J98,טבלה1[#All],2,0)),\"\")","v":""}]
[null,null,null,null,null,null,null,null,null,null,null,{"$f":"_xlfn.IFNA(IF(J99>500,\"ומעלה 500\",VLOOKUP(J99,טבלה1[#All],2,0)),\"\")","v":""}]
[null,null,null,null,null,null,null,null,null,null,null,{"$f":"_xlfn.IFNA(IF(J100>500,\"ומעלה 500\",VLOOKUP(J100,טבלה1[#All],2,0)),\"\")","v":""}]
[null,null,null,null,null,null,null,null,null,null,null,{"$f":"_xlfn.IFNA(IF(J101>500,\"ומעלה 500\",VLOOKUP(J101,טבלה1[#All],2,0)),\"\")","v":""}]
[null,null,null,null,null,null,null,null,null,null,null,{"$f":"_xlfn.IFNA(IF(J102>500,\"ומעלה 500\",VLOOKUP(J102,טבלה1[#All],2,0)),\"\")","v":""}]
[null,null,null,null,null,null,null,null,null,null,null,{"$f":"_xlfn.IFNA(IF(J103>500,\"ומעלה 500\",VLOOKUP(J103,טבלה1[#All],2,0)),\"\")","v":""}]
[null,null,null,null,null,null,null,null,null,null,null,{"$f":"_xlfn.IFNA(IF(J104>500,\"ומעלה 500\",VLOOKUP(J104,טבלה1[#All],2,0)),\"\")","v":""}]
[null,null,null,null,null,null,null,null,null,null,null,{"$f":"_xlfn.IFNA(IF(J105>500,\"ומעלה 500\",VLOOKUP(J105,טבלה1[#All],2,0)),\"\")","v":""}]
[null,null,null,null,null,null,null,null,null,null,null,{"$f":"_xlfn.IFNA(IF(J106>500,\"ומעלה 500\",VLOOKUP(J106,טבלה1[#All],2,0)),\"\")","v":""}]
[null,null,null,null,null,null,null,null,null,null,null,{"$f":"_xlfn.IFNA(IF(J107>500,\"ומעלה 500\",VLOOKUP(J107,טבלה1[#All],2,0)),\"\")","v":""}]
[null,null,null,null,null,null,null,null,null,null,null,{"$f":"_xlfn.IFNA(IF(J108>500,\"ומעלה 500\",VLOOKUP(J108,טבלה1[#All],2,0)),\"\")","v":""}]
[null,null,null,null,null,null,null,null,null,null,null,{"$f":"_xlfn.IFNA(IF(J109>500,\"ומעלה 500\",VLOOKUP(J109,טבלה1[#All],2,0)),\"\")","v":""}]
[null,null,null,null,null,null,null,null,null,null,null,{"$f":"_xlfn.IFNA(IF(J110>500,\"ומעלה 500\",VLOOKUP(J110,טבלה1[#All],2,0)),\"\")","v":""}]
[null,null,null,null,null,null,null,null,null,null,null,{"$f":"_xlfn.IFNA(IF(J111>500,\"ומעלה 500\",VLOOKUP(J111,טבלה1[#All],2,0)),\"\")","v":""}]
[null,null,null,null,null,null,null,null,null,null,null,{"$f":"_xlfn.IFNA(IF(J112>500,\"ומעלה 500\",VLOOKUP(J112,טבלה1[#All],2,0)),\"\")","v":""}]
[null,null,null,null,null,null,null,null,null,null,null,{"$f":"_xlfn.IFNA(IF(J113>500,\"ומעלה 500\",VLOOKUP(J113,טבלה1[#All],2,0)),\"\")","v":""}]
[null,null,null,null,null,null,null,null,null,null,null,{"$f":"_xlfn.IFNA(IF(J114>500,\"ומעלה 500\",VLOOKUP(J114,טבלה1[#All],2,0)),\"\")","v":""}]
[null,null,null,null,null,null,null,null,null,null,null,{"$f":"_xlfn.IFNA(IF(J115>500,\"ומעלה 500\",VLOOKUP(J115,טבלה1[#All],2,0)),\"\")","v":""}]
[null,null,null,null,null,null,null,null,null,null,null,{"$f":"_xlfn.IFNA(IF(J116>500,\"ומעלה 500\",VLOOKUP(J116,טבלה1[#All],2,0)),\"\")","v":""}]
[null,null,null,null,null,null,null,null,null,null,null,{"$f":"_xlfn.IFNA(IF(J117>500,\"ומעלה 500\",VLOOKUP(J117,טבלה1[#All],2,0)),\"\")","v":""}]
[null,null,null,null,null,null,null,null,null,null,null,{"$f":"_xlfn.IFNA(IF(J118>500,\"ומעלה 500\",VLOOKUP(J118,טבלה1[#All],2,0)),\"\")","v":""}]
[null,null,null,null,null,null,null,null,null,null,null,{"$f":"_xlfn.IFNA(IF(J119>500,\"ומעלה 500\",VLOOKUP(J119,טבלה1[#All],2,0)),\"\")","v":""}]
[null,null,null,null,null,null,null,null,null,null,null,{"$f":"_xlfn.IFNA(IF(J120>500,\"ומעלה 500\",VLOOKUP(J120,טבלה1[#All],2,0)),\"\")","v":""}]
[null,null,null,null,null,null,null,null,null,null,null,{"$f":"_xlfn.IFNA(IF(J121>500,\"ומעלה 500\",VLOOKUP(J121,טבלה1[#All],2,0)),\"\")","v":""}]
[null,null,null,null,null,null,null,null,null,null,null,{"$f":"_xlfn.IFNA(IF(J122>500,\"ומעלה 500\",VLOOKUP(J122,טבלה1[#All],2,0)),\"\")","v":""}]
[null,null,null,null,null,null,null,null,null,null,null,{"$f":"_xlfn.IFNA(IF(J123>500,\"ומעלה 500\",VLOOKUP(J123,טבלה1[#All],2,0)),\"\")","v":""}]
[null,null,null,null,null,null,null,null,null,null,null,{"$f":"_xlfn.IFNA(IF(J124>500,\"ומעלה 500\",VLOOKUP(J124,טבלה1[#All],2,0)),\"\")","v":""}]
[null,null,null,null,null,null,null,null,null,null,null,{"$f":"_xlfn.IFNA(IF(J125>500,\"ומעלה 500\",VLOOKUP(J125,טבלה1[#All],2,0)),\"\")","v":""}]
[null,null,null,null,null,null,null,null,null,null,null,{"$f":"_xlfn.IFNA(IF(J126>500,\"ומעלה 500\",VLOOKUP(J126,טבלה1[#All],2,0)),\"\")","v":""}]
[null,null,null,null,null,null,null,null,null,null,null,{"$f":"_xlfn.IFNA(IF(J127>500,\"ומעלה 500\",VLOOKUP(J127,טבלה1[#All],2,0)),\"\")","v":""}]
[null,null,null,null,null,null,null,null,null,null,null,{"$f":"_xlfn.IFNA(IF(J128>500,\"ומעלה 500\",VLOOKUP(J128,טבלה1[#All],2,0)),\"\")","v":""}]
[null,null,null,null,null,null,null,null,null,null,null,{"$f":"_xlfn.IFNA(IF(J129>500,\"ומעלה 500\",VLOOKUP(J129,טבלה1[#All],2,0)),\"\")","v":""}]
[null,null,null,null,null,null,null,null,null,null,null,{"$f":"_xlfn.IFNA(IF(J130>500,\"ומעלה 500\",VLOOKUP(J130,טבלה1[#All],2,0)),\"\")","v":""}]
[null,null,null,null,null,null,null,null,null,null,null,{"$f":"_xlfn.IFNA(IF(J131>500,\"ומעלה 500\",VLOOKUP(J131,טבלה1[#All],2,0)),\"\")","v":""}]
[null,null,null,null,null,null,null,null,null,null,null,{"$f":"_xlfn.IFNA(IF(J132>500,\"ומעלה 500\",VLOOKUP(J132,טבלה1[#All],2,0)),\"\")","v":""}]
[null,null,null,null,null,null,null,null,null,null,null,{"$f":"_xlfn.IFNA(IF(J133>500,\"ומעלה 500\",VLOOKUP(J133,טבלה1[#All],2,0)),\"\")","v":""}]
[null,null,null,null,null,null,null,null,null,null,null,{"$f":"_xlfn.IFNA(IF(J134>500,\"ומעלה 500\",VLOOKUP(J134,טבלה1[#All],2,0)),\"\")","v":""}]
[null,null,null,null,null,null,null,null,null,null,null,{"$f":"_xlfn.IFNA(IF(J135>500,\"ומעלה 500\",VLOOKUP(J135,טבלה1[#All],2,0)),\"\")","v":""}]
[null,null,null,null,null,null,null,null,null,null,null,{"$f":"_xlfn.IFNA(IF(J136>500,\"ומעלה 500\",VLOOKUP(J136,טבלה1[#All],2,0)),\"\")","v":""}]
[null,null,null,null,null,null,null,null,null,null,null,{"$f":"_xlfn.IFNA(IF(J137>500,\"ומעלה 500\",VLOOKUP(J137,טבלה1[#All],2,0)),\"\")","v":""}]
[null,null,null,null,null,null,null,null,null,null,null,{"$f":"_xlfn.IFNA(IF(J138>500,\"ומעלה 500\",VLOOKUP(J138,טבלה1[#All],2,0)),\"\")","v":""}]
[null,null,null,null,null,null,null,null,null,null,null,{"$f":"_xlfn.IFNA(IF(J139>500,\"ומעלה 500\",VLOOKUP(J139,טבלה1[#All],2,0)),\"\")","v":""}]
[null,null,null,null,null,null,null,null,null,null,null,{"$f":"_xlfn.IFNA(IF(J140>500,\"ומעלה 500\",VLOOKUP(J140,טבלה1[#All],2,0)),\"\")","v":""}]
[null,null,null,null,null,null,null,null,null,null,null,{"$f":"_xlfn.IFNA(IF(J141>500,\"ומעלה 500\",VLOOKUP(J141,טבלה1[#All],2,0)),\"\")","v":""}]
[null,null,null,null,null,null,null,null,null,null,null,{"$f":"_xlfn.IFNA(IF(J142>500,\"ומעלה 500\",VLOOKUP(J142,טבלה1[#All],2,0)),\"\")","v":""}]
[null,null,null,null,null,null,null,null,null,null,null,{"$f":"_xlfn.IFNA(IF(J143>500,\"ומעלה 500\",VLOOKUP(J143,טבלה1[#All],2,0)),\"\")","v":""}]
[null,null,null,null,null,null,null,null,null,null,null,{"$f":"_xlfn.IFNA(IF(J144>500,\"ומעלה 500\",VLOOKUP(J144,טבלה1[#All],2,0)),\"\")","v":""}]
[null,null,null,null,null,null,null,null,null,null,null,{"$f":"_xlfn.IFNA(IF(J145>500,\"ומעלה 500\",VLOOKUP(J145,טבלה1[#All],2,0)),\"\")","v":""}]
[null,null,null,null,null,null,null,null,null,null,null,{"$f":"_xlfn.IFNA(IF(J146>500,\"ומעלה 500\",VLOOKUP(J146,טבלה1[#All],2,0)),\"\")","v":""}]
[null,null,null,null,null,null,null,null,null,null,null,{"$f":"_xlfn.IFNA(IF(J147>500,\"ומעלה 500\",VLOOKUP(J147,טבלה1[#All],2,0)),\"\")","v":""}]
[null,null,null,null,null,null,null,null,null,null,null,{"$f":"_xlfn.IFNA(IF(J148>500,\"ומעלה 500\",VLOOKUP(J148,טבלה1[#All],2,0)),\"\")","v":""}]
[null,null,null,null,null,null,null,null,null,null,null,{"$f":"_xlfn.IFNA(IF(J149>500,\"ומעלה 500\",VLOOKUP(J149,טבלה1[#All],2,0)),\"\")","v":""}]
[null,null,null,null,null,null,null,null,null,null,null,{"$f":"_xlfn.IFNA(IF(J150>500,\"ומעלה 500\",VLOOKUP(J150,טבלה1[#All],2,0)),\"\")","v":""}]
[null,null,null,null,null,null,null,null,null,null,null,{"$f":"_xlfn.IFNA(IF(J151>500,\"ומעלה 500\",VLOOKUP(J151,טבלה1[#All],2,0)),\"\")","v":""}]
[null,null,null,null,null,null,null,null,null,null,null,{"$f":"_xlfn.IFNA(IF(J152>500,\"ומעלה 500\",VLOOKUP(J152,טבלה1[#All],2,0)),\"\")","v":""}]
[null,null,null,null,null,null,null,null,null,null,null,{"$f":"_xlfn.IFNA(IF(J153>500,\"ומעלה 500\",VLOOKUP(J153,טבלה1[#All],2,0)),\"\")","v":""}]
[null,null,null,null,null,null,null,null,null,null,null,{"$f":"_xlfn.IFNA(IF(J154>500,\"ומעלה 500\",VLOOKUP(J154,טבלה1[#All],2,0)),\"\")","v":""}]
[null,null,null,null,null,null,null,null,null,null,null,{"$f":"_xlfn.IFNA(IF(J155>500,\"ומעלה 500\",VLOOKUP(J155,טבלה1[#All],2,0)),\"\")","v":""}]
[null,null,null,null,null,null,null,null,null,null,null,{"$f":"_xlfn.IFNA(IF(J156>500,\"ומעלה 500\",VLOOKUP(J156,טבלה1[#All],2,0)),\"\")","v":""}]
[null,null,null,null,null,null,null,null,null,null,null,{"$f":"_xlfn.IFNA(IF(J157>500,\"ומעלה 500\",VLOOKUP(J157,טבלה1[#All],2,0)),\"\")","v":""}]
[null,null,null,null,null,null,null,null,null,null,null,{"$f":"_xlfn.IFNA(IF(J158>500,\"ומעלה 500\",VLOOKUP(J158,טבלה1[#All],2,0)),\"\")","v":""}]
[null,null,null,null,null,null,null,null,null,null,null,{"$f":"_xlfn.IFNA(IF(J159>500,\"ומעלה 500\",VLOOKUP(J159,טבלה1[#All],2,0)),\"\")","v":""}]
[null,null,null,null,null,null,null,null,null,null,null,{"$f":"_xlfn.IFNA(IF(J160>500,\"ומעלה 500\",VLOOKUP(J160,טבלה1[#All],2,0)),\"\")","v":""}]
[null,null,null,null,null,null,null,null,null,null,null,{"$f":"_xlfn.IFNA(IF(J161>500,\"ומעלה 500\",VLOOKUP(J161,טבלה1[#All],2,0)),\"\")","v":""}]
[null,null,null,null,null,null,null,null,null,null,null,{"$f":"_xlfn.IFNA(IF(J162>500,\"ומעלה 500\",VLOOKUP(J162,טבלה1[#All],2,0)),\"\")","v":""}]
[null,null,null,null,null,null,null,null,null,null,null,{"$f":"_xlfn.IFNA(IF(J163>500,\"ומעלה 500\",VLOOKUP(J163,טבלה1[#All],2,0)),\"\")","v":""}]
[null,null,null,null,null,null,null,null,null,null,null,{"$f":"_xlfn.IFNA(IF(J164>500,\"ומעלה 500\",VLOOKUP(J164,טבלה1[#All],2,0)),\"\")","v":""}]
[null,null,null,null,null,null,null,null,null,null,null,{"$f":"_xlfn.IFNA(IF(J165>500,\"ומעלה 500\",VLOOKUP(J165,טבלה1[#All],2,0)),\"\")","v":""}]
[null,null,null,null,null,null,null,null,null,null,null,{"$f":"_xlfn.IFNA(IF(J166>500,\"ומעלה 500\",VLOOKUP(J166,טבלה1[#All],2,0)),\"\")","v":""}]
[null,null,null,null,null,null,null,null,null,null,null,{"$f":"_xlfn.IFNA(IF(J167>500,\"ומעלה 500\",VLOOKUP(J167,טבלה1[#All],2,0)),\"\")","v":""}]
[null,null,null,null,null,null,null,null,null,null,null,{"$f":"_xlfn.IFNA(IF(J168>500,\"ומעלה 500\",VLOOKUP(J168,טבלה1[#All],2,0)),\"\")","v":""}]
[null,null,null,null,null,null,null,null,null,null,null,{"$f":"_xlfn.IFNA(IF(J169>500,\"ומעלה 500\",VLOOKUP(J169,טבלה1[#All],2,0)),\"\")","v":""}]
[null,null,null,null,null,null,null,null,null,null,null,{"$f":"_xlfn.IFNA(IF(J170>500,\"ומעלה 500\",VLOOKUP(J170,טבלה1[#All],2,0)),\"\")","v":""}]
[null,null,null,null,null,null,null,null,null,null,null,{"$f":"_xlfn.IFNA(IF(J171>500,\"ומעלה 500\",VLOOKUP(J171,טבלה1[#All],2,0)),\"\")","v":""}]
[null,null,null,null,null,null,null,null,null,null,null,{"$f":"_xlfn.IFNA(IF(J172>500,\"ומעלה 500\",VLOOKUP(J172,טבלה1[#All],2,0)),\"\")","v":""}]
[null,null,null,null,null,null,null,null,null,null,null,{"$f":"_xlfn.IFNA(IF(J173>500,\"ומעלה 500\",VLOOKUP(J173,טבלה1[#All],2,0)),\"\")","v":""}]
[null,null,null,null,null,null,null,null,null,null,null,{"$f":"_xlfn.IFNA(IF(J174>500,\"ומעלה 500\",VLOOKUP(J174,טבלה1[#All],2,0)),\"\")","v":""}]
[null,null,null,null,null,null,null,null,null,null,null,{"$f":"_xlfn.IFNA(IF(J175>500,\"ומעלה 500\",VLOOKUP(J175,טבלה1[#All],2,0)),\"\")","v":""}]
[null,null,null,null,null,null,null,null,null,null,null,{"$f":"_xlfn.IFNA(IF(J176>500,\"ומעלה 500\",VLOOKUP(J176,טבלה1[#All],2,0)),\"\")","v":""}]
[null,null,null,null,null,null,null,null,null,null,null,{"$f":"_xlfn.IFNA(IF(J177>500,\"ומעלה 500\",VLOOKUP(J177,טבלה1[#All],2,0)),\"\")","v":""}]
[null,null,null,null,null,null,null,null,null,null,null,{"$f":"_xlfn.IFNA(IF(J178>500,\"ומעלה 500\",VLOOKUP(J178,טבלה1[#All],2,0)),\"\")","v":""}]
[null,null,null,null,null,null,null,null,null,null,null,{"$f":"_xlfn.IFNA(IF(J179>500,\"ומעלה 500\",VLOOKUP(J179,טבלה1[#All],2,0)),\"\")","v":""}]
[null,null,null,null,null,null,null,null,null,null,null,{"$f":"_xlfn.IFNA(IF(J180>500,\"ומעלה 500\",VLOOKUP(J180,טבלה1[#All],2,0)),\"\")","v":""}]
[null,null,null,null,null,null,null,null,null,null,null,{"$f":"_xlfn.IFNA(IF(J181>500,\"ומעלה 500\",VLOOKUP(J181,טבלה1[#All],2,0)),\"\")","v":""}]
[null,null,null,null,null,null,null,null,null,null,null,{"$f":"_xlfn.IFNA(IF(J182>500,\"ומעלה 500\",VLOOKUP(J182,טבלה1[#All],2,0)),\"\")","v":""}]
[null,null,null,null,null,null,null,null,null,null,null,{"$f":"_xlfn.IFNA(IF(J183>500,\"ומעלה 500\",VLOOKUP(J183,טבלה1[#All],2,0)),\"\")","v":""}]
[null,null,null,null,null,null,null,null,null,null,null,{"$f":"_xlfn.IFNA(IF(J184>500,\"ומעלה 500\",VLOOKUP(J184,טבלה1[#All],2,0)),\"\")","v":""}]
[null,null,null,null,null,null,null,null,null,null,null,{"$f":"_xlfn.IFNA(IF(J185>500,\"ומעלה 500\",VLOOKUP(J185,טבלה1[#All],2,0)),\"\")","v":""}]
[null,null,null,null,null,null,null,null,null,null,null,{"$f":"_xlfn.IFNA(IF(J186>500,\"ומעלה 500\",VLOOKUP(J186,טבלה1[#All],2,0)),\"\")","v":""}]
[null,null,null,null,null,null,null,null,null,null,null,{"$f":"_xlfn.IFNA(IF(J187>500,\"ומעלה 500\",VLOOKUP(J187,טבלה1[#All],2,0)),\"\")","v":""}]
[null,null,null,null,null,null,null,null,null,null,null,{"$f":"_xlfn.IFNA(IF(J188>500,\"ומעלה 500\",VLOOKUP(J188,טבלה1[#All],2,0)),\"\")","v":""}]
[null,null,null,null,null,null,null,null,null,null,null,{"$f":"_xlfn.IFNA(IF(J189>500,\"ומעלה 500\",VLOOKUP(J189,טבלה1[#All],2,0)),\"\")","v":""}]
[null,null,null,null,null,null,null,null,null,null,null,{"$f":"_xlfn.IFNA(IF(J190>500,\"ומעלה 500\",VLOOKUP(J190,טבלה1[#All],2,0)),\"\")","v":""}]
[null,null,null,null,null,null,null,null,null,null,null,{"$f":"_xlfn.IFNA(IF(J191>500,\"ומעלה 500\",VLOOKUP(J191,טבלה1[#All],2,0)),\"\")","v":""}]
[null,null,null,null,null,null,null,null,null,null,null,{"$f":"_xlfn.IFNA(IF(J192>500,\"ומעלה 500\",VLOOKUP(J192,טבלה1[#All],2,0)),\"\")","v":""}]
[null,null,null,null,null,null,null,null,null,null,null,{"$f":"_xlfn.IFNA(IF(J193>500,\"ומעלה 500\",VLOOKUP(J193,טבלה1[#All],2,0)),\"\")","v":""}]
[null,null,null,null,null,null,null,null,null,null,null,{"$f":"_xlfn.IFNA(IF(J194>500,\"ומעלה 500\",VLOOKUP(J194,טבלה1[#All],2,0)),\"\")","v":""}]
[null,null,null,null,null,null,null,null,null,null,null,{"$f":"_xlfn.IFNA(IF(J195>500,\"ומעלה 500\",VLOOKUP(J195,טבלה1[#All],2,0)),\"\")","v":""}]
[null,null,null,null,null,null,null,null,null,null,null,{"$f":"_xlfn.IFNA(IF(J196>500,\"ומעלה 500\",VLOOKUP(J196,טבלה1[#All],2,0)),\"\")","v":""}]
[null,null,null,null,null,null,null,null,null,null,null,{"$f":"_xlfn.IFNA(IF(J197>500,\"ומעלה 500\",VLOOKUP(J197,טבלה1[#All],2,0)),\"\")","v":""}]
[null,null,null,null,null,null,null,null,null,null,null,{"$f":"_xlfn.IFNA(IF(J198>500,\"ומעלה 500\",VLOOKUP(J198,טבלה1[#All],2,0)),\"\")","v":""}]
[null,null,null,null,null,null,null,null,null,null,null,{"$f":"_xlfn.IFNA(IF(J199>500,\"ומעלה 500\",VLOOKUP(J199,טבלה1[#All],2,0)),\"\")","v":""}]
[null,null,null,null,null,null,null,null,null,null,null,{"$f":"_xlfn.IFNA(IF(J200>500,\"ומעלה 500\",VLOOKUP(J200,טבלה1[#All],2,0)),\"\")","v":""}]
[null,null,null,null,null,null,null,null,null,null,null,{"$f":"_xlfn.IFNA(IF(J201>500,\"ומעלה 500\",VLOOKUP(J201,טבלה1[#All],2,0)),\"\")","v":""}]
[null,null,null,null,null,null,null,null,null,null,null,{"$f":"_xlfn.IFNA(IF(J202>500,\"ומעלה 500\",VLOOKUP(J202,טבלה1[#All],2,0)),\"\")","v":""}]
[null,null,null,null,null,null,null,null,null,null,null,{"$f":"_xlfn.IFNA(IF(J203>500,\"ומעלה 500\",VLOOKUP(J203,טבלה1[#All],2,0)),\"\")","v":""}]
[null,null,null,null,null,null,null,null,null,null,null,{"$f":"_xlfn.IFNA(IF(J204>500,\"ומעלה 500\",VLOOKUP(J204,טבלה1[#All],2,0)),\"\")","v":""}]
[null,null,null,null,null,null,null,null,null,null,null,{"$f":"_xlfn.IFNA(IF(J205>500,\"ומעלה 500\",VLOOKUP(J205,טבלה1[#All],2,0)),\"\")","v":""}]
[null,null,null,null,null,null,null,null,null,null,null,{"$f":"_xlfn.IFNA(IF(J206>500,\"ומעלה 500\",VLOOKUP(J206,טבלה1[#All],2,0)),\"\")","v":""}]
[null,null,null,null,null,null,null,null,null,null,null,{"$f":"_xlfn.IFNA(IF(J207>500,\"ומעלה 500\",VLOOKUP(J207,טבלה1[#All],2,0)),\"\")","v":""}]
[null,null,null,null,null,null,null,null,null,null,null,{"$f":"_xlfn.IFNA(IF(J208>500,\"ומעלה 500\",VLOOKUP(J208,טבלה1[#All],2,0)),\"\")","v":""}]
[null,null,null,null,null,null,null,null,null,null,null,{"$f":"_xlfn.IFNA(IF(J209>500,\"ומעלה 500\",VLOOKUP(J209,טבלה1[#All],2,0)),\"\")","v":""}]
[null,null,null,null,null,null,null,null,null,null,null,{"$f":"_xlfn.IFNA(IF(J210>500,\"ומעלה 500\",VLOOKUP(J210,טבלה1[#All],2,0)),\"\")","v":""}]
[null,null,null,null,null,null,null,null,null,null,null,{"$f":"_xlfn.IFNA(IF(J211>500,\"ומעלה 500\",VLOOKUP(J211,טבלה1[#All],2,0)),\"\")","v":""}]
[null,null,null,null,null,null,null,null,null,null,null,{"$f":"_xlfn.IFNA(IF(J212>500,\"ומעלה 500\",VLOOKUP(J212,טבלה1[#All],2,0)),\"\")","v":""}]
[null,null,null,null,null,null,null,null,null,null,null,{"$f":"_xlfn.IFNA(IF(J213>500,\"ומעלה 500\",VLOOKUP(J213,טבלה1[#All],2,0)),\"\")","v":""}]
[null,null,null,null,null,null,null,null,null,null,null,{"$f":"_xlfn.IFNA(IF(J214>500,\"ומעלה 500\",VLOOKUP(J214,טבלה1[#All],2,0)),\"\")","v":""}]
[null,null,null,null,null,null,null,null,null,null,null,{"$f":"_xlfn.IFNA(IF(J215>500,\"ומעלה 500\",VLOOKUP(J215,טבלה1[#All],2,0)),\"\")","v":""}]
[null,null,null,null,null,null,null,null,null,null,null,{"$f":"_xlfn.IFNA(IF(J216>500,\"ומעלה 500\",VLOOKUP(J216,טבלה1[#All],2,0)),\"\")","v":""}]
[null,null,null,null,null,null,null,null,null,null,null,{"$f":"_xlfn.IFNA(IF(J217>500,\"ומעלה 500\",VLOOKUP(J217,טבלה1[#All],2,0)),\"\")","v":""}]
[null,null,null,null,null,null,null,null,null,null,null,{"$f":"_xlfn.IFNA(IF(J218>500,\"ומעלה 500\",VLOOKUP(J218,טבלה1[#All],2,0)),\"\")","v":""}]
[null,null,null,null,null,null,null,null,null,null,null,{"$f":"_xlfn.IFNA(IF(J219>500,\"ומעלה 500\",VLOOKUP(J219,טבלה1[#All],2,0)),\"\")","v":""}]
[null,null,null,null,null,null,null,null,null,null,null,{"$f":"_xlfn.IFNA(IF(J220>500,\"ומעלה 500\",VLOOKUP(J220,טבלה1[#All],2,0)),\"\")","v":""}]
[null,null,null,null,null,null,null,null,null,null,null,{"$f":"_xlfn.IFNA(IF(J221>500,\"ומעלה 500\",VLOOKUP(J221,טבלה1[#All],2,0)),\"\")","v":""}]
[null,null,null,null,null,null,null,null,null,null,null,{"$f":"_xlfn.IFNA(IF(J222>500,\"ומעלה 500\",VLOOKUP(J222,טבלה1[#All],2,0)),\"\")","v":""}]
[null,null,null,null,null,null,null,null,null,null,null,{"$f":"_xlfn.IFNA(IF(J223>500,\"ומעלה 500\",VLOOKUP(J223,טבלה1[#All],2,0)),\"\")","v":""}]
[null,null,null,null,null,null,null,null,null,null,null,{"$f":"_xlfn.IFNA(IF(J224>500,\"ומעלה 500\",VLOOKUP(J224,טבלה1[#All],2,0)),\"\")","v":""}]
[null,null,null,null,null,null,null,null,null,null,null,{"$f":"_xlfn.IFNA(IF(J225>500,\"ומעלה 500\",VLOOKUP(J225,טבלה1[#All],2,0)),\"\")","v":""}]
[null,null,null,null,null,null,null,null,null,null,null,{"$f":"_xlfn.IFNA(IF(J226>500,\"ומעלה 500\",VLOOKUP(J226,טבלה1[#All],2,0)),\"\")","v":""}]
[null,null,null,null,null,null,null,null,null,null,null,{"$f":"_xlfn.IFNA(IF(J227>500,\"ומעלה 500\",VLOOKUP(J227,טבלה1[#All],2,0)),\"\")","v":""}]
[null,null,null,null,null,null,null,null,null,null,null,{"$f":"_xlfn.IFNA(IF(J228>500,\"ומעלה 500\",VLOOKUP(J228,טבלה1[#All],2,0)),\"\")","v":""}]
[null,null,null,null,null,null,null,null,null,null,null,{"$f":"_xlfn.IFNA(IF(J229>500,\"ומעלה 500\",VLOOKUP(J229,טבלה1[#All],2,0)),\"\")","v":""}]
[null,null,null,null,null,null,null,null,null,null,null,{"$f":"_xlfn.IFNA(IF(J230>500,\"ומעלה 500\",VLOOKUP(J230,טבלה1[#All],2,0)),\"\")","v":""}]
[null,null,null,null,null,null,null,null,null,null,null,{"$f":"_xlfn.IFNA(IF(J231>500,\"ומעלה 500\",VLOOKUP(J231,טבלה1[#All],2,0)),\"\")","v":""}]
[null,null,null,null,null,null,null,null,null,null,null,{"$f":"_xlfn.IFNA(IF(J232>500,\"ומעלה 500\",VLOOKUP(J232,טבלה1[#All],2,0)),\"\")","v":""}]
[null,null,null,null,null,null,null,null,null,null,null,{"$f":"_xlfn.IFNA(IF(J233>500,\"ומעלה 500\",VLOOKUP(J233,טבלה1[#All],2,0)),\"\")","v":""}]
[null,null,null,null,null,null,null,null,null,null,null,{"$f":"_xlfn.IFNA(IF(J234>500,\"ומעלה 500\",VLOOKUP(J234,טבלה1[#All],2,0)),\"\")","v":""}]
[null,null,null,null,null,null,null,null,null,null,null,{"$f":"_xlfn.IFNA(IF(J235>500,\"ומעלה 500\",VLOOKUP(J235,טבלה1[#All],2,0)),\"\")","v":""}]
[null,null,null,null,null,null,null,null,null,null,null,{"$f":"_xlfn.IFNA(IF(J236>500,\"ומעלה 500\",VLOOKUP(J236,טבלה1[#All],2,0)),\"\")","v":""}]
[null,null,null,null,null,null,null,null,null,null,null,{"$f":"_xlfn.IFNA(IF(J237>500,\"ומעלה 500\",VLOOKUP(J237,טבלה1[#All],2,0)),\"\")","v":""}]
[null,null,null,null,null,null,null,null,null,null,null,{"$f":"_xlfn.IFNA(IF(J238>500,\"ומעלה 500\",VLOOKUP(J238,טבלה1[#All],2,0)),\"\")","v":""}]
[null,null,null,null,null,null,null,null,null,null,null,{"$f":"_xlfn.IFNA(IF(J239>500,\"ומעלה 500\",VLOOKUP(J239,טבלה1[#All],2,0)),\"\")","v":""}]
[null,null,null,null,null,null,null,null,null,null,null,{"$f":"_xlfn.IFNA(IF(J240>500,\"ומעלה 500\",VLOOKUP(J240,טבלה1[#All],2,0)),\"\")","v":""}]
[null,null,null,null,null,null,null,null,null,null,null,{"$f":"_xlfn.IFNA(IF(J241>500,\"ומעלה 500\",VLOOKUP(J241,טבלה1[#All],2,0)),\"\")","v":""}]
[null,null,null,null,null,null,null,null,null,null,null,{"$f":"_xlfn.IFNA(IF(J242>500,\"ומעלה 500\",VLOOKUP(J242,טבלה1[#All],2,0)),\"\")","v":""}]
[null,null,null,null,null,null,null,null,null,null,null,{"$f":"_xlfn.IFNA(IF(J243>500,\"ומעלה 500\",VLOOKUP(J243,טבלה1[#All],2,0)),\"\")","v":""}]
[null,null,null,null,null,null,null,null,null,null,null,{"$f":"_xlfn.IFNA(IF(J244>500,\"ומעלה 500\",VLOOKUP(J244,טבלה1[#All],2,0)),\"\")","v":""}]
[null,null,null,null,null,null,null,null,null,null,null,{"$f":"_xlfn.IFNA(IF(J245>500,\"ומעלה 500\",VLOOKUP(J245,טבלה1[#All],2,0)),\"\")","v":""}]
[null,null,null,null,null,null,null,null,null,null,null,{"$f":"_xlfn.IFNA(IF(J246>500,\"ומעלה 500\",VLOOKUP(J246,טבלה1[#All],2,0)),\"\")","v":""}]
[null,null,null,null,null,null,null,null,null,null,null,{"$f":"_xlfn.IFNA(IF(J247>500,\"ומעלה 500\",VLOOKUP(J247,טבלה1[#All],2,0)),\"\")","v":""}]
[null,null,null,null,null,null,null,null,null,null,null,{"$f":"_xlfn.IFNA(IF(J248>500,\"ומעלה 500\",VLOOKUP(J248,טבלה1[#All],2,0)),\"\")","v":""}]
[null,null,null,null,null,null,null,null,null,null,null,{"$f":"_xlfn.IFNA(IF(J249>500,\"ומעלה 500\",VLOOKUP(J249,טבלה1[#All],2,0)),\"\")","v":""}]
[null,null,null,null,null,null,null,null,null,null,null,{"$f":"_xlfn.IFNA(IF(J250>500,\"ומעלה 500\",VLOOKUP(J250,טבלה1[#All],2,0)),\"\")","v":""}]
[null,null,null,null,null,null,null,null,null,null,null,{"$f":"_xlfn.IFNA(IF(J251>500,\"ומעלה 500\",VLOOKUP(J251,טבלה1[#All],2,0)),\"\")","v":""}]
[null,null,null,null,null,null,null,null,null,null,null,{"$f":"_xlfn.IFNA(IF(J252>500,\"ומעלה 500\",VLOOKUP(J252,טבלה1[#All],2,0)),\"\")","v":""}]
[null,null,null,null,null,null,null,null,null,null,null,{"$f":"_xlfn.IFNA(IF(J253>500,\"ומעלה 500\",VLOOKUP(J253,טבלה1[#All],2,0)),\"\")","v":""}]
[null,null,null,null,null,null,null,null,null,null,null,{"$f":"_xlfn.IFNA(IF(J254>500,\"ומעלה 500\",VLOOKUP(J254,טבלה1[#All],2,0)),\"\")","v":""}]
[null,null,null,null,null,null,null,null,null,null,null,{"$f":"_xlfn.IFNA(IF(J255>500,\"ומעלה 500\",VLOOKUP(J255,טבלה1[#All],2,0)),\"\")","v":""}]
[null,null,null,null,null,null,null,null,null,null,null,{"$f":"_xlfn.IFNA(IF(J256>500,\"ומעלה 500\",VLOOKUP(J256,טבלה1[#All],2,0)),\"\")","v":""}]
[null,null,null,null,null,null,null,null,null,null,null,{"$f":"_xlfn.IFNA(IF(J257>500,\"ומעלה 500\",VLOOKUP(J257,טבלה1[#All],2,0)),\"\")","v":""}]
[null,null,null,null,null,null,null,null,null,null,null,{"$f":"_xlfn.IFNA(IF(J258>500,\"ומעלה 500\",VLOOKUP(J258,טבלה1[#All],2,0)),\"\")","v":""}]
[null,null,null,null,null,null,null,null,null,null,null,{"$f":"_xlfn.IFNA(IF(J259>500,\"ומעלה 500\",VLOOKUP(J259,טבלה1[#All],2,0)),\"\")","v":""}]
[null,null,null,null,null,null,null,null,null,null,null,{"$f":"_xlfn.IFNA(IF(J260>500,\"ומעלה 500\",VLOOKUP(J260,טבלה1[#All],2,0)),\"\")","v":""}]
[null,null,null,null,null,null,null,null,null,null,null,{"$f":"_xlfn.IFNA(IF(J261>500,\"ומעלה 500\",VLOOKUP(J261,טבלה1[#All],2,0)),\"\")","v":""}]
[null,null,null,null,null,null,null,null,null,null,null,{"$f":"_xlfn.IFNA(IF(J262>500,\"ומעלה 500\",VLOOKUP(J262,טבלה1[#All],2,0)),\"\")","v":""}]
[null,null,null,null,null,null,null,null,null,null,null,{"$f":"_xlfn.IFNA(IF(J263>500,\"ומעלה 500\",VLOOKUP(J263,טבלה1[#All],2,0)),\"\")","v":""}]
[null,null,null,null,null,null,null,null,null,null,null,{"$f":"_xlfn.IFNA(IF(J264>500,\"ומעלה 500\",VLOOKUP(J264,טבלה1[#All],2,0)),\"\")","v":""}]
[null,null,null,null,null,null,null,null,null,null,null,{"$f":"_xlfn.IFNA(IF(J265>500,\"ומעלה 500\",VLOOKUP(J265,טבלה1[#All],2,0)),\"\")","v":""}]
[null,null,null,null,null,null,null,null,null,null,null,{"$f":"_xlfn.IFNA(IF(J266>500,\"ומעלה 500\",VLOOKUP(J266,טבלה1[#All],2,0)),\"\")","v":""}]
[null,null,null,null,null,null,null,null,null,null,null,{"$f":"_xlfn.IFNA(IF(J267>500,\"ומעלה 500\",VLOOKUP(J267,טבלה1[#All],2,0)),\"\")","v":""}]
[null,null,null,null,null,null,null,null,null,null,null,{"$f":"_xlfn.IFNA(IF(J268>500,\"ומעלה 500\",VLOOKUP(J268,טבלה1[#All],2,0)),\"\")","v":""}]
[null,null,null,null,null,null,null,null,null,null,null,{"$f":"_xlfn.IFNA(IF(J269>500,\"ומעלה 500\",VLOOKUP(J269,טבלה1[#All],2,0)),\"\")","v":""}]
[null,null,null,null,null,null,null,null,null,null,null,{"$f":"_xlfn.IFNA(IF(J270>500,\"ומעלה 500\",VLOOKUP(J270,טבלה1[#All],2,0)),\"\")","v":""}]
[null,null,null,null,null,null,null,null,null,null,null,{"$f":"_xlfn.IFNA(IF(J271>500,\"ומעלה 500\",VLOOKUP(J271,טבלה1[#All],2,0)),\"\")","v":""}]
[null,null,null,null,null,null,null,null,null,null,null,{"$f":"_xlfn.IFNA(IF(J272>500,\"ומעלה 500\",VLOOKUP(J272,טבלה1[#All],2,0)),\"\")","v":""}]
[null,null,null,null,null,null,null,null,null,null,null,{"$f":"_xlfn.IFNA(IF(J273>500,\"ומעלה 500\",VLOOKUP(J273,טבלה1[#All],2,0)),\"\")","v":""}]
[null,null,null,null,null,null,null,null,null,null,null,{"$f":"_xlfn.IFNA(IF(J274>500,\"ומעלה 500\",VLOOKUP(J274,טבלה1[#All],2,0)),\"\")","v":""}]
[null,null,null,null,null,null,null,null,null,null,null,{"$f":"_xlfn.IFNA(IF(J275>500,\"ומעלה 500\",VLOOKUP(J275,טבלה1[#All],2,0)),\"\")","v":""}]
[null,null,null,null,null,null,null,null,null,null,null,{"$f":"_xlfn.IFNA(IF(J276>500,\"ומעלה 500\",VLOOKUP(J276,טבלה1[#All],2,0)),\"\")","v":""}]
[null,null,null,null,null,null,null,null,null,null,null,{"$f":"_xlfn.IFNA(IF(J277>500,\"ומעלה 500\",VLOOKUP(J277,טבלה1[#All],2,0)),\"\")","v":""}]
[null,null,null,null,null,null,null,null,null,null,null,{"$f":"_xlfn.IFNA(IF(J278>500,\"ומעלה 500\",VLOOKUP(J278,טבלה1[#All],2,0)),\"\")","v":""}]
[null,null,null,null,null,null,null,null,null,null,null,{"$f":"_xlfn.IFNA(IF(J279>500,\"ומעלה 500\",VLOOKUP(J279,טבלה1[#All],2,0)),\"\")","v":""}]
[null,null,null,null,null,null,null,null,null,null,null,{"$f":"_xlfn.IFNA(IF(J280>500,\"ומעלה 500\",VLOOKUP(J280,טבלה1[#All],2,0)),\"\")","v":""}]
[null,null,null,null,null,null,null,null,null,null,null,{"$f":"_xlfn.IFNA(IF(J281>500,\"ומעלה 500\",VLOOKUP(J281,טבלה1[#All],2,0)),\"\")","v":""}]
[null,null,null,null,null,null,null,null,null,null,null,{"$f":"_xlfn.IFNA(IF(J282>500,\"ומעלה 500\",VLOOKUP(J282,טבלה1[#All],2,0)),\"\")","v":""}]
[null,null,null,null,null,null,null,null,null,null,null,{"$f":"_xlfn.IFNA(IF(J283>500,\"ומעלה 500\",VLOOKUP(J283,טבלה1[#All],2,0)),\"\")","v":""}]
[null,null,null,null,null,null,null,null,null,null,null,{"$f":"_xlfn.IFNA(IF(J284>500,\"ומעלה 500\",VLOOKUP(J284,טבלה1[#All],2,0)),\"\")","v":""}]
[null,null,null,null,null,null,null,null,null,null,null,{"$f":"_xlfn.IFNA(IF(J285>500,\"ומעלה 500\",VLOOKUP(J285,טבלה1[#All],2,0)),\"\")","v":""}]
[null,null,null,null,null,null,null,null,null,null,null,{"$f":"_xlfn.IFNA(IF(J286>500,\"ומעלה 500\",VLOOKUP(J286,טבלה1[#All],2,0)),\"\")","v":""}]
[null,null,null,null,null,null,null,null,null,null,null,{"$f":"_xlfn.IFNA(IF(J287>500,\"ומעלה 500\",VLOOKUP(J287,טבלה1[#All],2,0)),\"\")","v":""}]
[null,null,null,null,null,null,null,null,null,null,null,{"$f":"_xlfn.IFNA(IF(J288>500,\"ומעלה 500\",VLOOKUP(J288,טבלה1[#All],2,0)),\"\")","v":""}]
[null,null,null,null,null,null,null,null,null,null,null,{"$f":"_xlfn.IFNA(IF(J289>500,\"ומעלה 500\",VLOOKUP(J289,טבלה1[#All],2,0)),\"\")","v":""}]
[null,null,null,null,null,null,null,null,null,null,null,{"$f":"_xlfn.IFNA(IF(J290>500,\"ומעלה 500\",VLOOKUP(J290,טבלה1[#All],2,0)),\"\")","v":""}]
[null,null,null,null,null,null,null,null,null,null,null,{"$f":"_xlfn.IFNA(IF(J291>500,\"ומעלה 500\",VLOOKUP(J291,טבלה1[#All],2,0)),\"\")","v":""}]
[null,null,null,null,null,null,null,null,null,null,null,{"$f":"_xlfn.IFNA(IF(J292>500,\"ומעלה 500\",VLOOKUP(J292,טבלה1[#All],2,0)),\"\")","v":""}]
[null,null,null,null,null,null,null,null,null,null,null,{"$f":"_xlfn.IFNA(IF(J293>500,\"ומעלה 500\",VLOOKUP(J293,טבלה1[#All],2,0)),\"\")","v":""}]
[null,null,null,null,null,null,null,null,null,null,null,{"$f":"_xlfn.IFNA(IF(J294>500,\"ומעלה 500\",VLOOKUP(J294,טבלה1[#All],2,0)),\"\")","v":""}]
[null,null,null,null,null,null,null,null,null,null,null,{"$f":"_xlfn.IFNA(IF(J295>500,\"ומעלה 500\",VLOOKUP(J295,טבלה1[#All],2,0)),\"\")","v":""}]
[null,null,null,null,null,null,null,null,null,null,null,{"$f":"_xlfn.IFNA(IF(J296>500,\"ומעלה 500\",VLOOKUP(J296,טבלה1[#All],2,0)),\"\")","v":""}]
[null,null,null,null,null,null,null,null,null,null,null,{"$f":"_xlfn.IFNA(IF(J297>500,\"ומעלה 500\",VLOOKUP(J297,טבלה1[#All],2,0)),\"\")","v":""}]
[null,null,null,null,null,null,null,null,null,null,null,{"$f":"_xlfn.IFNA(IF(J298>500,\"ומעלה 500\",VLOOKUP(J298,טבלה1[#All],2,0)),\"\")","v":""}]
[null,null,null,null,null,null,null,null,null,null,null,{"$f":"_xlfn.IFNA(IF(J299>500,\"ומעלה 500\",VLOOKUP(J299,טבלה1[#All],2,0)),\"\")","v":""}]
[null,null,null,null,null,null,null,null,null,null,null,{"$f":"_xlfn.IFNA(IF(J300>500,\"ומעלה 500\",VLOOKUP(J300,טבלה1[#All],2,0)),\"\")","v":""}]
[null,null,null,null,null,null,null,null,null,null,null,{"$f":"_xlfn.IFNA(IF(J301>500,\"ומעלה 500\",VLOOKUP(J301,טבלה1[#All],2,0)),\"\")","v":""}]
[null,null,null,null,null,null,null,null,null,null,null,{"$f":"_xlfn.IFNA(IF(J302>500,\"ומעלה 500\",VLOOKUP(J302,טבלה1[#All],2,0)),\"\")","v":""}]
[null,null,null,null,null,null,null,null,null,null,null,{"$f":"_xlfn.IFNA(IF(J303>500,\"ומעלה 500\",VLOOKUP(J303,טבלה1[#All],2,0)),\"\")","v":""}]
[null,null,null,null,null,null,null,null,null,null,null,{"$f":"_xlfn.IFNA(IF(J304>500,\"ומעלה 500\",VLOOKUP(J304,טבלה1[#All],2,0)),\"\")","v":""}]
[null,null,null,null,null,null,null,null,null,null,null,{"$f":"_xlfn.IFNA(IF(J305>500,\"ומעלה 500\",VLOOKUP(J305,טבלה1[#All],2,0)),\"\")","v":""}]
[null,null,null,null,null,null,null,null,null,null,null,{"$f":"_xlfn.IFNA(IF(J306>500,\"ומעלה 500\",VLOOKUP(J306,טבלה1[#All],2,0)),\"\")","v":""}]
[null,null,null,null,null,null,null,null,null,null,null,{"$f":"_xlfn.IFNA(IF(J307>500,\"ומעלה 500\",VLOOKUP(J307,טבלה1[#All],2,0)),\"\")","v":""}]
[null,null,null,null,null,null,null,null,null,null,null,{"$f":"_xlfn.IFNA(IF(J308>500,\"ומעלה 500\",VLOOKUP(J308,טבלה1[#All],2,0)),\"\")","v":""}]
[null,null,null,null,null,null,null,null,null,null,null,{"$f":"_xlfn.IFNA(IF(J309>500,\"ומעלה 500\",VLOOKUP(J309,טבלה1[#All],2,0)),\"\")","v":""}]
[null,null,null,null,null,null,null,null,null,null,null,{"$f":"_xlfn.IFNA(IF(J310>500,\"ומעלה 500\",VLOOKUP(J310,טבלה1[#All],2,0)),\"\")","v":""}]
[null,null,null,null,null,null,null,null,null,null,null,{"$f":"_xlfn.IFNA(IF(J311>500,\"ומעלה 500\",VLOOKUP(J311,טבלה1[#All],2,0)),\"\")","v":""}]
[null,null,null,null,null,null,null,null,null,null,null,{"$f":"_xlfn.IFNA(IF(J312>500,\"ומעלה 500\",VLOOKUP(J312,טבלה1[#All],2,0)),\"\")","v":""}]
[null,null,null,null,null,null,null,null,null,null,null,{"$f":"_xlfn.IFNA(IF(J313>500,\"ומעלה 500\",VLOOKUP(J313,טבלה1[#All],2,0)),\"\")","v":""}]
[null,null,null,null,null,null,null,null,null,null,null,{"$f":"_xlfn.IFNA(IF(J314>500,\"ומעלה 500\",VLOOKUP(J314,טבלה1[#All],2,0)),\"\")","v":""}]
[null,null,null,null,null,null,null,null,null,null,null,{"$f":"_xlfn.IFNA(IF(J315>500,\"ומעלה 500\",VLOOKUP(J315,טבלה1[#All],2,0)),\"\")","v":""}]
[null,null,null,null,null,null,null,null,null,null,null,{"$f":"_xlfn.IFNA(IF(J316>500,\"ומעלה 500\",VLOOKUP(J316,טבלה1[#All],2,0)),\"\")","v":""}]
[null,null,null,null,null,null,null,null,null,null,null,{"$f":"_xlfn.IFNA(IF(J317>500,\"ומעלה 500\",VLOOKUP(J317,טבלה1[#All],2,0)),\"\")","v":""}]
[null,null,null,null,null,null,null,null,null,null,null,{"$f":"_xlfn.IFNA(IF(J318>500,\"ומעלה 500\",VLOOKUP(J318,טבלה1[#All],2,0)),\"\")","v":""}]
[null,null,null,null,null,null,null,null,null,null,null,{"$f":"_xlfn.IFNA(IF(J319>500,\"ומעלה 500\",VLOOKUP(J319,טבלה1[#All],2,0)),\"\")","v":""}]
[null,null,null,null,null,null,null,null,null,null,null,{"$f":"_xlfn.IFNA(IF(J320>500,\"ומעלה 500\",VLOOKUP(J320,טבלה1[#All],2,0)),\"\")","v":""}]
[null,null,null,null,null,null,null,null,null,null,null,{"$f":"_xlfn.IFNA(IF(J321>500,\"ומעלה 500\",VLOOKUP(J321,טבלה1[#All],2,0)),\"\")","v":""}]
[null,null,null,null,null,null,null,null,null,null,null,{"$f":"_xlfn.IFNA(IF(J322>500,\"ומעלה 500\",VLOOKUP(J322,טבלה1[#All],2,0)),\"\")","v":""}]
[null,null,null,null,null,null,null,null,null,null,null,{"$f":"_xlfn.IFNA(IF(J323>500,\"ומעלה 500\",VLOOKUP(J323,טבלה1[#All],2,0)),\"\")","v":""}]
[null,null,null,null,null,null,null,null,null,null,null,{"$f":"_xlfn.IFNA(IF(J324>500,\"ומעלה 500\",VLOOKUP(J324,טבלה1[#All],2,0)),\"\")","v":""}]
[null,null,null,null,null,null,null,null,null,null,null,{"$f":"_xlfn.IFNA(IF(J325>500,\"ומעלה 500\",VLOOKUP(J325,טבלה1[#All],2,0)),\"\")","v":""}]
[null,null,null,null,null,null,null,null,null,null,null,{"$f":"_xlfn.IFNA(IF(J326>500,\"ומעלה 500\",VLOOKUP(J326,טבלה1[#All],2,0)),\"\")","v":""}]
[null,null,null,null,null,null,null,null,null,null,null,{"$f":"_xlfn.IFNA(IF(J327>500,\"ומעלה 500\",VLOOKUP(J327,טבלה1[#All],2,0)),\"\")","v":""}]
[null,null,null,null,null,null,null,null,null,null,null,{"$f":"_xlfn.IFNA(IF(J328>500,\"ומעלה 500\",VLOOKUP(J328,טבלה1[#All],2,0)),\"\")","v":""}]
[null,null,null,null,null,null,null,null,null,null,null,{"$f":"_xlfn.IFNA(IF(J329>500,\"ומעלה 500\",VLOOKUP(J329,טבלה1[#All],2,0)),\"\")","v":""}]
[null,null,null,null,null,null,null,null,null,null,null,{"$f":"_xlfn.IFNA(IF(J330>500,\"ומעלה 500\",VLOOKUP(J330,טבלה1[#All],2,0)),\"\")","v":""}]
[null,null,null,null,null,null,null,null,null,null,null,{"$f":"_xlfn.IFNA(IF(J331>500,\"ומעלה 500\",VLOOKUP(J331,טבלה1[#All],2,0)),\"\")","v":""}]
[null,null,null,null,null,null,null,null,null,null,null,{"$f":"_xlfn.IFNA(IF(J332>500,\"ומעלה 500\",VLOOKUP(J332,טבלה1[#All],2,0)),\"\")","v":""}]
[null,null,null,null,null,null,null,null,null,null,null,{"$f":"_xlfn.IFNA(IF(J333>500,\"ומעלה 500\",VLOOKUP(J333,טבלה1[#All],2,0)),\"\")","v":""}]
[null,null,null,null,null,null,null,null,null,null,null,{"$f":"_xlfn.IFNA(IF(J334>500,\"ומעלה 500\",VLOOKUP(J334,טבלה1[#All],2,0)),\"\")","v":""}]
[null,null,null,null,null,null,null,null,null,null,null,{"$f":"_xlfn.IFNA(IF(J335>500,\"ומעלה 500\",VLOOKUP(J335,טבלה1[#All],2,0)),\"\")","v":""}]
[null,null,null,null,null,null,null,null,null,null,null,{"$f":"_xlfn.IFNA(IF(J336>500,\"ומעלה 500\",VLOOKUP(J336,טבלה1[#All],2,0)),\"\")","v":""}]
[null,null,null,null,null,null,null,null,null,null,null,{"$f":"_xlfn.IFNA(IF(J337>500,\"ומעלה 500\",VLOOKUP(J337,טבלה1[#All],2,0)),\"\")","v":""}]
[null,null,null,null,null,null,null,null,null,null,null,{"$f":"_xlfn.IFNA(IF(J338>500,\"ומעלה 500\",VLOOKUP(J338,טבלה1[#All],2,0)),\"\")","v":""}]
[null,null,null,null,null,null,null,null,null,null,null,{"$f":"_xlfn.IFNA(IF(J339>500,\"ומעלה 500\",VLOOKUP(J339,טבלה1[#All],2,0)),\"\")","v":""}]
[null,null,null,null,null,null,null,null,null,null,null,{"$f":"_xlfn.IFNA(IF(J340>500,\"ומעלה 500\",VLOOKUP(J340,טבלה1[#All],2,0)),\"\")","v":""}]
[null,null,null,null,null,null,null,null,null,null,null,{"$f":"_xlfn.IFNA(IF(J341>500,\"ומעלה 500\",VLOOKUP(J341,טבלה1[#All],2,0)),\"\")","v":""}]
[null,null,null,null,null,null,null,null,null,null,null,{"$f":"_xlfn.IFNA(IF(J342>500,\"ומעלה 500\",VLOOKUP(J342,טבלה1[#All],2,0)),\"\")","v":""}]
[null,null,null,null,null,null,null,null,null,null,null,{"$f":"_xlfn.IFNA(IF(J343>500,\"ומעלה 500\",VLOOKUP(J343,טבלה1[#All],2,0)),\"\")","v":""}]
[null,null,null,null,null,null,null,null,null,null,null,{"$f":"_xlfn.IFNA(IF(J344>500,\"ומעלה 500\",VLOOKUP(J344,טבלה1[#All],2,0)),\"\")","v":""}]
[null,null,null,null,null,null,null,null,null,null,null,{"$f":"_xlfn.IFNA(IF(J345>500,\"ומעלה 500\",VLOOKUP(J345,טבלה1[#All],2,0)),\"\")","v":""}]
[null,null,null,null,null,null,null,null,null,null,null,{"$f":"_xlfn.IFNA(IF(J346>500,\"ומעלה 500\",VLOOKUP(J346,טבלה1[#All],2,0)),\"\")","v":""}]
[null,null,null,null,null,null,null,null,null,null,null,{"$f":"_xlfn.IFNA(IF(J347>500,\"ומעלה 500\",VLOOKUP(J347,טבלה1[#All],2,0)),\"\")","v":""}]
[null,null,null,null,null,null,null,null,null,null,null,{"$f":"_xlfn.IFNA(IF(J348>500,\"ומעלה 500\",VLOOKUP(J348,טבלה1[#All],2,0)),\"\")","v":""}]
[null,null,null,null,null,null,null,null,null,null,null,{"$f":"_xlfn.IFNA(IF(J349>500,\"ומעלה 500\",VLOOKUP(J349,טבלה1[#All],2,0)),\"\")","v":""}]
[null,null,null,null,null,null,null,null,null,null,null,{"$f":"_xlfn.IFNA(IF(J350>500,\"ומעלה 500\",VLOOKUP(J350,טבלה1[#All],2,0)),\"\")","v":""}]
[null,null,null,null,null,null,null,null,null,null,null,{"$f":"_xlfn.IFNA(IF(J351>500,\"ומעלה 500\",VLOOKUP(J351,טבלה1[#All],2,0)),\"\")","v":""}]
[null,null,null,null,null,null,null,null,null,null,null,{"$f":"_xlfn.IFNA(IF(J352>500,\"ומעלה 500\",VLOOKUP(J352,טבלה1[#All],2,0)),\"\")","v":""}]
[null,null,null,null,null,null,null,null,null,null,null,{"$f":"_xlfn.IFNA(IF(J353>500,\"ומעלה 500\",VLOOKUP(J353,טבלה1[#All],2,0)),\"\")","v":""}]
[null,null,null,null,null,null,null,null,null,null,null,{"$f":"_xlfn.IFNA(IF(J354>500,\"ומעלה 500\",VLOOKUP(J354,טבלה1[#All],2,0)),\"\")","v":""}]
[null,null,null,null,null,null,null,null,null,null,null,{"$f":"_xlfn.IFNA(IF(J355>500,\"ומעלה 500\",VLOOKUP(J355,טבלה1[#All],2,0)),\"\")","v":""}]
[null,null,null,null,null,null,null,null,null,null,null,{"$f":"_xlfn.IFNA(IF(J356>500,\"ומעלה 500\",VLOOKUP(J356,טבלה1[#All],2,0)),\"\")","v":""}]
[null,null,null,null,null,null,null,null,null,null,null,{"$f":"_xlfn.IFNA(IF(J357>500,\"ומעלה 500\",VLOOKUP(J357,טבלה1[#All],2,0)),\"\")","v":""}]
[null,null,null,null,null,null,null,null,null,null,null,{"$f":"_xlfn.IFNA(IF(J358>500,\"ומעלה 500\",VLOOKUP(J358,טבלה1[#All],2,0)),\"\")","v":""}]
[null,null,null,null,null,null,null,null,null,null,null,{"$f":"_xlfn.IFNA(IF(J359>500,\"ומעלה 500\",VLOOKUP(J359,טבלה1[#All],2,0)),\"\")","v":""}]
[null,null,null,null,null,null,null,null,null,null,null,{"$f":"_xlfn.IFNA(IF(J360>500,\"ומעלה 500\",VLOOKUP(J360,טבלה1[#All],2,0)),\"\")","v":""}]
[null,null,null,null,null,null,null,null,null,null,null,{"$f":"_xlfn.IFNA(IF(J361>500,\"ומעלה 500\",VLOOKUP(J361,טבלה1[#All],2,0)),\"\")","v":""}]
[null,null,null,null,null,null,null,null,null,null,null,{"$f":"_xlfn.IFNA(IF(J362>500,\"ומעלה 500\",VLOOKUP(J362,טבלה1[#All],2,0)),\"\")","v":""}]
[null,null,null,null,null,null,null,null,null,null,null,{"$f":"_xlfn.IFNA(IF(J363>500,\"ומעלה 500\",VLOOKUP(J363,טבלה1[#All],2,0)),\"\")","v":""}]
[null,null,null,null,null,null,null,null,null,null,null,{"$f":"_xlfn.IFNA(IF(J364>500,\"ומעלה 500\",VLOOKUP(J364,טבלה1[#All],2,0)),\"\")","v":""}]
[null,null,null,null,null,null,null,null,null,null,null,{"$f":"_xlfn.IFNA(IF(J365>500,\"ומעלה 500\",VLOOKUP(J365,טבלה1[#All],2,0)),\"\")","v":""}]
[null,null,null,null,null,null,null,null,null,null,null,{"$f":"_xlfn.IFNA(IF(J366>500,\"ומעלה 500\",VLOOKUP(J366,טבלה1[#All],2,0)),\"\")","v":""}]
[null,null,null,null,null,null,null,null,null,null,null,{"$f":"_xlfn.IFNA(IF(J367>500,\"ומעלה 500\",VLOOKUP(J367,טבלה1[#All],2,0)),\"\")","v":""}]
[null,null,null,null,null,null,null,null,null,null,null,{"$f":"_xlfn.IFNA(IF(J368>500,\"ומעלה 500\",VLOOKUP(J368,טבלה1[#All],2,0)),\"\")","v":""}]
[null,null,null,null,null,null,null,null,null,null,null,{"$f":"_xlfn.IFNA(IF(J369>500,\"ומעלה 500\",VLOOKUP(J369,טבלה1[#All],2,0)),\"\")","v":""}]
[null,null,null,null,null,null,null,null,null,null,null,{"$f":"_xlfn.IFNA(IF(J370>500,\"ומעלה 500\",VLOOKUP(J370,טבלה1[#All],2,0)),\"\")","v":""}]
[null,null,null,null,null,null,null,null,null,null,null,{"$f":"_xlfn.IFNA(IF(J371>500,\"ומעלה 500\",VLOOKUP(J371,טבלה1[#All],2,0)),\"\")","v":""}]
[null,null,null,null,null,null,null,null,null,null,null,{"$f":"_xlfn.IFNA(IF(J372>500,\"ומעלה 500\",VLOOKUP(J372,טבלה1[#All],2,0)),\"\")","v":""}]
[null,null,null,null,null,null,null,null,null,null,null,{"$f":"_xlfn.IFNA(IF(J373>500,\"ומעלה 500\",VLOOKUP(J373,טבלה1[#All],2,0)),\"\")","v":""}]
[null,null,null,null,null,null,null,null,null,null,null,{"$f":"_xlfn.IFNA(IF(J374>500,\"ומעלה 500\",VLOOKUP(J374,טבלה1[#All],2,0)),\"\")","v":""}]
[null,null,null,null,null,null,null,null,null,null,null,{"$f":"_xlfn.IFNA(IF(J375>500,\"ומעלה 500\",VLOOKUP(J375,טבלה1[#All],2,0)),\"\")","v":""}]
[null,null,null,null,null,null,null,null,null,null,null,{"$f":"_xlfn.IFNA(IF(J376>500,\"ומעלה 500\",VLOOKUP(J376,טבלה1[#All],2,0)),\"\")","v":""}]
[null,null,null,null,null,null,null,null,null,null,null,{"$f":"_xlfn.IFNA(IF(J377>500,\"ומעלה 500\",VLOOKUP(J377,טבלה1[#All],2,0)),\"\")","v":""}]
[null,null,null,null,null,null,null,null,null,null,null,{"$f":"_xlfn.IFNA(IF(J378>500,\"ומעלה 500\",VLOOKUP(J378,טבלה1[#All],2,0)),\"\")","v":""}]
[null,null,null,null,null,null,null,null,null,null,null,{"$f":"_xlfn.IFNA(IF(J379>500,\"ומעלה 500\",VLOOKUP(J379,טבלה1[#All],2,0)),\"\")","v":""}]
[null,null,null,null,null,null,null,null,null,null,null,{"$f":"_xlfn.IFNA(IF(J380>500,\"ומעלה 500\",VLOOKUP(J380,טבלה1[#All],2,0)),\"\")","v":""}]
[null,null,null,null,null,null,null,null,null,null,null,{"$f":"_xlfn.IFNA(IF(J381>500,\"ומעלה 500\",VLOOKUP(J381,טבלה1[#All],2,0)),\"\")","v":""}]
[null,null,null,null,null,null,null,null,null,null,null,{"$f":"_xlfn.IFNA(IF(J382>500,\"ומעלה 500\",VLOOKUP(J382,טבלה1[#All],2,0)),\"\")","v":""}]
[null,null,null,null,null,null,null,null,null,null,null,{"$f":"_xlfn.IFNA(IF(J383>500,\"ומעלה 500\",VLOOKUP(J383,טבלה1[#All],2,0)),\"\")","v":""}]
[null,null,null,null,null,null,null,null,null,null,null,{"$f":"_xlfn.IFNA(IF(J384>500,\"ומעלה 500\",VLOOKUP(J384,טבלה1[#All],2,0)),\"\")","v":""}]
[null,null,null,null,null,null,null,null,null,null,null,{"$f":"_xlfn.IFNA(IF(J385>500,\"ומעלה 500\",VLOOKUP(J385,טבלה1[#All],2,0)),\"\")","v":""}]
[null,null,null,null,null,null,null,null,null,null,null,{"$f":"_xlfn.IFNA(IF(J386>500,\"ומעלה 500\",VLOOKUP(J386,טבלה1[#All],2,0)),\"\")","v":""}]
[null,null,null,null,null,null,null,null,null,null,null,{"$f":"_xlfn.IFNA(IF(J387>500,\"ומעלה 500\",VLOOKUP(J387,טבלה1[#All],2,0)),\"\")","v":""}]
[null,null,null,null,null,null,null,null,null,null,null,{"$f":"_xlfn.IFNA(IF(J388>500,\"ומעלה 500\",VLOOKUP(J388,טבלה1[#All],2,0)),\"\")","v":""}]
[null,null,null,null,null,null,null,null,null,null,null,{"$f":"_xlfn.IFNA(IF(J389>500,\"ומעלה 500\",VLOOKUP(J389,טבלה1[#All],2,0)),\"\")","v":""}]
[null,null,null,null,null,null,null,null,null,null,null,{"$f":"_xlfn.IFNA(IF(J390>500,\"ומעלה 500\",VLOOKUP(J390,טבלה1[#All],2,0)),\"\")","v":""}]
[null,null,null,null,null,null,null,null,null,null,null,{"$f":"_xlfn.IFNA(IF(J391>500,\"ומעלה 500\",VLOOKUP(J391,טבלה1[#All],2,0)),\"\")","v":""}]
[null,null,null,null,null,null,null,null,null,null,null,{"$f":"_xlfn.IFNA(IF(J392>500,\"ומעלה 500\",VLOOKUP(J392,טבלה1[#All],2,0)),\"\")","v":""}]
[null,null,null,null,null,null,null,null,null,null,null,{"$f":"_xlfn.IFNA(IF(J393>500,\"ומעלה 500\",VLOOKUP(J393,טבלה1[#All],2,0)),\"\")","v":""}]
[null,null,null,null,null,null,null,null,null,null,null,{"$f":"_xlfn.IFNA(IF(J394>500,\"ומעלה 500\",VLOOKUP(J394,טבלה1[#All],2,0)),\"\")","v":""}]
[null,null,null,null,null,null,null,null,null,null,null,{"$f":"_xlfn.IFNA(IF(J395>500,\"ומעלה 500\",VLOOKUP(J395,טבלה1[#All],2,0)),\"\")","v":""}]
[null,null,null,null,null,null,null,null,null,null,null,{"$f":"_xlfn.IFNA(IF(J396>500,\"ומעלה 500\",VLOOKUP(J396,טבלה1[#All],2,0)),\"\")","v":""}]
[null,null,null,null,null,null,null,null,null,null,null,{"$f":"_xlfn.IFNA(IF(J397>500,\"ומעלה 500\",VLOOKUP(J397,טבלה1[#All],2,0)),\"\")","v":""}]
[null,null,null,null,null,null,null,null,null,null,null,{"$f":"_xlfn.IFNA(IF(J398>500,\"ומעלה 500\",VLOOKUP(J398,טבלה1[#All],2,0)),\"\")","v":""}]
[null,null,null,null,null,null,null,null,null,null,null,{"$f":"_xlfn.IFNA(IF(J399>500,\"ומעלה 500\",VLOOKUP(J399,טבלה1[#All],2,0)),\"\")","v":""}]
[null,null,null,null,null,null,null,null,null,null,null,{"$f":"_xlfn.IFNA(IF(J400>500,\"ומעלה 500\",VLOOKUP(J400,טבלה1[#All],2,0)),\"\")","v":""}]
[null,null,null,null,null,null,null,null,null,null,null,{"$f":"_xlfn.IFNA(IF(J401>500,\"ומעלה 500\",VLOOKUP(J401,טבלה1[#All],2,0)),\"\")","v":""}]
[null,null,null,null,null,null,null,null,null,null,null,{"$f":"_xlfn.IFNA(IF(J402>500,\"ומעלה 500\",VLOOKUP(J402,טבלה1[#All],2,0)),\"\")","v":""}]
[null,null,null,null,null,null,null,null,null,null,null,{"$f":"_xlfn.IFNA(IF(J403>500,\"ומעלה 500\",VLOOKUP(J403,טבלה1[#All],2,0)),\"\")","v":""}]
[null,null,null,null,null,null,null,null,null,null,null,{"$f":"_xlfn.IFNA(IF(J404>500,\"ומעלה 500\",VLOOKUP(J404,טבלה1[#All],2,0)),\"\")","v":""}]
[null,null,null,null,null,null,null,null,null,null,null,{"$f":"_xlfn.IFNA(IF(J405>500,\"ומעלה 500\",VLOOKUP(J405,טבלה1[#All],2,0)),\"\")","v":""}]
[null,null,null,null,null,null,null,null,null,null,null,{"$f":"_xlfn.IFNA(IF(J406>500,\"ומעלה 500\",VLOOKUP(J406,טבלה1[#All],2,0)),\"\")","v":""}]
[null,null,null,null,null,null,null,null,null,null,null,{"$f":"_xlfn.IFNA(IF(J407>500,\"ומעלה 500\",VLOOKUP(J407,טבלה1[#All],2,0)),\"\")","v":""}]
[null,null,null,null,null,null,null,null,null,null,null,{"$f":"_xlfn.IFNA(IF(J408>500,\"ומעלה 500\",VLOOKUP(J408,טבלה1[#All],2,0)),\"\")","v":""}]
[null,null,null,null,null,null,null,null,null,null,null,{"$f":"_xlfn.IFNA(IF(J409>500,\"ומעלה 500\",VLOOKUP(J409,טבלה1[#All],2,0)),\"\")","v":""}]
[null,null,null,null,null,null,null,null,null,null,null,{"$f":"_xlfn.IFNA(IF(J410>500,\"ומעלה 500\",VLOOKUP(J410,טבלה1[#All],2,0)),\"\")","v":""}]
[null,null,null,null,null,null,null,null,null,null,null,{"$f":"_xlfn.IFNA(IF(J411>500,\"ומעלה 500\",VLOOKUP(J411,טבלה1[#All],2,0)),\"\")","v":""}]
[null,null,null,null,null,null,null,null,null,null,null,{"$f":"_xlfn.IFNA(IF(J412>500,\"ומעלה 500\",VLOOKUP(J412,טבלה1[#All],2,0)),\"\")","v":""}]
[null,null,null,null,null,null,null,null,null,null,null,{"$f":"_xlfn.IFNA(IF(J413>500,\"ומעלה 500\",VLOOKUP(J413,טבלה1[#All],2,0)),\"\")","v":""}]
[null,null,null,null,null,null,null,null,null,null,null,{"$f":"_xlfn.IFNA(IF(J414>500,\"ומעלה 500\",VLOOKUP(J414,טבלה1[#All],2,0)),\"\")","v":""}]
[null,null,null,null,null,null,null,null,null,null,null,{"$f":"_xlfn.IFNA(IF(J415>500,\"ומעלה 500\",VLOOKUP(J415,טבלה1[#All],2,0)),\"\")","v":""}]
[null,null,null,null,null,null,null,null,null,null,null,{"$f":"_xlfn.IFNA(IF(J416>500,\"ומעלה 500\",VLOOKUP(J416,טבלה1[#All],2,0)),\"\")","v":""}]
[null,null,null,null,null,null,null,null,null,null,null,{"$f":"_xlfn.IFNA(IF(J417>500,\"ומעלה 500\",VLOOKUP(J417,טבלה1[#All],2,0)),\"\")","v":""}]
[null,null,null,null,null,null,null,null,null,null,null,{"$f":"_xlfn.IFNA(IF(J418>500,\"ומעלה 500\",VLOOKUP(J418,טבלה1[#All],2,0)),\"\")","v":""}]
[null,null,null,null,null,null,null,null,null,null,null,{"$f":"_xlfn.IFNA(IF(J419>500,\"ומעלה 500\",VLOOKUP(J419,טבלה1[#All],2,0)),\"\")","v":""}]
[null,null,null,null,null,null,null,null,null,null,null,{"$f":"_xlfn.IFNA(IF(J420>500,\"ומעלה 500\",VLOOKUP(J420,טבלה1[#All],2,0)),\"\")","v":""}]
[null,null,null,null,null,null,null,null,null,null,null,{"$f":"_xlfn.IFNA(IF(J421>500,\"ומעלה 500\",VLOOKUP(J421,טבלה1[#All],2,0)),\"\")","v":""}]
[null,null,null,null,null,null,null,null,null,null,null,{"$f":"_xlfn.IFNA(IF(J422>500,\"ומעלה 500\",VLOOKUP(J422,טבלה1[#All],2,0)),\"\")","v":""}]
[null,null,null,null,null,null,null,null,null,null,null,{"$f":"_xlfn.IFNA(IF(J423>500,\"ומעלה 500\",VLOOKUP(J423,טבלה1[#All],2,0)),\"\")","v":""}]
[null,null,null,null,null,null,null,null,null,null,null,{"$f":"_xlfn.IFNA(IF(J424>500,\"ומעלה 500\",VLOOKUP(J424,טבלה1[#All],2,0)),\"\")","v":""}]
[null,null,null,null,null,null,null,null,null,null,null,{"$f":"_xlfn.IFNA(IF(J425>500,\"ומעלה 500\",VLOOKUP(J425,טבלה1[#All],2,0)),\"\")","v":""}]
[null,null,null,null,null,null,null,null,null,null,null,{"$f":"_xlfn.IFNA(IF(J426>500,\"ומעלה 500\",VLOOKUP(J426,טבלה1[#All],2,0)),\"\")","v":""}]
[null,null,null,null,null,null,null,null,null,null,null,{"$f":"_xlfn.IFNA(IF(J427>500,\"ומעלה 500\",VLOOKUP(J427,טבלה1[#All],2,0)),\"\")","v":""}]
[null,null,null,null,null,null,null,null,null,null,null,{"$f":"_xlfn.IFNA(IF(J428>500,\"ומעלה 500\",VLOOKUP(J428,טבלה1[#All],2,0)),\"\")","v":""}]
[null,null,null,null,null,null,null,null,null,null,null,{"$f":"_xlfn.IFNA(IF(J429>500,\"ומעלה 500\",VLOOKUP(J429,טבלה1[#All],2,0)),\"\")","v":""}]
[null,null,null,null,null,null,null,null,null,null,null,{"$f":"_xlfn.IFNA(IF(J430>500,\"ומעלה 500\",VLOOKUP(J430,טבלה1[#All],2,0)),\"\")","v":""}]
[null,null,null,null,null,null,null,null,null,null,null,{"$f":"_xlfn.IFNA(IF(J431>500,\"ומעלה 500\",VLOOKUP(J431,טבלה1[#All],2,0)),\"\")","v":""}]
[null,null,null,null,null,null,null,null,null,null,null,{"$f":"_xlfn.IFNA(IF(J432>500,\"ומעלה 500\",VLOOKUP(J432,טבלה1[#All],2,0)),\"\")","v":""}]
[null,null,null,null,null,null,null,null,null,null,null,{"$f":"_xlfn.IFNA(IF(J433>500,\"ומעלה 500\",VLOOKUP(J433,טבלה1[#All],2,0)),\"\")","v":""}]
[null,null,null,null,null,null,null,null,null,null,null,{"$f":"_xlfn.IFNA(IF(J434>500,\"ומעלה 500\",VLOOKUP(J434,טבלה1[#All],2,0)),\"\")","v":""}]
[null,null,null,null,null,null,null,null,null,null,null,{"$f":"_xlfn.IFNA(IF(J435>500,\"ומעלה 500\",VLOOKUP(J435,טבלה1[#All],2,0)),\"\")","v":""}]
[null,null,null,null,null,null,null,null,null,null,null,{"$f":"_xlfn.IFNA(IF(J436>500,\"ומעלה 500\",VLOOKUP(J436,טבלה1[#All],2,0)),\"\")","v":""}]
[null,null,null,null,null,null,null,null,null,null,null,{"$f":"_xlfn.IFNA(IF(J437>500,\"ומעלה 500\",VLOOKUP(J437,טבלה1[#All],2,0)),\"\")","v":""}]
[null,null,null,null,null,null,null,null,null,null,null,{"$f":"_xlfn.IFNA(IF(J438>500,\"ומעלה 500\",VLOOKUP(J438,טבלה1[#All],2,0)),\"\")","v":""}]
[null,null,null,null,null,null,null,null,null,null,null,{"$f":"_xlfn.IFNA(IF(J439>500,\"ומעלה 500\",VLOOKUP(J439,טבלה1[#All],2,0)),\"\")","v":""}]
[null,null,null,null,null,null,null,null,null,null,null,{"$f":"_xlfn.IFNA(IF(J440>500,\"ומעלה 500\",VLOOKUP(J440,טבלה1[#All],2,0)),\"\")","v":""}]
[null,null,null,null,null,null,null,null,null,null,null,{"$f":"_xlfn.IFNA(IF(J441>500,\"ומעלה 500\",VLOOKUP(J441,טבלה1[#All],2,0)),\"\")","v":""}]
[null,null,null,null,null,null,null,null,null,null,null,{"$f":"_xlfn.IFNA(IF(J442>500,\"ומעלה 500\",VLOOKUP(J442,טבלה1[#All],2,0)),\"\")","v":""}]
[null,null,null,null,null,null,null,null,null,null,null,{"$f":"_xlfn.IFNA(IF(J443>500,\"ומעלה 500\",VLOOKUP(J443,טבלה1[#All],2,0)),\"\")","v":""}]
[null,null,null,null,null,null,null,null,null,null,null,{"$f":"_xlfn.IFNA(IF(J444>500,\"ומעלה 500\",VLOOKUP(J444,טבלה1[#All],2,0)),\"\")","v":""}]
[null,null,null,null,null,null,null,null,null,null,null,{"$f":"_xlfn.IFNA(IF(J445>500,\"ומעלה 500\",VLOOKUP(J445,טבלה1[#All],2,0)),\"\")","v":""}]
[null,null,null,null,null,null,null,null,null,null,null,{"$f":"_xlfn.IFNA(IF(J446>500,\"ומעלה 500\",VLOOKUP(J446,טבלה1[#All],2,0)),\"\")","v":""}]
[null,null,null,null,null,null,null,null,null,null,null,{"$f":"_xlfn.IFNA(IF(J447>500,\"ומעלה 500\",VLOOKUP(J447,טבלה1[#All],2,0)),\"\")","v":""}]
[null,null,null,null,null,null,null,null,null,null,null,{"$f":"_xlfn.IFNA(IF(J448>500,\"ומעלה 500\",VLOOKUP(J448,טבלה1[#All],2,0)),\"\")","v":""}]
[null,null,null,null,null,null,null,null,null,null,null,{"$f":"_xlfn.IFNA(IF(J449>500,\"ומעלה 500\",VLOOKUP(J449,טבלה1[#All],2,0)),\"\")","v":""}]
[null,null,null,null,null,null,null,null,null,null,null,{"$f":"_xlfn.IFNA(IF(J450>500,\"ומעלה 500\",VLOOKUP(J450,טבלה1[#All],2,0)),\"\")","v":""}]
[null,null,null,null,null,null,null,null,null,null,null,{"$f":"_xlfn.IFNA(IF(J451>500,\"ומעלה 500\",VLOOKUP(J451,טבלה1[#All],2,0)),\"\")","v":""}]
[null,null,null,null,null,null,null,null,null,null,null,{"$f":"_xlfn.IFNA(IF(J452>500,\"ומעלה 500\",VLOOKUP(J452,טבלה1[#All],2,0)),\"\")","v":""}]
[null,null,null,null,null,null,null,null,null,null,null,{"$f":"_xlfn.IFNA(IF(J453>500,\"ומעלה 500\",VLOOKUP(J453,טבלה1[#All],2,0)),\"\")","v":""}]
[null,null,null,null,null,null,null,null,null,null,null,{"$f":"_xlfn.IFNA(IF(J454>500,\"ומעלה 500\",VLOOKUP(J454,טבלה1[#All],2,0)),\"\")","v":""}]
[null,null,null,null,null,null,null,null,null,null,null,{"$f":"_xlfn.IFNA(IF(J455>500,\"ומעלה 500\",VLOOKUP(J455,טבלה1[#All],2,0)),\"\")","v":""}]
[null,null,null,null,null,null,null,null,null,null,null,{"$f":"_xlfn.IFNA(IF(J456>500,\"ומעלה 500\",VLOOKUP(J456,טבלה1[#All],2,0)),\"\")","v":""}]
[null,null,null,null,null,null,null,null,null,null,null,{"$f":"_xlfn.IFNA(IF(J457>500,\"ומעלה 500\",VLOOKUP(J457,טבלה1[#All],2,0)),\"\")","v":""}]
[null,null,null,null,null,null,null,null,null,null,null,{"$f":"_xlfn.IFNA(IF(J458>500,\"ומעלה 500\",VLOOKUP(J458,טבלה1[#All],2,0)),\"\")","v":""}]
[null,null,null,null,null,null,null,null,null,null,null,{"$f":"_xlfn.IFNA(IF(J459>500,\"ומעלה 500\",VLOOKUP(J459,טבלה1[#All],2,0)),\"\")","v":""}]
[null,null,null,null,null,null,null,null,null,null,null,{"$f":"_xlfn.IFNA(IF(J460>500,\"ומעלה 500\",VLOOKUP(J460,טבלה1[#All],2,0)),\"\")","v":""}]
[null,null,null,null,null,null,null,null,null,null,null,{"$f":"_xlfn.IFNA(IF(J461>500,\"ומעלה 500\",VLOOKUP(J461,טבלה1[#All],2,0)),\"\")","v":""}]
[null,null,null,null,null,null,null,null,null,null,null,{"$f":"_xlfn.IFNA(IF(J462>500,\"ומעלה 500\",VLOOKUP(J462,טבלה1[#All],2,0)),\"\")","v":""}]
[null,null,null,null,null,null,null,null,null,null,null,{"$f":"_xlfn.IFNA(IF(J463>500,\"ומעלה 500\",VLOOKUP(J463,טבלה1[#All],2,0)),\"\")","v":""}]
[null,null,null,null,null,null,null,null,null,null,null,{"$f":"_xlfn.IFNA(IF(J464>500,\"ומעלה 500\",VLOOKUP(J464,טבלה1[#All],2,0)),\"\")","v":""}]
[null,null,null,null,null,null,null,null,null,null,null,{"$f":"_xlfn.IFNA(IF(J465>500,\"ומעלה 500\",VLOOKUP(J465,טבלה1[#All],2,0)),\"\")","v":""}]
[null,null,null,null,null,null,null,null,null,null,null,{"$f":"_xlfn.IFNA(IF(J466>500,\"ומעלה 500\",VLOOKUP(J466,טבלה1[#All],2,0)),\"\")","v":""}]
[null,null,null,null,null,null,null,null,null,null,null,{"$f":"_xlfn.IFNA(IF(J467>500,\"ומעלה 500\",VLOOKUP(J467,טבלה1[#All],2,0)),\"\")","v":""}]
[null,null,null,null,null,null,null,null,null,null,null,{"$f":"_xlfn.IFNA(IF(J468>500,\"ומעלה 500\",VLOOKUP(J468,טבלה1[#All],2,0)),\"\")","v":""}]
[null,null,null,null,null,null,null,null,null,null,null,{"$f":"_xlfn.IFNA(IF(J469>500,\"ומעלה 500\",VLOOKUP(J469,טבלה1[#All],2,0)),\"\")","v":""}]
[null,null,null,null,null,null,null,null,null,null,null,{"$f":"_xlfn.IFNA(IF(J470>500,\"ומעלה 500\",VLOOKUP(J470,טבלה1[#All],2,0)),\"\")","v":""}]
[null,null,null,null,null,null,null,null,null,null,null,{"$f":"_xlfn.IFNA(IF(J471>500,\"ומעלה 500\",VLOOKUP(J471,טבלה1[#All],2,0)),\"\")","v":""}]
[null,null,null,null,null,null,null,null,null,null,null,{"$f":"_xlfn.IFNA(IF(J472>500,\"ומעלה 500\",VLOOKUP(J472,טבלה1[#All],2,0)),\"\")","v":""}]
[null,null,null,null,null,null,null,null,null,null,null,{"$f":"_xlfn.IFNA(IF(J473>500,\"ומעלה 500\",VLOOKUP(J473,טבלה1[#All],2,0)),\"\")","v":""}]
[null,null,null,null,null,null,null,null,null,null,null,{"$f":"_xlfn.IFNA(IF(J474>500,\"ומעלה 500\",VLOOKUP(J474,טבלה1[#All],2,0)),\"\")","v":""}]
[null,null,null,null,null,null,null,null,null,null,null,{"$f":"_xlfn.IFNA(IF(J475>500,\"ומעלה 500\",VLOOKUP(J475,טבלה1[#All],2,0)),\"\")","v":""}]
[null,null,null,null,null,null,null,null,null,null,null,{"$f":"_xlfn.IFNA(IF(J476>500,\"ומעלה 500\",VLOOKUP(J476,טבלה1[#All],2,0)),\"\")","v":""}]
[null,null,null,null,null,null,null,null,null,null,null,{"$f":"_xlfn.IFNA(IF(J477>500,\"ומעלה 500\",VLOOKUP(J477,טבלה1[#All],2,0)),\"\")","v":""}]
[null,null,null,null,null,null,null,null,null,null,null,{"$f":"_xlfn.IFNA(IF(J478>500,\"ומעלה 500\",VLOOKUP(J478,טבלה1[#All],2,0)),\"\")","v":""}]
[null,null,null,null,null,null,null,null,null,null,null,{"$f":"_xlfn.IFNA(IF(J479>500,\"ומעלה 500\",VLOOKUP(J479,טבלה1[#All],2,0)),\"\")","v":""}]
[null,null,null,null,null,null,null,null,null,null,null,{"$f":"_xlfn.IFNA(IF(J480>500,\"ומעלה 500\",VLOOKUP(J480,טבלה1[#All],2,0)),\"\")","v":""}]
[null,null,null,null,null,null,null,null,null,null,null,{"$f":"_xlfn.IFNA(IF(J481>500,\"ומעלה 500\",VLOOKUP(J481,טבלה1[#All],2,0)),\"\")","v":""}]
[null,null,null,null,null,null,null,null,null,null,null,{"$f":"_xlfn.IFNA(IF(J482>500,\"ומעלה 500\",VLOOKUP(J482,טבלה1[#All],2,0)),\"\")","v":""}]
[null,null,null,null,null,null,null,null,null,null,null,{"$f":"_xlfn.IFNA(IF(J483>500,\"ומעלה 500\",VLOOKUP(J483,טבלה1[#All],2,0)),\"\")","v":""}]
[null,null,null,null,null,null,null,null,null,null,null,{"$f":"_xlfn.IFNA(IF(J484>500,\"ומעלה 500\",VLOOKUP(J484,טבלה1[#All],2,0)),\"\")","v":""}]
[null,null,null,null,null,null,null,null,null,null,null,{"$f":"_xlfn.IFNA(IF(J485>500,\"ומעלה 500\",VLOOKUP(J485,טבלה1[#All],2,0)),\"\")","v":""}]
[null,null,null,null,null,null,null,null,null,null,null,{"$f":"_xlfn.IFNA(IF(J486>500,\"ומעלה 500\",VLOOKUP(J486,טבלה1[#All],2,0)),\"\")","v":""}]
[null,null,null,null,null,null,null,null,null,null,null,{"$f":"_xlfn.IFNA(IF(J487>500,\"ומעלה 500\",VLOOKUP(J487,טבלה1[#All],2,0)),\"\")","v":""}]
[null,null,null,null,null,null,null,null,null,null,null,{"$f":"_xlfn.IFNA(IF(J488>500,\"ומעלה 500\",VLOOKUP(J488,טבלה1[#All],2,0)),\"\")","v":""}]
[null,null,null,null,null,null,null,null,null,null,null,{"$f":"_xlfn.IFNA(IF(J489>500,\"ומעלה 500\",VLOOKUP(J489,טבלה1[#All],2,0)),\"\")","v":""}]
[null,null,null,null,null,null,null,null,null,null,null,{"$f":"_xlfn.IFNA(IF(J490>500,\"ומעלה 500\",VLOOKUP(J490,טבלה1[#All],2,0)),\"\")","v":""}]
[null,null,null,null,null,null,null,null,null,null,null,{"$f":"_xlfn.IFNA(IF(J491>500,\"ומעלה 500\",VLOOKUP(J491,טבלה1[#All],2,0)),\"\")","v":""}]
[null,null,null,null,null,null,null,null,null,null,null,{"$f":"_xlfn.IFNA(IF(J492>500,\"ומעלה 500\",VLOOKUP(J492,טבלה1[#All],2,0)),\"\")","v":""}]
[null,null,null,null,null,null,null,null,null,null,null,{"$f":"_xlfn.IFNA(IF(J493>500,\"ומעלה 500\",VLOOKUP(J493,טבלה1[#All],2,0)),\"\")","v":""}]
[null,null,null,null,null,null,null,null,null,null,null,{"$f":"_xlfn.IFNA(IF(J494>500,\"ומעלה 500\",VLOOKUP(J494,טבלה1[#All],2,0)),\"\")","v":""}]
[null,null,null,null,null,null,null,null,null,null,null,{"$f":"_xlfn.IFNA(IF(J495>500,\"ומעלה 500\",VLOOKUP(J495,טבלה1[#All],2,0)),\"\")","v":""}]
[null,null,null,null,null,null,null,null,null,null,null,{"$f":"_xlfn.IFNA(IF(J496>500,\"ומעלה 500\",VLOOKUP(J496,טבלה1[#All],2,0)),\"\")","v":""}]
[null,null,null,null,null,null,null,null,null,null,null,{"$f":"_xlfn.IFNA(IF(J497>500,\"ומעלה 500\",VLOOKUP(J497,טבלה1[#All],2,0)),\"\")","v":""}]
[null,null,null,null,null,null,null,null,null,null,null,{"$f":"_xlfn.IFNA(IF(J498>500,\"ומעלה 500\",VLOOKUP(J498,טבלה1[#All],2,0)),\"\")","v":""}]
[null,null,null,null,null,null,null,null,null,null,null,{"$f":"_xlfn.IFNA(IF(J499>500,\"ומעלה 500\",VLOOKUP(J499,טבלה1[#All],2,0)),\"\")","v":""}]
[null,null,null,null,null,null,null,null,null,null,null,{"$f":"_xlfn.IFNA(IF(J500>500,\"ומעלה 500\",VLOOKUP(J500,טבלה1[#All],2,0)),\"\")","v":""}]
[null,null,null,null,null,null,null,null,null,null,null,{"$f":"_xlfn.IFNA(IF(J501>500,\"ומעלה 500\",VLOOKUP(J501,טבלה1[#All],2,0)),\"\")","v":""}]
[null,null,null,null,null,null,null,null,null,null,null,{"$f":"_xlfn.IFNA(IF(J502>500,\"ומעלה 500\",VLOOKUP(J502,טבלה1[#All],2,0)),\"\")","v":""}]
[null,null,null,null,null,null,null,null,null,null,null,{"$f":"_xlfn.IFNA(IF(J503>500,\"ומעלה 500\",VLOOKUP(J503,טבלה1[#All],2,0)),\"\")","v":""}]
[null,null,null,null,null,null,null,null,null,null,null,{"$f":"_xlfn.IFNA(IF(J504>500,\"ומעלה 500\",VLOOKUP(J504,טבלה1[#All],2,0)),\"\")","v":""}]
[null,null,null,null,null,null,null,null,null,null,null,{"$f":"_xlfn.IFNA(IF(J505>500,\"ומעלה 500\",VLOOKUP(J505,טבלה1[#All],2,0)),\"\")","v":""}]
[null,null,null,null,null,null,null,null,null,null,null,{"$f":"_xlfn.IFNA(IF(J506>500,\"ומעלה 500\",VLOOKUP(J506,טבלה1[#All],2,0)),\"\")","v":""}]
[null,null,null,null,null,null,null,null,null,null,null,{"$f":"_xlfn.IFNA(IF(J507>500,\"ומעלה 500\",VLOOKUP(J507,טבלה1[#All],2,0)),\"\")","v":""}]
[null,null,null,null,null,null,null,null,null,null,null,{"$f":"_xlfn.IFNA(IF(J508>500,\"ומעלה 500\",VLOOKUP(J508,טבלה1[#All],2,0)),\"\")","v":""}]
[null,null,null,null,null,null,null,null,null,null,null,{"$f":"_xlfn.IFNA(IF(J509>500,\"ומעלה 500\",VLOOKUP(J509,טבלה1[#All],2,0)),\"\")","v":""}]
[null,null,null,null,null,null,null,null,null,null,null,{"$f":"_xlfn.IFNA(IF(J510>500,\"ומעלה 500\",VLOOKUP(J510,טבלה1[#All],2,0)),\"\")","v":""}]
[null,null,null,null,null,null,null,null,null,null,null,{"$f":"_xlfn.IFNA(IF(J511>500,\"ומעלה 500\",VLOOKUP(J511,טבלה1[#All],2,0)),\"\")","v":""}]
[null,null,null,null,null,null,null,null,null,null,null,{"$f":"_xlfn.IFNA(IF(J512>500,\"ומעלה 500\",VLOOKUP(J512,טבלה1[#All],2,0)),\"\")","v":""}]
[null,null,null,null,null,null,null,null,null,null,null,{"$f":"_xlfn.IFNA(IF(J513>500,\"ומעלה 500\",VLOOKUP(J513,טבלה1[#All],2,0)),\"\")","v":""}]
[null,null,null,null,null,null,null,null,null,null,null,{"$f":"_xlfn.IFNA(IF(J514>500,\"ומעלה 500\",VLOOKUP(J514,טבלה1[#All],2,0)),\"\")","v":""}]
[null,null,null,null,null,null,null,null,null,null,null,{"$f":"_xlfn.IFNA(IF(J515>500,\"ומעלה 500\",VLOOKUP(J515,טבלה1[#All],2,0)),\"\")","v":""}]
[null,null,null,null,null,null,null,null,null,null,null,{"$f":"_xlfn.IFNA(IF(J516>500,\"ומעלה 500\",VLOOKUP(J516,טבלה1[#All],2,0)),\"\")","v":""}]
[null,null,null,null,null,null,null,null,null,null,null,{"$f":"_xlfn.IFNA(IF(J517>500,\"ומעלה 500\",VLOOKUP(J517,טבלה1[#All],2,0)),\"\")","v":""}]
[null,null,null,null,null,null,null,null,null,null,null,{"$f":"_xlfn.IFNA(IF(J518>500,\"ומעלה 500\",VLOOKUP(J518,טבלה1[#All],2,0)),\"\")","v":""}]
[null,null,null,null,null,null,null,null,null,null,null,{"$f":"_xlfn.IFNA(IF(J519>500,\"ומעלה 500\",VLOOKUP(J519,טבלה1[#All],2,0)),\"\")","v":""}]
[null,null,null,null,null,null,null,null,null,null,null,{"$f":"_xlfn.IFNA(IF(J520>500,\"ומעלה 500\",VLOOKUP(J520,טבלה1[#All],2,0)),\"\")","v":""}]
[null,null,null,null,null,null,null,null,null,null,null,{"$f":"_xlfn.IFNA(IF(J521>500,\"ומעלה 500\",VLOOKUP(J521,טבלה1[#All],2,0)),\"\")","v":""}]
[null,null,null,null,null,null,null,null,null,null,null,{"$f":"_xlfn.IFNA(IF(J522>500,\"ומעלה 500\",VLOOKUP(J522,טבלה1[#All],2,0)),\"\")","v":""}]
[null,null,null,null,null,null,null,null,null,null,null,{"$f":"_xlfn.IFNA(IF(J523>500,\"ומעלה 500\",VLOOKUP(J523,טבלה1[#All],2,0)),\"\")","v":""}]
[null,null,null,null,null,null,null,null,null,null,null,{"$f":"_xlfn.IFNA(IF(J524>500,\"ומעלה 500\",VLOOKUP(J524,טבלה1[#All],2,0)),\"\")","v":""}]
[null,null,null,null,null,null,null,null,null,null,null,{"$f":"_xlfn.IFNA(IF(J525>500,\"ומעלה 500\",VLOOKUP(J525,טבלה1[#All],2,0)),\"\")","v":""}]
[null,null,null,null,null,null,null,null,null,null,null,{"$f":"_xlfn.IFNA(IF(J526>500,\"ומעלה 500\",VLOOKUP(J526,טבלה1[#All],2,0)),\"\")","v":""}]
[null,null,null,null,null,null,null,null,null,null,null,{"$f":"_xlfn.IFNA(IF(J527>500,\"ומעלה 500\",VLOOKUP(J527,טבלה1[#All],2,0)),\"\")","v":""}]
[null,null,null,null,null,null,null,null,null,null,null,{"$f":"_xlfn.IFNA(IF(J528>500,\"ומעלה 500\",VLOOKUP(J528,טבלה1[#All],2,0)),\"\")","v":""}]
[null,null,null,null,null,null,null,null,null,null,null,{"$f":"_xlfn.IFNA(IF(J529>500,\"ומעלה 500\",VLOOKUP(J529,טבלה1[#All],2,0)),\"\")","v":""}]
[null,null,null,null,null,null,null,null,null,null,null,{"$f":"_xlfn.IFNA(IF(J530>500,\"ומעלה 500\",VLOOKUP(J530,טבלה1[#All],2,0)),\"\")","v":""}]
[null,null,null,null,null,null,null,null,null,null,null,{"$f":"_xlfn.IFNA(IF(J531>500,\"ומעלה 500\",VLOOKUP(J531,טבלה1[#All],2,0)),\"\")","v":""}]
[null,null,null,null,null,null,null,null,null,null,null,{"$f":"_xlfn.IFNA(IF(J532>500,\"ומעלה 500\",VLOOKUP(J532,טבלה1[#All],2,0)),\"\")","v":""}]
[null,null,null,null,null,null,null,null,null,null,null,{"$f":"_xlfn.IFNA(IF(J533>500,\"ומעלה 500\",VLOOKUP(J533,טבלה1[#All],2,0)),\"\")","v":""}]
[null,null,null,null,null,null,null,null,null,null,null,{"$f":"_xlfn.IFNA(IF(J534>500,\"ומעלה 500\",VLOOKUP(J534,טבלה1[#All],2,0)),\"\")","v":""}]
[null,null,null,null,null,null,null,null,null,null,null,{"$f":"_xlfn.IFNA(IF(J535>500,\"ומעלה 500\",VLOOKUP(J535,טבלה1[#All],2,0)),\"\")","v":""}]
[null,null,null,null,null,null,null,null,null,null,null,{"$f":"_xlfn.IFNA(IF(J536>500,\"ומעלה 500\",VLOOKUP(J536,טבלה1[#All],2,0)),\"\")","v":""}]
[null,null,null,null,null,null,null,null,null,null,null,{"$f":"_xlfn.IFNA(IF(J537>500,\"ומעלה 500\",VLOOKUP(J537,טבלה1[#All],2,0)),\"\")","v":""}]
[null,null,null,null,null,null,null,null,null,null,null,{"$f":"_xlfn.IFNA(IF(J538>500,\"ומעלה 500\",VLOOKUP(J538,טבלה1[#All],2,0)),\"\")","v":""}]
[null,null,null,null,null,null,null,null,null,null,null,{"$f":"_xlfn.IFNA(IF(J539>500,\"ומעלה 500\",VLOOKUP(J539,טבלה1[#All],2,0)),\"\")","v":""}]
[null,null,null,null,null,null,null,null,null,null,null,{"$f":"_xlfn.IFNA(IF(J540>500,\"ומעלה 500\",VLOOKUP(J540,טבלה1[#All],2,0)),\"\")","v":""}]
[null,null,null,null,null,null,null,null,null,null,null,{"$f":"_xlfn.IFNA(IF(J541>500,\"ומעלה 500\",VLOOKUP(J541,טבלה1[#All],2,0)),\"\")","v":""}]
[null,null,null,null,null,null,null,null,null,null,null,{"$f":"_xlfn.IFNA(IF(J542>500,\"ומעלה 500\",VLOOKUP(J542,טבלה1[#All],2,0)),\"\")","v":""}]
[null,null,null,null,null,null,null,null,null,null,null,{"$f":"_xlfn.IFNA(IF(J543>500,\"ומעלה 500\",VLOOKUP(J543,טבלה1[#All],2,0)),\"\")","v":""}]
[null,null,null,null,null,null,null,null,null,null,null,{"$f":"_xlfn.IFNA(IF(J544>500,\"ומעלה 500\",VLOOKUP(J544,טבלה1[#All],2,0)),\"\")","v":""}]
[null,null,null,null,null,null,null,null,null,null,null,{"$f":"_xlfn.IFNA(IF(J545>500,\"ומעלה 500\",VLOOKUP(J545,טבלה1[#All],2,0)),\"\")","v":""}]
[null,null,null,null,null,null,null,null,null,null,null,{"$f":"_xlfn.IFNA(IF(J546>500,\"ומעלה 500\",VLOOKUP(J546,טבלה1[#All],2,0)),\"\")","v":""}]
[null,null,null,null,null,null,null,null,null,null,null,{"$f":"_xlfn.IFNA(IF(J547>500,\"ומעלה 500\",VLOOKUP(J547,טבלה1[#All],2,0)),\"\")","v":""}]
[null,null,null,null,null,null,null,null,null,null,null,{"$f":"_xlfn.IFNA(IF(J548>500,\"ומעלה 500\",VLOOKUP(J548,טבלה1[#All],2,0)),\"\")","v":""}]
[null,null,null,null,null,null,null,null,null,null,null,{"$f":"_xlfn.IFNA(IF(J549>500,\"ומעלה 500\",VLOOKUP(J549,טבלה1[#All],2,0)),\"\")","v":""}]
[null,null,null,null,null,null,null,null,null,null,null,{"$f":"_xlfn.IFNA(IF(J550>500,\"ומעלה 500\",VLOOKUP(J550,טבלה1[#All],2,0)),\"\")","v":""}]
[null,null,null,null,null,null,null,null,null,null,null,{"$f":"_xlfn.IFNA(IF(J551>500,\"ומעלה 500\",VLOOKUP(J551,טבלה1[#All],2,0)),\"\")","v":""}]
[null,null,null,null,null,null,null,null,null,null,null,{"$f":"_xlfn.IFNA(IF(J552>500,\"ומעלה 500\",VLOOKUP(J552,טבלה1[#All],2,0)),\"\")","v":""}]
[null,null,null,null,null,null,null,null,null,null,null,{"$f":"_xlfn.IFNA(IF(J553>500,\"ומעלה 500\",VLOOKUP(J553,טבלה1[#All],2,0)),\"\")","v":""}]
[null,null,null,null,null,null,null,null,null,null,null,{"$f":"_xlfn.IFNA(IF(J554>500,\"ומעלה 500\",VLOOKUP(J554,טבלה1[#All],2,0)),\"\")","v":""}]
[null,null,null,null,null,null,null,null,null,null,null,{"$f":"_xlfn.IFNA(IF(J555>500,\"ומעלה 500\",VLOOKUP(J555,טבלה1[#All],2,0)),\"\")","v":""}]
[null,null,null,null,null,null,null,null,null,null,null,{"$f":"_xlfn.IFNA(IF(J556>500,\"ומעלה 500\",VLOOKUP(J556,טבלה1[#All],2,0)),\"\")","v":""}]
[null,null,null,null,null,null,null,null,null,null,null,{"$f":"_xlfn.IFNA(IF(J557>500,\"ומעלה 500\",VLOOKUP(J557,טבלה1[#All],2,0)),\"\")","v":""}]
[null,null,null,null,null,null,null,null,null,null,null,{"$f":"_xlfn.IFNA(IF(J558>500,\"ומעלה 500\",VLOOKUP(J558,טבלה1[#All],2,0)),\"\")","v":""}]
[null,null,null,null,null,null,null,null,null,null,null,{"$f":"_xlfn.IFNA(IF(J559>500,\"ומעלה 500\",VLOOKUP(J559,טבלה1[#All],2,0)),\"\")","v":""}]
[null,null,null,null,null,null,null,null,null,null,null,{"$f":"_xlfn.IFNA(IF(J560>500,\"ומעלה 500\",VLOOKUP(J560,טבלה1[#All],2,0)),\"\")","v":""}]
[null,null,null,null,null,null,null,null,null,null,null,{"$f":"_xlfn.IFNA(IF(J561>500,\"ומעלה 500\",VLOOKUP(J561,טבלה1[#All],2,0)),\"\")","v":""}]
[null,null,null,null,null,null,null,null,null,null,null,{"$f":"_xlfn.IFNA(IF(J562>500,\"ומעלה 500\",VLOOKUP(J562,טבלה1[#All],2,0)),\"\")","v":""}]
[null,null,null,null,null,null,null,null,null,null,null,{"$f":"_xlfn.IFNA(IF(J563>500,\"ומעלה 500\",VLOOKUP(J563,טבלה1[#All],2,0)),\"\")","v":""}]
[null,null,null,null,null,null,null,null,null,null,null,{"$f":"_xlfn.IFNA(IF(J564>500,\"ומעלה 500\",VLOOKUP(J564,טבלה1[#All],2,0)),\"\")","v":""}]
[null,null,null,null,null,null,null,null,null,null,null,{"$f":"_xlfn.IFNA(IF(J565>500,\"ומעלה 500\",VLOOKUP(J565,טבלה1[#All],2,0)),\"\")","v":""}]
[null,null,null,null,null,null,null,null,null,null,null,{"$f":"_xlfn.IFNA(IF(J566>500,\"ומעלה 500\",VLOOKUP(J566,טבלה1[#All],2,0)),\"\")","v":""}]
[null,null,null,null,null,null,null,null,null,null,null,{"$f":"_xlfn.IFNA(IF(J567>500,\"ומעלה 500\",VLOOKUP(J567,טבלה1[#All],2,0)),\"\")","v":""}]
[null,null,null,null,null,null,null,null,null,null,null,{"$f":"_xlfn.IFNA(IF(J568>500,\"ומעלה 500\",VLOOKUP(J568,טבלה1[#All],2,0)),\"\")","v":""}]
[null,null,null,null,null,null,null,null,null,null,null,{"$f":"_xlfn.IFNA(IF(J569>500,\"ומעלה 500\",VLOOKUP(J569,טבלה1[#All],2,0)),\"\")","v":""}]
[null,null,null,null,null,null,null,null,null,null,null,{"$f":"_xlfn.IFNA(IF(J570>500,\"ומעלה 500\",VLOOKUP(J570,טבלה1[#All],2,0)),\"\")","v":""}]
[null,null,null,null,null,null,null,null,null,null,null,{"$f":"_xlfn.IFNA(IF(J571>500,\"ומעלה 500\",VLOOKUP(J571,טבלה1[#All],2,0)),\"\")","v":""}]
[null,null,null,null,null,null,null,null,null,null,null,{"$f":"_xlfn.IFNA(IF(J572>500,\"ומעלה 500\",VLOOKUP(J572,טבלה1[#All],2,0)),\"\")","v":""}]
[null,null,null,null,null,null,null,null,null,null,null,{"$f":"_xlfn.IFNA(IF(J573>500,\"ומעלה 500\",VLOOKUP(J573,טבלה1[#All],2,0)),\"\")","v":""}]
[null,null,null,null,null,null,null,null,null,null,null,{"$f":"_xlfn.IFNA(IF(J574>500,\"ומעלה 500\",VLOOKUP(J574,טבלה1[#All],2,0)),\"\")","v":""}]
[null,null,null,null,null,null,null,null,null,null,null,{"$f":"_xlfn.IFNA(IF(J575>500,\"ומעלה 500\",VLOOKUP(J575,טבלה1[#All],2,0)),\"\")","v":""}]
[null,null,null,null,null,null,null,null,null,null,null,{"$f":"_xlfn.IFNA(IF(J576>500,\"ומעלה 500\",VLOOKUP(J576,טבלה1[#All],2,0)),\"\")","v":""}]
[null,null,null,null,null,null,null,null,null,null,null,{"$f":"_xlfn.IFNA(IF(J577>500,\"ומעלה 500\",VLOOKUP(J577,טבלה1[#All],2,0)),\"\")","v":""}]
[null,null,null,null,null,null,null,null,null,null,null,{"$f":"_xlfn.IFNA(IF(J578>500,\"ומעלה 500\",VLOOKUP(J578,טבלה1[#All],2,0)),\"\")","v":""}]
[null,null,null,null,null,null,null,null,null,null,null,{"$f":"_xlfn.IFNA(IF(J579>500,\"ומעלה 500\",VLOOKUP(J579,טבלה1[#All],2,0)),\"\")","v":""}]
[null,null,null,null,null,null,null,null,null,null,null,{"$f":"_xlfn.IFNA(IF(J580>500,\"ומעלה 500\",VLOOKUP(J580,טבלה1[#All],2,0)),\"\")","v":""}]
[null,null,null,null,null,null,null,null,null,null,null,{"$f":"_xlfn.IFNA(IF(J581>500,\"ומעלה 500\",VLOOKUP(J581,טבלה1[#All],2,0)),\"\")","v":""}]
[null,null,null,null,null,null,null,null,null,null,null,{"$f":"_xlfn.IFNA(IF(J582>500,\"ומעלה 500\",VLOOKUP(J582,טבלה1[#All],2,0)),\"\")","v":""}]
[null,null,null,null,null,null,null,null,null,null,null,{"$f":"_xlfn.IFNA(IF(J583>500,\"ומעלה 500\",VLOOKUP(J583,טבלה1[#All],2,0)),\"\")","v":""}]
[null,null,null,null,null,null,null,null,null,null,null,{"$f":"_xlfn.IFNA(IF(J584>500,\"ומעלה 500\",VLOOKUP(J584,טבלה1[#All],2,0)),\"\")","v":""}]
[null,null,null,null,null,null,null,null,null,null,null,{"$f":"_xlfn.IFNA(IF(J585>500,\"ומעלה 500\",VLOOKUP(J585,טבלה1[#All],2,0)),\"\")","v":""}]
[null,null,null,null,null,null,null,null,null,null,null,{"$f":"_xlfn.IFNA(IF(J586>500,\"ומעלה 500\",VLOOKUP(J586,טבלה1[#All],2,0)),\"\")","v":""}]
[null,null,null,null,null,null,null,null,null,null,null,{"$f":"_xlfn.IFNA(IF(J587>500,\"ומעלה 500\",VLOOKUP(J587,טבלה1[#All],2,0)),\"\")","v":""}]
[null,null,null,null,null,null,null,null,null,null,null,{"$f":"_xlfn.IFNA(IF(J588>500,\"ומעלה 500\",VLOOKUP(J588,טבלה1[#All],2,0)),\"\")","v":""}]
[null,null,null,null,null,null,null,null,null,null,null,{"$f":"_xlfn.IFNA(IF(J589>500,\"ומעלה 500\",VLOOKUP(J589,טבלה1[#All],2,0)),\"\")","v":""}]
[null,null,null,null,null,null,null,null,null,null,null,{"$f":"_xlfn.IFNA(IF(J590>500,\"ומעלה 500\",VLOOKUP(J590,טבלה1[#All],2,0)),\"\")","v":""}]
[null,null,null,null,null,null,null,null,null,null,null,{"$f":"_xlfn.IFNA(IF(J591>500,\"ומעלה 500\",VLOOKUP(J591,טבלה1[#All],2,0)),\"\")","v":""}]
[null,null,null,null,null,null,null,null,null,null,null,{"$f":"_xlfn.IFNA(IF(J592>500,\"ומעלה 500\",VLOOKUP(J592,טבלה1[#All],2,0)),\"\")","v":""}]
[null,null,null,null,null,null,null,null,null,null,null,{"$f":"_xlfn.IFNA(IF(J593>500,\"ומעלה 500\",VLOOKUP(J593,טבלה1[#All],2,0)),\"\")","v":""}]
[null,null,null,null,null,null,null,null,null,null,null,{"$f":"_xlfn.IFNA(IF(J594>500,\"ומעלה 500\",VLOOKUP(J594,טבלה1[#All],2,0)),\"\")","v":""}]
[null,null,null,null,null,null,null,null,null,null,null,{"$f":"_xlfn.IFNA(IF(J595>500,\"ומעלה 500\",VLOOKUP(J595,טבלה1[#All],2,0)),\"\")","v":""}]
[null,null,null,null,null,null,null,null,null,null,null,{"$f":"_xlfn.IFNA(IF(J596>500,\"ומעלה 500\",VLOOKUP(J596,טבלה1[#All],2,0)),\"\")","v":""}]
[null,null,null,null,null,null,null,null,null,null,null,{"$f":"_xlfn.IFNA(IF(J597>500,\"ומעלה 500\",VLOOKUP(J597,טבלה1[#All],2,0)),\"\")","v":""}]
[null,null,null,null,null,null,null,null,null,null,null,{"$f":"_xlfn.IFNA(IF(J598>500,\"ומעלה 500\",VLOOKUP(J598,טבלה1[#All],2,0)),\"\")","v":""}]
[null,null,null,null,null,null,null,null,null,null,null,{"$f":"_xlfn.IFNA(IF(J599>500,\"ומעלה 500\",VLOOKUP(J599,טבלה1[#All],2,0)),\"\")","v":""}]
[null,null,null,null,null,null,null,null,null,null,null,{"$f":"_xlfn.IFNA(IF(J600>500,\"ומעלה 500\",VLOOKUP(J600,טבלה1[#All],2,0)),\"\")","v":""}]
[null,null,null,null,null,null,null,null,null,null,null,{"$f":"_xlfn.IFNA(IF(J601>500,\"ומעלה 500\",VLOOKUP(J601,טבלה1[#All],2,0)),\"\")","v":""}]
[null,null,null,null,null,null,null,null,null,null,null,{"$f":"_xlfn.IFNA(IF(J602>500,\"ומעלה 500\",VLOOKUP(J602,טבלה1[#All],2,0)),\"\")","v":""}]
[null,null,null,null,null,null,null,null,null,null,null,{"$f":"_xlfn.IFNA(IF(J603>500,\"ומעלה 500\",VLOOKUP(J603,טבלה1[#All],2,0)),\"\")","v":""}]
[null,null,null,null,null,null,null,null,null,null,null,{"$f":"_xlfn.IFNA(IF(J604>500,\"ומעלה 500\",VLOOKUP(J604,טבלה1[#All],2,0)),\"\")","v":""}]
[null,null,null,null,null,null,null,null,null,null,null,{"$f":"_xlfn.IFNA(IF(J605>500,\"ומעלה 500\",VLOOKUP(J605,טבלה1[#All],2,0)),\"\")","v":""}]
[null,null,null,null,null,null,null,null,null,null,null,{"$f":"_xlfn.IFNA(IF(J606>500,\"ומעלה 500\",VLOOKUP(J606,טבלה1[#All],2,0)),\"\")","v":""}]
[null,null,null,null,null,null,null,null,null,null,null,{"$f":"_xlfn.IFNA(IF(J607>500,\"ומעלה 500\",VLOOKUP(J607,טבלה1[#All],2,0)),\"\")","v":""}]
[null,null,null,null,null,null,null,null,null,null,null,{"$f":"_xlfn.IFNA(IF(J608>500,\"ומעלה 500\",VLOOKUP(J608,טבלה1[#All],2,0)),\"\")","v":""}]
[null,null,null,null,null,null,null,null,null,null,null,{"$f":"_xlfn.IFNA(IF(J609>500,\"ומעלה 500\",VLOOKUP(J609,טבלה1[#All],2,0)),\"\")","v":""}]
[null,null,null,null,null,null,null,null,null,null,null,{"$f":"_xlfn.IFNA(IF(J610>500,\"ומעלה 500\",VLOOKUP(J610,טבלה1[#All],2,0)),\"\")","v":""}]
[null,null,null,null,null,null,null,null,null,null,null,{"$f":"_xlfn.IFNA(IF(J611>500,\"ומעלה 500\",VLOOKUP(J611,טבלה1[#All],2,0)),\"\")","v":""}]
[null,null,null,null,null,null,null,null,null,null,null,{"$f":"_xlfn.IFNA(IF(J612>500,\"ומעלה 500\",VLOOKUP(J612,טבלה1[#All],2,0)),\"\")","v":""}]
[null,null,null,null,null,null,null,null,null,null,null,{"$f":"_xlfn.IFNA(IF(J613>500,\"ומעלה 500\",VLOOKUP(J613,טבלה1[#All],2,0)),\"\")","v":""}]
[null,null,null,null,null,null,null,null,null,null,null,{"$f":"_xlfn.IFNA(IF(J614>500,\"ומעלה 500\",VLOOKUP(J614,טבלה1[#All],2,0)),\"\")","v":""}]
[null,null,null,null,null,null,null,null,null,null,null,{"$f":"_xlfn.IFNA(IF(J615>500,\"ומעלה 500\",VLOOKUP(J615,טבלה1[#All],2,0)),\"\")","v":""}]
[null,null,null,null,null,null,null,null,null,null,null,{"$f":"_xlfn.IFNA(IF(J616>500,\"ומעלה 500\",VLOOKUP(J616,טבלה1[#All],2,0)),\"\")","v":""}]
[null,null,null,null,null,null,null,null,null,null,null,{"$f":"_xlfn.IFNA(IF(J617>500,\"ומעלה 500\",VLOOKUP(J617,טבלה1[#All],2,0)),\"\")","v":""}]
[null,null,null,null,null,null,null,null,null,null,null,{"$f":"_xlfn.IFNA(IF(J618>500,\"ומעלה 500\",VLOOKUP(J618,טבלה1[#All],2,0)),\"\")","v":""}]
[null,null,null,null,null,null,null,null,null,null,null,{"$f":"_xlfn.IFNA(IF(J619>500,\"ומעלה 500\",VLOOKUP(J619,טבלה1[#All],2,0)),\"\")","v":""}]
[null,null,null,null,null,null,null,null,null,null,null,{"$f":"_xlfn.IFNA(IF(J620>500,\"ומעלה 500\",VLOOKUP(J620,טבלה1[#All],2,0)),\"\")","v":""}]
[null,null,null,null,null,null,null,null,null,null,null,{"$f":"_xlfn.IFNA(IF(J621>500,\"ומעלה 500\",VLOOKUP(J621,טבלה1[#All],2,0)),\"\")","v":""}]
[null,null,null,null,null,null,null,null,null,null,null,{"$f":"_xlfn.IFNA(IF(J622>500,\"ומעלה 500\",VLOOKUP(J622,טבלה1[#All],2,0)),\"\")","v":""}]
[null,null,null,null,null,null,null,null,null,null,null,{"$f":"_xlfn.IFNA(IF(J623>500,\"ומעלה 500\",VLOOKUP(J623,טבלה1[#All],2,0)),\"\")","v":""}]
[null,null,null,null,null,null,null,null,null,null,null,{"$f":"_xlfn.IFNA(IF(J624>500,\"ומעלה 500\",VLOOKUP(J624,טבלה1[#All],2,0)),\"\")","v":""}]
[null,null,null,null,null,null,null,null,null,null,null,{"$f":"_xlfn.IFNA(IF(J625>500,\"ומעלה 500\",VLOOKUP(J625,טבלה1[#All],2,0)),\"\")","v":""}]
[null,null,null,null,null,null,null,null,null,null,null,{"$f":"_xlfn.IFNA(IF(J626>500,\"ומעלה 500\",VLOOKUP(J626,טבלה1[#All],2,0)),\"\")","v":""}]
[null,null,null,null,null,null,null,null,null,null,null,{"$f":"_xlfn.IFNA(IF(J627>500,\"ומעלה 500\",VLOOKUP(J627,טבלה1[#All],2,0)),\"\")","v":""}]
[null,null,null,null,null,null,null,null,null,null,null,{"$f":"_xlfn.IFNA(IF(J628>500,\"ומעלה 500\",VLOOKUP(J628,טבלה1[#All],2,0)),\"\")","v":""}]
[null,null,null,null,null,null,null,null,null,null,null,{"$f":"_xlfn.IFNA(IF(J629>500,\"ומעלה 500\",VLOOKUP(J629,טבלה1[#All],2,0)),\"\")","v":""}]
[null,null,null,null,null,null,null,null,null,null,null,{"$f":"_xlfn.IFNA(IF(J630>500,\"ומעלה 500\",VLOOKUP(J630,טבלה1[#All],2,0)),\"\")","v":""}]
[null,null,null,null,null,null,null,null,null,null,null,{"$f":"_xlfn.IFNA(IF(J631>500,\"ומעלה 500\",VLOOKUP(J631,טבלה1[#All],2,0)),\"\")","v":""}]
[null,null,null,null,null,null,null,null,null,null,null,{"$f":"_xlfn.IFNA(IF(J632>500,\"ומעלה 500\",VLOOKUP(J632,טבלה1[#All],2,0)),\"\")","v":""}]
[null,null,null,null,null,null,null,null,null,null,null,{"$f":"_xlfn.IFNA(IF(J633>500,\"ומעלה 500\",VLOOKUP(J633,טבלה1[#All],2,0)),\"\")","v":""}]
[null,null,null,null,null,null,null,null,null,null,null,{"$f":"_xlfn.IFNA(IF(J634>500,\"ומעלה 500\",VLOOKUP(J634,טבלה1[#All],2,0)),\"\")","v":""}]
[null,null,null,null,null,null,null,null,null,null,null,{"$f":"_xlfn.IFNA(IF(J635>500,\"ומעלה 500\",VLOOKUP(J635,טבלה1[#All],2,0)),\"\")","v":""}]
[null,null,null,null,null,null,null,null,null,null,null,{"$f":"_xlfn.IFNA(IF(J636>500,\"ומעלה 500\",VLOOKUP(J636,טבלה1[#All],2,0)),\"\")","v":""}]
[null,null,null,null,null,null,null,null,null,null,null,{"$f":"_xlfn.IFNA(IF(J637>500,\"ומעלה 500\",VLOOKUP(J637,טבלה1[#All],2,0)),\"\")","v":""}]
[null,null,null,null,null,null,null,null,null,null,null,{"$f":"_xlfn.IFNA(IF(J638>500,\"ומעלה 500\",VLOOKUP(J638,טבלה1[#All],2,0)),\"\")","v":""}]
[null,null,null,null,null,null,null,null,null,null,null,{"$f":"_xlfn.IFNA(IF(J639>500,\"ומעלה 500\",VLOOKUP(J639,טבלה1[#All],2,0)),\"\")","v":""}]
[null,null,null,null,null,null,null,null,null,null,null,{"$f":"_xlfn.IFNA(IF(J640>500,\"ומעלה 500\",VLOOKUP(J640,טבלה1[#All],2,0)),\"\")","v":""}]
[null,null,null,null,null,null,null,null,null,null,null,{"$f":"_xlfn.IFNA(IF(J641>500,\"ומעלה 500\",VLOOKUP(J641,טבלה1[#All],2,0)),\"\")","v":""}]
[null,null,null,null,null,null,null,null,null,null,null,{"$f":"_xlfn.IFNA(IF(J642>500,\"ומעלה 500\",VLOOKUP(J642,טבלה1[#All],2,0)),\"\")","v":""}]
[null,null,null,null,null,null,null,null,null,null,null,{"$f":"_xlfn.IFNA(IF(J643>500,\"ומעלה 500\",VLOOKUP(J643,טבלה1[#All],2,0)),\"\")","v":""}]
[null,null,null,null,null,null,null,null,null,null,null,{"$f":"_xlfn.IFNA(IF(J644>500,\"ומעלה 500\",VLOOKUP(J644,טבלה1[#All],2,0)),\"\")","v":""}]
[null,null,null,null,null,null,null,null,null,null,null,{"$f":"_xlfn.IFNA(IF(J645>500,\"ומעלה 500\",VLOOKUP(J645,טבלה1[#All],2,0)),\"\")","v":""}]
[null,null,null,null,null,null,null,null,null,null,null,{"$f":"_xlfn.IFNA(IF(J646>500,\"ומעלה 500\",VLOOKUP(J646,טבלה1[#All],2,0)),\"\")","v":""}]
[null,null,null,null,null,null,null,null,null,null,null,{"$f":"_xlfn.IFNA(IF(J647>500,\"ומעלה 500\",VLOOKUP(J647,טבלה1[#All],2,0)),\"\")","v":""}]
[null,null,null,null,null,null,null,null,null,null,null,{"$f":"_xlfn.IFNA(IF(J648>500,\"ומעלה 500\",VLOOKUP(J648,טבלה1[#All],2,0)),\"\")","v":""}]
[null,null,null,null,null,null,null,null,null,null,null,{"$f":"_xlfn.IFNA(IF(J649>500,\"ומעלה 500\",VLOOKUP(J649,טבלה1[#All],2,0)),\"\")","v":""}]
[null,null,null,null,null,null,null,null,null,null,null,{"$f":"_xlfn.IFNA(IF(J650>500,\"ומעלה 500\",VLOOKUP(J650,טבלה1[#All],2,0)),\"\")","v":""}]
[null,null,null,null,null,null,null,null,null,null,null,{"$f":"_xlfn.IFNA(IF(J651>500,\"ומעלה 500\",VLOOKUP(J651,טבלה1[#All],2,0)),\"\")","v":""}]
[null,null,null,null,null,null,null,null,null,null,null,{"$f":"_xlfn.IFNA(IF(J652>500,\"ומעלה 500\",VLOOKUP(J652,טבלה1[#All],2,0)),\"\")","v":""}]
[null,null,null,null,null,null,null,null,null,null,null,{"$f":"_xlfn.IFNA(IF(J653>500,\"ומעלה 500\",VLOOKUP(J653,טבלה1[#All],2,0)),\"\")","v":""}]
[null,null,null,null,null,null,null,null,null,null,null,{"$f":"_xlfn.IFNA(IF(J654>500,\"ומעלה 500\",VLOOKUP(J654,טבלה1[#All],2,0)),\"\")","v":""}]
[null,null,null,null,null,null,null,null,null,null,null,{"$f":"_xlfn.IFNA(IF(J655>500,\"ומעלה 500\",VLOOKUP(J655,טבלה1[#All],2,0)),\"\")","v":""}]
[null,null,null,null,null,null,null,null,null,null,null,{"$f":"_xlfn.IFNA(IF(J656>500,\"ומעלה 500\",VLOOKUP(J656,טבלה1[#All],2,0)),\"\")","v":""}]
[null,null,null,null,null,null,null,null,null,null,null,{"$f":"_xlfn.IFNA(IF(J657>500,\"ומעלה 500\",VLOOKUP(J657,טבלה1[#All],2,0)),\"\")","v":""}]
[null,null,null,null,null,null,null,null,null,null,null,{"$f":"_xlfn.IFNA(IF(J658>500,\"ומעלה 500\",VLOOKUP(J658,טבלה1[#All],2,0)),\"\")","v":""}]
[null,null,null,null,null,null,null,null,null,null,null,{"$f":"_xlfn.IFNA(IF(J659>500,\"ומעלה 500\",VLOOKUP(J659,טבלה1[#All],2,0)),\"\")","v":""}]
[null,null,null,null,null,null,null,null,null,null,null,{"$f":"_xlfn.IFNA(IF(J660>500,\"ומעלה 500\",VLOOKUP(J660,טבלה1[#All],2,0)),\"\")","v":""}]
[null,null,null,null,null,null,null,null,null,null,null,{"$f":"_xlfn.IFNA(IF(J661>500,\"ומעלה 500\",VLOOKUP(J661,טבלה1[#All],2,0)),\"\")","v":""}]
[null,null,null,null,null,null,null,null,null,null,null,{"$f":"_xlfn.IFNA(IF(J662>500,\"ומעלה 500\",VLOOKUP(J662,טבלה1[#All],2,0)),\"\")","v":""}]
[null,null,null,null,null,null,null,null,null,null,null,{"$f":"_xlfn.IFNA(IF(J663>500,\"ומעלה 500\",VLOOKUP(J663,טבלה1[#All],2,0)),\"\")","v":""}]
[null,null,null,null,null,null,null,null,null,null,null,{"$f":"_xlfn.IFNA(IF(J664>500,\"ומעלה 500\",VLOOKUP(J664,טבלה1[#All],2,0)),\"\")","v":""}]
[null,null,null,null,null,null,null,null,null,null,null,{"$f":"_xlfn.IFNA(IF(J665>500,\"ומעלה 500\",VLOOKUP(J665,טבלה1[#All],2,0)),\"\")","v":""}]
[null,null,null,null,null,null,null,null,null,null,null,{"$f":"_xlfn.IFNA(IF(J666>500,\"ומעלה 500\",VLOOKUP(J666,טבלה1[#All],2,0)),\"\")","v":""}]
[null,null,null,null,null,null,null,null,null,null,null,{"$f":"_xlfn.IFNA(IF(J667>500,\"ומעלה 500\",VLOOKUP(J667,טבלה1[#All],2,0)),\"\")","v":""}]
[null,null,null,null,null,null,null,null,null,null,null,{"$f":"_xlfn.IFNA(IF(J668>500,\"ומעלה 500\",VLOOKUP(J668,טבלה1[#All],2,0)),\"\")","v":""}]
[null,null,null,null,null,null,null,null,null,null,null,{"$f":"_xlfn.IFNA(IF(J669>500,\"ומעלה 500\",VLOOKUP(J669,טבלה1[#All],2,0)),\"\")","v":""}]
[null,null,null,null,null,null,null,null,null,null,null,{"$f":"_xlfn.IFNA(IF(J670>500,\"ומעלה 500\",VLOOKUP(J670,טבלה1[#All],2,0)),\"\")","v":""}]
[null,null,null,null,null,null,null,null,null,null,null,{"$f":"_xlfn.IFNA(IF(J671>500,\"ומעלה 500\",VLOOKUP(J671,טבלה1[#All],2,0)),\"\")","v":""}]
[null,null,null,null,null,null,null,null,null,null,null,{"$f":"_xlfn.IFNA(IF(J672>500,\"ומעלה 500\",VLOOKUP(J672,טבלה1[#All],2,0)),\"\")","v":""}]
[null,null,null,null,null,null,null,null,null,null,null,{"$f":"_xlfn.IFNA(IF(J673>500,\"ומעלה 500\",VLOOKUP(J673,טבלה1[#All],2,0)),\"\")","v":""}]
[null,null,null,null,null,null,null,null,null,null,null,{"$f":"_xlfn.IFNA(IF(J674>500,\"ומעלה 500\",VLOOKUP(J674,טבלה1[#All],2,0)),\"\")","v":""}]
[null,null,null,null,null,null,null,null,null,null,null,{"$f":"_xlfn.IFNA(IF(J675>500,\"ומעלה 500\",VLOOKUP(J675,טבלה1[#All],2,0)),\"\")","v":""}]
[null,null,null,null,null,null,null,null,null,null,null,{"$f":"_xlfn.IFNA(IF(J676>500,\"ומעלה 500\",VLOOKUP(J676,טבלה1[#All],2,0)),\"\")","v":""}]
[null,null,null,null,null,null,null,null,null,null,null,{"$f":"_xlfn.IFNA(IF(J677>500,\"ומעלה 500\",VLOOKUP(J677,טבלה1[#All],2,0)),\"\")","v":""}]
[null,null,null,null,null,null,null,null,null,null,null,{"$f":"_xlfn.IFNA(IF(J678>500,\"ומעלה 500\",VLOOKUP(J678,טבלה1[#All],2,0)),\"\")","v":""}]
[null,null,null,null,null,null,null,null,null,null,null,{"$f":"_xlfn.IFNA(IF(J679>500,\"ומעלה 500\",VLOOKUP(J679,טבלה1[#All],2,0)),\"\")","v":""}]
[null,null,null,null,null,null,null,null,null,null,null,{"$f":"_xlfn.IFNA(IF(J680>500,\"ומעלה 500\",VLOOKUP(J680,טבלה1[#All],2,0)),\"\")","v":""}]
[null,null,null,null,null,null,null,null,null,null,null,{"$f":"_xlfn.IFNA(IF(J681>500,\"ומעלה 500\",VLOOKUP(J681,טבלה1[#All],2,0)),\"\")","v":""}]
[null,null,null,null,null,null,null,null,null,null,null,{"$f":"_xlfn.IFNA(IF(J682>500,\"ומעלה 500\",VLOOKUP(J682,טבלה1[#All],2,0)),\"\")","v":""}]
[null,null,null,null,null,null,null,null,null,null,null,{"$f":"_xlfn.IFNA(IF(J683>500,\"ומעלה 500\",VLOOKUP(J683,טבלה1[#All],2,0)),\"\")","v":""}]
[null,null,null,null,null,null,null,null,null,null,null,{"$f":"_xlfn.IFNA(IF(J684>500,\"ומעלה 500\",VLOOKUP(J684,טבלה1[#All],2,0)),\"\")","v":""}]
[null,null,null,null,null,null,null,null,null,null,null,{"$f":"_xlfn.IFNA(IF(J685>500,\"ומעלה 500\",VLOOKUP(J685,טבלה1[#All],2,0)),\"\")","v":""}]
[null,null,null,null,null,null,null,null,null,null,null,{"$f":"_xlfn.IFNA(IF(J686>500,\"ומעלה 500\",VLOOKUP(J686,טבלה1[#All],2,0)),\"\")","v":""}]
[null,null,null,null,null,null,null,null,null,null,null,{"$f":"_xlfn.IFNA(IF(J687>500,\"ומעלה 500\",VLOOKUP(J687,טבלה1[#All],2,0)),\"\")","v":""}]
[null,null,null,null,null,null,null,null,null,null,null,{"$f":"_xlfn.IFNA(IF(J688>500,\"ומעלה 500\",VLOOKUP(J688,טבלה1[#All],2,0)),\"\")","v":""}]
[null,null,null,null,null,null,null,null,null,null,null,{"$f":"_xlfn.IFNA(IF(J689>500,\"ומעלה 500\",VLOOKUP(J689,טבלה1[#All],2,0)),\"\")","v":""}]
[null,null,null,null,null,null,null,null,null,null,null,{"$f":"_xlfn.IFNA(IF(J690>500,\"ומעלה 500\",VLOOKUP(J690,טבלה1[#All],2,0)),\"\")","v":""}]
[null,null,null,null,null,null,null,null,null,null,null,{"$f":"_xlfn.IFNA(IF(J691>500,\"ומעלה 500\",VLOOKUP(J691,טבלה1[#All],2,0)),\"\")","v":""}]
[null,null,null,null,null,null,null,null,null,null,null,{"$f":"_xlfn.IFNA(IF(J692>500,\"ומעלה 500\",VLOOKUP(J692,טבלה1[#All],2,0)),\"\")","v":""}]
[null,null,null,null,null,null,null,null,null,null,null,{"$f":"_xlfn.IFNA(IF(J693>500,\"ומעלה 500\",VLOOKUP(J693,טבלה1[#All],2,0)),\"\")","v":""}]
[null,null,null,null,null,null,null,null,null,null,null,{"$f":"_xlfn.IFNA(IF(J694>500,\"ומעלה 500\",VLOOKUP(J694,טבלה1[#All],2,0)),\"\")","v":""}]
[null,null,null,null,null,null,null,null,null,null,null,{"$f":"_xlfn.IFNA(IF(J695>500,\"ומעלה 500\",VLOOKUP(J695,טבלה1[#All],2,0)),\"\")","v":""}]
[null,null,null,null,null,null,null,null,null,null,null,{"$f":"_xlfn.IFNA(IF(J696>500,\"ומעלה 500\",VLOOKUP(J696,טבלה1[#All],2,0)),\"\")","v":""}]
[null,null,null,null,null,null,null,null,null,null,null,{"$f":"_xlfn.IFNA(IF(J697>500,\"ומעלה 500\",VLOOKUP(J697,טבלה1[#All],2,0)),\"\")","v":""}]
[null,null,null,null,null,null,null,null,null,null,null,{"$f":"_xlfn.IFNA(IF(J698>500,\"ומעלה 500\",VLOOKUP(J698,טבלה1[#All],2,0)),\"\")","v":""}]
[null,null,null,null,null,null,null,null,null,null,null,{"$f":"_xlfn.IFNA(IF(J699>500,\"ומעלה 500\",VLOOKUP(J699,טבלה1[#All],2,0)),\"\")","v":""}]
[null,null,null,null,null,null,null,null,null,null,null,{"$f":"_xlfn.IFNA(IF(J700>500,\"ומעלה 500\",VLOOKUP(J700,טבלה1[#All],2,0)),\"\")","v":""}]
[null,null,null,null,null,null,null,null,null,null,null,{"$f":"_xlfn.IFNA(IF(J701>500,\"ומעלה 500\",VLOOKUP(J701,טבלה1[#All],2,0)),\"\")","v":""}]
[null,null,null,null,null,null,null,null,null,null,null,{"$f":"_xlfn.IFNA(IF(J702>500,\"ומעלה 500\",VLOOKUP(J702,טבלה1[#All],2,0)),\"\")","v":""}]
[null,null,null,null,null,null,null,null,null,null,null,{"$f":"_xlfn.IFNA(IF(J703>500,\"ומעלה 500\",VLOOKUP(J703,טבלה1[#All],2,0)),\"\")","v":""}]
[null,null,null,null,null,null,null,null,null,null,null,{"$f":"_xlfn.IFNA(IF(J704>500,\"ומעלה 500\",VLOOKUP(J704,טבלה1[#All],2,0)),\"\")","v":""}]
[null,null,null,null,null,null,null,null,null,null,null,{"$f":"_xlfn.IFNA(IF(J705>500,\"ומעלה 500\",VLOOKUP(J705,טבלה1[#All],2,0)),\"\")","v":""}]
[null,null,null,null,null,null,null,null,null,null,null,{"$f":"_xlfn.IFNA(IF(J706>500,\"ומעלה 500\",VLOOKUP(J706,טבלה1[#All],2,0)),\"\")","v":""}]
[null,null,null,null,null,null,null,null,null,null,null,{"$f":"_xlfn.IFNA(IF(J707>500,\"ומעלה 500\",VLOOKUP(J707,טבלה1[#All],2,0)),\"\")","v":""}]
[null,null,null,null,null,null,null,null,null,null,null,{"$f":"_xlfn.IFNA(IF(J708>500,\"ומעלה 500\",VLOOKUP(J708,טבלה1[#All],2,0)),\"\")","v":""}]
[null,null,null,null,null,null,null,null,null,null,null,{"$f":"_xlfn.IFNA(IF(J709>500,\"ומעלה 500\",VLOOKUP(J709,טבלה1[#All],2,0)),\"\")","v":""}]
[null,null,null,null,null,null,null,null,null,null,null,{"$f":"_xlfn.IFNA(IF(J710>500,\"ומעלה 500\",VLOOKUP(J710,טבלה1[#All],2,0)),\"\")","v":""}]
[null,null,null,null,null,null,null,null,null,null,null,{"$f":"_xlfn.IFNA(IF(J711>500,\"ומעלה 500\",VLOOKUP(J711,טבלה1[#All],2,0)),\"\")","v":""}]
[null,null,null,null,null,null,null,null,null,null,null,{"$f":"_xlfn.IFNA(IF(J712>500,\"ומעלה 500\",VLOOKUP(J712,טבלה1[#All],2,0)),\"\")","v":""}]
[null,null,null,null,null,null,null,null,null,null,null,{"$f":"_xlfn.IFNA(IF(J713>500,\"ומעלה 500\",VLOOKUP(J713,טבלה1[#All],2,0)),\"\")","v":""}]
[null,null,null,null,null,null,null,null,null,null,null,{"$f":"_xlfn.IFNA(IF(J714>500,\"ומעלה 500\",VLOOKUP(J714,טבלה1[#All],2,0)),\"\")","v":""}]
[null,null,null,null,null,null,null,null,null,null,null,{"$f":"_xlfn.IFNA(IF(J715>500,\"ומעלה 500\",VLOOKUP(J715,טבלה1[#All],2,0)),\"\")","v":""}]
[null,null,null,null,null,null,null,null,null,null,null,{"$f":"_xlfn.IFNA(IF(J716>500,\"ומעלה 500\",VLOOKUP(J716,טבלה1[#All],2,0)),\"\")","v":""}]
[null,null,null,null,null,null,null,null,null,null,null,{"$f":"_xlfn.IFNA(IF(J717>500,\"ומעלה 500\",VLOOKUP(J717,טבלה1[#All],2,0)),\"\")","v":""}]
[null,null,null,null,null,null,null,null,null,null,null,{"$f":"_xlfn.IFNA(IF(J718>500,\"ומעלה 500\",VLOOKUP(J718,טבלה1[#All],2,0)),\"\")","v":""}]
[null,null,null,null,null,null,null,null,null,null,null,{"$f":"_xlfn.IFNA(IF(J719>500,\"ומעלה 500\",VLOOKUP(J719,טבלה1[#All],2,0)),\"\")","v":""}]
[null,null,null,null,null,null,null,null,null,null,null,{"$f":"_xlfn.IFNA(IF(J720>500,\"ומעלה 500\",VLOOKUP(J720,טבלה1[#All],2,0)),\"\")","v":""}]
[null,null,null,null,null,null,null,null,null,null,null,{"$f":"_xlfn.IFNA(IF(J721>500,\"ומעלה 500\",VLOOKUP(J721,טבלה1[#All],2,0)),\"\")","v":""}]
[null,null,null,null,null,null,null,null,null,null,null,{"$f":"_xlfn.IFNA(IF(J722>500,\"ומעלה 500\",VLOOKUP(J722,טבלה1[#All],2,0)),\"\")","v":""}]
[null,null,null,null,null,null,null,null,null,null,null,{"$f":"_xlfn.IFNA(IF(J723>500,\"ומעלה 500\",VLOOKUP(J723,טבלה1[#All],2,0)),\"\")","v":""}]
[null,null,null,null,null,null,null,null,null,null,null,{"$f":"_xlfn.IFNA(IF(J724>500,\"ומעלה 500\",VLOOKUP(J724,טבלה1[#All],2,0)),\"\")","v":""}]
[null,null,null,null,null,null,null,null,null,null,null,{"$f":"_xlfn.IFNA(IF(J725>500,\"ומעלה 500\",VLOOKUP(J725,טבלה1[#All],2,0)),\"\")","v":""}]
[null,null,null,null,null,null,null,null,null,null,null,{"$f":"_xlfn.IFNA(IF(J726>500,\"ומעלה 500\",VLOOKUP(J726,טבלה1[#All],2,0)),\"\")","v":""}]
[null,null,null,null,null,null,null,null,null,null,null,{"$f":"_xlfn.IFNA(IF(J727>500,\"ומעלה 500\",VLOOKUP(J727,טבלה1[#All],2,0)),\"\")","v":""}]
[null,null,null,null,null,null,null,null,null,null,null,{"$f":"_xlfn.IFNA(IF(J728>500,\"ומעלה 500\",VLOOKUP(J728,טבלה1[#All],2,0)),\"\")","v":""}]
[null,null,null,null,null,null,null,null,null,null,null,{"$f":"_xlfn.IFNA(IF(J729>500,\"ומעלה 500\",VLOOKUP(J729,טבלה1[#All],2,0)),\"\")","v":""}]
[null,null,null,null,null,null,null,null,null,null,null,{"$f":"_xlfn.IFNA(IF(J730>500,\"ומעלה 500\",VLOOKUP(J730,טבלה1[#All],2,0)),\"\")","v":""}]
[null,null,null,null,null,null,null,null,null,null,null,{"$f":"_xlfn.IFNA(IF(J731>500,\"ומעלה 500\",VLOOKUP(J731,טבלה1[#All],2,0)),\"\")","v":""}]
[null,null,null,null,null,null,null,null,null,null,null,{"$f":"_xlfn.IFNA(IF(J732>500,\"ומעלה 500\",VLOOKUP(J732,טבלה1[#All],2,0)),\"\")","v":""}]
[null,null,null,null,null,null,null,null,null,null,null,{"$f":"_xlfn.IFNA(IF(J733>500,\"ומעלה 500\",VLOOKUP(J733,טבלה1[#All],2,0)),\"\")","v":""}]
[null,null,null,null,null,null,null,null,null,null,null,{"$f":"_xlfn.IFNA(IF(J734>500,\"ומעלה 500\",VLOOKUP(J734,טבלה1[#All],2,0)),\"\")","v":""}]
[null,null,null,null,null,null,null,null,null,null,null,{"$f":"_xlfn.IFNA(IF(J735>500,\"ומעלה 500\",VLOOKUP(J735,טבלה1[#All],2,0)),\"\")","v":""}]
[null,null,null,null,null,null,null,null,null,null,null,{"$f":"_xlfn.IFNA(IF(J736>500,\"ומעלה 500\",VLOOKUP(J736,טבלה1[#All],2,0)),\"\")","v":""}]
[null,null,null,null,null,null,null,null,null,null,null,{"$f":"_xlfn.IFNA(IF(J737>500,\"ומעלה 500\",VLOOKUP(J737,טבלה1[#All],2,0)),\"\")","v":""}]
[null,null,null,null,null,null,null,null,null,null,null,{"$f":"_xlfn.IFNA(IF(J738>500,\"ומעלה 500\",VLOOKUP(J738,טבלה1[#All],2,0)),\"\")","v":""}]
[null,null,null,null,null,null,null,null,null,null,null,{"$f":"_xlfn.IFNA(IF(J739>500,\"ומעלה 500\",VLOOKUP(J739,טבלה1[#All],2,0)),\"\")","v":""}]
[null,null,null,null,null,null,null,null,null,null,null,{"$f":"_xlfn.IFNA(IF(J740>500,\"ומעלה 500\",VLOOKUP(J740,טבלה1[#All],2,0)),\"\")","v":""}]
[null,null,null,null,null,null,null,null,null,null,null,{"$f":"_xlfn.IFNA(IF(J741>500,\"ומעלה 500\",VLOOKUP(J741,טבלה1[#All],2,0)),\"\")","v":""}]
[null,null,null,null,null,null,null,null,null,null,null,{"$f":"_xlfn.IFNA(IF(J742>500,\"ומעלה 500\",VLOOKUP(J742,טבלה1[#All],2,0)),\"\")","v":""}]
[null,null,null,null,null,null,null,null,null,null,null,{"$f":"_xlfn.IFNA(IF(J743>500,\"ומעלה 500\",VLOOKUP(J743,טבלה1[#All],2,0)),\"\")","v":""}]
[null,null,null,null,null,null,null,null,null,null,null,{"$f":"_xlfn.IFNA(IF(J744>500,\"ומעלה 500\",VLOOKUP(J744,טבלה1[#All],2,0)),\"\")","v":""}]
[null,null,null,null,null,null,null,null,null,null,null,{"$f":"_xlfn.IFNA(IF(J745>500,\"ומעלה 500\",VLOOKUP(J745,טבלה1[#All],2,0)),\"\")","v":""}]
[null,null,null,null,null,null,null,null,null,null,null,{"$f":"_xlfn.IFNA(IF(J746>500,\"ומעלה 500\",VLOOKUP(J746,טבלה1[#All],2,0)),\"\")","v":""}]
[null,null,null,null,null,null,null,null,null,null,null,{"$f":"_xlfn.IFNA(IF(J747>500,\"ומעלה 500\",VLOOKUP(J747,טבלה1[#All],2,0)),\"\")","v":""}]
[null,null,null,null,null,null,null,null,null,null,null,{"$f":"_xlfn.IFNA(IF(J748>500,\"ומעלה 500\",VLOOKUP(J748,טבלה1[#All],2,0)),\"\")","v":""}]
[null,null,null,null,null,null,null,null,null,null,null,{"$f":"_xlfn.IFNA(IF(J749>500,\"ומעלה 500\",VLOOKUP(J749,טבלה1[#All],2,0)),\"\")","v":""}]
[null,null,null,null,null,null,null,null,null,null,null,{"$f":"_xlfn.IFNA(IF(J750>500,\"ומעלה 500\",VLOOKUP(J750,טבלה1[#All],2,0)),\"\")","v":""}]
[null,null,null,null,null,null,null,null,null,null,null,{"$f":"_xlfn.IFNA(IF(J751>500,\"ומעלה 500\",VLOOKUP(J751,טבלה1[#All],2,0)),\"\")","v":""}]
[null,null,null,null,null,null,null,null,null,null,null,{"$f":"_xlfn.IFNA(IF(J752>500,\"ומעלה 500\",VLOOKUP(J752,טבלה1[#All],2,0)),\"\")","v":""}]
[null,null,null,null,null,null,null,null,null,null,null,{"$f":"_xlfn.IFNA(IF(J753>500,\"ומעלה 500\",VLOOKUP(J753,טבלה1[#All],2,0)),\"\")","v":""}]
[null,null,null,null,null,null,null,null,null,null,null,{"$f":"_xlfn.IFNA(IF(J754>500,\"ומעלה 500\",VLOOKUP(J754,טבלה1[#All],2,0)),\"\")","v":""}]
[null,null,null,null,null,null,null,null,null,null,null,{"$f":"_xlfn.IFNA(IF(J755>500,\"ומעלה 500\",VLOOKUP(J755,טבלה1[#All],2,0)),\"\")","v":""}]
[null,null,null,null,null,null,null,null,null,null,null,{"$f":"_xlfn.IFNA(IF(J756>500,\"ומעלה 500\",VLOOKUP(J756,טבלה1[#All],2,0)),\"\")","v":""}]
[null,null,null,null,null,null,null,null,null,null,null,{"$f":"_xlfn.IFNA(IF(J757>500,\"ומעלה 500\",VLOOKUP(J757,טבלה1[#All],2,0)),\"\")","v":""}]
[null,null,null,null,null,null,null,null,null,null,null,{"$f":"_xlfn.IFNA(IF(J758>500,\"ומעלה 500\",VLOOKUP(J758,טבלה1[#All],2,0)),\"\")","v":""}]
[null,null,null,null,null,null,null,null,null,null,null,{"$f":"_xlfn.IFNA(IF(J759>500,\"ומעלה 500\",VLOOKUP(J759,טבלה1[#All],2,0)),\"\")","v":""}]
[null,null,null,null,null,null,null,null,null,null,null,{"$f":"_xlfn.IFNA(IF(J760>500,\"ומעלה 500\",VLOOKUP(J760,טבלה1[#All],2,0)),\"\")","v":""}]
[null,null,null,null,null,null,null,null,null,null,null,{"$f":"_xlfn.IFNA(IF(J761>500,\"ומעלה 500\",VLOOKUP(J761,טבלה1[#All],2,0)),\"\")","v":""}]
[null,null,null,null,null,null,null,null,null,null,null,{"$f":"_xlfn.IFNA(IF(J762>500,\"ומעלה 500\",VLOOKUP(J762,טבלה1[#All],2,0)),\"\")","v":""}]
[null,null,null,null,null,null,null,null,null,null,null,{"$f":"_xlfn.IFNA(IF(J763>500,\"ומעלה 500\",VLOOKUP(J763,טבלה1[#All],2,0)),\"\")","v":""}]
[null,null,null,null,null,null,null,null,null,null,null,{"$f":"_xlfn.IFNA(IF(J764>500,\"ומעלה 500\",VLOOKUP(J764,טבלה1[#All],2,0)),\"\")","v":""}]
[null,null,null,null,null,null,null,null,null,null,null,{"$f":"_xlfn.IFNA(IF(J765>500,\"ומעלה 500\",VLOOKUP(J765,טבלה1[#All],2,0)),\"\")","v":""}]
[null,null,null,null,null,null,null,null,null,null,null,{"$f":"_xlfn.IFNA(IF(J766>500,\"ומעלה 500\",VLOOKUP(J766,טבלה1[#All],2,0)),\"\")","v":""}]
[null,null,null,null,null,null,null,null,null,null,null,{"$f":"_xlfn.IFNA(IF(J767>500,\"ומעלה 500\",VLOOKUP(J767,טבלה1[#All],2,0)),\"\")","v":""}]
[null,null,null,null,null,null,null,null,null,null,null,{"$f":"_xlfn.IFNA(IF(J768>500,\"ומעלה 500\",VLOOKUP(J768,טבלה1[#All],2,0)),\"\")","v":""}]
[null,null,null,null,null,null,null,null,null,null,null,{"$f":"_xlfn.IFNA(IF(J769>500,\"ומעלה 500\",VLOOKUP(J769,טבלה1[#All],2,0)),\"\")","v":""}]
[null,null,null,null,null,null,null,null,null,null,null,{"$f":"_xlfn.IFNA(IF(J770>500,\"ומעלה 500\",VLOOKUP(J770,טבלה1[#All],2,0)),\"\")","v":""}]
[null,null,null,null,null,null,null,null,null,null,null,{"$f":"_xlfn.IFNA(IF(J771>500,\"ומעלה 500\",VLOOKUP(J771,טבלה1[#All],2,0)),\"\")","v":""}]
[null,null,null,null,null,null,null,null,null,null,null,{"$f":"_xlfn.IFNA(IF(J772>500,\"ומעלה 500\",VLOOKUP(J772,טבלה1[#All],2,0)),\"\")","v":""}]
[null,null,null,null,null,null,null,null,null,null,null,{"$f":"_xlfn.IFNA(IF(J773>500,\"ומעלה 500\",VLOOKUP(J773,טבלה1[#All],2,0)),\"\")","v":""}]
[null,null,null,null,null,null,null,null,null,null,null,{"$f":"_xlfn.IFNA(IF(J774>500,\"ומעלה 500\",VLOOKUP(J774,טבלה1[#All],2,0)),\"\")","v":""}]
[null,null,null,null,null,null,null,null,null,null,null,{"$f":"_xlfn.IFNA(IF(J775>500,\"ומעלה 500\",VLOOKUP(J775,טבלה1[#All],2,0)),\"\")","v":""}]
[null,null,null,null,null,null,null,null,null,null,null,{"$f":"_xlfn.IFNA(IF(J776>500,\"ומעלה 500\",VLOOKUP(J776,טבלה1[#All],2,0)),\"\")","v":""}]
[null,null,null,null,null,null,null,null,null,null,null,{"$f":"_xlfn.IFNA(IF(J777>500,\"ומעלה 500\",VLOOKUP(J777,טבלה1[#All],2,0)),\"\")","v":""}]
[null,null,null,null,null,null,null,null,null,null,null,{"$f":"_xlfn.IFNA(IF(J778>500,\"ומעלה 500\",VLOOKUP(J778,טבלה1[#All],2,0)),\"\")","v":""}]
[null,null,null,null,null,null,null,null,null,null,null,{"$f":"_xlfn.IFNA(IF(J779>500,\"ומעלה 500\",VLOOKUP(J779,טבלה1[#All],2,0)),\"\")","v":""}]
[null,null,null,null,null,null,null,null,null,null,null,{"$f":"_xlfn.IFNA(IF(J780>500,\"ומעלה 500\",VLOOKUP(J780,טבלה1[#All],2,0)),\"\")","v":""}]
[null,null,null,null,null,null,null,null,null,null,null,{"$f":"_xlfn.IFNA(IF(J781>500,\"ומעלה 500\",VLOOKUP(J781,טבלה1[#All],2,0)),\"\")","v":""}]
[null,null,null,null,null,null,null,null,null,null,null,{"$f":"_xlfn.IFNA(IF(J782>500,\"ומעלה 500\",VLOOKUP(J782,טבלה1[#All],2,0)),\"\")","v":""}]
[null,null,null,null,null,null,null,null,null,null,null,{"$f":"_xlfn.IFNA(IF(J783>500,\"ומעלה 500\",VLOOKUP(J783,טבלה1[#All],2,0)),\"\")","v":""}]
[null,null,null,null,null,null,null,null,null,null,null,{"$f":"_xlfn.IFNA(IF(J784>500,\"ומעלה 500\",VLOOKUP(J784,טבלה1[#All],2,0)),\"\")","v":""}]
[null,null,null,null,null,null,null,null,null,null,null,{"$f":"_xlfn.IFNA(IF(J785>500,\"ומעלה 500\",VLOOKUP(J785,טבלה1[#All],2,0)),\"\")","v":""}]
[null,null,null,null,null,null,null,null,null,null,null,{"$f":"_xlfn.IFNA(IF(J786>500,\"ומעלה 500\",VLOOKUP(J786,טבלה1[#All],2,0)),\"\")","v":""}]
[null,null,null,null,null,null,null,null,null,null,null,{"$f":"_xlfn.IFNA(IF(J787>500,\"ומעלה 500\",VLOOKUP(J787,טבלה1[#All],2,0)),\"\")","v":""}]
[null,null,null,null,null,null,null,null,null,null,null,{"$f":"_xlfn.IFNA(IF(J788>500,\"ומעלה 500\",VLOOKUP(J788,טבלה1[#All],2,0)),\"\")","v":""}]
[null,null,null,null,null,null,null,null,null,null,null,{"$f":"_xlfn.IFNA(IF(J789>500,\"ומעלה 500\",VLOOKUP(J789,טבלה1[#All],2,0)),\"\")","v":""}]
[null,null,null,null,null,null,null,null,null,null,null,{"$f":"_xlfn.IFNA(IF(J790>500,\"ומעלה 500\",VLOOKUP(J790,טבלה1[#All],2,0)),\"\")","v":""}]
[null,null,null,null,null,null,null,null,null,null,null,{"$f":"_xlfn.IFNA(IF(J791>500,\"ומעלה 500\",VLOOKUP(J791,טבלה1[#All],2,0)),\"\")","v":""}]
[null,null,null,null,null,null,null,null,null,null,null,{"$f":"_xlfn.IFNA(IF(J792>500,\"ומעלה 500\",VLOOKUP(J792,טבלה1[#All],2,0)),\"\")","v":""}]
[null,null,null,null,null,null,null,null,null,null,null,{"$f":"_xlfn.IFNA(IF(J793>500,\"ומעלה 500\",VLOOKUP(J793,טבלה1[#All],2,0)),\"\")","v":""}]
[null,null,null,null,null,null,null,null,null,null,null,{"$f":"_xlfn.IFNA(IF(J794>500,\"ומעלה 500\",VLOOKUP(J794,טבלה1[#All],2,0)),\"\")","v":""}]
[null,null,null,null,null,null,null,null,null,null,null,{"$f":"_xlfn.IFNA(IF(J795>500,\"ומעלה 500\",VLOOKUP(J795,טבלה1[#All],2,0)),\"\")","v":""}]
[null,null,null,null,null,null,null,null,null,null,null,{"$f":"_xlfn.IFNA(IF(J796>500,\"ומעלה 500\",VLOOKUP(J796,טבלה1[#All],2,0)),\"\")","v":""}]
[null,null,null,null,null,null,null,null,null,null,null,{"$f":"_xlfn.IFNA(IF(J797>500,\"ומעלה 500\",VLOOKUP(J797,טבלה1[#All],2,0)),\"\")","v":""}]
[null,null,null,null,null,null,null,null,null,null,null,{"$f":"_xlfn.IFNA(IF(J798>500,\"ומעלה 500\",VLOOKUP(J798,טבלה1[#All],2,0)),\"\")","v":""}]
[null,null,null,null,null,null,null,null,null,null,null,{"$f":"_xlfn.IFNA(IF(J799>500,\"ומעלה 500\",VLOOKUP(J799,טבלה1[#All],2,0)),\"\")","v":""}]
[null,null,null,null,null,null,null,null,null,null,null,{"$f":"_xlfn.IFNA(IF(J800>500,\"ומעלה 500\",VLOOKUP(J800,טבלה1[#All],2,0)),\"\")","v":""}]
[null,null,null,null,null,null,null,null,null,null,null,{"$f":"_xlfn.IFNA(IF(J801>500,\"ומעלה 500\",VLOOKUP(J801,טבלה1[#All],2,0)),\"\")","v":""}]
[null,null,null,null,null,null,null,null,null,null,null,{"$f":"_xlfn.IFNA(IF(J802>500,\"ומעלה 500\",VLOOKUP(J802,טבלה1[#All],2,0)),\"\")","v":""}]
[null,null,null,null,null,null,null,null,null,null,null,{"$f":"_xlfn.IFNA(IF(J803>500,\"ומעלה 500\",VLOOKUP(J803,טבלה1[#All],2,0)),\"\")","v":""}]
[null,null,null,null,null,null,null,null,null,null,null,{"$f":"_xlfn.IFNA(IF(J804>500,\"ומעלה 500\",VLOOKUP(J804,טבלה1[#All],2,0)),\"\")","v":""}]
[null,null,null,null,null,null,null,null,null,null,null,{"$f":"_xlfn.IFNA(IF(J805>500,\"ומעלה 500\",VLOOKUP(J805,טבלה1[#All],2,0)),\"\")","v":""}]
[null,null,null,null,null,null,null,null,null,null,null,{"$f":"_xlfn.IFNA(IF(J806>500,\"ומעלה 500\",VLOOKUP(J806,טבלה1[#All],2,0)),\"\")","v":""}]
[null,null,null,null,null,null,null,null,null,null,null,{"$f":"_xlfn.IFNA(IF(J807>500,\"ומעלה 500\",VLOOKUP(J807,טבלה1[#All],2,0)),\"\")","v":""}]
[null,null,null,null,null,null,null,null,null,null,null,{"$f":"_xlfn.IFNA(IF(J808>500,\"ומעלה 500\",VLOOKUP(J808,טבלה1[#All],2,0)),\"\")","v":""}]
[null,null,null,null,null,null,null,null,null,null,null,{"$f":"_xlfn.IFNA(IF(J809>500,\"ומעלה 500\",VLOOKUP(J809,טבלה1[#All],2,0)),\"\")","v":""}]
[null,null,null,null,null,null,null,null,null,null,null,{"$f":"_xlfn.IFNA(IF(J810>500,\"ומעלה 500\",VLOOKUP(J810,טבלה1[#All],2,0)),\"\")","v":""}]
[null,null,null,null,null,null,null,null,null,null,null,{"$f":"_xlfn.IFNA(IF(J811>500,\"ומעלה 500\",VLOOKUP(J811,טבלה1[#All],2,0)),\"\")","v":""}]
[null,null,null,null,null,null,null,null,null,null,null,{"$f":"_xlfn.IFNA(IF(J812>500,\"ומעלה 500\",VLOOKUP(J812,טבלה1[#All],2,0)),\"\")","v":""}]
[null,null,null,null,null,null,null,null,null,null,null,{"$f":"_xlfn.IFNA(IF(J813>500,\"ומעלה 500\",VLOOKUP(J813,טבלה1[#All],2,0)),\"\")","v":""}]
[null,null,null,null,null,null,null,null,null,null,null,{"$f":"_xlfn.IFNA(IF(J814>500,\"ומעלה 500\",VLOOKUP(J814,טבלה1[#All],2,0)),\"\")","v":""}]
[null,null,null,null,null,null,null,null,null,null,null,{"$f":"_xlfn.IFNA(IF(J815>500,\"ומעלה 500\",VLOOKUP(J815,טבלה1[#All],2,0)),\"\")","v":""}]
[null,null,null,null,null,null,null,null,null,null,null,{"$f":"_xlfn.IFNA(IF(J816>500,\"ומעלה 500\",VLOOKUP(J816,טבלה1[#All],2,0)),\"\")","v":""}]
[null,null,null,null,null,null,null,null,null,null,null,{"$f":"_xlfn.IFNA(IF(J817>500,\"ומעלה 500\",VLOOKUP(J817,טבלה1[#All],2,0)),\"\")","v":""}]
[null,null,null,null,null,null,null,null,null,null,null,{"$f":"_xlfn.IFNA(IF(J818>500,\"ומעלה 500\",VLOOKUP(J818,טבלה1[#All],2,0)),\"\")","v":""}]
[null,null,null,null,null,null,null,null,null,null,null,{"$f":"_xlfn.IFNA(IF(J819>500,\"ומעלה 500\",VLOOKUP(J819,טבלה1[#All],2,0)),\"\")","v":""}]
[null,null,null,null,null,null,null,null,null,null,null,{"$f":"_xlfn.IFNA(IF(J820>500,\"ומעלה 500\",VLOOKUP(J820,טבלה1[#All],2,0)),\"\")","v":""}]
[null,null,null,null,null,null,null,null,null,null,null,{"$f":"_xlfn.IFNA(IF(J821>500,\"ומעלה 500\",VLOOKUP(J821,טבלה1[#All],2,0)),\"\")","v":""}]
[null,null,null,null,null,null,null,null,null,null,null,{"$f":"_xlfn.IFNA(IF(J822>500,\"ומעלה 500\",VLOOKUP(J822,טבלה1[#All],2,0)),\"\")","v":""}]
[null,null,null,null,null,null,null,null,null,null,null,{"$f":"_xlfn.IFNA(IF(J823>500,\"ומעלה 500\",VLOOKUP(J823,טבלה1[#All],2,0)),\"\")","v":""}]
[null,null,null,null,null,null,null,null,null,null,null,{"$f":"_xlfn.IFNA(IF(J824>500,\"ומעלה 500\",VLOOKUP(J824,טבלה1[#All],2,0)),\"\")","v":""}]
[null,null,null,null,null,null,null,null,null,null,null,{"$f":"_xlfn.IFNA(IF(J825>500,\"ומעלה 500\",VLOOKUP(J825,טבלה1[#All],2,0)),\"\")","v":""}]
[null,null,null,null,null,null,null,null,null,null,null,{"$f":"_xlfn.IFNA(IF(J826>500,\"ומעלה 500\",VLOOKUP(J826,טבלה1[#All],2,0)),\"\")","v":""}]
[null,null,null,null,null,null,null,null,null,null,null,{"$f":"_xlfn.IFNA(IF(J827>500,\"ומעלה 500\",VLOOKUP(J827,טבלה1[#All],2,0)),\"\")","v":""}]
[null,null,null,null,null,null,null,null,null,null,null,{"$f":"_xlfn.IFNA(IF(J828>500,\"ומעלה 500\",VLOOKUP(J828,טבלה1[#All],2,0)),\"\")","v":""}]
[null,null,null,null,null,null,null,null,null,null,null,{"$f":"_xlfn.IFNA(IF(J829>500,\"ומעלה 500\",VLOOKUP(J829,טבלה1[#All],2,0)),\"\")","v":""}]
[null,null,null,null,null,null,null,null,null,null,null,{"$f":"_xlfn.IFNA(IF(J830>500,\"ומעלה 500\",VLOOKUP(J830,טבלה1[#All],2,0)),\"\")","v":""}]
[null,null,null,null,null,null,null,null,null,null,null,{"$f":"_xlfn.IFNA(IF(J831>500,\"ומעלה 500\",VLOOKUP(J831,טבלה1[#All],2,0)),\"\")","v":""}]
[null,null,null,null,null,null,null,null,null,null,null,{"$f":"_xlfn.IFNA(IF(J832>500,\"ומעלה 500\",VLOOKUP(J832,טבלה1[#All],2,0)),\"\")","v":""}]
[null,null,null,null,null,null,null,null,null,null,null,{"$f":"_xlfn.IFNA(IF(J833>500,\"ומעלה 500\",VLOOKUP(J833,טבלה1[#All],2,0)),\"\")","v":""}]
[null,null,null,null,null,null,null,null,null,null,null,{"$f":"_xlfn.IFNA(IF(J834>500,\"ומעלה 500\",VLOOKUP(J834,טבלה1[#All],2,0)),\"\")","v":""}]
[null,null,null,null,null,null,null,null,null,null,null,{"$f":"_xlfn.IFNA(IF(J835>500,\"ומעלה 500\",VLOOKUP(J835,טבלה1[#All],2,0)),\"\")","v":""}]
[null,null,null,null,null,null,null,null,null,null,null,{"$f":"_xlfn.IFNA(IF(J836>500,\"ומעלה 500\",VLOOKUP(J836,טבלה1[#All],2,0)),\"\")","v":""}]
[null,null,null,null,null,null,null,null,null,null,null,{"$f":"_xlfn.IFNA(IF(J837>500,\"ומעלה 500\",VLOOKUP(J837,טבלה1[#All],2,0)),\"\")","v":""}]
[null,null,null,null,null,null,null,null,null,null,null,{"$f":"_xlfn.IFNA(IF(J838>500,\"ומעלה 500\",VLOOKUP(J838,טבלה1[#All],2,0)),\"\")","v":""}]
[null,null,null,null,null,null,null,null,null,null,null,{"$f":"_xlfn.IFNA(IF(J839>500,\"ומעלה 500\",VLOOKUP(J839,טבלה1[#All],2,0)),\"\")","v":""}]
[null,null,null,null,null,null,null,null,null,null,null,{"$f":"_xlfn.IFNA(IF(J840>500,\"ומעלה 500\",VLOOKUP(J840,טבלה1[#All],2,0)),\"\")","v":""}]
[null,null,null,null,null,null,null,null,null,null,null,{"$f":"_xlfn.IFNA(IF(J841>500,\"ומעלה 500\",VLOOKUP(J841,טבלה1[#All],2,0)),\"\")","v":""}]
[null,null,null,null,null,null,null,null,null,null,null,{"$f":"_xlfn.IFNA(IF(J842>500,\"ומעלה 500\",VLOOKUP(J842,טבלה1[#All],2,0)),\"\")","v":""}]
[null,null,null,null,null,null,null,null,null,null,null,{"$f":"_xlfn.IFNA(IF(J843>500,\"ומעלה 500\",VLOOKUP(J843,טבלה1[#All],2,0)),\"\")","v":""}]
[null,null,null,null,null,null,null,null,null,null,null,{"$f":"_xlfn.IFNA(IF(J844>500,\"ומעלה 500\",VLOOKUP(J844,טבלה1[#All],2,0)),\"\")","v":""}]
[null,null,null,null,null,null,null,null,null,null,null,{"$f":"_xlfn.IFNA(IF(J845>500,\"ומעלה 500\",VLOOKUP(J845,טבלה1[#All],2,0)),\"\")","v":""}]
[null,null,null,null,null,null,null,null,null,null,null,{"$f":"_xlfn.IFNA(IF(J846>500,\"ומעלה 500\",VLOOKUP(J846,טבלה1[#All],2,0)),\"\")","v":""}]
[null,null,null,null,null,null,null,null,null,null,null,{"$f":"_xlfn.IFNA(IF(J847>500,\"ומעלה 500\",VLOOKUP(J847,טבלה1[#All],2,0)),\"\")","v":""}]
[null,null,null,null,null,null,null,null,null,null,null,{"$f":"_xlfn.IFNA(IF(J848>500,\"ומעלה 500\",VLOOKUP(J848,טבלה1[#All],2,0)),\"\")","v":""}]
[null,null,null,null,null,null,null,null,null,null,null,{"$f":"_xlfn.IFNA(IF(J849>500,\"ומעלה 500\",VLOOKUP(J849,טבלה1[#All],2,0)),\"\")","v":""}]
[null,null,null,null,null,null,null,null,null,null,null,{"$f":"_xlfn.IFNA(IF(J850>500,\"ומעלה 500\",VLOOKUP(J850,טבלה1[#All],2,0)),\"\")","v":""}]
[null,null,null,null,null,null,null,null,null,null,null,{"$f":"_xlfn.IFNA(IF(J851>500,\"ומעלה 500\",VLOOKUP(J851,טבלה1[#All],2,0)),\"\")","v":""}]
[null,null,null,null,null,null,null,null,null,null,null,{"$f":"_xlfn.IFNA(IF(J852>500,\"ומעלה 500\",VLOOKUP(J852,טבלה1[#All],2,0)),\"\")","v":""}]
[null,null,null,null,null,null,null,null,null,null,null,{"$f":"_xlfn.IFNA(IF(J853>500,\"ומעלה 500\",VLOOKUP(J853,טבלה1[#All],2,0)),\"\")","v":""}]
[null,null,null,null,null,null,null,null,null,null,null,{"$f":"_xlfn.IFNA(IF(J854>500,\"ומעלה 500\",VLOOKUP(J854,טבלה1[#All],2,0)),\"\")","v":""}]
[null,null,null,null,null,null,null,null,null,null,null,{"$f":"_xlfn.IFNA(IF(J855>500,\"ומעלה 500\",VLOOKUP(J855,טבלה1[#All],2,0)),\"\")","v":""}]
[null,null,null,null,null,null,null,null,null,null,null,{"$f":"_xlfn.IFNA(IF(J856>500,\"ומעלה 500\",VLOOKUP(J856,טבלה1[#All],2,0)),\"\")","v":""}]
[null,null,null,null,null,null,null,null,null,null,null,{"$f":"_xlfn.IFNA(IF(J857>500,\"ומעלה 500\",VLOOKUP(J857,טבלה1[#All],2,0)),\"\")","v":""}]
[null,null,null,null,null,null,null,null,null,null,null,{"$f":"_xlfn.IFNA(IF(J858>500,\"ומעלה 500\",VLOOKUP(J858,טבלה1[#All],2,0)),\"\")","v":""}]
[null,null,null,null,null,null,null,null,null,null,null,{"$f":"_xlfn.IFNA(IF(J859>500,\"ומעלה 500\",VLOOKUP(J859,טבלה1[#All],2,0)),\"\")","v":""}]
[null,null,null,null,null,null,null,null,null,null,null,{"$f":"_xlfn.IFNA(IF(J860>500,\"ומעלה 500\",VLOOKUP(J860,טבלה1[#All],2,0)),\"\")","v":""}]
[null,null,null,null,null,null,null,null,null,null,null,{"$f":"_xlfn.IFNA(IF(J861>500,\"ומעלה 500\",VLOOKUP(J861,טבלה1[#All],2,0)),\"\")","v":""}]
[null,null,null,null,null,null,null,null,null,null,null,{"$f":"_xlfn.IFNA(IF(J862>500,\"ומעלה 500\",VLOOKUP(J862,טבלה1[#All],2,0)),\"\")","v":""}]
[null,null,null,null,null,null,null,null,null,null,null,{"$f":"_xlfn.IFNA(IF(J863>500,\"ומעלה 500\",VLOOKUP(J863,טבלה1[#All],2,0)),\"\")","v":""}]
[null,null,null,null,null,null,null,null,null,null,null,{"$f":"_xlfn.IFNA(IF(J864>500,\"ומעלה 500\",VLOOKUP(J864,טבלה1[#All],2,0)),\"\")","v":""}]
[null,null,null,null,null,null,null,null,null,null,null,{"$f":"_xlfn.IFNA(IF(J865>500,\"ומעלה 500\",VLOOKUP(J865,טבלה1[#All],2,0)),\"\")","v":""}]
[null,null,null,null,null,null,null,null,null,null,null,{"$f":"_xlfn.IFNA(IF(J866>500,\"ומעלה 500\",VLOOKUP(J866,טבלה1[#All],2,0)),\"\")","v":""}]
[null,null,null,null,null,null,null,null,null,null,null,{"$f":"_xlfn.IFNA(IF(J867>500,\"ומעלה 500\",VLOOKUP(J867,טבלה1[#All],2,0)),\"\")","v":""}]
[null,null,null,null,null,null,null,null,null,null,null,{"$f":"_xlfn.IFNA(IF(J868>500,\"ומעלה 500\",VLOOKUP(J868,טבלה1[#All],2,0)),\"\")","v":""}]
[null,null,null,null,null,null,null,null,null,null,null,{"$f":"_xlfn.IFNA(IF(J869>500,\"ומעלה 500\",VLOOKUP(J869,טבלה1[#All],2,0)),\"\")","v":""}]
[null,null,null,null,null,null,null,null,null,null,null,{"$f":"_xlfn.IFNA(IF(J870>500,\"ומעלה 500\",VLOOKUP(J870,טבלה1[#All],2,0)),\"\")","v":""}]
[null,null,null,null,null,null,null,null,null,null,null,{"$f":"_xlfn.IFNA(IF(J871>500,\"ומעלה 500\",VLOOKUP(J871,טבלה1[#All],2,0)),\"\")","v":""}]
[null,null,null,null,null,null,null,null,null,null,null,{"$f":"_xlfn.IFNA(IF(J872>500,\"ומעלה 500\",VLOOKUP(J872,טבלה1[#All],2,0)),\"\")","v":""}]
[null,null,null,null,null,null,null,null,null,null,null,{"$f":"_xlfn.IFNA(IF(J873>500,\"ומעלה 500\",VLOOKUP(J873,טבלה1[#All],2,0)),\"\")","v":""}]
[null,null,null,null,null,null,null,null,null,null,null,{"$f":"_xlfn.IFNA(IF(J874>500,\"ומעלה 500\",VLOOKUP(J874,טבלה1[#All],2,0)),\"\")","v":""}]
[null,null,null,null,null,null,null,null,null,null,null,{"$f":"_xlfn.IFNA(IF(J875>500,\"ומעלה 500\",VLOOKUP(J875,טבלה1[#All],2,0)),\"\")","v":""}]
[null,null,null,null,null,null,null,null,null,null,null,{"$f":"_xlfn.IFNA(IF(J876>500,\"ומעלה 500\",VLOOKUP(J876,טבלה1[#All],2,0)),\"\")","v":""}]
[null,null,null,null,null,null,null,null,null,null,null,{"$f":"_xlfn.IFNA(IF(J877>500,\"ומעלה 500\",VLOOKUP(J877,טבלה1[#All],2,0)),\"\")","v":""}]
[null,null,null,null,null,null,null,null,null,null,null,{"$f":"_xlfn.IFNA(IF(J878>500,\"ומעלה 500\",VLOOKUP(J878,טבלה1[#All],2,0)),\"\")","v":""}]
[null,null,null,null,null,null,null,null,null,null,null,{"$f":"_xlfn.IFNA(IF(J879>500,\"ומעלה 500\",VLOOKUP(J879,טבלה1[#All],2,0)),\"\")","v":""}]
[null,null,null,null,null,null,null,null,null,null,null,{"$f":"_xlfn.IFNA(IF(J880>500,\"ומעלה 500\",VLOOKUP(J880,טבלה1[#All],2,0)),\"\")","v":""}]
[null,null,null,null,null,null,null,null,null,null,null,{"$f":"_xlfn.IFNA(IF(J881>500,\"ומעלה 500\",VLOOKUP(J881,טבלה1[#All],2,0)),\"\")","v":""}]
[null,null,null,null,null,null,null,null,null,null,null,{"$f":"_xlfn.IFNA(IF(J882>500,\"ומעלה 500\",VLOOKUP(J882,טבלה1[#All],2,0)),\"\")","v":""}]
[null,null,null,null,null,null,null,null,null,null,null,{"$f":"_xlfn.IFNA(IF(J883>500,\"ומעלה 500\",VLOOKUP(J883,טבלה1[#All],2,0)),\"\")","v":""}]
[null,null,null,null,null,null,null,null,null,null,null,{"$f":"_xlfn.IFNA(IF(J884>500,\"ומעלה 500\",VLOOKUP(J884,טבלה1[#All],2,0)),\"\")","v":""}]
[null,null,null,null,null,null,null,null,null,null,null,{"$f":"_xlfn.IFNA(IF(J885>500,\"ומעלה 500\",VLOOKUP(J885,טבלה1[#All],2,0)),\"\")","v":""}]
[null,null,null,null,null,null,null,null,null,null,null,{"$f":"_xlfn.IFNA(IF(J886>500,\"ומעלה 500\",VLOOKUP(J886,טבלה1[#All],2,0)),\"\")","v":""}]
[null,null,null,null,null,null,null,null,null,null,null,{"$f":"_xlfn.IFNA(IF(J887>500,\"ומעלה 500\",VLOOKUP(J887,טבלה1[#All],2,0)),\"\")","v":""}]
[null,null,null,null,null,null,null,null,null,null,null,{"$f":"_xlfn.IFNA(IF(J888>500,\"ומעלה 500\",VLOOKUP(J888,טבלה1[#All],2,0)),\"\")","v":""}]
[null,null,null,null,null,null,null,null,null,null,null,{"$f":"_xlfn.IFNA(IF(J889>500,\"ומעלה 500\",VLOOKUP(J889,טבלה1[#All],2,0)),\"\")","v":""}]
[null,null,null,null,null,null,null,null,null,null,null,{"$f":"_xlfn.IFNA(IF(J890>500,\"ומעלה 500\",VLOOKUP(J890,טבלה1[#All],2,0)),\"\")","v":""}]
[null,null,null,null,null,null,null,null,null,null,null,{"$f":"_xlfn.IFNA(IF(J891>500,\"ומעלה 500\",VLOOKUP(J891,טבלה1[#All],2,0)),\"\")","v":""}]
[null,null,null,null,null,null,null,null,null,null,null,{"$f":"_xlfn.IFNA(IF(J892>500,\"ומעלה 500\",VLOOKUP(J892,טבלה1[#All],2,0)),\"\")","v":""}]
[null,null,null,null,null,null,null,null,null,null,null,{"$f":"_xlfn.IFNA(IF(J893>500,\"ומעלה 500\",VLOOKUP(J893,טבלה1[#All],2,0)),\"\")","v":""}]
[null,null,null,null,null,null,null,null,null,null,null,{"$f":"_xlfn.IFNA(IF(J894>500,\"ומעלה 500\",VLOOKUP(J894,טבלה1[#All],2,0)),\"\")","v":""}]
[null,null,null,null,null,null,null,null,null,null,null,{"$f":"_xlfn.IFNA(IF(J895>500,\"ומעלה 500\",VLOOKUP(J895,טבלה1[#All],2,0)),\"\")","v":""}]
[null,null,null,null,null,null,null,null,null,null,null,{"$f":"_xlfn.IFNA(IF(J896>500,\"ומעלה 500\",VLOOKUP(J896,טבלה1[#All],2,0)),\"\")","v":""}]
[null,null,null,null,null,null,null,null,null,null,null,{"$f":"_xlfn.IFNA(IF(J897>500,\"ומעלה 500\",VLOOKUP(J897,טבלה1[#All],2,0)),\"\")","v":""}]
[null,null,null,null,null,null,null,null,null,null,null,{"$f":"_xlfn.IFNA(IF(J898>500,\"ומעלה 500\",VLOOKUP(J898,טבלה1[#All],2,0)),\"\")","v":""}]
[null,null,null,null,null,null,null,null,null,null,null,{"$f":"_xlfn.IFNA(IF(J899>500,\"ומעלה 500\",VLOOKUP(J899,טבלה1[#All],2,0)),\"\")","v":""}]
[null,null,null,null,null,null,null,null,null,null,null,{"$f":"_xlfn.IFNA(IF(J900>500,\"ומעלה 500\",VLOOKUP(J900,טבלה1[#All],2,0)),\"\")","v":""}]
[null,null,null,null,null,null,null,null,null,null,null,{"$f":"_xlfn.IFNA(IF(J901>500,\"ומעלה 500\",VLOOKUP(J901,טבלה1[#All],2,0)),\"\")","v":""}]
[null,null,null,null,null,null,null,null,null,null,null,{"$f":"_xlfn.IFNA(IF(J902>500,\"ומעלה 500\",VLOOKUP(J902,טבלה1[#All],2,0)),\"\")","v":""}]
[null,null,null,null,null,null,null,null,null,null,null,{"$f":"_xlfn.IFNA(IF(J903>500,\"ומעלה 500\",VLOOKUP(J903,טבלה1[#All],2,0)),\"\")","v":""}]
[null,null,null,null,null,null,null,null,null,null,null,{"$f":"_xlfn.IFNA(IF(J904>500,\"ומעלה 500\",VLOOKUP(J904,טבלה1[#All],2,0)),\"\")","v":""}]
[null,null,null,null,null,null,null,null,null,null,null,{"$f":"_xlfn.IFNA(IF(J905>500,\"ומעלה 500\",VLOOKUP(J905,טבלה1[#All],2,0)),\"\")","v":""}]
[null,null,null,null,null,null,null,null,null,null,null,{"$f":"_xlfn.IFNA(IF(J906>500,\"ומעלה 500\",VLOOKUP(J906,טבלה1[#All],2,0)),\"\")","v":""}]
[null,null,null,null,null,null,null,null,null,null,null,{"$f":"_xlfn.IFNA(IF(J907>500,\"ומעלה 500\",VLOOKUP(J907,טבלה1[#All],2,0)),\"\")","v":""}]
[null,null,null,null,null,null,null,null,null,null,null,{"$f":"_xlfn.IFNA(IF(J908>500,\"ומעלה 500\",VLOOKUP(J908,טבלה1[#All],2,0)),\"\")","v":""}]
[null,null,null,null,null,null,null,null,null,null,null,{"$f":"_xlfn.IFNA(IF(J909>500,\"ומעלה 500\",VLOOKUP(J909,טבלה1[#All],2,0)),\"\")","v":""}]
[null,null,null,null,null,null,null,null,null,null,null,{"$f":"_xlfn.IFNA(IF(J910>500,\"ומעלה 500\",VLOOKUP(J910,טבלה1[#All],2,0)),\"\")","v":""}]
[null,null,null,null,null,null,null,null,null,null,null,{"$f":"_xlfn.IFNA(IF(J911>500,\"ומעלה 500\",VLOOKUP(J911,טבלה1[#All],2,0)),\"\")","v":""}]
[null,null,null,null,null,null,null,null,null,null,null,{"$f":"_xlfn.IFNA(IF(J912>500,\"ומעלה 500\",VLOOKUP(J912,טבלה1[#All],2,0)),\"\")","v":""}]
[null,null,null,null,null,null,null,null,null,null,null,{"$f":"_xlfn.IFNA(IF(J913>500,\"ומעלה 500\",VLOOKUP(J913,טבלה1[#All],2,0)),\"\")","v":""}]
[null,null,null,null,null,null,null,null,null,null,null,{"$f":"_xlfn.IFNA(IF(J914>500,\"ומעלה 500\",VLOOKUP(J914,טבלה1[#All],2,0)),\"\")","v":""}]
[null,null,null,null,null,null,null,null,null,null,null,{"$f":"_xlfn.IFNA(IF(J915>500,\"ומעלה 500\",VLOOKUP(J915,טבלה1[#All],2,0)),\"\")","v":""}]
[null,null,null,null,null,null,null,null,null,null,null,{"$f":"_xlfn.IFNA(IF(J916>500,\"ומעלה 500\",VLOOKUP(J916,טבלה1[#All],2,0)),\"\")","v":""}]
[null,null,null,null,null,null,null,null,null,null,null,{"$f":"_xlfn.IFNA(IF(J917>500,\"ומעלה 500\",VLOOKUP(J917,טבלה1[#All],2,0)),\"\")","v":""}]
[null,null,null,null,null,null,null,null,null,null,null,{"$f":"_xlfn.IFNA(IF(J918>500,\"ומעלה 500\",VLOOKUP(J918,טבלה1[#All],2,0)),\"\")","v":""}]
[null,null,null,null,null,null,null,null,null,null,null,{"$f":"_xlfn.IFNA(IF(J919>500,\"ומעלה 500\",VLOOKUP(J919,טבלה1[#All],2,0)),\"\")","v":""}]
[null,null,null,null,null,null,null,null,null,null,null,{"$f":"_xlfn.IFNA(IF(J920>500,\"ומעלה 500\",VLOOKUP(J920,טבלה1[#All],2,0)),\"\")","v":""}]
[null,null,null,null,null,null,null,null,null,null,null,{"$f":"_xlfn.IFNA(IF(J921>500,\"ומעלה 500\",VLOOKUP(J921,טבלה1[#All],2,0)),\"\")","v":""}]
[null,null,null,null,null,null,null,null,null,null,null,{"$f":"_xlfn.IFNA(IF(J922>500,\"ומעלה 500\",VLOOKUP(J922,טבלה1[#All],2,0)),\"\")","v":""}]
[null,null,null,null,null,null,null,null,null,null,null,{"$f":"_xlfn.IFNA(IF(J923>500,\"ומעלה 500\",VLOOKUP(J923,טבלה1[#All],2,0)),\"\")","v":""}]
[null,null,null,null,null,null,null,null,null,null,null,{"$f":"_xlfn.IFNA(IF(J924>500,\"ומעלה 500\",VLOOKUP(J924,טבלה1[#All],2,0)),\"\")","v":""}]
[null,null,null,null,null,null,null,null,null,null,null,{"$f":"_xlfn.IFNA(IF(J925>500,\"ומעלה 500\",VLOOKUP(J925,טבלה1[#All],2,0)),\"\")","v":""}]
[null,null,null,null,null,null,null,null,null,null,null,{"$f":"_xlfn.IFNA(IF(J926>500,\"ומעלה 500\",VLOOKUP(J926,טבלה1[#All],2,0)),\"\")","v":""}]
[null,null,null,null,null,null,null,null,null,null,null,{"$f":"_xlfn.IFNA(IF(J927>500,\"ומעלה 500\",VLOOKUP(J927,טבלה1[#All],2,0)),\"\")","v":""}]
[null,null,null,null,null,null,null,null,null,null,null,{"$f":"_xlfn.IFNA(IF(J928>500,\"ומעלה 500\",VLOOKUP(J928,טבלה1[#All],2,0)),\"\")","v":""}]
[null,null,null,null,null,null,null,null,null,null,null,{"$f":"_xlfn.IFNA(IF(J929>500,\"ומעלה 500\",VLOOKUP(J929,טבלה1[#All],2,0)),\"\")","v":""}]
[null,null,null,null,null,null,null,null,null,null,null,{"$f":"_xlfn.IFNA(IF(J930>500,\"ומעלה 500\",VLOOKUP(J930,טבלה1[#All],2,0)),\"\")","v":""}]
[null,null,null,null,null,null,null,null,null,null,null,{"$f":"_xlfn.IFNA(IF(J931>500,\"ומעלה 500\",VLOOKUP(J931,טבלה1[#All],2,0)),\"\")","v":""}]
[null,null,null,null,null,null,null,null,null,null,null,{"$f":"_xlfn.IFNA(IF(J932>500,\"ומעלה 500\",VLOOKUP(J932,טבלה1[#All],2,0)),\"\")","v":""}]
[null,null,null,null,null,null,null,null,null,null,null,{"$f":"_xlfn.IFNA(IF(J933>500,\"ומעלה 500\",VLOOKUP(J933,טבלה1[#All],2,0)),\"\")","v":""}]
[null,null,null,null,null,null,null,null,null,null,null,{"$f":"_xlfn.IFNA(IF(J934>500,\"ומעלה 500\",VLOOKUP(J934,טבלה1[#All],2,0)),\"\")","v":""}]
[null,null,null,null,null,null,null,null,null,null,null,{"$f":"_xlfn.IFNA(IF(J935>500,\"ומעלה 500\",VLOOKUP(J935,טבלה1[#All],2,0)),\"\")","v":""}]
[null,null,null,null,null,null,null,null,null,null,null,{"$f":"_xlfn.IFNA(IF(J936>500,\"ומעלה 500\",VLOOKUP(J936,טבלה1[#All],2,0)),\"\")","v":""}]
[null,null,null,null,null,null,null,null,null,null,null,{"$f":"_xlfn.IFNA(IF(J937>500,\"ומעלה 500\",VLOOKUP(J937,טבלה1[#All],2,0)),\"\")","v":""}]
[null,null,null,null,null,null,null,null,null,null,null,{"$f":"_xlfn.IFNA(IF(J938>500,\"ומעלה 500\",VLOOKUP(J938,טבלה1[#All],2,0)),\"\")","v":""}]
[null,null,null,null,null,null,null,null,null,null,null,{"$f":"_xlfn.IFNA(IF(J939>500,\"ומעלה 500\",VLOOKUP(J939,טבלה1[#All],2,0)),\"\")","v":""}]
[null,null,null,null,null,null,null,null,null,null,null,{"$f":"_xlfn.IFNA(IF(J940>500,\"ומעלה 500\",VLOOKUP(J940,טבלה1[#All],2,0)),\"\")","v":""}]
[null,null,null,null,null,null,null,null,null,null,null,{"$f":"_xlfn.IFNA(IF(J941>500,\"ומעלה 500\",VLOOKUP(J941,טבלה1[#All],2,0)),\"\")","v":""}]
[null,null,null,null,null,null,null,null,null,null,null,{"$f":"_xlfn.IFNA(IF(J942>500,\"ומעלה 500\",VLOOKUP(J942,טבלה1[#All],2,0)),\"\")","v":""}]
[null,null,null,null,null,null,null,null,null,null,null,{"$f":"_xlfn.IFNA(IF(J943>500,\"ומעלה 500\",VLOOKUP(J943,טבלה1[#All],2,0)),\"\")","v":""}]
[null,null,null,null,null,null,null,null,null,null,null,{"$f":"_xlfn.IFNA(IF(J944>500,\"ומעלה 500\",VLOOKUP(J944,טבלה1[#All],2,0)),\"\")","v":""}]
[null,null,null,null,null,null,null,null,null,null,null,{"$f":"_xlfn.IFNA(IF(J945>500,\"ומעלה 500\",VLOOKUP(J945,טבלה1[#All],2,0)),\"\")","v":""}]
[null,null,null,null,null,null,null,null,null,null,null,{"$f":"_xlfn.IFNA(IF(J946>500,\"ומעלה 500\",VLOOKUP(J946,טבלה1[#All],2,0)),\"\")","v":""}]
[null,null,null,null,null,null,null,null,null,null,null,{"$f":"_xlfn.IFNA(IF(J947>500,\"ומעלה 500\",VLOOKUP(J947,טבלה1[#All],2,0)),\"\")","v":""}]
[null,null,null,null,null,null,null,null,null,null,null,{"$f":"_xlfn.IFNA(IF(J948>500,\"ומעלה 500\",VLOOKUP(J948,טבלה1[#All],2,0)),\"\")","v":""}]
[null,null,null,null,null,null,null,null,null,null,null,{"$f":"_xlfn.IFNA(IF(J949>500,\"ומעלה 500\",VLOOKUP(J949,טבלה1[#All],2,0)),\"\")","v":""}]
[null,null,null,null,null,null,null,null,null,null,null,{"$f":"_xlfn.IFNA(IF(J950>500,\"ומעלה 500\",VLOOKUP(J950,טבלה1[#All],2,0)),\"\")","v":""}]
[null,null,null,null,null,null,null,null,null,null,null,{"$f":"_xlfn.IFNA(IF(J951>500,\"ומעלה 500\",VLOOKUP(J951,טבלה1[#All],2,0)),\"\")","v":""}]
[null,null,null,null,null,null,null,null,null,null,null,{"$f":"_xlfn.IFNA(IF(J952>500,\"ומעלה 500\",VLOOKUP(J952,טבלה1[#All],2,0)),\"\")","v":""}]
[null,null,null,null,null,null,null,null,null,null,null,{"$f":"_xlfn.IFNA(IF(J953>500,\"ומעלה 500\",VLOOKUP(J953,טבלה1[#All],2,0)),\"\")","v":""}]
[null,null,null,null,null,null,null,null,null,null,null,{"$f":"_xlfn.IFNA(IF(J954>500,\"ומעלה 500\",VLOOKUP(J954,טבלה1[#All],2,0)),\"\")","v":""}]
[null,null,null,null,null,null,null,null,null,null,null,{"$f":"_xlfn.IFNA(IF(J955>500,\"ומעלה 500\",VLOOKUP(J955,טבלה1[#All],2,0)),\"\")","v":""}]
[null,null,null,null,null,null,null,null,null,null,null,{"$f":"_xlfn.IFNA(IF(J956>500,\"ומעלה 500\",VLOOKUP(J956,טבלה1[#All],2,0)),\"\")","v":""}]
[null,null,null,null,null,null,null,null,null,null,null,{"$f":"_xlfn.IFNA(IF(J957>500,\"ומעלה 500\",VLOOKUP(J957,טבלה1[#All],2,0)),\"\")","v":""}]
[null,null,null,null,null,null,null,null,null,null,null,{"$f":"_xlfn.IFNA(IF(J958>500,\"ומעלה 500\",VLOOKUP(J958,טבלה1[#All],2,0)),\"\")","v":""}]
[null,null,null,null,null,null,null,null,null,null,null,{"$f":"_xlfn.IFNA(IF(J959>500,\"ומעלה 500\",VLOOKUP(J959,טבלה1[#All],2,0)),\"\")","v":""}]
[null,null,null,null,null,null,null,null,null,null,null,{"$f":"_xlfn.IFNA(IF(J960>500,\"ומעלה 500\",VLOOKUP(J960,טבלה1[#All],2,0)),\"\")","v":""}]
[null,null,null,null,null,null,null,null,null,null,null,{"$f":"_xlfn.IFNA(IF(J961>500,\"ומעלה 500\",VLOOKUP(J961,טבלה1[#All],2,0)),\"\")","v":""}]
[null,null,null,null,null,null,null,null,null,null,null,{"$f":"_xlfn.IFNA(IF(J962>500,\"ומעלה 500\",VLOOKUP(J962,טבלה1[#All],2,0)),\"\")","v":""}]
[null,null,null,null,null,null,null,null,null,null,null,{"$f":"_xlfn.IFNA(IF(J963>500,\"ומעלה 500\",VLOOKUP(J963,טבלה1[#All],2,0)),\"\")","v":""}]
[null,null,null,null,null,null,null,null,null,null,null,{"$f":"_xlfn.IFNA(IF(J964>500,\"ומעלה 500\",VLOOKUP(J964,טבלה1[#All],2,0)),\"\")","v":""}]
[null,null,null,null,null,null,null,null,null,null,null,{"$f":"_xlfn.IFNA(IF(J965>500,\"ומעלה 500\",VLOOKUP(J965,טבלה1[#All],2,0)),\"\")","v":""}]
[null,null,null,null,null,null,null,null,null,null,null,{"$f":"_xlfn.IFNA(IF(J966>500,\"ומעלה 500\",VLOOKUP(J966,טבלה1[#All],2,0)),\"\")","v":""}]
[null,null,null,null,null,null,null,null,null,null,null,{"$f":"_xlfn.IFNA(IF(J967>500,\"ומעלה 500\",VLOOKUP(J967,טבלה1[#All],2,0)),\"\")","v":""}]
[null,null,null,null,null,null,null,null,null,null,null,{"$f":"_xlfn.IFNA(IF(J968>500,\"ומעלה 500\",VLOOKUP(J968,טבלה1[#All],2,0)),\"\")","v":""}]
[null,null,null,null,null,null,null,null,null,null,null,{"$f":"_xlfn.IFNA(IF(J969>500,\"ומעלה 500\",VLOOKUP(J969,טבלה1[#All],2,0)),\"\")","v":""}]
[null,null,null,null,null,null,null,null,null,null,null,{"$f":"_xlfn.IFNA(IF(J970>500,\"ומעלה 500\",VLOOKUP(J970,טבלה1[#All],2,0)),\"\")","v":""}]
[null,null,null,null,null,null,null,null,null,null,null,{"$f":"_xlfn.IFNA(IF(J971>500,\"ומעלה 500\",VLOOKUP(J971,טבלה1[#All],2,0)),\"\")","v":""}]
[null,null,null,null,null,null,null,null,null,null,null,{"$f":"_xlfn.IFNA(IF(J972>500,\"ומעלה 500\",VLOOKUP(J972,טבלה1[#All],2,0)),\"\")","v":""}]
[null,null,null,null,null,null,null,null,null,null,null,{"$f":"_xlfn.IFNA(IF(J973>500,\"ומעלה 500\",VLOOKUP(J973,טבלה1[#All],2,0)),\"\")","v":""}]
[null,null,null,null,null,null,null,null,null,null,null,{"$f":"_xlfn.IFNA(IF(J974>500,\"ומעלה 500\",VLOOKUP(J974,טבלה1[#All],2,0)),\"\")","v":""}]
[null,null,null,null,null,null,null,null,null,null,null,{"$f":"_xlfn.IFNA(IF(J975>500,\"ומעלה 500\",VLOOKUP(J975,טבלה1[#All],2,0)),\"\")","v":""}]
[null,null,null,null,null,null,null,null,null,null,null,{"$f":"_xlfn.IFNA(IF(J976>500,\"ומעלה 500\",VLOOKUP(J976,טבלה1[#All],2,0)),\"\")","v":""}]
[null,null,null,null,null,null,null,null,null,null,null,{"$f":"_xlfn.IFNA(IF(J977>500,\"ומעלה 500\",VLOOKUP(J977,טבלה1[#All],2,0)),\"\")","v":""}]
[null,null,null,null,null,null,null,null,null,null,null,{"$f":"_xlfn.IFNA(IF(J978>500,\"ומעלה 500\",VLOOKUP(J978,טבלה1[#All],2,0)),\"\")","v":""}]
[null,null,null,null,null,null,null,null,null,null,null,{"$f":"_xlfn.IFNA(IF(J979>500,\"ומעלה 500\",VLOOKUP(J979,טבלה1[#All],2,0)),\"\")","v":""}]
[null,null,null,null,null,null,null,null,null,null,null,{"$f":"_xlfn.IFNA(IF(J980>500,\"ומעלה 500\",VLOOKUP(J980,טבלה1[#All],2,0)),\"\")","v":""}]
[null,null,null,null,null,null,null,null,null,null,null,{"$f":"_xlfn.IFNA(IF(J981>500,\"ומעלה 500\",VLOOKUP(J981,טבלה1[#All],2,0)),\"\")","v":""}]
[null,null,null,null,null,null,null,null,null,null,null,{"$f":"_xlfn.IFNA(IF(J982>500,\"ומעלה 500\",VLOOKUP(J982,טבלה1[#All],2,0)),\"\")","v":""}]
[null,null,null,null,null,null,null,null,null,null,null,{"$f":"_xlfn.IFNA(IF(J983>500,\"ומעלה 500\",VLOOKUP(J983,טבלה1[#All],2,0)),\"\")","v":""}]
[null,null,null,null,null,null,null,null,null,null,null,{"$f":"_xlfn.IFNA(IF(J984>500,\"ומעלה 500\",VLOOKUP(J984,טבלה1[#All],2,0)),\"\")","v":""}]
[null,null,null,null,null,null,null,null,null,null,null,{"$f":"_xlfn.IFNA(IF(J985>500,\"ומעלה 500\",VLOOKUP(J985,טבלה1[#All],2,0)),\"\")","v":""}]
[null,null,null,null,null,null,null,null,null,null,null,{"$f":"_xlfn.IFNA(IF(J986>500,\"ומעלה 500\",VLOOKUP(J986,טבלה1[#All],2,0)),\"\")","v":""}]
[null,null,null,null,null,null,null,null,null,null,null,{"$f":"_xlfn.IFNA(IF(J987>500,\"ומעלה 500\",VLOOKUP(J987,טבלה1[#All],2,0)),\"\")","v":""}]
[null,null,null,null,null,null,null,null,null,null,null,{"$f":"_xlfn.IFNA(IF(J988>500,\"ומעלה 500\",VLOOKUP(J988,טבלה1[#All],2,0)),\"\")","v":""}]
[null,null,null,null,null,null,null,null,null,null,null,{"$f":"_xlfn.IFNA(IF(J989>500,\"ומעלה 500\",VLOOKUP(J989,טבלה1[#All],2,0)),\"\")","v":""}]
[null,null,null,null,null,null,null,null,null,null,null,{"$f":"_xlfn.IFNA(IF(J990>500,\"ומעלה 500\",VLOOKUP(J990,טבלה1[#All],2,0)),\"\")","v":""}]
[null,null,null,null,null,null,null,null,null,null,null,{"$f":"_xlfn.IFNA(IF(J991>500,\"ומעלה 500\",VLOOKUP(J991,טבלה1[#All],2,0)),\"\")","v":""}]
[null,null,null,null,null,null,null,null,null,null,null,{"$f":"_xlfn.IFNA(IF(J992>500,\"ומעלה 500\",VLOOKUP(J992,טבלה1[#All],2,0)),\"\")","v":""}]
[null,null,null,null,null,null,null,null,null,null,null,{"$f":"_xlfn.IFNA(IF(J993>500,\"ומעלה 500\",VLOOKUP(J993,טבלה1[#All],2,0)),\"\")","v":""}]
[null,null,null,null,null,null,null,null,null,null,null,{"$f":"_xlfn.IFNA(IF(J994>500,\"ומעלה 500\",VLOOKUP(J994,טבלה1[#All],2,0)),\"\")","v":""}]
[null,null,null,null,null,null,null,null,null,null,null,{"$f":"_xlfn.IFNA(IF(J995>500,\"ומעלה 500\",VLOOKUP(J995,טבלה1[#All],2,0)),\"\")","v":""}]
[null,null,null,null,null,null,null,null,null,null,null,{"$f":"_xlfn.IFNA(IF(J996>500,\"ומעלה 500\",VLOOKUP(J996,טבלה1[#All],2,0)),\"\")","v":""}]
[null,null,null,null,null,null,null,null,null,null,null,{"$f":"_xlfn.IFNA(IF(J997>500,\"ומעלה 500\",VLOOKUP(J997,טבלה1[#All],2,0)),\"\")","v":""}]
[null,null,null,null,null,null,null,null,null,null,null,{"$f":"_xlfn.IFNA(IF(J998>500,\"ומעלה 500\",VLOOKUP(J998,טבלה1[#All],2,0)),\"\")","v":""}]
[null,null,null,null,null,null,null,null,null,null,null,{"$f":"_xlfn.IFNA(IF(J999>500,\"ומעלה 500\",VLOOKUP(J999,טבלה1[#All],2,0)),\"\")","v":""}]
[null,null,null,null,null,null,null,null,null,null,null,{"$f":"_xlfn.IFNA(IF(J1000>500,\"ומעלה 500\",VLOOKUP(J1000,טבלה1[#All],2,0)),\"\")","v":""}]
[null,null,null,null,null,null,null,null,null,null,null,{"$f":"_xlfn.IFNA(IF(J1001>500,\"ומעלה 500\",VLOOKUP(J1001,טבלה1[#All],2,0)),\"\")","v":""}]
[null,null,null,null,null,null,null,null,null,null,null,{"$f":"_xlfn.IFNA(IF(J1002>500,\"ומעלה 500\",VLOOKUP(J1002,טבלה1[#All],2,0)),\"\")","v":""}]
[null,null,null,null,null,null,null,null,null,null,null,{"$f":"_xlfn.IFNA(IF(J1003>500,\"ומעלה 500\",VLOOKUP(J1003,טבלה1[#All],2,0)),\"\")","v":""}]
[null,null,null,null,null,null,null,null,null,null,null,{"$f":"_xlfn.IFNA(IF(J1004>500,\"ומעלה 500\",VLOOKUP(J1004,טבלה1[#All],2,0)),\"\")","v":""}]
[null,null,null,null,null,null,null,null,null,null,null,{"$f":"_xlfn.IFNA(IF(J1005>500,\"ומעלה 500\",VLOOKUP(J1005,טבלה1[#All],2,0)),\"\")","v":""}]
[null,null,null,null,null,null,null,null,null,null,null,{"$f":"_xlfn.IFNA(IF(J1006>500,\"ומעלה 500\",VLOOKUP(J1006,טבלה1[#All],2,0)),\"\")","v":""}]
[null,null,null,null,null,null,null,null,null,null,null,{"$f":"_xlfn.IFNA(IF(J1007>500,\"ומעלה 500\",VLOOKUP(J1007,טבלה1[#All],2,0)),\"\")","v":""}]
[null,null,null,null,null,null,null,null,null,null,null,{"$f":"_xlfn.IFNA(IF(J1008>500,\"ומעלה 500\",VLOOKUP(J1008,טבלה1[#All],2,0)),\"\")","v":""}]
[null,null,null,null,null,null,null,null,null,null,null,{"$f":"_xlfn.IFNA(IF(J1009>500,\"ומעלה 500\",VLOOKUP(J1009,טבלה1[#All],2,0)),\"\")","v":""}]
[null,null,null,null,null,null,null,null,null,null,null,{"$f":"_xlfn.IFNA(IF(J1010>500,\"ומעלה 500\",VLOOKUP(J1010,טבלה1[#All],2,0)),\"\")","v":""}]
[null,null,null,null,null,null,null,null,null,null,null,{"$f":"_xlfn.IFNA(IF(J1011>500,\"ומעלה 500\",VLOOKUP(J1011,טבלה1[#All],2,0)),\"\")","v":""}]
[null,null,null,null,null,null,null,null,null,null,null,{"$f":"_xlfn.IFNA(IF(J1012>500,\"ומעלה 500\",VLOOKUP(J1012,טבלה1[#All],2,0)),\"\")","v":""}]
[null,null,null,null,null,null,null,null,null,null,null,{"$f":"_xlfn.IFNA(IF(J1013>500,\"ומעלה 500\",VLOOKUP(J1013,טבלה1[#All],2,0)),\"\")","v":""}]
[null,null,null,null,null,null,null,null,null,null,null,{"$f":"_xlfn.IFNA(IF(J1014>500,\"ומעלה 500\",VLOOKUP(J1014,טבלה1[#All],2,0)),\"\")","v":""}]
[null,null,null,null,null,null,null,null,null,null,null,{"$f":"_xlfn.IFNA(IF(J1015>500,\"ומעלה 500\",VLOOKUP(J1015,טבלה1[#All],2,0)),\"\")","v":""}]
[null,null,null,null,null,null,null,null,null,null,null,{"$f":"_xlfn.IFNA(IF(J1016>500,\"ומעלה 500\",VLOOKUP(J1016,טבלה1[#All],2,0)),\"\")","v":""}]
[null,null,null,null,null,null,null,null,null,null,null,{"$f":"_xlfn.IFNA(IF(J1017>500,\"ומעלה 500\",VLOOKUP(J1017,טבלה1[#All],2,0)),\"\")","v":""}]
[null,null,null,null,null,null,null,null,null,null,null,{"$f":"_xlfn.IFNA(IF(J1018>500,\"ומעלה 500\",VLOOKUP(J1018,טבלה1[#All],2,0)),\"\")","v":""}]
[null,null,null,null,null,null,null,null,null,null,null,{"$f":"_xlfn.IFNA(IF(J1019>500,\"ומעלה 500\",VLOOKUP(J1019,טבלה1[#All],2,0)),\"\")","v":""}]
[null,null,null,null,null,null,null,null,null,null,null,{"$f":"_xlfn.IFNA(IF(J1020>500,\"ומעלה 500\",VLOOKUP(J1020,טבלה1[#All],2,0)),\"\")","v":""}]
[null,null,null,null,null,null,null,null,null,null,null,{"$f":"_xlfn.IFNA(IF(J1021>500,\"ומעלה 500\",VLOOKUP(J1021,טבלה1[#All],2,0)),\"\")","v":""}]
[null,null,null,null,null,null,null,null,null,null,null,{"$f":"_xlfn.IFNA(IF(J1022>500,\"ומעלה 500\",VLOOKUP(J1022,טבלה1[#All],2,0)),\"\")","v":""}]
[null,null,null,null,null,null,null,null,null,null,null,{"$f":"_xlfn.IFNA(IF(J1023>500,\"ומעלה 500\",VLOOKUP(J1023,טבלה1[#All],2,0)),\"\")","v":""}]
[null,null,null,null,null,null,null,null,null,null,null,{"$f":"_xlfn.IFNA(IF(J1024>500,\"ומעלה 500\",VLOOKUP(J1024,טבלה1[#All],2,0)),\"\")","v":""}]
[null,null,null,null,null,null,null,null,null,null,null,{"$f":"_xlfn.IFNA(IF(J1025>500,\"ומעלה 500\",VLOOKUP(J1025,טבלה1[#All],2,0)),\"\")","v":""}]
[null,null,null,null,null,null,null,null,null,null,null,{"$f":"_xlfn.IFNA(IF(J1026>500,\"ומעלה 500\",VLOOKUP(J1026,טבלה1[#All],2,0)),\"\")","v":""}]
[null,null,null,null,null,null,null,null,null,null,null,{"$f":"_xlfn.IFNA(IF(J1027>500,\"ומעלה 500\",VLOOKUP(J1027,טבלה1[#All],2,0)),\"\")","v":""}]
[null,null,null,null,null,null,null,null,null,null,null,{"$f":"_xlfn.IFNA(IF(J1028>500,\"ומעלה 500\",VLOOKUP(J1028,טבלה1[#All],2,0)),\"\")","v":""}]
[null,null,null,null,null,null,null,null,null,null,null,{"$f":"_xlfn.IFNA(IF(J1029>500,\"ומעלה 500\",VLOOKUP(J1029,טבלה1[#All],2,0)),\"\")","v":""}]
[null,null,null,null,null,null,null,null,null,null,null,{"$f":"_xlfn.IFNA(IF(J1030>500,\"ומעלה 500\",VLOOKUP(J1030,טבלה1[#All],2,0)),\"\")","v":""}]
[null,null,null,null,null,null,null,null,null,null,null,{"$f":"_xlfn.IFNA(IF(J1031>500,\"ומעלה 500\",VLOOKUP(J1031,טבלה1[#All],2,0)),\"\")","v":""}]
[null,null,null,null,null,null,null,null,null,null,null,{"$f":"_xlfn.IFNA(IF(J1032>500,\"ומעלה 500\",VLOOKUP(J1032,טבלה1[#All],2,0)),\"\")","v":""}]
[null,null,null,null,null,null,null,null,null,null,null,{"$f":"_xlfn.IFNA(IF(J1033>500,\"ומעלה 500\",VLOOKUP(J1033,טבלה1[#All],2,0)),\"\")","v":""}]
[null,null,null,null,null,null,null,null,null,null,null,{"$f":"_xlfn.IFNA(IF(J1034>500,\"ומעלה 500\",VLOOKUP(J1034,טבלה1[#All],2,0)),\"\")","v":""}]
[null,null,null,null,null,null,null,null,null,null,null,{"$f":"_xlfn.IFNA(IF(J1035>500,\"ומעלה 500\",VLOOKUP(J1035,טבלה1[#All],2,0)),\"\")","v":""}]
[null,null,null,null,null,null,null,null,null,null,null,{"$f":"_xlfn.IFNA(IF(J1036>500,\"ומעלה 500\",VLOOKUP(J1036,טבלה1[#All],2,0)),\"\")","v":""}]
[null,null,null,null,null,null,null,null,null,null,null,{"$f":"_xlfn.IFNA(IF(J1037>500,\"ומעלה 500\",VLOOKUP(J1037,טבלה1[#All],2,0)),\"\")","v":""}]
[null,null,null,null,null,null,null,null,null,null,null,{"$f":"_xlfn.IFNA(IF(J1038>500,\"ומעלה 500\",VLOOKUP(J1038,טבלה1[#All],2,0)),\"\")","v":""}]
[null,null,null,null,null,null,null,null,null,null,null,{"$f":"_xlfn.IFNA(IF(J1039>500,\"ומעלה 500\",VLOOKUP(J1039,טבלה1[#All],2,0)),\"\")","v":""}]
[null,null,null,null,null,null,null,null,null,null,null,{"$f":"_xlfn.IFNA(IF(J1040>500,\"ומעלה 500\",VLOOKUP(J1040,טבלה1[#All],2,0)),\"\")","v":""}]
[null,null,null,null,null,null,null,null,null,null,null,{"$f":"_xlfn.IFNA(IF(J1041>500,\"ומעלה 500\",VLOOKUP(J1041,טבלה1[#All],2,0)),\"\")","v":""}]
[null,null,null,null,null,null,null,null,null,null,null,{"$f":"_xlfn.IFNA(IF(J1042>500,\"ומעלה 500\",VLOOKUP(J1042,טבלה1[#All],2,0)),\"\")","v":""}]
[null,null,null,null,null,null,null,null,null,null,null,{"$f":"_xlfn.IFNA(IF(J1043>500,\"ומעלה 500\",VLOOKUP(J1043,טבלה1[#All],2,0)),\"\")","v":""}]
[null,null,null,null,null,null,null,null,null,null,null,{"$f":"_xlfn.IFNA(IF(J1044>500,\"ומעלה 500\",VLOOKUP(J1044,טבלה1[#All],2,0)),\"\")","v":""}]
[null,null,null,null,null,null,null,null,null,null,null,{"$f":"_xlfn.IFNA(IF(J1045>500,\"ומעלה 500\",VLOOKUP(J1045,טבלה1[#All],2,0)),\"\")","v":""}]
[null,null,null,null,null,null,null,null,null,null,null,{"$f":"_xlfn.IFNA(IF(J1046>500,\"ומעלה 500\",VLOOKUP(J1046,טבלה1[#All],2,0)),\"\")","v":""}]
[null,null,null,null,null,null,null,null,null,null,null,{"$f":"_xlfn.IFNA(IF(J1047>500,\"ומעלה 500\",VLOOKUP(J1047,טבלה1[#All],2,0)),\"\")","v":""}]
[null,null,null,null,null,null,null,null,null,null,null,{"$f":"_xlfn.IFNA(IF(J1048>500,\"ומעלה 500\",VLOOKUP(J1048,טבלה1[#All],2,0)),\"\")","v":""}]
[null,null,null,null,null,null,null,null,null,null,null,{"$f":"_xlfn.IFNA(IF(J1049>500,\"ומעלה 500\",VLOOKUP(J1049,טבלה1[#All],2,0)),\"\")","v":""}]
[null,null,null,null,null,null,null,null,null,null,null,{"$f":"_xlfn.IFNA(IF(J1050>500,\"ומעלה 500\",VLOOKUP(J1050,טבלה1[#All],2,0)),\"\")","v":""}]
[null,null,null,null,null,null,null,null,null,null,null,{"$f":"_xlfn.IFNA(IF(J1051>500,\"ומעלה 500\",VLOOKUP(J1051,טבלה1[#All],2,0)),\"\")","v":""}]
[null,null,null,null,null,null,null,null,null,null,null,{"$f":"_xlfn.IFNA(IF(J1052>500,\"ומעלה 500\",VLOOKUP(J1052,טבלה1[#All],2,0)),\"\")","v":""}]
[null,null,null,null,null,null,null,null,null,null,null,{"$f":"_xlfn.IFNA(IF(J1053>500,\"ומעלה 500\",VLOOKUP(J1053,טבלה1[#All],2,0)),\"\")","v":""}]
[null,null,null,null,null,null,null,null,null,null,null,{"$f":"_xlfn.IFNA(IF(J1054>500,\"ומעלה 500\",VLOOKUP(J1054,טבלה1[#All],2,0)),\"\")","v":""}]
[null,null,null,null,null,null,null,null,null,null,null,{"$f":"_xlfn.IFNA(IF(J1055>500,\"ומעלה 500\",VLOOKUP(J1055,טבלה1[#All],2,0)),\"\")","v":""}]
[null,null,null,null,null,null,null,null,null,null,null,{"$f":"_xlfn.IFNA(IF(J1056>500,\"ומעלה 500\",VLOOKUP(J1056,טבלה1[#All],2,0)),\"\")","v":""}]
[null,null,null,null,null,null,null,null,null,null,null,{"$f":"_xlfn.IFNA(IF(J1057>500,\"ומעלה 500\",VLOOKUP(J1057,טבלה1[#All],2,0)),\"\")","v":""}]
[null,null,null,null,null,null,null,null,null,null,null,{"$f":"_xlfn.IFNA(IF(J1058>500,\"ומעלה 500\",VLOOKUP(J1058,טבלה1[#All],2,0)),\"\")","v":""}]
[null,null,null,null,null,null,null,null,null,null,null,{"$f":"_xlfn.IFNA(IF(J1059>500,\"ומעלה 500\",VLOOKUP(J1059,טבלה1[#All],2,0)),\"\")","v":""}]
[null,null,null,null,null,null,null,null,null,null,null,{"$f":"_xlfn.IFNA(IF(J1060>500,\"ומעלה 500\",VLOOKUP(J1060,טבלה1[#All],2,0)),\"\")","v":""}]
[null,null,null,null,null,null,null,null,null,null,null,{"$f":"_xlfn.IFNA(IF(J1061>500,\"ומעלה 500\",VLOOKUP(J1061,טבלה1[#All],2,0)),\"\")","v":""}]
[null,null,null,null,null,null,null,null,null,null,null,{"$f":"_xlfn.IFNA(IF(J1062>500,\"ומעלה 500\",VLOOKUP(J1062,טבלה1[#All],2,0)),\"\")","v":""}]
[null,null,null,null,null,null,null,null,null,null,null,{"$f":"_xlfn.IFNA(IF(J1063>500,\"ומעלה 500\",VLOOKUP(J1063,טבלה1[#All],2,0)),\"\")","v":""}]
[null,null,null,null,null,null,null,null,null,null,null,{"$f":"_xlfn.IFNA(IF(J1064>500,\"ומעלה 500\",VLOOKUP(J1064,טבלה1[#All],2,0)),\"\")","v":""}]
[null,null,null,null,null,null,null,null,null,null,null,{"$f":"_xlfn.IFNA(IF(J1065>500,\"ומעלה 500\",VLOOKUP(J1065,טבלה1[#All],2,0)),\"\")","v":""}]
[null,null,null,null,null,null,null,null,null,null,null,{"$f":"_xlfn.IFNA(IF(J1066>500,\"ומעלה 500\",VLOOKUP(J1066,טבלה1[#All],2,0)),\"\")","v":""}]
[null,null,null,null,null,null,null,null,null,null,null,{"$f":"_xlfn.IFNA(IF(J1067>500,\"ומעלה 500\",VLOOKUP(J1067,טבלה1[#All],2,0)),\"\")","v":""}]
[null,null,null,null,null,null,null,null,null,null,null,{"$f":"_xlfn.IFNA(IF(J1068>500,\"ומעלה 500\",VLOOKUP(J1068,טבלה1[#All],2,0)),\"\")","v":""}]
[null,null,null,null,null,null,null,null,null,null,null,{"$f":"_xlfn.IFNA(IF(J1069>500,\"ומעלה 500\",VLOOKUP(J1069,טבלה1[#All],2,0)),\"\")","v":""}]
[null,null,null,null,null,null,null,null,null,null,null,{"$f":"_xlfn.IFNA(IF(J1070>500,\"ומעלה 500\",VLOOKUP(J1070,טבלה1[#All],2,0)),\"\")","v":""}]
[null,null,null,null,null,null,null,null,null,null,null,{"$f":"_xlfn.IFNA(IF(J1071>500,\"ומעלה 500\",VLOOKUP(J1071,טבלה1[#All],2,0)),\"\")","v":""}]
[null,null,null,null,null,null,null,null,null,null,null,{"$f":"_xlfn.IFNA(IF(J1072>500,\"ומעלה 500\",VLOOKUP(J1072,טבלה1[#All],2,0)),\"\")","v":""}]
[null,null,null,null,null,null,null,null,null,null,null,{"$f":"_xlfn.IFNA(IF(J1073>500,\"ומעלה 500\",VLOOKUP(J1073,טבלה1[#All],2,0)),\"\")","v":""}]
[null,null,null,null,null,null,null,null,null,null,null,{"$f":"_xlfn.IFNA(IF(J1074>500,\"ומעלה 500\",VLOOKUP(J1074,טבלה1[#All],2,0)),\"\")","v":""}]
[null,null,null,null,null,null,null,null,null,null,null,{"$f":"_xlfn.IFNA(IF(J1075>500,\"ומעלה 500\",VLOOKUP(J1075,טבלה1[#All],2,0)),\"\")","v":""}]
[null,null,null,null,null,null,null,null,null,null,null,{"$f":"_xlfn.IFNA(IF(J1076>500,\"ומעלה 500\",VLOOKUP(J1076,טבלה1[#All],2,0)),\"\")","v":""}]
[null,null,null,null,null,null,null,null,null,null,null,{"$f":"_xlfn.IFNA(IF(J1077>500,\"ומעלה 500\",VLOOKUP(J1077,טבלה1[#All],2,0)),\"\")","v":""}]
[null,null,null,null,null,null,null,null,null,null,null,{"$f":"_xlfn.IFNA(IF(J1078>500,\"ומעלה 500\",VLOOKUP(J1078,טבלה1[#All],2,0)),\"\")","v":""}]
[null,null,null,null,null,null,null,null,null,null,null,{"$f":"_xlfn.IFNA(IF(J1079>500,\"ומעלה 500\",VLOOKUP(J1079,טבלה1[#All],2,0)),\"\")","v":""}]
[null,null,null,null,null,null,null,null,null,null,null,{"$f":"_xlfn.IFNA(IF(J1080>500,\"ומעלה 500\",VLOOKUP(J1080,טבלה1[#All],2,0)),\"\")","v":""}]
[null,null,null,null,null,null,null,null,null,null,null,{"$f":"_xlfn.IFNA(IF(J1081>500,\"ומעלה 500\",VLOOKUP(J1081,טבלה1[#All],2,0)),\"\")","v":""}]
[null,null,null,null,null,null,null,null,null,null,null,{"$f":"_xlfn.IFNA(IF(J1082>500,\"ומעלה 500\",VLOOKUP(J1082,טבלה1[#All],2,0)),\"\")","v":""}]
[null,null,null,null,null,null,null,null,null,null,null,{"$f":"_xlfn.IFNA(IF(J1083>500,\"ומעלה 500\",VLOOKUP(J1083,טבלה1[#All],2,0)),\"\")","v":""}]
[null,null,null,null,null,null,null,null,null,null,null,{"$f":"_xlfn.IFNA(IF(J1084>500,\"ומעלה 500\",VLOOKUP(J1084,טבלה1[#All],2,0)),\"\")","v":""}]
[null,null,null,null,null,null,null,null,null,null,null,{"$f":"_xlfn.IFNA(IF(J1085>500,\"ומעלה 500\",VLOOKUP(J1085,טבלה1[#All],2,0)),\"\")","v":""}]
[null,null,null,null,null,null,null,null,null,null,null,{"$f":"_xlfn.IFNA(IF(J1086>500,\"ומעלה 500\",VLOOKUP(J1086,טבלה1[#All],2,0)),\"\")","v":""}]
[null,null,null,null,null,null,null,null,null,null,null,{"$f":"_xlfn.IFNA(IF(J1087>500,\"ומעלה 500\",VLOOKUP(J1087,טבלה1[#All],2,0)),\"\")","v":""}]
[null,null,null,null,null,null,null,null,null,null,null,{"$f":"_xlfn.IFNA(IF(J1088>500,\"ומעלה 500\",VLOOKUP(J1088,טבלה1[#All],2,0)),\"\")","v":""}]
[null,null,null,null,null,null,null,null,null,null,null,{"$f":"_xlfn.IFNA(IF(J1089>500,\"ומעלה 500\",VLOOKUP(J1089,טבלה1[#All],2,0)),\"\")","v":""}]
[null,null,null,null,null,null,null,null,null,null,null,{"$f":"_xlfn.IFNA(IF(J1090>500,\"ומעלה 500\",VLOOKUP(J1090,טבלה1[#All],2,0)),\"\")","v":""}]
[null,null,null,null,null,null,null,null,null,null,null,{"$f":"_xlfn.IFNA(IF(J1091>500,\"ומעלה 500\",VLOOKUP(J1091,טבלה1[#All],2,0)),\"\")","v":""}]
[null,null,null,null,null,null,null,null,null,null,null,{"$f":"_xlfn.IFNA(IF(J1092>500,\"ומעלה 500\",VLOOKUP(J1092,טבלה1[#All],2,0)),\"\")","v":""}]
[null,null,null,null,null,null,null,null,null,null,null,{"$f":"_xlfn.IFNA(IF(J1093>500,\"ומעלה 500\",VLOOKUP(J1093,טבלה1[#All],2,0)),\"\")","v":""}]
[null,null,null,null,null,null,null,null,null,null,null,{"$f":"_xlfn.IFNA(IF(J1094>500,\"ומעלה 500\",VLOOKUP(J1094,טבלה1[#All],2,0)),\"\")","v":""}]
[null,null,null,null,null,null,null,null,null,null,null,{"$f":"_xlfn.IFNA(IF(J1095>500,\"ומעלה 500\",VLOOKUP(J1095,טבלה1[#All],2,0)),\"\")","v":""}]
[null,null,null,null,null,null,null,null,null,null,null,{"$f":"_xlfn.IFNA(IF(J1096>500,\"ומעלה 500\",VLOOKUP(J1096,טבלה1[#All],2,0)),\"\")","v":""}]
[null,null,null,null,null,null,null,null,null,null,null,{"$f":"_xlfn.IFNA(IF(J1097>500,\"ומעלה 500\",VLOOKUP(J1097,טבלה1[#All],2,0)),\"\")","v":""}]
[null,null,null,null,null,null,null,null,null,null,null,{"$f":"_xlfn.IFNA(IF(J1098>500,\"ומעלה 500\",VLOOKUP(J1098,טבלה1[#All],2,0)),\"\")","v":""}]
[null,null,null,null,null,null,null,null,null,null,null,{"$f":"_xlfn.IFNA(IF(J1099>500,\"ומעלה 500\",VLOOKUP(J1099,טבלה1[#All],2,0)),\"\")","v":""}]
[null,null,null,null,null,null,null,null,null,null,null,{"$f":"_xlfn.IFNA(IF(J1100>500,\"ומעלה 500\",VLOOKUP(J1100,טבלה1[#All],2,0)),\"\")","v":""}]
[null,null,null,null,null,null,null,null,null,null,null,{"$f":"_xlfn.IFNA(IF(J1101>500,\"ומעלה 500\",VLOOKUP(J1101,טבלה1[#All],2,0)),\"\")","v":""}]
[null,null,null,null,null,null,null,null,null,null,null,{"$f":"_xlfn.IFNA(IF(J1102>500,\"ומעלה 500\",VLOOKUP(J1102,טבלה1[#All],2,0)),\"\")","v":""}]
[null,null,null,null,null,null,null,null,null,null,null,{"$f":"_xlfn.IFNA(IF(J1103>500,\"ומעלה 500\",VLOOKUP(J1103,טבלה1[#All],2,0)),\"\")","v":""}]
[null,null,null,null,null,null,null,null,null,null,null,{"$f":"_xlfn.IFNA(IF(J1104>500,\"ומעלה 500\",VLOOKUP(J1104,טבלה1[#All],2,0)),\"\")","v":""}]
[null,null,null,null,null,null,null,null,null,null,null,{"$f":"_xlfn.IFNA(IF(J1105>500,\"ומעלה 500\",VLOOKUP(J1105,טבלה1[#All],2,0)),\"\")","v":""}]
[null,null,null,null,null,null,null,null,null,null,null,{"$f":"_xlfn.IFNA(IF(J1106>500,\"ומעלה 500\",VLOOKUP(J1106,טבלה1[#All],2,0)),\"\")","v":""}]
[null,null,null,null,null,null,null,null,null,null,null,{"$f":"_xlfn.IFNA(IF(J1107>500,\"ומעלה 500\",VLOOKUP(J1107,טבלה1[#All],2,0)),\"\")","v":""}]
[null,null,null,null,null,null,null,null,null,null,null,{"$f":"_xlfn.IFNA(IF(J1108>500,\"ומעלה 500\",VLOOKUP(J1108,טבלה1[#All],2,0)),\"\")","v":""}]
[null,null,null,null,null,null,null,null,null,null,null,{"$f":"_xlfn.IFNA(IF(J1109>500,\"ומעלה 500\",VLOOKUP(J1109,טבלה1[#All],2,0)),\"\")","v":""}]
[null,null,null,null,null,null,null,null,null,null,null,{"$f":"_xlfn.IFNA(IF(J1110>500,\"ומעלה 500\",VLOOKUP(J1110,טבלה1[#All],2,0)),\"\")","v":""}]
[null,null,null,null,null,null,null,null,null,null,null,{"$f":"_xlfn.IFNA(IF(J1111>500,\"ומעלה 500\",VLOOKUP(J1111,טבלה1[#All],2,0)),\"\")","v":""}]
[null,null,null,null,null,null,null,null,null,null,null,{"$f":"_xlfn.IFNA(IF(J1112>500,\"ומעלה 500\",VLOOKUP(J1112,טבלה1[#All],2,0)),\"\")","v":""}]
[null,null,null,null,null,null,null,null,null,null,null,{"$f":"_xlfn.IFNA(IF(J1113>500,\"ומעלה 500\",VLOOKUP(J1113,טבלה1[#All],2,0)),\"\")","v":""}]
[null,null,null,null,null,null,null,null,null,null,null,{"$f":"_xlfn.IFNA(IF(J1114>500,\"ומעלה 500\",VLOOKUP(J1114,טבלה1[#All],2,0)),\"\")","v":""}]
[null,null,null,null,null,null,null,null,null,null,null,{"$f":"_xlfn.IFNA(IF(J1115>500,\"ומעלה 500\",VLOOKUP(J1115,טבלה1[#All],2,0)),\"\")","v":""}]
[null,null,null,null,null,null,null,null,null,null,null,{"$f":"_xlfn.IFNA(IF(J1116>500,\"ומעלה 500\",VLOOKUP(J1116,טבלה1[#All],2,0)),\"\")","v":""}]
[null,null,null,null,null,null,null,null,null,null,null,{"$f":"_xlfn.IFNA(IF(J1117>500,\"ומעלה 500\",VLOOKUP(J1117,טבלה1[#All],2,0)),\"\")","v":""}]
[null,null,null,null,null,null,null,null,null,null,null,{"$f":"_xlfn.IFNA(IF(J1118>500,\"ומעלה 500\",VLOOKUP(J1118,טבלה1[#All],2,0)),\"\")","v":""}]
[null,null,null,null,null,null,null,null,null,null,null,{"$f":"_xlfn.IFNA(IF(J1119>500,\"ומעלה 500\",VLOOKUP(J1119,טבלה1[#All],2,0)),\"\")","v":""}]
[null,null,null,null,null,null,null,null,null,null,null,{"$f":"_xlfn.IFNA(IF(J1120>500,\"ומעלה 500\",VLOOKUP(J1120,טבלה1[#All],2,0)),\"\")","v":""}]
[null,null,null,null,null,null,null,null,null,null,null,{"$f":"_xlfn.IFNA(IF(J1121>500,\"ומעלה 500\",VLOOKUP(J1121,טבלה1[#All],2,0)),\"\")","v":""}]
[null,null,null,null,null,null,null,null,null,null,null,{"$f":"_xlfn.IFNA(IF(J1122>500,\"ומעלה 500\",VLOOKUP(J1122,טבלה1[#All],2,0)),\"\")","v":""}]
[null,null,null,null,null,null,null,null,null,null,null,{"$f":"_xlfn.IFNA(IF(J1123>500,\"ומעלה 500\",VLOOKUP(J1123,טבלה1[#All],2,0)),\"\")","v":""}]
[null,null,null,null,null,null,null,null,null,null,null,{"$f":"_xlfn.IFNA(IF(J1124>500,\"ומעלה 500\",VLOOKUP(J1124,טבלה1[#All],2,0)),\"\")","v":""}]
[null,null,null,null,null,null,null,null,null,null,null,{"$f":"_xlfn.IFNA(IF(J1125>500,\"ומעלה 500\",VLOOKUP(J1125,טבלה1[#All],2,0)),\"\")","v":""}]
[null,null,null,null,null,null,null,null,null,null,null,{"$f":"_xlfn.IFNA(IF(J1126>500,\"ומעלה 500\",VLOOKUP(J1126,טבלה1[#All],2,0)),\"\")","v":""}]
[null,null,null,null,null,null,null,null,null,null,null,{"$f":"_xlfn.IFNA(IF(J1127>500,\"ומעלה 500\",VLOOKUP(J1127,טבלה1[#All],2,0)),\"\")","v":""}]
[null,null,null,null,null,null,null,null,null,null,null,{"$f":"_xlfn.IFNA(IF(J1128>500,\"ומעלה 500\",VLOOKUP(J1128,טבלה1[#All],2,0)),\"\")","v":""}]
[null,null,null,null,null,null,null,null,null,null,null,{"$f":"_xlfn.IFNA(IF(J1129>500,\"ומעלה 500\",VLOOKUP(J1129,טבלה1[#All],2,0)),\"\")","v":""}]
[null,null,null,null,null,null,null,null,null,null,null,{"$f":"_xlfn.IFNA(IF(J1130>500,\"ומעלה 500\",VLOOKUP(J1130,טבלה1[#All],2,0)),\"\")","v":""}]
[null,null,null,null,null,null,null,null,null,null,null,{"$f":"_xlfn.IFNA(IF(J1131>500,\"ומעלה 500\",VLOOKUP(J1131,טבלה1[#All],2,0)),\"\")","v":""}]
[null,null,null,null,null,null,null,null,null,null,null,{"$f":"_xlfn.IFNA(IF(J1132>500,\"ומעלה 500\",VLOOKUP(J1132,טבלה1[#All],2,0)),\"\")","v":""}]
[null,null,null,null,null,null,null,null,null,null,null,{"$f":"_xlfn.IFNA(IF(J1133>500,\"ומעלה 500\",VLOOKUP(J1133,טבלה1[#All],2,0)),\"\")","v":""}]
[null,null,null,null,null,null,null,null,null,null,null,{"$f":"_xlfn.IFNA(IF(J1134>500,\"ומעלה 500\",VLOOKUP(J1134,טבלה1[#All],2,0)),\"\")","v":""}]
[null,null,null,null,null,null,null,null,null,null,null,{"$f":"_xlfn.IFNA(IF(J1135>500,\"ומעלה 500\",VLOOKUP(J1135,טבלה1[#All],2,0)),\"\")","v":""}]
[null,null,null,null,null,null,null,null,null,null,null,{"$f":"_xlfn.IFNA(IF(J1136>500,\"ומעלה 500\",VLOOKUP(J1136,טבלה1[#All],2,0)),\"\")","v":""}]
[null,null,null,null,null,null,null,null,null,null,null,{"$f":"_xlfn.IFNA(IF(J1137>500,\"ומעלה 500\",VLOOKUP(J1137,טבלה1[#All],2,0)),\"\")","v":""}]
[null,null,null,null,null,null,null,null,null,null,null,{"$f":"_xlfn.IFNA(IF(J1138>500,\"ומעלה 500\",VLOOKUP(J1138,טבלה1[#All],2,0)),\"\")","v":""}]
[null,null,null,null,null,null,null,null,null,null,null,{"$f":"_xlfn.IFNA(IF(J1139>500,\"ומעלה 500\",VLOOKUP(J1139,טבלה1[#All],2,0)),\"\")","v":""}]
[null,null,null,null,null,null,null,null,null,null,null,{"$f":"_xlfn.IFNA(IF(J1140>500,\"ומעלה 500\",VLOOKUP(J1140,טבלה1[#All],2,0)),\"\")","v":""}]
[null,null,null,null,null,null,null,null,null,null,null,{"$f":"_xlfn.IFNA(IF(J1141>500,\"ומעלה 500\",VLOOKUP(J1141,טבלה1[#All],2,0)),\"\")","v":""}]
[null,null,null,null,null,null,null,null,null,null,null,{"$f":"_xlfn.IFNA(IF(J1142>500,\"ומעלה 500\",VLOOKUP(J1142,טבלה1[#All],2,0)),\"\")","v":""}]
[null,null,null,null,null,null,null,null,null,null,null,{"$f":"_xlfn.IFNA(IF(J1143>500,\"ומעלה 500\",VLOOKUP(J1143,טבלה1[#All],2,0)),\"\")","v":""}]
[null,null,null,null,null,null,null,null,null,null,null,{"$f":"_xlfn.IFNA(IF(J1144>500,\"ומעלה 500\",VLOOKUP(J1144,טבלה1[#All],2,0)),\"\")","v":""}]
[null,null,null,null,null,null,null,null,null,null,null,{"$f":"_xlfn.IFNA(IF(J1145>500,\"ומעלה 500\",VLOOKUP(J1145,טבלה1[#All],2,0)),\"\")","v":""}]
[null,null,null,null,null,null,null,null,null,null,null,{"$f":"_xlfn.IFNA(IF(J1146>500,\"ומעלה 500\",VLOOKUP(J1146,טבלה1[#All],2,0)),\"\")","v":""}]
[null,null,null,null,null,null,null,null,null,null,null,{"$f":"_xlfn.IFNA(IF(J1147>500,\"ומעלה 500\",VLOOKUP(J1147,טבלה1[#All],2,0)),\"\")","v":""}]
[null,null,null,null,null,null,null,null,null,null,null,{"$f":"_xlfn.IFNA(IF(J1148>500,\"ומעלה 500\",VLOOKUP(J1148,טבלה1[#All],2,0)),\"\")","v":""}]
[null,null,null,null,null,null,null,null,null,null,null,{"$f":"_xlfn.IFNA(IF(J1149>500,\"ומעלה 500\",VLOOKUP(J1149,טבלה1[#All],2,0)),\"\")","v":""}]
[null,null,null,null,null,null,null,null,null,null,null,{"$f":"_xlfn.IFNA(IF(J1150>500,\"ומעלה 500\",VLOOKUP(J1150,טבלה1[#All],2,0)),\"\")","v":""}]
[null,null,null,null,null,null,null,null,null,null,null,{"$f":"_xlfn.IFNA(IF(J1151>500,\"ומעלה 500\",VLOOKUP(J1151,טבלה1[#All],2,0)),\"\")","v":""}]
[null,null,null,null,null,null,null,null,null,null,null,{"$f":"_xlfn.IFNA(IF(J1152>500,\"ומעלה 500\",VLOOKUP(J1152,טבלה1[#All],2,0)),\"\")","v":""}]
[null,null,null,null,null,null,null,null,null,null,null,{"$f":"_xlfn.IFNA(IF(J1153>500,\"ומעלה 500\",VLOOKUP(J1153,טבלה1[#All],2,0)),\"\")","v":""}]
[null,null,null,null,null,null,null,null,null,null,null,{"$f":"_xlfn.IFNA(IF(J1154>500,\"ומעלה 500\",VLOOKUP(J1154,טבלה1[#All],2,0)),\"\")","v":""}]
[null,null,null,null,null,null,null,null,null,null,null,{"$f":"_xlfn.IFNA(IF(J1155>500,\"ומעלה 500\",VLOOKUP(J1155,טבלה1[#All],2,0)),\"\")","v":""}]
[null,null,null,null,null,null,null,null,null,null,null,{"$f":"_xlfn.IFNA(IF(J1156>500,\"ומעלה 500\",VLOOKUP(J1156,טבלה1[#All],2,0)),\"\")","v":""}]
[null,null,null,null,null,null,null,null,null,null,null,{"$f":"_xlfn.IFNA(IF(J1157>500,\"ומעלה 500\",VLOOKUP(J1157,טבלה1[#All],2,0)),\"\")","v":""}]
[null,null,null,null,null,null,null,null,null,null,null,{"$f":"_xlfn.IFNA(IF(J1158>500,\"ומעלה 500\",VLOOKUP(J1158,טבלה1[#All],2,0)),\"\")","v":""}]
[null,null,null,null,null,null,null,null,null,null,null,{"$f":"_xlfn.IFNA(IF(J1159>500,\"ומעלה 500\",VLOOKUP(J1159,טבלה1[#All],2,0)),\"\")","v":""}]
[null,null,null,null,null,null,null,null,null,null,null,{"$f":"_xlfn.IFNA(IF(J1160>500,\"ומעלה 500\",VLOOKUP(J1160,טבלה1[#All],2,0)),\"\")","v":""}]
[null,null,null,null,null,null,null,null,null,null,null,{"$f":"_xlfn.IFNA(IF(J1161>500,\"ומעלה 500\",VLOOKUP(J1161,טבלה1[#All],2,0)),\"\")","v":""}]
[null,null,null,null,null,null,null,null,null,null,null,{"$f":"_xlfn.IFNA(IF(J1162>500,\"ומעלה 500\",VLOOKUP(J1162,טבלה1[#All],2,0)),\"\")","v":""}]
[null,null,null,null,null,null,null,null,null,null,null,{"$f":"_xlfn.IFNA(IF(J1163>500,\"ומעלה 500\",VLOOKUP(J1163,טבלה1[#All],2,0)),\"\")","v":""}]
[null,null,null,null,null,null,null,null,null,null,null,{"$f":"_xlfn.IFNA(IF(J1164>500,\"ומעלה 500\",VLOOKUP(J1164,טבלה1[#All],2,0)),\"\")","v":""}]
[null,null,null,null,null,null,null,null,null,null,null,{"$f":"_xlfn.IFNA(IF(J1165>500,\"ומעלה 500\",VLOOKUP(J1165,טבלה1[#All],2,0)),\"\")","v":""}]
[null,null,null,null,null,null,null,null,null,null,null,{"$f":"_xlfn.IFNA(IF(J1166>500,\"ומעלה 500\",VLOOKUP(J1166,טבלה1[#All],2,0)),\"\")","v":""}]
[null,null,null,null,null,null,null,null,null,null,null,{"$f":"_xlfn.IFNA(IF(J1167>500,\"ומעלה 500\",VLOOKUP(J1167,טבלה1[#All],2,0)),\"\")","v":""}]
[null,null,null,null,null,null,null,null,null,null,null,{"$f":"_xlfn.IFNA(IF(J1168>500,\"ומעלה 500\",VLOOKUP(J1168,טבלה1[#All],2,0)),\"\")","v":""}]
[null,null,null,null,null,null,null,null,null,null,null,{"$f":"_xlfn.IFNA(IF(J1169>500,\"ומעלה 500\",VLOOKUP(J1169,טבלה1[#All],2,0)),\"\")","v":""}]
[null,null,null,null,null,null,null,null,null,null,null,{"$f":"_xlfn.IFNA(IF(J1170>500,\"ומעלה 500\",VLOOKUP(J1170,טבלה1[#All],2,0)),\"\")","v":""}]
[null,null,null,null,null,null,null,null,null,null,null,{"$f":"_xlfn.IFNA(IF(J1171>500,\"ומעלה 500\",VLOOKUP(J1171,טבלה1[#All],2,0)),\"\")","v":""}]
[null,null,null,null,null,null,null,null,null,null,null,{"$f":"_xlfn.IFNA(IF(J1172>500,\"ומעלה 500\",VLOOKUP(J1172,טבלה1[#All],2,0)),\"\")","v":""}]
[null,null,null,null,null,null,null,null,null,null,null,{"$f":"_xlfn.IFNA(IF(J1173>500,\"ומעלה 500\",VLOOKUP(J1173,טבלה1[#All],2,0)),\"\")","v":""}]
[null,null,null,null,null,null,null,null,null,null,null,{"$f":"_xlfn.IFNA(IF(J1174>500,\"ומעלה 500\",VLOOKUP(J1174,טבלה1[#All],2,0)),\"\")","v":""}]
[null,null,null,null,null,null,null,null,null,null,null,{"$f":"_xlfn.IFNA(IF(J1175>500,\"ומעלה 500\",VLOOKUP(J1175,טבלה1[#All],2,0)),\"\")","v":""}]
[null,null,null,null,null,null,null,null,null,null,null,{"$f":"_xlfn.IFNA(IF(J1176>500,\"ומעלה 500\",VLOOKUP(J1176,טבלה1[#All],2,0)),\"\")","v":""}]
[null,null,null,null,null,null,null,null,null,null,null,{"$f":"_xlfn.IFNA(IF(J1177>500,\"ומעלה 500\",VLOOKUP(J1177,טבלה1[#All],2,0)),\"\")","v":""}]
[null,null,null,null,null,null,null,null,null,null,null,{"$f":"_xlfn.IFNA(IF(J1178>500,\"ומעלה 500\",VLOOKUP(J1178,טבלה1[#All],2,0)),\"\")","v":""}]
[null,null,null,null,null,null,null,null,null,null,null,{"$f":"_xlfn.IFNA(IF(J1179>500,\"ומעלה 500\",VLOOKUP(J1179,טבלה1[#All],2,0)),\"\")","v":""}]
[null,null,null,null,null,null,null,null,null,null,null,{"$f":"_xlfn.IFNA(IF(J1180>500,\"ומעלה 500\",VLOOKUP(J1180,טבלה1[#All],2,0)),\"\")","v":""}]
[null,null,null,null,null,null,null,null,null,null,null,{"$f":"_xlfn.IFNA(IF(J1181>500,\"ומעלה 500\",VLOOKUP(J1181,טבלה1[#All],2,0)),\"\")","v":""}]
[null,null,null,null,null,null,null,null,null,null,null,{"$f":"_xlfn.IFNA(IF(J1182>500,\"ומעלה 500\",VLOOKUP(J1182,טבלה1[#All],2,0)),\"\")","v":""}]
[null,null,null,null,null,null,null,null,null,null,null,{"$f":"_xlfn.IFNA(IF(J1183>500,\"ומעלה 500\",VLOOKUP(J1183,טבלה1[#All],2,0)),\"\")","v":""}]
[null,null,null,null,null,null,null,null,null,null,null,{"$f":"_xlfn.IFNA(IF(J1184>500,\"ומעלה 500\",VLOOKUP(J1184,טבלה1[#All],2,0)),\"\")","v":""}]
[null,null,null,null,null,null,null,null,null,null,null,{"$f":"_xlfn.IFNA(IF(J1185>500,\"ומעלה 500\",VLOOKUP(J1185,טבלה1[#All],2,0)),\"\")","v":""}]
[null,null,null,null,null,null,null,null,null,null,null,{"$f":"_xlfn.IFNA(IF(J1186>500,\"ומעלה 500\",VLOOKUP(J1186,טבלה1[#All],2,0)),\"\")","v":""}]
[null,null,null,null,null,null,null,null,null,null,null,{"$f":"_xlfn.IFNA(IF(J1187>500,\"ומעלה 500\",VLOOKUP(J1187,טבלה1[#All],2,0)),\"\")","v":""}]
[null,null,null,null,null,null,null,null,null,null,null,{"$f":"_xlfn.IFNA(IF(J1188>500,\"ומעלה 500\",VLOOKUP(J1188,טבלה1[#All],2,0)),\"\")","v":""}]
[null,null,null,null,null,null,null,null,null,null,null,{"$f":"_xlfn.IFNA(IF(J1189>500,\"ומעלה 500\",VLOOKUP(J1189,טבלה1[#All],2,0)),\"\")","v":""}]
[null,null,null,null,null,null,null,null,null,null,null,{"$f":"_xlfn.IFNA(IF(J1190>500,\"ומעלה 500\",VLOOKUP(J1190,טבלה1[#All],2,0)),\"\")","v":""}]
[null,null,null,null,null,null,null,null,null,null,null,{"$f":"_xlfn.IFNA(IF(J1191>500,\"ומעלה 500\",VLOOKUP(J1191,טבלה1[#All],2,0)),\"\")","v":""}]
[null,null,null,null,null,null,null,null,null,null,null,{"$f":"_xlfn.IFNA(IF(J1192>500,\"ומעלה 500\",VLOOKUP(J1192,טבלה1[#All],2,0)),\"\")","v":""}]
[null,null,null,null,null,null,null,null,null,null,null,{"$f":"_xlfn.IFNA(IF(J1193>500,\"ומעלה 500\",VLOOKUP(J1193,טבלה1[#All],2,0)),\"\")","v":""}]
[null,null,null,null,null,null,null,null,null,null,null,{"$f":"_xlfn.IFNA(IF(J1194>500,\"ומעלה 500\",VLOOKUP(J1194,טבלה1[#All],2,0)),\"\")","v":""}]
[null,null,null,null,null,null,null,null,null,null,null,{"$f":"_xlfn.IFNA(IF(J1195>500,\"ומעלה 500\",VLOOKUP(J1195,טבלה1[#All],2,0)),\"\")","v":""}]
[null,null,null,null,null,null,null,null,null,null,null,{"$f":"_xlfn.IFNA(IF(J1196>500,\"ומעלה 500\",VLOOKUP(J1196,טבלה1[#All],2,0)),\"\")","v":""}]
[null,null,null,null,null,null,null,null,null,null,null,{"$f":"_xlfn.IFNA(IF(J1197>500,\"ומעלה 500\",VLOOKUP(J1197,טבלה1[#All],2,0)),\"\")","v":""}]
[null,null,null,null,null,null,null,null,null,null,null,{"$f":"_xlfn.IFNA(IF(J1198>500,\"ומעלה 500\",VLOOKUP(J1198,טבלה1[#All],2,0)),\"\")","v":""}]
[null,null,null,null,null,null,null,null,null,null,null,{"$f":"_xlfn.IFNA(IF(J1199>500,\"ומעלה 500\",VLOOKUP(J1199,טבלה1[#All],2,0)),\"\")","v":""}]
[null,null,null,null,null,null,null,null,null,null,null,{"$f":"_xlfn.IFNA(IF(J1200>500,\"ומעלה 500\",VLOOKUP(J1200,טבלה1[#All],2,0)),\"\")","v":""}]
[null,null,null,null,null,null,null,null,null,null,null,{"$f":"_xlfn.IFNA(IF(J1201>500,\"ומעלה 500\",VLOOKUP(J1201,טבלה1[#All],2,0)),\"\")","v":""}]
[null,null,null,null,null,null,null,null,null,null,null,{"$f":"_xlfn.IFNA(IF(J1202>500,\"ומעלה 500\",VLOOKUP(J1202,טבלה1[#All],2,0)),\"\")","v":""}]
[null,null,null,null,null,null,null,null,null,null,null,{"$f":"_xlfn.IFNA(IF(J1203>500,\"ומעלה 500\",VLOOKUP(J1203,טבלה1[#All],2,0)),\"\")","v":""}]
[null,null,null,null,null,null,null,null,null,null,null,{"$f":"_xlfn.IFNA(IF(J1204>500,\"ומעלה 500\",VLOOKUP(J1204,טבלה1[#All],2,0)),\"\")","v":""}]
[null,null,null,null,null,null,null,null,null,null,null,{"$f":"_xlfn.IFNA(IF(J1205>500,\"ומעלה 500\",VLOOKUP(J1205,טבלה1[#All],2,0)),\"\")","v":""}]
[null,null,null,null,null,null,null,null,null,null,null,{"$f":"_xlfn.IFNA(IF(J1206>500,\"ומעלה 500\",VLOOKUP(J1206,טבלה1[#All],2,0)),\"\")","v":""}]
[null,null,null,null,null,null,null,null,null,null,null,{"$f":"_xlfn.IFNA(IF(J1207>500,\"ומעלה 500\",VLOOKUP(J1207,טבלה1[#All],2,0)),\"\")","v":""}]
[null,null,null,null,null,null,null,null,null,null,null,{"$f":"_xlfn.IFNA(IF(J1208>500,\"ומעלה 500\",VLOOKUP(J1208,טבלה1[#All],2,0)),\"\")","v":""}]
[null,null,null,null,null,null,null,null,null,null,null,{"$f":"_xlfn.IFNA(IF(J1209>500,\"ומעלה 500\",VLOOKUP(J1209,טבלה1[#All],2,0)),\"\")","v":""}]
[null,null,null,null,null,null,null,null,null,null,null,{"$f":"_xlfn.IFNA(IF(J1210>500,\"ומעלה 500\",VLOOKUP(J1210,טבלה1[#All],2,0)),\"\")","v":""}]
[null,null,null,null,null,null,null,null,null,null,null,{"$f":"_xlfn.IFNA(IF(J1211>500,\"ומעלה 500\",VLOOKUP(J1211,טבלה1[#All],2,0)),\"\")","v":""}]
[null,null,null,null,null,null,null,null,null,null,null,{"$f":"_xlfn.IFNA(IF(J1212>500,\"ומעלה 500\",VLOOKUP(J1212,טבלה1[#All],2,0)),\"\")","v":""}]
[null,null,null,null,null,null,null,null,null,null,null,{"$f":"_xlfn.IFNA(IF(J1213>500,\"ומעלה 500\",VLOOKUP(J1213,טבלה1[#All],2,0)),\"\")","v":""}]
[null,null,null,null,null,null,null,null,null,null,null,{"$f":"_xlfn.IFNA(IF(J1214>500,\"ומעלה 500\",VLOOKUP(J1214,טבלה1[#All],2,0)),\"\")","v":""}]
[null,null,null,null,null,null,null,null,null,null,null,{"$f":"_xlfn.IFNA(IF(J1215>500,\"ומעלה 500\",VLOOKUP(J1215,טבלה1[#All],2,0)),\"\")","v":""}]
[null,null,null,null,null,null,null,null,null,null,null,{"$f":"_xlfn.IFNA(IF(J1216>500,\"ומעלה 500\",VLOOKUP(J1216,טבלה1[#All],2,0)),\"\")","v":""}]
[null,null,null,null,null,null,null,null,null,null,null,{"$f":"_xlfn.IFNA(IF(J1217>500,\"ומעלה 500\",VLOOKUP(J1217,טבלה1[#All],2,0)),\"\")","v":""}]
[null,null,null,null,null,null,null,null,null,null,null,{"$f":"_xlfn.IFNA(IF(J1218>500,\"ומעלה 500\",VLOOKUP(J1218,טבלה1[#All],2,0)),\"\")","v":""}]
[null,null,null,null,null,null,null,null,null,null,null,{"$f":"_xlfn.IFNA(IF(J1219>500,\"ומעלה 500\",VLOOKUP(J1219,טבלה1[#All],2,0)),\"\")","v":""}]
[null,null,null,null,null,null,null,null,null,null,null,{"$f":"_xlfn.IFNA(IF(J1220>500,\"ומעלה 500\",VLOOKUP(J1220,טבלה1[#All],2,0)),\"\")","v":""}]
[null,null,null,null,null,null,null,null,null,null,null,{"$f":"_xlfn.IFNA(IF(J1221>500,\"ומעלה 500\",VLOOKUP(J1221,טבלה1[#All],2,0)),\"\")","v":""}]
[null,null,null,null,null,null,null,null,null,null,null,{"$f":"_xlfn.IFNA(IF(J1222>500,\"ומעלה 500\",VLOOKUP(J1222,טבלה1[#All],2,0)),\"\")","v":""}]
[null,null,null,null,null,null,null,null,null,null,null,{"$f":"_xlfn.IFNA(IF(J1223>500,\"ומעלה 500\",VLOOKUP(J1223,טבלה1[#All],2,0)),\"\")","v":""}]
[null,null,null,null,null,null,null,null,null,null,null,{"$f":"_xlfn.IFNA(IF(J1224>500,\"ומעלה 500\",VLOOKUP(J1224,טבלה1[#All],2,0)),\"\")","v":""}]
[null,null,null,null,null,null,null,null,null,null,null,{"$f":"_xlfn.IFNA(IF(J1225>500,\"ומעלה 500\",VLOOKUP(J1225,טבלה1[#All],2,0)),\"\")","v":""}]
[null,null,null,null,null,null,null,null,null,null,null,{"$f":"_xlfn.IFNA(IF(J1226>500,\"ומעלה 500\",VLOOKUP(J1226,טבלה1[#All],2,0)),\"\")","v":""}]
[null,null,null,null,null,null,null,null,null,null,null,{"$f":"_xlfn.IFNA(IF(J1227>500,\"ומעלה 500\",VLOOKUP(J1227,טבלה1[#All],2,0)),\"\")","v":""}]
[null,null,null,null,null,null,null,null,null,null,null,{"$f":"_xlfn.IFNA(IF(J1228>500,\"ומעלה 500\",VLOOKUP(J1228,טבלה1[#All],2,0)),\"\")","v":""}]
[null,null,null,null,null,null,null,null,null,null,null,{"$f":"_xlfn.IFNA(IF(J1229>500,\"ומעלה 500\",VLOOKUP(J1229,טבלה1[#All],2,0)),\"\")","v":""}]
[null,null,null,null,null,null,null,null,null,null,null,{"$f":"_xlfn.IFNA(IF(J1230>500,\"ומעלה 500\",VLOOKUP(J1230,טבלה1[#All],2,0)),\"\")","v":""}]
[null,null,null,null,null,null,null,null,null,null,null,{"$f":"_xlfn.IFNA(IF(J1231>500,\"ומעלה 500\",VLOOKUP(J1231,טבלה1[#All],2,0)),\"\")","v":""}]
[null,null,null,null,null,null,null,null,null,null,null,{"$f":"_xlfn.IFNA(IF(J1232>500,\"ומעלה 500\",VLOOKUP(J1232,טבלה1[#All],2,0)),\"\")","v":""}]
[null,null,null,null,null,null,null,null,null,null,null,{"$f":"_xlfn.IFNA(IF(J1233>500,\"ומעלה 500\",VLOOKUP(J1233,טבלה1[#All],2,0)),\"\")","v":""}]
[null,null,null,null,null,null,null,null,null,null,null,{"$f":"_xlfn.IFNA(IF(J1234>500,\"ומעלה 500\",VLOOKUP(J1234,טבלה1[#All],2,0)),\"\")","v":""}]
[null,null,null,null,null,null,null,null,null,null,null,{"$f":"_xlfn.IFNA(IF(J1235>500,\"ומעלה 500\",VLOOKUP(J1235,טבלה1[#All],2,0)),\"\")","v":""}]
[null,null,null,null,null,null,null,null,null,null,null,{"$f":"_xlfn.IFNA(IF(J1236>500,\"ומעלה 500\",VLOOKUP(J1236,טבלה1[#All],2,0)),\"\")","v":""}]
[null,null,null,null,null,null,null,null,null,null,null,{"$f":"_xlfn.IFNA(IF(J1237>500,\"ומעלה 500\",VLOOKUP(J1237,טבלה1[#All],2,0)),\"\")","v":""}]
[null,null,null,null,null,null,null,null,null,null,null,{"$f":"_xlfn.IFNA(IF(J1238>500,\"ומעלה 500\",VLOOKUP(J1238,טבלה1[#All],2,0)),\"\")","v":""}]
[null,null,null,null,null,null,null,null,null,null,null,{"$f":"_xlfn.IFNA(IF(J1239>500,\"ומעלה 500\",VLOOKUP(J1239,טבלה1[#All],2,0)),\"\")","v":""}]
[null,null,null,null,null,null,null,null,null,null,null,{"$f":"_xlfn.IFNA(IF(J1240>500,\"ומעלה 500\",VLOOKUP(J1240,טבלה1[#All],2,0)),\"\")","v":""}]
[null,null,null,null,null,null,null,null,null,null,null,{"$f":"_xlfn.IFNA(IF(J1241>500,\"ומעלה 500\",VLOOKUP(J1241,טבלה1[#All],2,0)),\"\")","v":""}]
[null,null,null,null,null,null,null,null,null,null,null,{"$f":"_xlfn.IFNA(IF(J1242>500,\"ומעלה 500\",VLOOKUP(J1242,טבלה1[#All],2,0)),\"\")","v":""}]
[null,null,null,null,null,null,null,null,null,null,null,{"$f":"_xlfn.IFNA(IF(J1243>500,\"ומעלה 500\",VLOOKUP(J1243,טבלה1[#All],2,0)),\"\")","v":""}]
[null,null,null,null,null,null,null,null,null,null,null,{"$f":"_xlfn.IFNA(IF(J1244>500,\"ומעלה 500\",VLOOKUP(J1244,טבלה1[#All],2,0)),\"\")","v":""}]
[null,null,null,null,null,null,null,null,null,null,null,{"$f":"_xlfn.IFNA(IF(J1245>500,\"ומעלה 500\",VLOOKUP(J1245,טבלה1[#All],2,0)),\"\")","v":""}]
[null,null,null,null,null,null,null,null,null,null,null,{"$f":"_xlfn.IFNA(IF(J1246>500,\"ומעלה 500\",VLOOKUP(J1246,טבלה1[#All],2,0)),\"\")","v":""}]
[null,null,null,null,null,null,null,null,null,null,null,{"$f":"_xlfn.IFNA(IF(J1247>500,\"ומעלה 500\",VLOOKUP(J1247,טבלה1[#All],2,0)),\"\")","v":""}]
[null,null,null,null,null,null,null,null,null,null,null,{"$f":"_xlfn.IFNA(IF(J1248>500,\"ומעלה 500\",VLOOKUP(J1248,טבלה1[#All],2,0)),\"\")","v":""}]
[null,null,null,null,null,null,null,null,null,null,null,{"$f":"_xlfn.IFNA(IF(J1249>500,\"ומעלה 500\",VLOOKUP(J1249,טבלה1[#All],2,0)),\"\")","v":""}]
[null,null,null,null,null,null,null,null,null,null,null,{"$f":"_xlfn.IFNA(IF(J1250>500,\"ומעלה 500\",VLOOKUP(J1250,טבלה1[#All],2,0)),\"\")","v":""}]
[null,null,null,null,null,null,null,null,null,null,null,{"$f":"_xlfn.IFNA(IF(J1251>500,\"ומעלה 500\",VLOOKUP(J1251,טבלה1[#All],2,0)),\"\")","v":""}]
[null,null,null,null,null,null,null,null,null,null,null,{"$f":"_xlfn.IFNA(IF(J1252>500,\"ומעלה 500\",VLOOKUP(J1252,טבלה1[#All],2,0)),\"\")","v":""}]
[null,null,null,null,null,null,null,null,null,null,null,{"$f":"_xlfn.IFNA(IF(J1253>500,\"ומעלה 500\",VLOOKUP(J1253,טבלה1[#All],2,0)),\"\")","v":""}]
[null,null,null,null,null,null,null,null,null,null,null,{"$f":"_xlfn.IFNA(IF(J1254>500,\"ומעלה 500\",VLOOKUP(J1254,טבלה1[#All],2,0)),\"\")","v":""}]
[null,null,null,null,null,null,null,null,null,null,null,{"$f":"_xlfn.IFNA(IF(J1255>500,\"ומעלה 500\",VLOOKUP(J1255,טבלה1[#All],2,0)),\"\")","v":""}]
[null,null,null,null,null,null,null,null,null,null,null,{"$f":"_xlfn.IFNA(IF(J1256>500,\"ומעלה 500\",VLOOKUP(J1256,טבלה1[#All],2,0)),\"\")","v":""}]
[null,null,null,null,null,null,null,null,null,null,null,{"$f":"_xlfn.IFNA(IF(J1257>500,\"ומעלה 500\",VLOOKUP(J1257,טבלה1[#All],2,0)),\"\")","v":""}]
[null,null,null,null,null,null,null,null,null,null,null,{"$f":"_xlfn.IFNA(IF(J1258>500,\"ומעלה 500\",VLOOKUP(J1258,טבלה1[#All],2,0)),\"\")","v":""}]
[null,null,null,null,null,null,null,null,null,null,null,{"$f":"_xlfn.IFNA(IF(J1259>500,\"ומעלה 500\",VLOOKUP(J1259,טבלה1[#All],2,0)),\"\")","v":""}]
[null,null,null,null,null,null,null,null,null,null,null,{"$f":"_xlfn.IFNA(IF(J1260>500,\"ומעלה 500\",VLOOKUP(J1260,טבלה1[#All],2,0)),\"\")","v":""}]
[null,null,null,null,null,null,null,null,null,null,null,{"$f":"_xlfn.IFNA(IF(J1261>500,\"ומעלה 500\",VLOOKUP(J1261,טבלה1[#All],2,0)),\"\")","v":""}]
[null,null,null,null,null,null,null,null,null,null,null,{"$f":"_xlfn.IFNA(IF(J1262>500,\"ומעלה 500\",VLOOKUP(J1262,טבלה1[#All],2,0)),\"\")","v":""}]
[null,null,null,null,null,null,null,null,null,null,null,{"$f":"_xlfn.IFNA(IF(J1263>500,\"ומעלה 500\",VLOOKUP(J1263,טבלה1[#All],2,0)),\"\")","v":""}]
[null,null,null,null,null,null,null,null,null,null,null,{"$f":"_xlfn.IFNA(IF(J1264>500,\"ומעלה 500\",VLOOKUP(J1264,טבלה1[#All],2,0)),\"\")","v":""}]
[null,null,null,null,null,null,null,null,null,null,null,{"$f":"_xlfn.IFNA(IF(J1265>500,\"ומעלה 500\",VLOOKUP(J1265,טבלה1[#All],2,0)),\"\")","v":""}]
[null,null,null,null,null,null,null,null,null,null,null,{"$f":"_xlfn.IFNA(IF(J1266>500,\"ומעלה 500\",VLOOKUP(J1266,טבלה1[#All],2,0)),\"\")","v":""}]
[null,null,null,null,null,null,null,null,null,null,null,{"$f":"_xlfn.IFNA(IF(J1267>500,\"ומעלה 500\",VLOOKUP(J1267,טבלה1[#All],2,0)),\"\")","v":""}]
[null,null,null,null,null,null,null,null,null,null,null,{"$f":"_xlfn.IFNA(IF(J1268>500,\"ומעלה 500\",VLOOKUP(J1268,טבלה1[#All],2,0)),\"\")","v":""}]
[null,null,null,null,null,null,null,null,null,null,null,{"$f":"_xlfn.IFNA(IF(J1269>500,\"ומעלה 500\",VLOOKUP(J1269,טבלה1[#All],2,0)),\"\")","v":""}]
[null,null,null,null,null,null,null,null,null,null,null,{"$f":"_xlfn.IFNA(IF(J1270>500,\"ומעלה 500\",VLOOKUP(J1270,טבלה1[#All],2,0)),\"\")","v":""}]
[null,null,null,null,null,null,null,null,null,null,null,{"$f":"_xlfn.IFNA(IF(J1271>500,\"ומעלה 500\",VLOOKUP(J1271,טבלה1[#All],2,0)),\"\")","v":""}]
[null,null,null,null,null,null,null,null,null,null,null,{"$f":"_xlfn.IFNA(IF(J1272>500,\"ומעלה 500\",VLOOKUP(J1272,טבלה1[#All],2,0)),\"\")","v":""}]
[null,null,null,null,null,null,null,null,null,null,null,{"$f":"_xlfn.IFNA(IF(J1273>500,\"ומעלה 500\",VLOOKUP(J1273,טבלה1[#All],2,0)),\"\")","v":""}]
[null,null,null,null,null,null,null,null,null,null,null,{"$f":"_xlfn.IFNA(IF(J1274>500,\"ומעלה 500\",VLOOKUP(J1274,טבלה1[#All],2,0)),\"\")","v":""}]
[null,null,null,null,null,null,null,null,null,null,null,{"$f":"_xlfn.IFNA(IF(J1275>500,\"ומעלה 500\",VLOOKUP(J1275,טבלה1[#All],2,0)),\"\")","v":""}]
[null,null,null,null,null,null,null,null,null,null,null,{"$f":"_xlfn.IFNA(IF(J1276>500,\"ומעלה 500\",VLOOKUP(J1276,טבלה1[#All],2,0)),\"\")","v":""}]
[null,null,null,null,null,null,null,null,null,null,null,{"$f":"_xlfn.IFNA(IF(J1277>500,\"ומעלה 500\",VLOOKUP(J1277,טבלה1[#All],2,0)),\"\")","v":""}]
[null,null,null,null,null,null,null,null,null,null,null,{"$f":"_xlfn.IFNA(IF(J1278>500,\"ומעלה 500\",VLOOKUP(J1278,טבלה1[#All],2,0)),\"\")","v":""}]
[null,null,null,null,null,null,null,null,null,null,null,{"$f":"_xlfn.IFNA(IF(J1279>500,\"ומעלה 500\",VLOOKUP(J1279,טבלה1[#All],2,0)),\"\")","v":""}]
[null,null,null,null,null,null,null,null,null,null,null,{"$f":"_xlfn.IFNA(IF(J1280>500,\"ומעלה 500\",VLOOKUP(J1280,טבלה1[#All],2,0)),\"\")","v":""}]
[null,null,null,null,null,null,null,null,null,null,null,{"$f":"_xlfn.IFNA(IF(J1281>500,\"ומעלה 500\",VLOOKUP(J1281,טבלה1[#All],2,0)),\"\")","v":""}]
[null,null,null,null,null,null,null,null,null,null,null,{"$f":"_xlfn.IFNA(IF(J1282>500,\"ומעלה 500\",VLOOKUP(J1282,טבלה1[#All],2,0)),\"\")","v":""}]
[null,null,null,null,null,null,null,null,null,null,null,{"$f":"_xlfn.IFNA(IF(J1283>500,\"ומעלה 500\",VLOOKUP(J1283,טבלה1[#All],2,0)),\"\")","v":""}]
[null,null,null,null,null,null,null,null,null,null,null,{"$f":"_xlfn.IFNA(IF(J1284>500,\"ומעלה 500\",VLOOKUP(J1284,טבלה1[#All],2,0)),\"\")","v":""}]
[null,null,null,null,null,null,null,null,null,null,null,{"$f":"_xlfn.IFNA(IF(J1285>500,\"ומעלה 500\",VLOOKUP(J1285,טבלה1[#All],2,0)),\"\")","v":""}]
[null,null,null,null,null,null,null,null,null,null,null,{"$f":"_xlfn.IFNA(IF(J1286>500,\"ומעלה 500\",VLOOKUP(J1286,טבלה1[#All],2,0)),\"\")","v":""}]
[null,null,null,null,null,null,null,null,null,null,null,{"$f":"_xlfn.IFNA(IF(J1287>500,\"ומעלה 500\",VLOOKUP(J1287,טבלה1[#All],2,0)),\"\")","v":""}]
[null,null,null,null,null,null,null,null,null,null,null,{"$f":"_xlfn.IFNA(IF(J1288>500,\"ומעלה 500\",VLOOKUP(J1288,טבלה1[#All],2,0)),\"\")","v":""}]
[null,null,null,null,null,null,null,null,null,null,null,{"$f":"_xlfn.IFNA(IF(J1289>500,\"ומעלה 500\",VLOOKUP(J1289,טבלה1[#All],2,0)),\"\")","v":""}]
[null,null,null,null,null,null,null,null,null,null,null,{"$f":"_xlfn.IFNA(IF(J1290>500,\"ומעלה 500\",VLOOKUP(J1290,טבלה1[#All],2,0)),\"\")","v":""}]
[null,null,null,null,null,null,null,null,null,null,null,{"$f":"_xlfn.IFNA(IF(J1291>500,\"ומעלה 500\",VLOOKUP(J1291,טבלה1[#All],2,0)),\"\")","v":""}]
[null,null,null,null,null,null,null,null,null,null,null,{"$f":"_xlfn.IFNA(IF(J1292>500,\"ומעלה 500\",VLOOKUP(J1292,טבלה1[#All],2,0)),\"\")","v":""}]
[null,null,null,null,null,null,null,null,null,null,null,{"$f":"_xlfn.IFNA(IF(J1293>500,\"ומעלה 500\",VLOOKUP(J1293,טבלה1[#All],2,0)),\"\")","v":""}]
[null,null,null,null,null,null,null,null,null,null,null,{"$f":"_xlfn.IFNA(IF(J1294>500,\"ומעלה 500\",VLOOKUP(J1294,טבלה1[#All],2,0)),\"\")","v":""}]
[null,null,null,null,null,null,null,null,null,null,null,{"$f":"_xlfn.IFNA(IF(J1295>500,\"ומעלה 500\",VLOOKUP(J1295,טבלה1[#All],2,0)),\"\")","v":""}]
[null,null,null,null,null,null,null,null,null,null,null,{"$f":"_xlfn.IFNA(IF(J1296>500,\"ומעלה 500\",VLOOKUP(J1296,טבלה1[#All],2,0)),\"\")","v":""}]
[null,null,null,null,null,null,null,null,null,null,null,{"$f":"_xlfn.IFNA(IF(J1297>500,\"ומעלה 500\",VLOOKUP(J1297,טבלה1[#All],2,0)),\"\")","v":""}]
[null,null,null,null,null,null,null,null,null,null,null,{"$f":"_xlfn.IFNA(IF(J1298>500,\"ומעלה 500\",VLOOKUP(J1298,טבלה1[#All],2,0)),\"\")","v":""}]
[null,null,null,null,null,null,null,null,null,null,null,{"$f":"_xlfn.IFNA(IF(J1299>500,\"ומעלה 500\",VLOOKUP(J1299,טבלה1[#All],2,0)),\"\")","v":""}]
[null,null,null,null,null,null,null,null,null,null,null,{"$f":"_xlfn.IFNA(IF(J1300>500,\"ומעלה 500\",VLOOKUP(J1300,טבלה1[#All],2,0)),\"\")","v":""}]
[null,null,null,null,null,null,null,null,null,null,null,{"$f":"_xlfn.IFNA(IF(J1301>500,\"ומעלה 500\",VLOOKUP(J1301,טבלה1[#All],2,0)),\"\")","v":""}]
[null,null,null,null,null,null,null,null,null,null,null,{"$f":"_xlfn.IFNA(IF(J1302>500,\"ומעלה 500\",VLOOKUP(J1302,טבלה1[#All],2,0)),\"\")","v":""}]
[null,null,null,null,null,null,null,null,null,null,null,{"$f":"_xlfn.IFNA(IF(J1303>500,\"ומעלה 500\",VLOOKUP(J1303,טבלה1[#All],2,0)),\"\")","v":""}]
[null,null,null,null,null,null,null,null,null,null,null,{"$f":"_xlfn.IFNA(IF(J1304>500,\"ומעלה 500\",VLOOKUP(J1304,טבלה1[#All],2,0)),\"\")","v":""}]
[null,null,null,null,null,null,null,null,null,null,null,{"$f":"_xlfn.IFNA(IF(J1305>500,\"ומעלה 500\",VLOOKUP(J1305,טבלה1[#All],2,0)),\"\")","v":""}]
[null,null,null,null,null,null,null,null,null,null,null,{"$f":"_xlfn.IFNA(IF(J1306>500,\"ומעלה 500\",VLOOKUP(J1306,טבלה1[#All],2,0)),\"\")","v":""}]
[null,null,null,null,null,null,null,null,null,null,null,{"$f":"_xlfn.IFNA(IF(J1307>500,\"ומעלה 500\",VLOOKUP(J1307,טבלה1[#All],2,0)),\"\")","v":""}]
[null,null,null,null,null,null,null,null,null,null,null,{"$f":"_xlfn.IFNA(IF(J1308>500,\"ומעלה 500\",VLOOKUP(J1308,טבלה1[#All],2,0)),\"\")","v":""}]
[null,null,null,null,null,null,null,null,null,null,null,{"$f":"_xlfn.IFNA(IF(J1309>500,\"ומעלה 500\",VLOOKUP(J1309,טבלה1[#All],2,0)),\"\")","v":""}]
[null,null,null,null,null,null,null,null,null,null,null,{"$f":"_xlfn.IFNA(IF(J1310>500,\"ומעלה 500\",VLOOKUP(J1310,טבלה1[#All],2,0)),\"\")","v":""}]
[null,null,null,null,null,null,null,null,null,null,null,{"$f":"_xlfn.IFNA(IF(J1311>500,\"ומעלה 500\",VLOOKUP(J1311,טבלה1[#All],2,0)),\"\")","v":""}]
[null,null,null,null,null,null,null,null,null,null,null,{"$f":"_xlfn.IFNA(IF(J1312>500,\"ומעלה 500\",VLOOKUP(J1312,טבלה1[#All],2,0)),\"\")","v":""}]
[null,null,null,null,null,null,null,null,null,null,null,{"$f":"_xlfn.IFNA(IF(J1313>500,\"ומעלה 500\",VLOOKUP(J1313,טבלה1[#All],2,0)),\"\")","v":""}]
[null,null,null,null,null,null,null,null,null,null,null,{"$f":"_xlfn.IFNA(IF(J1314>500,\"ומעלה 500\",VLOOKUP(J1314,טבלה1[#All],2,0)),\"\")","v":""}]
[null,null,null,null,null,null,null,null,null,null,null,{"$f":"_xlfn.IFNA(IF(J1315>500,\"ומעלה 500\",VLOOKUP(J1315,טבלה1[#All],2,0)),\"\")","v":""}]
[null,null,null,null,null,null,null,null,null,null,null,{"$f":"_xlfn.IFNA(IF(J1316>500,\"ומעלה 500\",VLOOKUP(J1316,טבלה1[#All],2,0)),\"\")","v":""}]
[null,null,null,null,null,null,null,null,null,null,null,{"$f":"_xlfn.IFNA(IF(J1317>500,\"ומעלה 500\",VLOOKUP(J1317,טבלה1[#All],2,0)),\"\")","v":""}]
[null,null,null,null,null,null,null,null,null,null,null,{"$f":"_xlfn.IFNA(IF(J1318>500,\"ומעלה 500\",VLOOKUP(J1318,טבלה1[#All],2,0)),\"\")","v":""}]
[null,null,null,null,null,null,null,null,null,null,null,{"$f":"_xlfn.IFNA(IF(J1319>500,\"ומעלה 500\",VLOOKUP(J1319,טבלה1[#All],2,0)),\"\")","v":""}]
[null,null,null,null,null,null,null,null,null,null,null,{"$f":"_xlfn.IFNA(IF(J1320>500,\"ומעלה 500\",VLOOKUP(J1320,טבלה1[#All],2,0)),\"\")","v":""}]
[null,null,null,null,null,null,null,null,null,null,null,{"$f":"_xlfn.IFNA(IF(J1321>500,\"ומעלה 500\",VLOOKUP(J1321,טבלה1[#All],2,0)),\"\")","v":""}]
[null,null,null,null,null,null,null,null,null,null,null,{"$f":"_xlfn.IFNA(IF(J1322>500,\"ומעלה 500\",VLOOKUP(J1322,טבלה1[#All],2,0)),\"\")","v":""}]
[null,null,null,null,null,null,null,null,null,null,null,{"$f":"_xlfn.IFNA(IF(J1323>500,\"ומעלה 500\",VLOOKUP(J1323,טבלה1[#All],2,0)),\"\")","v":""}]
[null,null,null,null,null,null,null,null,null,null,null,{"$f":"_xlfn.IFNA(IF(J1324>500,\"ומעלה 500\",VLOOKUP(J1324,טבלה1[#All],2,0)),\"\")","v":""}]
[null,null,null,null,null,null,null,null,null,null,null,{"$f":"_xlfn.IFNA(IF(J1325>500,\"ומעלה 500\",VLOOKUP(J1325,טבלה1[#All],2,0)),\"\")","v":""}]
[null,null,null,null,null,null,null,null,null,null,null,{"$f":"_xlfn.IFNA(IF(J1326>500,\"ומעלה 500\",VLOOKUP(J1326,טבלה1[#All],2,0)),\"\")","v":""}]
[null,null,null,null,null,null,null,null,null,null,null,{"$f":"_xlfn.IFNA(IF(J1327>500,\"ומעלה 500\",VLOOKUP(J1327,טבלה1[#All],2,0)),\"\")","v":""}]
[null,null,null,null,null,null,null,null,null,null,null,{"$f":"_xlfn.IFNA(IF(J1328>500,\"ומעלה 500\",VLOOKUP(J1328,טבלה1[#All],2,0)),\"\")","v":""}]
[null,null,null,null,null,null,null,null,null,null,null,{"$f":"_xlfn.IFNA(IF(J1329>500,\"ומעלה 500\",VLOOKUP(J1329,טבלה1[#All],2,0)),\"\")","v":""}]
[null,null,null,null,null,null,null,null,null,null,null,{"$f":"_xlfn.IFNA(IF(J1330>500,\"ומעלה 500\",VLOOKUP(J1330,טבלה1[#All],2,0)),\"\")","v":""}]
[null,null,null,null,null,null,null,null,null,null,null,{"$f":"_xlfn.IFNA(IF(J1331>500,\"ומעלה 500\",VLOOKUP(J1331,טבלה1[#All],2,0)),\"\")","v":""}]
[null,null,null,null,null,null,null,null,null,null,null,{"$f":"_xlfn.IFNA(IF(J1332>500,\"ומעלה 500\",VLOOKUP(J1332,טבלה1[#All],2,0)),\"\")","v":""}]
[null,null,null,null,null,null,null,null,null,null,null,{"$f":"_xlfn.IFNA(IF(J1333>500,\"ומעלה 500\",VLOOKUP(J1333,טבלה1[#All],2,0)),\"\")","v":""}]
[null,null,null,null,null,null,null,null,null,null,null,{"$f":"_xlfn.IFNA(IF(J1334>500,\"ומעלה 500\",VLOOKUP(J1334,טבלה1[#All],2,0)),\"\")","v":""}]
[null,null,null,null,null,null,null,null,null,null,null,{"$f":"_xlfn.IFNA(IF(J1335>500,\"ומעלה 500\",VLOOKUP(J1335,טבלה1[#All],2,0)),\"\")","v":""}]
[null,null,null,null,null,null,null,null,null,null,null,{"$f":"_xlfn.IFNA(IF(J1336>500,\"ומעלה 500\",VLOOKUP(J1336,טבלה1[#All],2,0)),\"\")","v":""}]
[null,null,null,null,null,null,null,null,null,null,null,{"$f":"_xlfn.IFNA(IF(J1337>500,\"ומעלה 500\",VLOOKUP(J1337,טבלה1[#All],2,0)),\"\")","v":""}]
[null,null,null,null,null,null,null,null,null,null,null,{"$f":"_xlfn.IFNA(IF(J1338>500,\"ומעלה 500\",VLOOKUP(J1338,טבלה1[#All],2,0)),\"\")","v":""}]
[null,null,null,null,null,null,null,null,null,null,null,{"$f":"_xlfn.IFNA(IF(J1339>500,\"ומעלה 500\",VLOOKUP(J1339,טבלה1[#All],2,0)),\"\")","v":""}]
[null,null,null,null,null,null,null,null,null,null,null,{"$f":"_xlfn.IFNA(IF(J1340>500,\"ומעלה 500\",VLOOKUP(J1340,טבלה1[#All],2,0)),\"\")","v":""}]
[null,null,null,null,null,null,null,null,null,null,null,{"$f":"_xlfn.IFNA(IF(J1341>500,\"ומעלה 500\",VLOOKUP(J1341,טבלה1[#All],2,0)),\"\")","v":""}]
[null,null,null,null,null,null,null,null,null,null,null,{"$f":"_xlfn.IFNA(IF(J1342>500,\"ומעלה 500\",VLOOKUP(J1342,טבלה1[#All],2,0)),\"\")","v":""}]
[null,null,null,null,null,null,null,null,null,null,null,{"$f":"_xlfn.IFNA(IF(J1343>500,\"ומעלה 500\",VLOOKUP(J1343,טבלה1[#All],2,0)),\"\")","v":""}]
[null,null,null,null,null,null,null,null,null,null,null,{"$f":"_xlfn.IFNA(IF(J1344>500,\"ומעלה 500\",VLOOKUP(J1344,טבלה1[#All],2,0)),\"\")","v":""}]
[null,null,null,null,null,null,null,null,null,null,null,{"$f":"_xlfn.IFNA(IF(J1345>500,\"ומעלה 500\",VLOOKUP(J1345,טבלה1[#All],2,0)),\"\")","v":""}]
[null,null,null,null,null,null,null,null,null,null,null,{"$f":"_xlfn.IFNA(IF(J1346>500,\"ומעלה 500\",VLOOKUP(J1346,טבלה1[#All],2,0)),\"\")","v":""}]
[null,null,null,null,null,null,null,null,null,null,null,{"$f":"_xlfn.IFNA(IF(J1347>500,\"ומעלה 500\",VLOOKUP(J1347,טבלה1[#All],2,0)),\"\")","v":""}]
[null,null,null,null,null,null,null,null,null,null,null,{"$f":"_xlfn.IFNA(IF(J1348>500,\"ומעלה 500\",VLOOKUP(J1348,טבלה1[#All],2,0)),\"\")","v":""}]
[null,null,null,null,null,null,null,null,null,null,null,{"$f":"_xlfn.IFNA(IF(J1349>500,\"ומעלה 500\",VLOOKUP(J1349,טבלה1[#All],2,0)),\"\")","v":""}]
[null,null,null,null,null,null,null,null,null,null,null,{"$f":"_xlfn.IFNA(IF(J1350>500,\"ומעלה 500\",VLOOKUP(J1350,טבלה1[#All],2,0)),\"\")","v":""}]
[null,null,null,null,null,null,null,null,null,null,null,{"$f":"_xlfn.IFNA(IF(J1351>500,\"ומעלה 500\",VLOOKUP(J1351,טבלה1[#All],2,0)),\"\")","v":""}]
[null,null,null,null,null,null,null,null,null,null,null,{"$f":"_xlfn.IFNA(IF(J1352>500,\"ומעלה 500\",VLOOKUP(J1352,טבלה1[#All],2,0)),\"\")","v":""}]
[null,null,null,null,null,null,null,null,null,null,null,{"$f":"_xlfn.IFNA(IF(J1353>500,\"ומעלה 500\",VLOOKUP(J1353,טבלה1[#All],2,0)),\"\")","v":""}]
[null,null,null,null,null,null,null,null,null,null,null,{"$f":"_xlfn.IFNA(IF(J1354>500,\"ומעלה 500\",VLOOKUP(J1354,טבלה1[#All],2,0)),\"\")","v":""}]
[null,null,null,null,null,null,null,null,null,null,null,{"$f":"_xlfn.IFNA(IF(J1355>500,\"ומעלה 500\",VLOOKUP(J1355,טבלה1[#All],2,0)),\"\")","v":""}]
[null,null,null,null,null,null,null,null,null,null,null,{"$f":"_xlfn.IFNA(IF(J1356>500,\"ומעלה 500\",VLOOKUP(J1356,טבלה1[#All],2,0)),\"\")","v":""}]
[null,null,null,null,null,null,null,null,null,null,null,{"$f":"_xlfn.IFNA(IF(J1357>500,\"ומעלה 500\",VLOOKUP(J1357,טבלה1[#All],2,0)),\"\")","v":""}]
[null,null,null,null,null,null,null,null,null,null,null,{"$f":"_xlfn.IFNA(IF(J1358>500,\"ומעלה 500\",VLOOKUP(J1358,טבלה1[#All],2,0)),\"\")","v":""}]
[null,null,null,null,null,null,null,null,null,null,null,{"$f":"_xlfn.IFNA(IF(J1359>500,\"ומעלה 500\",VLOOKUP(J1359,טבלה1[#All],2,0)),\"\")","v":""}]
[null,null,null,null,null,null,null,null,null,null,null,{"$f":"_xlfn.IFNA(IF(J1360>500,\"ומעלה 500\",VLOOKUP(J1360,טבלה1[#All],2,0)),\"\")","v":""}]
[null,null,null,null,null,null,null,null,null,null,null,{"$f":"_xlfn.IFNA(IF(J1361>500,\"ומעלה 500\",VLOOKUP(J1361,טבלה1[#All],2,0)),\"\")","v":""}]
[null,null,null,null,null,null,null,null,null,null,null,{"$f":"_xlfn.IFNA(IF(J1362>500,\"ומעלה 500\",VLOOKUP(J1362,טבלה1[#All],2,0)),\"\")","v":""}]
[null,null,null,null,null,null,null,null,null,null,null,{"$f":"_xlfn.IFNA(IF(J1363>500,\"ומעלה 500\",VLOOKUP(J1363,טבלה1[#All],2,0)),\"\")","v":""}]
[null,null,null,null,null,null,null,null,null,null,null,{"$f":"_xlfn.IFNA(IF(J1364>500,\"ומעלה 500\",VLOOKUP(J1364,טבלה1[#All],2,0)),\"\")","v":""}]
[null,null,null,null,null,null,null,null,null,null,null,{"$f":"_xlfn.IFNA(IF(J1365>500,\"ומעלה 500\",VLOOKUP(J1365,טבלה1[#All],2,0)),\"\")","v":""}]
[null,null,null,null,null,null,null,null,null,null,null,{"$f":"_xlfn.IFNA(IF(J1366>500,\"ומעלה 500\",VLOOKUP(J1366,טבלה1[#All],2,0)),\"\")","v":""}]
[null,null,null,null,null,null,null,null,null,null,null,{"$f":"_xlfn.IFNA(IF(J1367>500,\"ומעלה 500\",VLOOKUP(J1367,טבלה1[#All],2,0)),\"\")","v":""}]
[null,null,null,null,null,null,null,null,null,null,null,{"$f":"_xlfn.IFNA(IF(J1368>500,\"ומעלה 500\",VLOOKUP(J1368,טבלה1[#All],2,0)),\"\")","v":""}]
[null,null,null,null,null,null,null,null,null,null,null,{"$f":"_xlfn.IFNA(IF(J1369>500,\"ומעלה 500\",VLOOKUP(J1369,טבלה1[#All],2,0)),\"\")","v":""}]
[null,null,null,null,null,null,null,null,null,null,null,{"$f":"_xlfn.IFNA(IF(J1370>500,\"ומעלה 500\",VLOOKUP(J1370,טבלה1[#All],2,0)),\"\")","v":""}]
[null,null,null,null,null,null,null,null,null,null,null,{"$f":"_xlfn.IFNA(IF(J1371>500,\"ומעלה 500\",VLOOKUP(J1371,טבלה1[#All],2,0)),\"\")","v":""}]
[null,null,null,null,null,null,null,null,null,null,null,{"$f":"_xlfn.IFNA(IF(J1372>500,\"ומעלה 500\",VLOOKUP(J1372,טבלה1[#All],2,0)),\"\")","v":""}]
[null,null,null,null,null,null,null,null,null,null,null,{"$f":"_xlfn.IFNA(IF(J1373>500,\"ומעלה 500\",VLOOKUP(J1373,טבלה1[#All],2,0)),\"\")","v":""}]
[null,null,null,null,null,null,null,null,null,null,null,{"$f":"_xlfn.IFNA(IF(J1374>500,\"ומעלה 500\",VLOOKUP(J1374,טבלה1[#All],2,0)),\"\")","v":""}]
[null,null,null,null,null,null,null,null,null,null,null,{"$f":"_xlfn.IFNA(IF(J1375>500,\"ומעלה 500\",VLOOKUP(J1375,טבלה1[#All],2,0)),\"\")","v":""}]
[null,null,null,null,null,null,null,null,null,null,null,{"$f":"_xlfn.IFNA(IF(J1376>500,\"ומעלה 500\",VLOOKUP(J1376,טבלה1[#All],2,0)),\"\")","v":""}]
[null,null,null,null,null,null,null,null,null,null,null,{"$f":"_xlfn.IFNA(IF(J1377>500,\"ומעלה 500\",VLOOKUP(J1377,טבלה1[#All],2,0)),\"\")","v":""}]
[null,null,null,null,null,null,null,null,null,null,null,{"$f":"_xlfn.IFNA(IF(J1378>500,\"ומעלה 500\",VLOOKUP(J1378,טבלה1[#All],2,0)),\"\")","v":""}]
[null,null,null,null,null,null,null,null,null,null,null,{"$f":"_xlfn.IFNA(IF(J1379>500,\"ומעלה 500\",VLOOKUP(J1379,טבלה1[#All],2,0)),\"\")","v":""}]
[null,null,null,null,null,null,null,null,null,null,null,{"$f":"_xlfn.IFNA(IF(J1380>500,\"ומעלה 500\",VLOOKUP(J1380,טבלה1[#All],2,0)),\"\")","v":""}]
[null,null,null,null,null,null,null,null,null,null,null,{"$f":"_xlfn.IFNA(IF(J1381>500,\"ומעלה 500\",VLOOKUP(J1381,טבלה1[#All],2,0)),\"\")","v":""}]
[null,null,null,null,null,null,null,null,null,null,null,{"$f":"_xlfn.IFNA(IF(J1382>500,\"ומעלה 500\",VLOOKUP(J1382,טבלה1[#All],2,0)),\"\")","v":""}]
[null,null,null,null,null,null,null,null,null,null,null,{"$f":"_xlfn.IFNA(IF(J1383>500,\"ומעלה 500\",VLOOKUP(J1383,טבלה1[#All],2,0)),\"\")","v":""}]
[null,null,null,null,null,null,null,null,null,null,null,{"$f":"_xlfn.IFNA(IF(J1384>500,\"ומעלה 500\",VLOOKUP(J1384,טבלה1[#All],2,0)),\"\")","v":""}]
[null,null,null,null,null,null,null,null,null,null,null,{"$f":"_xlfn.IFNA(IF(J1385>500,\"ומעלה 500\",VLOOKUP(J1385,טבלה1[#All],2,0)),\"\")","v":""}]
[null,null,null,null,null,null,null,null,null,null,null,{"$f":"_xlfn.IFNA(IF(J1386>500,\"ומעלה 500\",VLOOKUP(J1386,טבלה1[#All],2,0)),\"\")","v":""}]
[null,null,null,null,null,null,null,null,null,null,null,{"$f":"_xlfn.IFNA(IF(J1387>500,\"ומעלה 500\",VLOOKUP(J1387,טבלה1[#All],2,0)),\"\")","v":""}]
[null,null,null,null,null,null,null,null,null,null,null,{"$f":"_xlfn.IFNA(IF(J1388>500,\"ומעלה 500\",VLOOKUP(J1388,טבלה1[#All],2,0)),\"\")","v":""}]
[null,null,null,null,null,null,null,null,null,null,null,{"$f":"_xlfn.IFNA(IF(J1389>500,\"ומעלה 500\",VLOOKUP(J1389,טבלה1[#All],2,0)),\"\")","v":""}]
[null,null,null,null,null,null,null,null,null,null,null,{"$f":"_xlfn.IFNA(IF(J1390>500,\"ומעלה 500\",VLOOKUP(J1390,טבלה1[#All],2,0)),\"\")","v":""}]
[null,null,null,null,null,null,null,null,null,null,null,{"$f":"_xlfn.IFNA(IF(J1391>500,\"ומעלה 500\",VLOOKUP(J1391,טבלה1[#All],2,0)),\"\")","v":""}]
[null,null,null,null,null,null,null,null,null,null,null,{"$f":"_xlfn.IFNA(IF(J1392>500,\"ומעלה 500\",VLOOKUP(J1392,טבלה1[#All],2,0)),\"\")","v":""}]
[null,null,null,null,null,null,null,null,null,null,null,{"$f":"_xlfn.IFNA(IF(J1393>500,\"ומעלה 500\",VLOOKUP(J1393,טבלה1[#All],2,0)),\"\")","v":""}]
[null,null,null,null,null,null,null,null,null,null,null,{"$f":"_xlfn.IFNA(IF(J1394>500,\"ומעלה 500\",VLOOKUP(J1394,טבלה1[#All],2,0)),\"\")","v":""}]
[null,null,null,null,null,null,null,null,null,null,null,{"$f":"_xlfn.IFNA(IF(J1395>500,\"ומעלה 500\",VLOOKUP(J1395,טבלה1[#All],2,0)),\"\")","v":""}]
[null,null,null,null,null,null,null,null,null,null,null,{"$f":"_xlfn.IFNA(IF(J1396>500,\"ומעלה 500\",VLOOKUP(J1396,טבלה1[#All],2,0)),\"\")","v":""}]
[null,null,null,null,null,null,null,null,null,null,null,{"$f":"_xlfn.IFNA(IF(J1397>500,\"ומעלה 500\",VLOOKUP(J1397,טבלה1[#All],2,0)),\"\")","v":""}]
[null,null,null,null,null,null,null,null,null,null,null,{"$f":"_xlfn.IFNA(IF(J1398>500,\"ומעלה 500\",VLOOKUP(J1398,טבלה1[#All],2,0)),\"\")","v":""}]
[null,null,null,null,null,null,null,null,null,null,null,{"$f":"_xlfn.IFNA(IF(J1399>500,\"ומעלה 500\",VLOOKUP(J1399,טבלה1[#All],2,0)),\"\")","v":""}]
[null,null,null,null,null,null,null,null,null,null,null,{"$f":"_xlfn.IFNA(IF(J1400>500,\"ומעלה 500\",VLOOKUP(J1400,טבלה1[#All],2,0)),\"\")","v":""}]
[null,null,null,null,null,null,null,null,null,null,null,{"$f":"_xlfn.IFNA(IF(J1401>500,\"ומעלה 500\",VLOOKUP(J1401,טבלה1[#All],2,0)),\"\")","v":""}]
[null,null,null,null,null,null,null,null,null,null,null,{"$f":"_xlfn.IFNA(IF(J1402>500,\"ומעלה 500\",VLOOKUP(J1402,טבלה1[#All],2,0)),\"\")","v":""}]
[null,null,null,null,null,null,null,null,null,null,null,{"$f":"_xlfn.IFNA(IF(J1403>500,\"ומעלה 500\",VLOOKUP(J1403,טבלה1[#All],2,0)),\"\")","v":""}]
[null,null,null,null,null,null,null,null,null,null,null,{"$f":"_xlfn.IFNA(IF(J1404>500,\"ומעלה 500\",VLOOKUP(J1404,טבלה1[#All],2,0)),\"\")","v":""}]
[null,null,null,null,null,null,null,null,null,null,null,{"$f":"_xlfn.IFNA(IF(J1405>500,\"ומעלה 500\",VLOOKUP(J1405,טבלה1[#All],2,0)),\"\")","v":""}]
[null,null,null,null,null,null,null,null,null,null,null,{"$f":"_xlfn.IFNA(IF(J1406>500,\"ומעלה 500\",VLOOKUP(J1406,טבלה1[#All],2,0)),\"\")","v":""}]
[null,null,null,null,null,null,null,null,null,null,null,{"$f":"_xlfn.IFNA(IF(J1407>500,\"ומעלה 500\",VLOOKUP(J1407,טבלה1[#All],2,0)),\"\")","v":""}]
[null,null,null,null,null,null,null,null,null,null,null,{"$f":"_xlfn.IFNA(IF(J1408>500,\"ומעלה 500\",VLOOKUP(J1408,טבלה1[#All],2,0)),\"\")","v":""}]
[null,null,null,null,null,null,null,null,null,null,null,{"$f":"_xlfn.IFNA(IF(J1409>500,\"ומעלה 500\",VLOOKUP(J1409,טבלה1[#All],2,0)),\"\")","v":""}]
[null,null,null,null,null,null,null,null,null,null,null,{"$f":"_xlfn.IFNA(IF(J1410>500,\"ומעלה 500\",VLOOKUP(J1410,טבלה1[#All],2,0)),\"\")","v":""}]
[null,null,null,null,null,null,null,null,null,null,null,{"$f":"_xlfn.IFNA(IF(J1411>500,\"ומעלה 500\",VLOOKUP(J1411,טבלה1[#All],2,0)),\"\")","v":""}]
[null,null,null,null,null,null,null,null,null,null,null,{"$f":"_xlfn.IFNA(IF(J1412>500,\"ומעלה 500\",VLOOKUP(J1412,טבלה1[#All],2,0)),\"\")","v":""}]
[null,null,null,null,null,null,null,null,null,null,null,{"$f":"_xlfn.IFNA(IF(J1413>500,\"ומעלה 500\",VLOOKUP(J1413,טבלה1[#All],2,0)),\"\")","v":""}]
[null,null,null,null,null,null,null,null,null,null,null,{"$f":"_xlfn.IFNA(IF(J1414>500,\"ומעלה 500\",VLOOKUP(J1414,טבלה1[#All],2,0)),\"\")","v":""}]
[null,null,null,null,null,null,null,null,null,null,null,{"$f":"_xlfn.IFNA(IF(J1415>500,\"ומעלה 500\",VLOOKUP(J1415,טבלה1[#All],2,0)),\"\")","v":""}]
[null,null,null,null,null,null,null,null,null,null,null,{"$f":"_xlfn.IFNA(IF(J1416>500,\"ומעלה 500\",VLOOKUP(J1416,טבלה1[#All],2,0)),\"\")","v":""}]
[null,null,null,null,null,null,null,null,null,null,null,{"$f":"_xlfn.IFNA(IF(J1417>500,\"ומעלה 500\",VLOOKUP(J1417,טבלה1[#All],2,0)),\"\")","v":""}]
[null,null,null,null,null,null,null,null,null,null,null,{"$f":"_xlfn.IFNA(IF(J1418>500,\"ומעלה 500\",VLOOKUP(J1418,טבלה1[#All],2,0)),\"\")","v":""}]
[null,null,null,null,null,null,null,null,null,null,null,{"$f":"_xlfn.IFNA(IF(J1419>500,\"ומעלה 500\",VLOOKUP(J1419,טבלה1[#All],2,0)),\"\")","v":""}]
[null,null,null,null,null,null,null,null,null,null,null,{"$f":"_xlfn.IFNA(IF(J1420>500,\"ומעלה 500\",VLOOKUP(J1420,טבלה1[#All],2,0)),\"\")","v":""}]
[null,null,null,null,null,null,null,null,null,null,null,{"$f":"_xlfn.IFNA(IF(J1421>500,\"ומעלה 500\",VLOOKUP(J1421,טבלה1[#All],2,0)),\"\")","v":""}]
[null,null,null,null,null,null,null,null,null,null,null,{"$f":"_xlfn.IFNA(IF(J1422>500,\"ומעלה 500\",VLOOKUP(J1422,טבלה1[#All],2,0)),\"\")","v":""}]
[null,null,null,null,null,null,null,null,null,null,null,{"$f":"_xlfn.IFNA(IF(J1423>500,\"ומעלה 500\",VLOOKUP(J1423,טבלה1[#All],2,0)),\"\")","v":""}]
[null,null,null,null,null,null,null,null,null,null,null,{"$f":"_xlfn.IFNA(IF(J1424>500,\"ומעלה 500\",VLOOKUP(J1424,טבלה1[#All],2,0)),\"\")","v":""}]
[null,null,null,null,null,null,null,null,null,null,null,{"$f":"_xlfn.IFNA(IF(J1425>500,\"ומעלה 500\",VLOOKUP(J1425,טבלה1[#All],2,0)),\"\")","v":""}]
[null,null,null,null,null,null,null,null,null,null,null,{"$f":"_xlfn.IFNA(IF(J1426>500,\"ומעלה 500\",VLOOKUP(J1426,טבלה1[#All],2,0)),\"\")","v":""}]
[null,null,null,null,null,null,null,null,null,null,null,{"$f":"_xlfn.IFNA(IF(J1427>500,\"ומעלה 500\",VLOOKUP(J1427,טבלה1[#All],2,0)),\"\")","v":""}]
[null,null,null,null,null,null,null,null,null,null,null,{"$f":"_xlfn.IFNA(IF(J1428>500,\"ומעלה 500\",VLOOKUP(J1428,טבלה1[#All],2,0)),\"\")","v":""}]
[null,null,null,null,null,null,null,null,null,null,null,{"$f":"_xlfn.IFNA(IF(J1429>500,\"ומעלה 500\",VLOOKUP(J1429,טבלה1[#All],2,0)),\"\")","v":""}]
[null,null,null,null,null,null,null,null,null,null,null,{"$f":"_xlfn.IFNA(IF(J1430>500,\"ומעלה 500\",VLOOKUP(J1430,טבלה1[#All],2,0)),\"\")","v":""}]
[null,null,null,null,null,null,null,null,null,null,null,{"$f":"_xlfn.IFNA(IF(J1431>500,\"ומעלה 500\",VLOOKUP(J1431,טבלה1[#All],2,0)),\"\")","v":""}]
[null,null,null,null,null,null,null,null,null,null,null,{"$f":"_xlfn.IFNA(IF(J1432>500,\"ומעלה 500\",VLOOKUP(J1432,טבלה1[#All],2,0)),\"\")","v":""}]
[null,null,null,null,null,null,null,null,null,null,null,{"$f":"_xlfn.IFNA(IF(J1433>500,\"ומעלה 500\",VLOOKUP(J1433,טבלה1[#All],2,0)),\"\")","v":""}]
[null,null,null,null,null,null,null,null,null,null,null,{"$f":"_xlfn.IFNA(IF(J1434>500,\"ומעלה 500\",VLOOKUP(J1434,טבלה1[#All],2,0)),\"\")","v":""}]
[null,null,null,null,null,null,null,null,null,null,null,{"$f":"_xlfn.IFNA(IF(J1435>500,\"ומעלה 500\",VLOOKUP(J1435,טבלה1[#All],2,0)),\"\")","v":""}]
[null,null,null,null,null,null,null,null,null,null,null,{"$f":"_xlfn.IFNA(IF(J1436>500,\"ומעלה 500\",VLOOKUP(J1436,טבלה1[#All],2,0)),\"\")","v":""}]
[null,null,null,null,null,null,null,null,null,null,null,{"$f":"_xlfn.IFNA(IF(J1437>500,\"ומעלה 500\",VLOOKUP(J1437,טבלה1[#All],2,0)),\"\")","v":""}]
[null,null,null,null,null,null,null,null,null,null,null,{"$f":"_xlfn.IFNA(IF(J1438>500,\"ומעלה 500\",VLOOKUP(J1438,טבלה1[#All],2,0)),\"\")","v":""}]
[null,null,null,null,null,null,null,null,null,null,null,{"$f":"_xlfn.IFNA(IF(J1439>500,\"ומעלה 500\",VLOOKUP(J1439,טבלה1[#All],2,0)),\"\")","v":""}]
[null,null,null,null,null,null,null,null,null,null,null,{"$f":"_xlfn.IFNA(IF(J1440>500,\"ומעלה 500\",VLOOKUP(J1440,טבלה1[#All],2,0)),\"\")","v":""}]
[null,null,null,null,null,null,null,null,null,null,null,{"$f":"_xlfn.IFNA(IF(J1441>500,\"ומעלה 500\",VLOOKUP(J1441,טבלה1[#All],2,0)),\"\")","v":""}]
[null,null,null,null,null,null,null,null,null,null,null,{"$f":"_xlfn.IFNA(IF(J1442>500,\"ומעלה 500\",VLOOKUP(J1442,טבלה1[#All],2,0)),\"\")","v":""}]
[null,null,null,null,null,null,null,null,null,null,null,{"$f":"_xlfn.IFNA(IF(J1443>500,\"ומעלה 500\",VLOOKUP(J1443,טבלה1[#All],2,0)),\"\")","v":""}]
[null,null,null,null,null,null,null,null,null,null,null,{"$f":"_xlfn.IFNA(IF(J1444>500,\"ומעלה 500\",VLOOKUP(J1444,טבלה1[#All],2,0)),\"\")","v":""}]
[null,null,null,null,null,null,null,null,null,null,null,{"$f":"_xlfn.IFNA(IF(J1445>500,\"ומעלה 500\",VLOOKUP(J1445,טבלה1[#All],2,0)),\"\")","v":""}]
[null,null,null,null,null,null,null,null,null,null,null,{"$f":"_xlfn.IFNA(IF(J1446>500,\"ומעלה 500\",VLOOKUP(J1446,טבלה1[#All],2,0)),\"\")","v":""}]
[null,null,null,null,null,null,null,null,null,null,null,{"$f":"_xlfn.IFNA(IF(J1447>500,\"ומעלה 500\",VLOOKUP(J1447,טבלה1[#All],2,0)),\"\")","v":""}]
[null,null,null,null,null,null,null,null,null,null,null,{"$f":"_xlfn.IFNA(IF(J1448>500,\"ומעלה 500\",VLOOKUP(J1448,טבלה1[#All],2,0)),\"\")","v":""}]
[null,null,null,null,null,null,null,null,null,null,null,{"$f":"_xlfn.IFNA(IF(J1449>500,\"ומעלה 500\",VLOOKUP(J1449,טבלה1[#All],2,0)),\"\")","v":""}]
[null,null,null,null,null,null,null,null,null,null,null,{"$f":"_xlfn.IFNA(IF(J1450>500,\"ומעלה 500\",VLOOKUP(J1450,טבלה1[#All],2,0)),\"\")","v":""}]
[null,null,null,null,null,null,null,null,null,null,null,{"$f":"_xlfn.IFNA(IF(J1451>500,\"ומעלה 500\",VLOOKUP(J1451,טבלה1[#All],2,0)),\"\")","v":""}]
[null,null,null,null,null,null,null,null,null,null,null,{"$f":"_xlfn.IFNA(IF(J1452>500,\"ומעלה 500\",VLOOKUP(J1452,טבלה1[#All],2,0)),\"\")","v":""}]
[null,null,null,null,null,null,null,null,null,null,null,{"$f":"_xlfn.IFNA(IF(J1453>500,\"ומעלה 500\",VLOOKUP(J1453,טבלה1[#All],2,0)),\"\")","v":""}]
[null,null,null,null,null,null,null,null,null,null,null,{"$f":"_xlfn.IFNA(IF(J1454>500,\"ומעלה 500\",VLOOKUP(J1454,טבלה1[#All],2,0)),\"\")","v":""}]
[null,null,null,null,null,null,null,null,null,null,null,{"$f":"_xlfn.IFNA(IF(J1455>500,\"ומעלה 500\",VLOOKUP(J1455,טבלה1[#All],2,0)),\"\")","v":""}]
[null,null,null,null,null,null,null,null,null,null,null,{"$f":"_xlfn.IFNA(IF(J1456>500,\"ומעלה 500\",VLOOKUP(J1456,טבלה1[#All],2,0)),\"\")","v":""}]
[null,null,null,null,null,null,null,null,null,null,null,{"$f":"_xlfn.IFNA(IF(J1457>500,\"ומעלה 500\",VLOOKUP(J1457,טבלה1[#All],2,0)),\"\")","v":""}]
[null,null,null,null,null,null,null,null,null,null,null,{"$f":"_xlfn.IFNA(IF(J1458>500,\"ומעלה 500\",VLOOKUP(J1458,טבלה1[#All],2,0)),\"\")","v":""}]
[null,null,null,null,null,null,null,null,null,null,null,{"$f":"_xlfn.IFNA(IF(J1459>500,\"ומעלה 500\",VLOOKUP(J1459,טבלה1[#All],2,0)),\"\")","v":""}]
[null,null,null,null,null,null,null,null,null,null,null,{"$f":"_xlfn.IFNA(IF(J1460>500,\"ומעלה 500\",VLOOKUP(J1460,טבלה1[#All],2,0)),\"\")","v":""}]
[null,null,null,null,null,null,null,null,null,null,null,{"$f":"_xlfn.IFNA(IF(J1461>500,\"ומעלה 500\",VLOOKUP(J1461,טבלה1[#All],2,0)),\"\")","v":""}]
[null,null,null,null,null,null,null,null,null,null,null,{"$f":"_xlfn.IFNA(IF(J1462>500,\"ומעלה 500\",VLOOKUP(J1462,טבלה1[#All],2,0)),\"\")","v":""}]
[null,null,null,null,null,null,null,null,null,null,null,{"$f":"_xlfn.IFNA(IF(J1463>500,\"ומעלה 500\",VLOOKUP(J1463,טבלה1[#All],2,0)),\"\")","v":""}]
[null,null,null,null,null,null,null,null,null,null,null,{"$f":"_xlfn.IFNA(IF(J1464>500,\"ומעלה 500\",VLOOKUP(J1464,טבלה1[#All],2,0)),\"\")","v":""}]
[null,null,null,null,null,null,null,null,null,null,null,{"$f":"_xlfn.IFNA(IF(J1465>500,\"ומעלה 500\",VLOOKUP(J1465,טבלה1[#All],2,0)),\"\")","v":""}]
[null,null,null,null,null,null,null,null,null,null,null,{"$f":"_xlfn.IFNA(IF(J1466>500,\"ומעלה 500\",VLOOKUP(J1466,טבלה1[#All],2,0)),\"\")","v":""}]
[null,null,null,null,null,null,null,null,null,null,null,{"$f":"_xlfn.IFNA(IF(J1467>500,\"ומעלה 500\",VLOOKUP(J1467,טבלה1[#All],2,0)),\"\")","v":""}]
[null,null,null,null,null,null,null,null,null,null,null,{"$f":"_xlfn.IFNA(IF(J1468>500,\"ומעלה 500\",VLOOKUP(J1468,טבלה1[#All],2,0)),\"\")","v":""}]
[null,null,null,null,null,null,null,null,null,null,null,{"$f":"_xlfn.IFNA(IF(J1469>500,\"ומעלה 500\",VLOOKUP(J1469,טבלה1[#All],2,0)),\"\")","v":""}]
[null,null,null,null,null,null,null,null,null,null,null,{"$f":"_xlfn.IFNA(IF(J1470>500,\"ומעלה 500\",VLOOKUP(J1470,טבלה1[#All],2,0)),\"\")","v":""}]
[null,null,null,null,null,null,null,null,null,null,null,{"$f":"_xlfn.IFNA(IF(J1471>500,\"ומעלה 500\",VLOOKUP(J1471,טבלה1[#All],2,0)),\"\")","v":""}]
[null,null,null,null,null,null,null,null,null,null,null,{"$f":"_xlfn.IFNA(IF(J1472>500,\"ומעלה 500\",VLOOKUP(J1472,טבלה1[#All],2,0)),\"\")","v":""}]
[null,null,null,null,null,null,null,null,null,null,null,{"$f":"_xlfn.IFNA(IF(J1473>500,\"ומעלה 500\",VLOOKUP(J1473,טבלה1[#All],2,0)),\"\")","v":""}]
[null,null,null,null,null,null,null,null,null,null,null,{"$f":"_xlfn.IFNA(IF(J1474>500,\"ומעלה 500\",VLOOKUP(J1474,טבלה1[#All],2,0)),\"\")","v":""}]
[null,null,null,null,null,null,null,null,null,null,null,{"$f":"_xlfn.IFNA(IF(J1475>500,\"ומעלה 500\",VLOOKUP(J1475,טבלה1[#All],2,0)),\"\")","v":""}]
[null,null,null,null,null,null,null,null,null,null,null,{"$f":"_xlfn.IFNA(IF(J1476>500,\"ומעלה 500\",VLOOKUP(J1476,טבלה1[#All],2,0)),\"\")","v":""}]
[null,null,null,null,null,null,null,null,null,null,null,{"$f":"_xlfn.IFNA(IF(J1477>500,\"ומעלה 500\",VLOOKUP(J1477,טבלה1[#All],2,0)),\"\")","v":""}]
[null,null,null,null,null,null,null,null,null,null,null,{"$f":"_xlfn.IFNA(IF(J1478>500,\"ומעלה 500\",VLOOKUP(J1478,טבלה1[#All],2,0)),\"\")","v":""}]
[null,null,null,null,null,null,null,null,null,null,null,{"$f":"_xlfn.IFNA(IF(J1479>500,\"ומעלה 500\",VLOOKUP(J1479,טבלה1[#All],2,0)),\"\")","v":""}]
[null,null,null,null,null,null,null,null,null,null,null,{"$f":"_xlfn.IFNA(IF(J1480>500,\"ומעלה 500\",VLOOKUP(J1480,טבלה1[#All],2,0)),\"\")","v":""}]
[null,null,null,null,null,null,null,null,null,null,null,{"$f":"_xlfn.IFNA(IF(J1481>500,\"ומעלה 500\",VLOOKUP(J1481,טבלה1[#All],2,0)),\"\")","v":""}]
[null,null,null,null,null,null,null,null,null,null,null,{"$f":"_xlfn.IFNA(IF(J1482>500,\"ומעלה 500\",VLOOKUP(J1482,טבלה1[#All],2,0)),\"\")","v":""}]
[null,null,null,null,null,null,null,null,null,null,null,{"$f":"_xlfn.IFNA(IF(J1483>500,\"ומעלה 500\",VLOOKUP(J1483,טבלה1[#All],2,0)),\"\")","v":""}]
[null,null,null,null,null,null,null,null,null,null,null,{"$f":"_xlfn.IFNA(IF(J1484>500,\"ומעלה 500\",VLOOKUP(J1484,טבלה1[#All],2,0)),\"\")","v":""}]
[null,null,null,null,null,null,null,null,null,null,null,{"$f":"_xlfn.IFNA(IF(J1485>500,\"ומעלה 500\",VLOOKUP(J1485,טבלה1[#All],2,0)),\"\")","v":""}]
[null,null,null,null,null,null,null,null,null,null,null,{"$f":"_xlfn.IFNA(IF(J1486>500,\"ומעלה 500\",VLOOKUP(J1486,טבלה1[#All],2,0)),\"\")","v":""}]
[null,null,null,null,null,null,null,null,null,null,null,{"$f":"_xlfn.IFNA(IF(J1487>500,\"ומעלה 500\",VLOOKUP(J1487,טבלה1[#All],2,0)),\"\")","v":""}]
[null,null,null,null,null,null,null,null,null,null,null,{"$f":"_xlfn.IFNA(IF(J1488>500,\"ומעלה 500\",VLOOKUP(J1488,טבלה1[#All],2,0)),\"\")","v":""}]
[null,null,null,null,null,null,null,null,null,null,null,{"$f":"_xlfn.IFNA(IF(J1489>500,\"ומעלה 500\",VLOOKUP(J1489,טבלה1[#All],2,0)),\"\")","v":""}]
[null,null,null,null,null,null,null,null,null,null,null,{"$f":"_xlfn.IFNA(IF(J1490>500,\"ומעלה 500\",VLOOKUP(J1490,טבלה1[#All],2,0)),\"\")","v":""}]
[null,null,null,null,null,null,null,null,null,null,null,{"$f":"_xlfn.IFNA(IF(J1491>500,\"ומעלה 500\",VLOOKUP(J1491,טבלה1[#All],2,0)),\"\")","v":""}]
[null,null,null,null,null,null,null,null,null,null,null,{"$f":"_xlfn.IFNA(IF(J1492>500,\"ומעלה 500\",VLOOKUP(J1492,טבלה1[#All],2,0)),\"\")","v":""}]
[null,null,null,null,null,null,null,null,null,null,null,{"$f":"_xlfn.IFNA(IF(J1493>500,\"ומעלה 500\",VLOOKUP(J1493,טבלה1[#All],2,0)),\"\")","v":""}]
[null,null,null,null,null,null,null,null,null,null,null,{"$f":"_xlfn.IFNA(IF(J1494>500,\"ומעלה 500\",VLOOKUP(J1494,טבלה1[#All],2,0)),\"\")","v":""}]
[null,null,null,null,null,null,null,null,null,null,null,{"$f":"_xlfn.IFNA(IF(J1495>500,\"ומעלה 500\",VLOOKUP(J1495,טבלה1[#All],2,0)),\"\")","v":""}]
[null,null,null,null,null,null,null,null,null,null,null,{"$f":"_xlfn.IFNA(IF(J1496>500,\"ומעלה 500\",VLOOKUP(J1496,טבלה1[#All],2,0)),\"\")","v":""}]
[null,null,null,null,null,null,null,null,null,null,null,{"$f":"_xlfn.IFNA(IF(J1497>500,\"ומעלה 500\",VLOOKUP(J1497,טבלה1[#All],2,0)),\"\")","v":""}]
[null,null,null,null,null,null,null,null,null,null,null,{"$f":"_xlfn.IFNA(IF(J1498>500,\"ומעלה 500\",VLOOKUP(J1498,טבלה1[#All],2,0)),\"\")","v":""}]
[null,null,null,null,null,null,null,null,null,null,null,{"$f":"_xlfn.IFNA(IF(J1499>500,\"ומעלה 500\",VLOOKUP(J1499,טבלה1[#All],2,0)),\"\")","v":""}]
[null,null,null,null,null,null,null,null,null,null,null,{"$f":"_xlfn.IFNA(IF(J1500>500,\"ומעלה 500\",VLOOKUP(J1500,טבלה1[#All],2,0)),\"\")","v":""}]
[null,null,null,null,null,null,null,null,null,null,null,{"$f":"_xlfn.IFNA(IF(J1501>500,\"ומעלה 500\",VLOOKUP(J1501,טבלה1[#All],2,0)),\"\")","v":""}]
[null,null,null,null,null,null,null,null,null,null,null,{"$f":"_xlfn.IFNA(IF(J1502>500,\"ומעלה 500\",VLOOKUP(J1502,טבלה1[#All],2,0)),\"\")","v":""}]
[null,null,null,null,null,null,null,null,null,null,null,{"$f":"_xlfn.IFNA(IF(J1503>500,\"ומעלה 500\",VLOOKUP(J1503,טבלה1[#All],2,0)),\"\")","v":""}]
[null,null,null,null,null,null,null,null,null,null,null,{"$f":"_xlfn.IFNA(IF(J1504>500,\"ומעלה 500\",VLOOKUP(J1504,טבלה1[#All],2,0)),\"\")","v":""}]
[null,null,null,null,null,null,null,null,null,null,null,{"$f":"_xlfn.IFNA(IF(J1505>500,\"ומעלה 500\",VLOOKUP(J1505,טבלה1[#All],2,0)),\"\")","v":""}]
[null,null,null,null,null,null,null,null,null,null,null,{"$f":"_xlfn.IFNA(IF(J1506>500,\"ומעלה 500\",VLOOKUP(J1506,טבלה1[#All],2,0)),\"\")","v":""}]
[null,null,null,null,null,null,null,null,null,null,null,{"$f":"_xlfn.IFNA(IF(J1507>500,\"ומעלה 500\",VLOOKUP(J1507,טבלה1[#All],2,0)),\"\")","v":""}]
[null,null,null,null,null,null,null,null,null,null,null,{"$f":"_xlfn.IFNA(IF(J1508>500,\"ומעלה 500\",VLOOKUP(J1508,טבלה1[#All],2,0)),\"\")","v":""}]
[null,null,null,null,null,null,null,null,null,null,null,{"$f":"_xlfn.IFNA(IF(J1509>500,\"ומעלה 500\",VLOOKUP(J1509,טבלה1[#All],2,0)),\"\")","v":""}]
[null,null,null,null,null,null,null,null,null,null,null,{"$f":"_xlfn.IFNA(IF(J1510>500,\"ומעלה 500\",VLOOKUP(J1510,טבלה1[#All],2,0)),\"\")","v":""}]
[null,null,null,null,null,null,null,null,null,null,null,{"$f":"_xlfn.IFNA(IF(J1511>500,\"ומעלה 500\",VLOOKUP(J1511,טבלה1[#All],2,0)),\"\")","v":""}]
[null,null,null,null,null,null,null,null,null,null,null,{"$f":"_xlfn.IFNA(IF(J1512>500,\"ומעלה 500\",VLOOKUP(J1512,טבלה1[#All],2,0)),\"\")","v":""}]
[null,null,null,null,null,null,null,null,null,null,null,{"$f":"_xlfn.IFNA(IF(J1513>500,\"ומעלה 500\",VLOOKUP(J1513,טבלה1[#All],2,0)),\"\")","v":""}]
[null,null,null,null,null,null,null,null,null,null,null,{"$f":"_xlfn.IFNA(IF(J1514>500,\"ומעלה 500\",VLOOKUP(J1514,טבלה1[#All],2,0)),\"\")","v":""}]
[null,null,null,null,null,null,null,null,null,null,null,{"$f":"_xlfn.IFNA(IF(J1515>500,\"ומעלה 500\",VLOOKUP(J1515,טבלה1[#All],2,0)),\"\")","v":""}]
[null,null,null,null,null,null,null,null,null,null,null,{"$f":"_xlfn.IFNA(IF(J1516>500,\"ומעלה 500\",VLOOKUP(J1516,טבלה1[#All],2,0)),\"\")","v":""}]
[null,null,null,null,null,null,null,null,null,null,null,{"$f":"_xlfn.IFNA(IF(J1517>500,\"ומעלה 500\",VLOOKUP(J1517,טבלה1[#All],2,0)),\"\")","v":""}]
[null,null,null,null,null,null,null,null,null,null,null,{"$f":"_xlfn.IFNA(IF(J1518>500,\"ומעלה 500\",VLOOKUP(J1518,טבלה1[#All],2,0)),\"\")","v":""}]
[null,null,null,null,null,null,null,null,null,null,null,{"$f":"_xlfn.IFNA(IF(J1519>500,\"ומעלה 500\",VLOOKUP(J1519,טבלה1[#All],2,0)),\"\")","v":""}]
[null,null,null,null,null,null,null,null,null,null,null,{"$f":"_xlfn.IFNA(IF(J1520>500,\"ומעלה 500\",VLOOKUP(J1520,טבלה1[#All],2,0)),\"\")","v":""}]
[null,null,null,null,null,null,null,null,null,null,null,{"$f":"_xlfn.IFNA(IF(J1521>500,\"ומעלה 500\",VLOOKUP(J1521,טבלה1[#All],2,0)),\"\")","v":""}]
[null,null,null,null,null,null,null,null,null,null,null,{"$f":"_xlfn.IFNA(IF(J1522>500,\"ומעלה 500\",VLOOKUP(J1522,טבלה1[#All],2,0)),\"\")","v":""}]
[null,null,null,null,null,null,null,null,null,null,null,{"$f":"_xlfn.IFNA(IF(J1523>500,\"ומעלה 500\",VLOOKUP(J1523,טבלה1[#All],2,0)),\"\")","v":""}]
[null,null,null,null,null,null,null,null,null,null,null,{"$f":"_xlfn.IFNA(IF(J1524>500,\"ומעלה 500\",VLOOKUP(J1524,טבלה1[#All],2,0)),\"\")","v":""}]
[null,null,null,null,null,null,null,null,null,null,null,{"$f":"_xlfn.IFNA(IF(J1525>500,\"ומעלה 500\",VLOOKUP(J1525,טבלה1[#All],2,0)),\"\")","v":""}]
[null,null,null,null,null,null,null,null,null,null,null,{"$f":"_xlfn.IFNA(IF(J1526>500,\"ומעלה 500\",VLOOKUP(J1526,טבלה1[#All],2,0)),\"\")","v":""}]
[null,null,null,null,null,null,null,null,null,null,null,{"$f":"_xlfn.IFNA(IF(J1527>500,\"ומעלה 500\",VLOOKUP(J1527,טבלה1[#All],2,0)),\"\")","v":""}]
[null,null,null,null,null,null,null,null,null,null,null,{"$f":"_xlfn.IFNA(IF(J1528>500,\"ומעלה 500\",VLOOKUP(J1528,טבלה1[#All],2,0)),\"\")","v":""}]
[null,null,null,null,null,null,null,null,null,null,null,{"$f":"_xlfn.IFNA(IF(J1529>500,\"ומעלה 500\",VLOOKUP(J1529,טבלה1[#All],2,0)),\"\")","v":""}]
[null,null,null,null,null,null,null,null,null,null,null,{"$f":"_xlfn.IFNA(IF(J1530>500,\"ומעלה 500\",VLOOKUP(J1530,טבלה1[#All],2,0)),\"\")","v":""}]
[null,null,null,null,null,null,null,null,null,null,null,{"$f":"_xlfn.IFNA(IF(J1531>500,\"ומעלה 500\",VLOOKUP(J1531,טבלה1[#All],2,0)),\"\")","v":""}]
[null,null,null,null,null,null,null,null,null,null,null,{"$f":"_xlfn.IFNA(IF(J1532>500,\"ומעלה 500\",VLOOKUP(J1532,טבלה1[#All],2,0)),\"\")","v":""}]
[null,null,null,null,null,null,null,null,null,null,null,{"$f":"_xlfn.IFNA(IF(J1533>500,\"ומעלה 500\",VLOOKUP(J1533,טבלה1[#All],2,0)),\"\")","v":""}]
[null,null,null,null,null,null,null,null,null,null,null,{"$f":"_xlfn.IFNA(IF(J1534>500,\"ומעלה 500\",VLOOKUP(J1534,טבלה1[#All],2,0)),\"\")","v":""}]
[null,null,null,null,null,null,null,null,null,null,null,{"$f":"_xlfn.IFNA(IF(J1535>500,\"ומעלה 500\",VLOOKUP(J1535,טבלה1[#All],2,0)),\"\")","v":""}]
[null,null,null,null,null,null,null,null,null,null,null,{"$f":"_xlfn.IFNA(IF(J1536>500,\"ומעלה 500\",VLOOKUP(J1536,טבלה1[#All],2,0)),\"\")","v":""}]
[null,null,null,null,null,null,null,null,null,null,null,{"$f":"_xlfn.IFNA(IF(J1537>500,\"ומעלה 500\",VLOOKUP(J1537,טבלה1[#All],2,0)),\"\")","v":""}]
[null,null,null,null,null,null,null,null,null,null,null,{"$f":"_xlfn.IFNA(IF(J1538>500,\"ומעלה 500\",VLOOKUP(J1538,טבלה1[#All],2,0)),\"\")","v":""}]
[null,null,null,null,null,null,null,null,null,null,null,{"$f":"_xlfn.IFNA(IF(J1539>500,\"ומעלה 500\",VLOOKUP(J1539,טבלה1[#All],2,0)),\"\")","v":""}]
[null,null,null,null,null,null,null,null,null,null,null,{"$f":"_xlfn.IFNA(IF(J1540>500,\"ומעלה 500\",VLOOKUP(J1540,טבלה1[#All],2,0)),\"\")","v":""}]
[null,null,null,null,null,null,null,null,null,null,null,{"$f":"_xlfn.IFNA(IF(J1541>500,\"ומעלה 500\",VLOOKUP(J1541,טבלה1[#All],2,0)),\"\")","v":""}]
[null,null,null,null,null,null,null,null,null,null,null,{"$f":"_xlfn.IFNA(IF(J1542>500,\"ומעלה 500\",VLOOKUP(J1542,טבלה1[#All],2,0)),\"\")","v":""}]
[null,null,null,null,null,null,null,null,null,null,null,{"$f":"_xlfn.IFNA(IF(J1543>500,\"ומעלה 500\",VLOOKUP(J1543,טבלה1[#All],2,0)),\"\")","v":""}]
[null,null,null,null,null,null,null,null,null,null,null,{"$f":"_xlfn.IFNA(IF(J1544>500,\"ומעלה 500\",VLOOKUP(J1544,טבלה1[#All],2,0)),\"\")","v":""}]
[null,null,null,null,null,null,null,null,null,null,null,{"$f":"_xlfn.IFNA(IF(J1545>500,\"ומעלה 500\",VLOOKUP(J1545,טבלה1[#All],2,0)),\"\")","v":""}]
[null,null,null,null,null,null,null,null,null,null,null,{"$f":"_xlfn.IFNA(IF(J1546>500,\"ומעלה 500\",VLOOKUP(J1546,טבלה1[#All],2,0)),\"\")","v":""}]
[null,null,null,null,null,null,null,null,null,null,null,{"$f":"_xlfn.IFNA(IF(J1547>500,\"ומעלה 500\",VLOOKUP(J1547,טבלה1[#All],2,0)),\"\")","v":""}]
[null,null,null,null,null,null,null,null,null,null,null,{"$f":"_xlfn.IFNA(IF(J1548>500,\"ומעלה 500\",VLOOKUP(J1548,טבלה1[#All],2,0)),\"\")","v":""}]
[null,null,null,null,null,null,null,null,null,null,null,{"$f":"_xlfn.IFNA(IF(J1549>500,\"ומעלה 500\",VLOOKUP(J1549,טבלה1[#All],2,0)),\"\")","v":""}]
[null,null,null,null,null,null,null,null,null,null,null,{"$f":"_xlfn.IFNA(IF(J1550>500,\"ומעלה 500\",VLOOKUP(J1550,טבלה1[#All],2,0)),\"\")","v":""}]
[null,null,null,null,null,null,null,null,null,null,null,{"$f":"_xlfn.IFNA(IF(J1551>500,\"ומעלה 500\",VLOOKUP(J1551,טבלה1[#All],2,0)),\"\")","v":""}]
[null,null,null,null,null,null,null,null,null,null,null,{"$f":"_xlfn.IFNA(IF(J1552>500,\"ומעלה 500\",VLOOKUP(J1552,טבלה1[#All],2,0)),\"\")","v":""}]
[null,null,null,null,null,null,null,null,null,null,null,{"$f":"_xlfn.IFNA(IF(J1553>500,\"ומעלה 500\",VLOOKUP(J1553,טבלה1[#All],2,0)),\"\")","v":""}]
[null,null,null,null,null,null,null,null,null,null,null,{"$f":"_xlfn.IFNA(IF(J1554>500,\"ומעלה 500\",VLOOKUP(J1554,טבלה1[#All],2,0)),\"\")","v":""}]
[null,null,null,null,null,null,null,null,null,null,null,{"$f":"_xlfn.IFNA(IF(J1555>500,\"ומעלה 500\",VLOOKUP(J1555,טבלה1[#All],2,0)),\"\")","v":""}]
[null,null,null,null,null,null,null,null,null,null,null,{"$f":"_xlfn.IFNA(IF(J1556>500,\"ומעלה 500\",VLOOKUP(J1556,טבלה1[#All],2,0)),\"\")","v":""}]
[null,null,null,null,null,null,null,null,null,null,null,{"$f":"_xlfn.IFNA(IF(J1557>500,\"ומעלה 500\",VLOOKUP(J1557,טבלה1[#All],2,0)),\"\")","v":""}]
[null,null,null,null,null,null,null,null,null,null,null,{"$f":"_xlfn.IFNA(IF(J1558>500,\"ומעלה 500\",VLOOKUP(J1558,טבלה1[#All],2,0)),\"\")","v":""}]
[null,null,null,null,null,null,null,null,null,null,null,{"$f":"_xlfn.IFNA(IF(J1559>500,\"ומעלה 500\",VLOOKUP(J1559,טבלה1[#All],2,0)),\"\")","v":""}]
[null,null,null,null,null,null,null,null,null,null,null,{"$f":"_xlfn.IFNA(IF(J1560>500,\"ומעלה 500\",VLOOKUP(J1560,טבלה1[#All],2,0)),\"\")","v":""}]
[null,null,null,null,null,null,null,null,null,null,null,{"$f":"_xlfn.IFNA(IF(J1561>500,\"ומעלה 500\",VLOOKUP(J1561,טבלה1[#All],2,0)),\"\")","v":""}]
[null,null,null,null,null,null,null,null,null,null,null,{"$f":"_xlfn.IFNA(IF(J1562>500,\"ומעלה 500\",VLOOKUP(J1562,טבלה1[#All],2,0)),\"\")","v":""}]
[null,null,null,null,null,null,null,null,null,null,null,{"$f":"_xlfn.IFNA(IF(J1563>500,\"ומעלה 500\",VLOOKUP(J1563,טבלה1[#All],2,0)),\"\")","v":""}]
[null,null,null,null,null,null,null,null,null,null,null,{"$f":"_xlfn.IFNA(IF(J1564>500,\"ומעלה 500\",VLOOKUP(J1564,טבלה1[#All],2,0)),\"\")","v":""}]
[null,null,null,null,null,null,null,null,null,null,null,{"$f":"_xlfn.IFNA(IF(J1565>500,\"ומעלה 500\",VLOOKUP(J1565,טבלה1[#All],2,0)),\"\")","v":""}]
[null,null,null,null,null,null,null,null,null,null,null,{"$f":"_xlfn.IFNA(IF(J1566>500,\"ומעלה 500\",VLOOKUP(J1566,טבלה1[#All],2,0)),\"\")","v":""}]
[null,null,null,null,null,null,null,null,null,null,null,{"$f":"_xlfn.IFNA(IF(J1567>500,\"ומעלה 500\",VLOOKUP(J1567,טבלה1[#All],2,0)),\"\")","v":""}]
[null,null,null,null,null,null,null,null,null,null,null,{"$f":"_xlfn.IFNA(IF(J1568>500,\"ומעלה 500\",VLOOKUP(J1568,טבלה1[#All],2,0)),\"\")","v":""}]
[null,null,null,null,null,null,null,null,null,null,null,{"$f":"_xlfn.IFNA(IF(J1569>500,\"ומעלה 500\",VLOOKUP(J1569,טבלה1[#All],2,0)),\"\")","v":""}]
[null,null,null,null,null,null,null,null,null,null,null,{"$f":"_xlfn.IFNA(IF(J1570>500,\"ומעלה 500\",VLOOKUP(J1570,טבלה1[#All],2,0)),\"\")","v":""}]
[null,null,null,null,null,null,null,null,null,null,null,{"$f":"_xlfn.IFNA(IF(J1571>500,\"ומעלה 500\",VLOOKUP(J1571,טבלה1[#All],2,0)),\"\")","v":""}]
[null,null,null,null,null,null,null,null,null,null,null,{"$f":"_xlfn.IFNA(IF(J1572>500,\"ומעלה 500\",VLOOKUP(J1572,טבלה1[#All],2,0)),\"\")","v":""}]
[null,null,null,null,null,null,null,null,null,null,null,{"$f":"_xlfn.IFNA(IF(J1573>500,\"ומעלה 500\",VLOOKUP(J1573,טבלה1[#All],2,0)),\"\")","v":""}]
[null,null,null,null,null,null,null,null,null,null,null,{"$f":"_xlfn.IFNA(IF(J1574>500,\"ומעלה 500\",VLOOKUP(J1574,טבלה1[#All],2,0)),\"\")","v":""}]
[null,null,null,null,null,null,null,null,null,null,null,{"$f":"_xlfn.IFNA(IF(J1575>500,\"ומעלה 500\",VLOOKUP(J1575,טבלה1[#All],2,0)),\"\")","v":""}]
[null,null,null,null,null,null,null,null,null,null,null,{"$f":"_xlfn.IFNA(IF(J1576>500,\"ומעלה 500\",VLOOKUP(J1576,טבלה1[#All],2,0)),\"\")","v":""}]
[null,null,null,null,null,null,null,null,null,null,null,{"$f":"_xlfn.IFNA(IF(J1577>500,\"ומעלה 500\",VLOOKUP(J1577,טבלה1[#All],2,0)),\"\")","v":""}]
[null,null,null,null,null,null,null,null,null,null,null,{"$f":"_xlfn.IFNA(IF(J1578>500,\"ומעלה 500\",VLOOKUP(J1578,טבלה1[#All],2,0)),\"\")","v":""}]
[null,null,null,null,null,null,null,null,null,null,null,{"$f":"_xlfn.IFNA(IF(J1579>500,\"ומעלה 500\",VLOOKUP(J1579,טבלה1[#All],2,0)),\"\")","v":""}]
[null,null,null,null,null,null,null,null,null,null,null,{"$f":"_xlfn.IFNA(IF(J1580>500,\"ומעלה 500\",VLOOKUP(J1580,טבלה1[#All],2,0)),\"\")","v":""}]
[null,null,null,null,null,null,null,null,null,null,null,{"$f":"_xlfn.IFNA(IF(J1581>500,\"ומעלה 500\",VLOOKUP(J1581,טבלה1[#All],2,0)),\"\")","v":""}]
[null,null,null,null,null,null,null,null,null,null,null,{"$f":"_xlfn.IFNA(IF(J1582>500,\"ומעלה 500\",VLOOKUP(J1582,טבלה1[#All],2,0)),\"\")","v":""}]
[null,null,null,null,null,null,null,null,null,null,null,{"$f":"_xlfn.IFNA(IF(J1583>500,\"ומעלה 500\",VLOOKUP(J1583,טבלה1[#All],2,0)),\"\")","v":""}]
[null,null,null,null,null,null,null,null,null,null,null,{"$f":"_xlfn.IFNA(IF(J1584>500,\"ומעלה 500\",VLOOKUP(J1584,טבלה1[#All],2,0)),\"\")","v":""}]
[null,null,null,null,null,null,null,null,null,null,null,{"$f":"_xlfn.IFNA(IF(J1585>500,\"ומעלה 500\",VLOOKUP(J1585,טבלה1[#All],2,0)),\"\")","v":""}]
[null,null,null,null,null,null,null,null,null,null,null,{"$f":"_xlfn.IFNA(IF(J1586>500,\"ומעלה 500\",VLOOKUP(J1586,טבלה1[#All],2,0)),\"\")","v":""}]
[null,null,null,null,null,null,null,null,null,null,null,{"$f":"_xlfn.IFNA(IF(J1587>500,\"ומעלה 500\",VLOOKUP(J1587,טבלה1[#All],2,0)),\"\")","v":""}]
[null,null,null,null,null,null,null,null,null,null,null,{"$f":"_xlfn.IFNA(IF(J1588>500,\"ומעלה 500\",VLOOKUP(J1588,טבלה1[#All],2,0)),\"\")","v":""}]
[null,null,null,null,null,null,null,null,null,null,null,{"$f":"_xlfn.IFNA(IF(J1589>500,\"ומעלה 500\",VLOOKUP(J1589,טבלה1[#All],2,0)),\"\")","v":""}]
[null,null,null,null,null,null,null,null,null,null,null,{"$f":"_xlfn.IFNA(IF(J1590>500,\"ומעלה 500\",VLOOKUP(J1590,טבלה1[#All],2,0)),\"\")","v":""}]
[null,null,null,null,null,null,null,null,null,null,null,{"$f":"_xlfn.IFNA(IF(J1591>500,\"ומעלה 500\",VLOOKUP(J1591,טבלה1[#All],2,0)),\"\")","v":""}]
[null,null,null,null,null,null,null,null,null,null,null,{"$f":"_xlfn.IFNA(IF(J1592>500,\"ומעלה 500\",VLOOKUP(J1592,טבלה1[#All],2,0)),\"\")","v":""}]
[null,null,null,null,null,null,null,null,null,null,null,{"$f":"_xlfn.IFNA(IF(J1593>500,\"ומעלה 500\",VLOOKUP(J1593,טבלה1[#All],2,0)),\"\")","v":""}]
[null,null,null,null,null,null,null,null,null,null,null,{"$f":"_xlfn.IFNA(IF(J1594>500,\"ומעלה 500\",VLOOKUP(J1594,טבלה1[#All],2,0)),\"\")","v":""}]
[null,null,null,null,null,null,null,null,null,null,null,{"$f":"_xlfn.IFNA(IF(J1595>500,\"ומעלה 500\",VLOOKUP(J1595,טבלה1[#All],2,0)),\"\")","v":""}]
[null,null,null,null,null,null,null,null,null,null,null,{"$f":"_xlfn.IFNA(IF(J1596>500,\"ומעלה 500\",VLOOKUP(J1596,טבלה1[#All],2,0)),\"\")","v":""}]
[null,null,null,null,null,null,null,null,null,null,null,{"$f":"_xlfn.IFNA(IF(J1597>500,\"ומעלה 500\",VLOOKUP(J1597,טבלה1[#All],2,0)),\"\")","v":""}]
[null,null,null,null,null,null,null,null,null,null,null,{"$f":"_xlfn.IFNA(IF(J1598>500,\"ומעלה 500\",VLOOKUP(J1598,טבלה1[#All],2,0)),\"\")","v":""}]
[null,null,null,null,null,null,null,null,null,null,null,{"$f":"_xlfn.IFNA(IF(J1599>500,\"ומעלה 500\",VLOOKUP(J1599,טבלה1[#All],2,0)),\"\")","v":""}]
[null,null,null,null,null,null,null,null,null,null,null,{"$f":"_xlfn.IFNA(IF(J1600>500,\"ומעלה 500\",VLOOKUP(J1600,טבלה1[#All],2,0)),\"\")","v":""}]
[null,null,null,null,null,null,null,null,null,null,null,{"$f":"_xlfn.IFNA(IF(J1601>500,\"ומעלה 500\",VLOOKUP(J1601,טבלה1[#All],2,0)),\"\")","v":""}]
[null,null,null,null,null,null,null,null,null,null,null,{"$f":"_xlfn.IFNA(IF(J1602>500,\"ומעלה 500\",VLOOKUP(J1602,טבלה1[#All],2,0)),\"\")","v":""}]
[null,null,null,null,null,null,null,null,null,null,null,{"$f":"_xlfn.IFNA(IF(J1603>500,\"ומעלה 500\",VLOOKUP(J1603,טבלה1[#All],2,0)),\"\")","v":""}]
[null,null,null,null,null,null,null,null,null,null,null,{"$f":"_xlfn.IFNA(IF(J1604>500,\"ומעלה 500\",VLOOKUP(J1604,טבלה1[#All],2,0)),\"\")","v":""}]
[null,null,null,null,null,null,null,null,null,null,null,{"$f":"_xlfn.IFNA(IF(J1605>500,\"ומעלה 500\",VLOOKUP(J1605,טבלה1[#All],2,0)),\"\")","v":""}]
[null,null,null,null,null,null,null,null,null,null,null,{"$f":"_xlfn.IFNA(IF(J1606>500,\"ומעלה 500\",VLOOKUP(J1606,טבלה1[#All],2,0)),\"\")","v":""}]
[null,null,null,null,null,null,null,null,null,null,null,{"$f":"_xlfn.IFNA(IF(J1607>500,\"ומעלה 500\",VLOOKUP(J1607,טבלה1[#All],2,0)),\"\")","v":""}]
[null,null,null,null,null,null,null,null,null,null,null,{"$f":"_xlfn.IFNA(IF(J1608>500,\"ומעלה 500\",VLOOKUP(J1608,טבלה1[#All],2,0)),\"\")","v":""}]
[null,null,null,null,null,null,null,null,null,null,null,{"$f":"_xlfn.IFNA(IF(J1609>500,\"ומעלה 500\",VLOOKUP(J1609,טבלה1[#All],2,0)),\"\")","v":""}]
[null,null,null,null,null,null,null,null,null,null,null,{"$f":"_xlfn.IFNA(IF(J1610>500,\"ומעלה 500\",VLOOKUP(J1610,טבלה1[#All],2,0)),\"\")","v":""}]
[null,null,null,null,null,null,null,null,null,null,null,{"$f":"_xlfn.IFNA(IF(J1611>500,\"ומעלה 500\",VLOOKUP(J1611,טבלה1[#All],2,0)),\"\")","v":""}]
[null,null,null,null,null,null,null,null,null,null,null,{"$f":"_xlfn.IFNA(IF(J1612>500,\"ומעלה 500\",VLOOKUP(J1612,טבלה1[#All],2,0)),\"\")","v":""}]
[null,null,null,null,null,null,null,null,null,null,null,{"$f":"_xlfn.IFNA(IF(J1613>500,\"ומעלה 500\",VLOOKUP(J1613,טבלה1[#All],2,0)),\"\")","v":""}]
[null,null,null,null,null,null,null,null,null,null,null,{"$f":"_xlfn.IFNA(IF(J1614>500,\"ומעלה 500\",VLOOKUP(J1614,טבלה1[#All],2,0)),\"\")","v":""}]
[null,null,null,null,null,null,null,null,null,null,null,{"$f":"_xlfn.IFNA(IF(J1615>500,\"ומעלה 500\",VLOOKUP(J1615,טבלה1[#All],2,0)),\"\")","v":""}]
[null,null,null,null,null,null,null,null,null,null,null,{"$f":"_xlfn.IFNA(IF(J1616>500,\"ומעלה 500\",VLOOKUP(J1616,טבלה1[#All],2,0)),\"\")","v":""}]
[null,null,null,null,null,null,null,null,null,null,null,{"$f":"_xlfn.IFNA(IF(J1617>500,\"ומעלה 500\",VLOOKUP(J1617,טבלה1[#All],2,0)),\"\")","v":""}]
[null,null,null,null,null,null,null,null,null,null,null,{"$f":"_xlfn.IFNA(IF(J1618>500,\"ומעלה 500\",VLOOKUP(J1618,טבלה1[#All],2,0)),\"\")","v":""}]
[null,null,null,null,null,null,null,null,null,null,null,{"$f":"_xlfn.IFNA(IF(J1619>500,\"ומעלה 500\",VLOOKUP(J1619,טבלה1[#All],2,0)),\"\")","v":""}]
[null,null,null,null,null,null,null,null,null,null,null,{"$f":"_xlfn.IFNA(IF(J1620>500,\"ומעלה 500\",VLOOKUP(J1620,טבלה1[#All],2,0)),\"\")","v":""}]
[null,null,null,null,null,null,null,null,null,null,null,{"$f":"_xlfn.IFNA(IF(J1621>500,\"ומעלה 500\",VLOOKUP(J1621,טבלה1[#All],2,0)),\"\")","v":""}]
[null,null,null,null,null,null,null,null,null,null,null,{"$f":"_xlfn.IFNA(IF(J1622>500,\"ומעלה 500\",VLOOKUP(J1622,טבלה1[#All],2,0)),\"\")","v":""}]
[null,null,null,null,null,null,null,null,null,null,null,{"$f":"_xlfn.IFNA(IF(J1623>500,\"ומעלה 500\",VLOOKUP(J1623,טבלה1[#All],2,0)),\"\")","v":""}]
[null,null,null,null,null,null,null,null,null,null,null,{"$f":"_xlfn.IFNA(IF(J1624>500,\"ומעלה 500\",VLOOKUP(J1624,טבלה1[#All],2,0)),\"\")","v":""}]
[null,null,null,null,null,null,null,null,null,null,null,{"$f":"_xlfn.IFNA(IF(J1625>500,\"ומעלה 500\",VLOOKUP(J1625,טבלה1[#All],2,0)),\"\")","v":""}]
[null,null,null,null,null,null,null,null,null,null,null,{"$f":"_xlfn.IFNA(IF(J1626>500,\"ומעלה 500\",VLOOKUP(J1626,טבלה1[#All],2,0)),\"\")","v":""}]
[null,null,null,null,null,null,null,null,null,null,null,{"$f":"_xlfn.IFNA(IF(J1627>500,\"ומעלה 500\",VLOOKUP(J1627,טבלה1[#All],2,0)),\"\")","v":""}]
[null,null,null,null,null,null,null,null,null,null,null,{"$f":"_xlfn.IFNA(IF(J1628>500,\"ומעלה 500\",VLOOKUP(J1628,טבלה1[#All],2,0)),\"\")","v":""}]
[null,null,null,null,null,null,null,null,null,null,null,{"$f":"_xlfn.IFNA(IF(J1629>500,\"ומעלה 500\",VLOOKUP(J1629,טבלה1[#All],2,0)),\"\")","v":""}]
[null,null,null,null,null,null,null,null,null,null,null,{"$f":"_xlfn.IFNA(IF(J1630>500,\"ומעלה 500\",VLOOKUP(J1630,טבלה1[#All],2,0)),\"\")","v":""}]
[null,null,null,null,null,null,null,null,null,null,null,{"$f":"_xlfn.IFNA(IF(J1631>500,\"ומעלה 500\",VLOOKUP(J1631,טבלה1[#All],2,0)),\"\")","v":""}]
[null,null,null,null,null,null,null,null,null,null,null,{"$f":"_xlfn.IFNA(IF(J1632>500,\"ומעלה 500\",VLOOKUP(J1632,טבלה1[#All],2,0)),\"\")","v":""}]
[null,null,null,null,null,null,null,null,null,null,null,{"$f":"_xlfn.IFNA(IF(J1633>500,\"ומעלה 500\",VLOOKUP(J1633,טבלה1[#All],2,0)),\"\")","v":""}]
[null,null,null,null,null,null,null,null,null,null,null,{"$f":"_xlfn.IFNA(IF(J1634>500,\"ומעלה 500\",VLOOKUP(J1634,טבלה1[#All],2,0)),\"\")","v":""}]
[null,null,null,null,null,null,null,null,null,null,null,{"$f":"_xlfn.IFNA(IF(J1635>500,\"ומעלה 500\",VLOOKUP(J1635,טבלה1[#All],2,0)),\"\")","v":""}]
[null,null,null,null,null,null,null,null,null,null,null,{"$f":"_xlfn.IFNA(IF(J1636>500,\"ומעלה 500\",VLOOKUP(J1636,טבלה1[#All],2,0)),\"\")","v":""}]
[null,null,null,null,null,null,null,null,null,null,null,{"$f":"_xlfn.IFNA(IF(J1637>500,\"ומעלה 500\",VLOOKUP(J1637,טבלה1[#All],2,0)),\"\")","v":""}]
[null,null,null,null,null,null,null,null,null,null,null,{"$f":"_xlfn.IFNA(IF(J1638>500,\"ומעלה 500\",VLOOKUP(J1638,טבלה1[#All],2,0)),\"\")","v":""}]
[null,null,null,null,null,null,null,null,null,null,null,{"$f":"_xlfn.IFNA(IF(J1639>500,\"ומעלה 500\",VLOOKUP(J1639,טבלה1[#All],2,0)),\"\")","v":""}]
[null,null,null,null,null,null,null,null,null,null,null,{"$f":"_xlfn.IFNA(IF(J1640>500,\"ומעלה 500\",VLOOKUP(J1640,טבלה1[#All],2,0)),\"\")","v":""}]
[null,null,null,null,null,null,null,null,null,null,null,{"$f":"_xlfn.IFNA(IF(J1641>500,\"ומעלה 500\",VLOOKUP(J1641,טבלה1[#All],2,0)),\"\")","v":""}]
[null,null,null,null,null,null,null,null,null,null,null,{"$f":"_xlfn.IFNA(IF(J1642>500,\"ומעלה 500\",VLOOKUP(J1642,טבלה1[#All],2,0)),\"\")","v":""}]
[null,null,null,null,null,null,null,null,null,null,null,{"$f":"_xlfn.IFNA(IF(J1643>500,\"ומעלה 500\",VLOOKUP(J1643,טבלה1[#All],2,0)),\"\")","v":""}]
[null,null,null,null,null,null,null,null,null,null,null,{"$f":"_xlfn.IFNA(IF(J1644>500,\"ומעלה 500\",VLOOKUP(J1644,טבלה1[#All],2,0)),\"\")","v":""}]
[null,null,null,null,null,null,null,null,null,null,null,{"$f":"_xlfn.IFNA(IF(J1645>500,\"ומעלה 500\",VLOOKUP(J1645,טבלה1[#All],2,0)),\"\")","v":""}]
[null,null,null,null,null,null,null,null,null,null,null,{"$f":"_xlfn.IFNA(IF(J1646>500,\"ומעלה 500\",VLOOKUP(J1646,טבלה1[#All],2,0)),\"\")","v":""}]
[null,null,null,null,null,null,null,null,null,null,null,{"$f":"_xlfn.IFNA(IF(J1647>500,\"ומעלה 500\",VLOOKUP(J1647,טבלה1[#All],2,0)),\"\")","v":""}]
[null,null,null,null,null,null,null,null,null,null,null,{"$f":"_xlfn.IFNA(IF(J1648>500,\"ומעלה 500\",VLOOKUP(J1648,טבלה1[#All],2,0)),\"\")","v":""}]
[null,null,null,null,null,null,null,null,null,null,null,{"$f":"_xlfn.IFNA(IF(J1649>500,\"ומעלה 500\",VLOOKUP(J1649,טבלה1[#All],2,0)),\"\")","v":""}]
[null,null,null,null,null,null,null,null,null,null,null,{"$f":"_xlfn.IFNA(IF(J1650>500,\"ומעלה 500\",VLOOKUP(J1650,טבלה1[#All],2,0)),\"\")","v":""}]
[null,null,null,null,null,null,null,null,null,null,null,{"$f":"_xlfn.IFNA(IF(J1651>500,\"ומעלה 500\",VLOOKUP(J1651,טבלה1[#All],2,0)),\"\")","v":""}]
[null,null,null,null,null,null,null,null,null,null,null,{"$f":"_xlfn.IFNA(IF(J1652>500,\"ומעלה 500\",VLOOKUP(J1652,טבלה1[#All],2,0)),\"\")","v":""}]
[null,null,null,null,null,null,null,null,null,null,null,{"$f":"_xlfn.IFNA(IF(J1653>500,\"ומעלה 500\",VLOOKUP(J1653,טבלה1[#All],2,0)),\"\")","v":""}]
[null,null,null,null,null,null,null,null,null,null,null,{"$f":"_xlfn.IFNA(IF(J1654>500,\"ומעלה 500\",VLOOKUP(J1654,טבלה1[#All],2,0)),\"\")","v":""}]
[null,null,null,null,null,null,null,null,null,null,null,{"$f":"_xlfn.IFNA(IF(J1655>500,\"ומעלה 500\",VLOOKUP(J1655,טבלה1[#All],2,0)),\"\")","v":""}]
[null,null,null,null,null,null,null,null,null,null,null,{"$f":"_xlfn.IFNA(IF(J1656>500,\"ומעלה 500\",VLOOKUP(J1656,טבלה1[#All],2,0)),\"\")","v":""}]
[null,null,null,null,null,null,null,null,null,null,null,{"$f":"_xlfn.IFNA(IF(J1657>500,\"ומעלה 500\",VLOOKUP(J1657,טבלה1[#All],2,0)),\"\")","v":""}]
[null,null,null,null,null,null,null,null,null,null,null,{"$f":"_xlfn.IFNA(IF(J1658>500,\"ומעלה 500\",VLOOKUP(J1658,טבלה1[#All],2,0)),\"\")","v":""}]
[null,null,null,null,null,null,null,null,null,null,null,{"$f":"_xlfn.IFNA(IF(J1659>500,\"ומעלה 500\",VLOOKUP(J1659,טבלה1[#All],2,0)),\"\")","v":""}]
[null,null,null,null,null,null,null,null,null,null,null,{"$f":"_xlfn.IFNA(IF(J1660>500,\"ומעלה 500\",VLOOKUP(J1660,טבלה1[#All],2,0)),\"\")","v":""}]
[null,null,null,null,null,null,null,null,null,null,null,{"$f":"_xlfn.IFNA(IF(J1661>500,\"ומעלה 500\",VLOOKUP(J1661,טבלה1[#All],2,0)),\"\")","v":""}]
[null,null,null,null,null,null,null,null,null,null,null,{"$f":"_xlfn.IFNA(IF(J1662>500,\"ומעלה 500\",VLOOKUP(J1662,טבלה1[#All],2,0)),\"\")","v":""}]
[null,null,null,null,null,null,null,null,null,null,null,{"$f":"_xlfn.IFNA(IF(J1663>500,\"ומעלה 500\",VLOOKUP(J1663,טבלה1[#All],2,0)),\"\")","v":""}]
[null,null,null,null,null,null,null,null,null,null,null,{"$f":"_xlfn.IFNA(IF(J1664>500,\"ומעלה 500\",VLOOKUP(J1664,טבלה1[#All],2,0)),\"\")","v":""}]
[null,null,null,null,null,null,null,null,null,null,null,{"$f":"_xlfn.IFNA(IF(J1665>500,\"ומעלה 500\",VLOOKUP(J1665,טבלה1[#All],2,0)),\"\")","v":""}]
[null,null,null,null,null,null,null,null,null,null,null,{"$f":"_xlfn.IFNA(IF(J1666>500,\"ומעלה 500\",VLOOKUP(J1666,טבלה1[#All],2,0)),\"\")","v":""}]
[null,null,null,null,null,null,null,null,null,null,null,{"$f":"_xlfn.IFNA(IF(J1667>500,\"ומעלה 500\",VLOOKUP(J1667,טבלה1[#All],2,0)),\"\")","v":""}]
[null,null,null,null,null,null,null,null,null,null,null,{"$f":"_xlfn.IFNA(IF(J1668>500,\"ומעלה 500\",VLOOKUP(J1668,טבלה1[#All],2,0)),\"\")","v":""}]
[null,null,null,null,null,null,null,null,null,null,null,{"$f":"_xlfn.IFNA(IF(J1669>500,\"ומעלה 500\",VLOOKUP(J1669,טבלה1[#All],2,0)),\"\")","v":""}]
[null,null,null,null,null,null,null,null,null,null,null,{"$f":"_xlfn.IFNA(IF(J1670>500,\"ומעלה 500\",VLOOKUP(J1670,טבלה1[#All],2,0)),\"\")","v":""}]
[null,null,null,null,null,null,null,null,null,null,null,{"$f":"_xlfn.IFNA(IF(J1671>500,\"ומעלה 500\",VLOOKUP(J1671,טבלה1[#All],2,0)),\"\")","v":""}]
[null,null,null,null,null,null,null,null,null,null,null,{"$f":"_xlfn.IFNA(IF(J1672>500,\"ומעלה 500\",VLOOKUP(J1672,טבלה1[#All],2,0)),\"\")","v":""}]
[null,null,null,null,null,null,null,null,null,null,null,{"$f":"_xlfn.IFNA(IF(J1673>500,\"ומעלה 500\",VLOOKUP(J1673,טבלה1[#All],2,0)),\"\")","v":""}]
[null,null,null,null,null,null,null,null,null,null,null,{"$f":"_xlfn.IFNA(IF(J1674>500,\"ומעלה 500\",VLOOKUP(J1674,טבלה1[#All],2,0)),\"\")","v":""}]
[null,null,null,null,null,null,null,null,null,null,null,{"$f":"_xlfn.IFNA(IF(J1675>500,\"ומעלה 500\",VLOOKUP(J1675,טבלה1[#All],2,0)),\"\")","v":""}]
[null,null,null,null,null,null,null,null,null,null,null,{"$f":"_xlfn.IFNA(IF(J1676>500,\"ומעלה 500\",VLOOKUP(J1676,טבלה1[#All],2,0)),\"\")","v":""}]
[null,null,null,null,null,null,null,null,null,null,null,{"$f":"_xlfn.IFNA(IF(J1677>500,\"ומעלה 500\",VLOOKUP(J1677,טבלה1[#All],2,0)),\"\")","v":""}]
[null,null,null,null,null,null,null,null,null,null,null,{"$f":"_xlfn.IFNA(IF(J1678>500,\"ומעלה 500\",VLOOKUP(J1678,טבלה1[#All],2,0)),\"\")","v":""}]
[null,null,null,null,null,null,null,null,null,null,null,{"$f":"_xlfn.IFNA(IF(J1679>500,\"ומעלה 500\",VLOOKUP(J1679,טבלה1[#All],2,0)),\"\")","v":""}]
[null,null,null,null,null,null,null,null,null,null,null,{"$f":"_xlfn.IFNA(IF(J1680>500,\"ומעלה 500\",VLOOKUP(J1680,טבלה1[#All],2,0)),\"\")","v":""}]
[null,null,null,null,null,null,null,null,null,null,null,{"$f":"_xlfn.IFNA(IF(J1681>500,\"ומעלה 500\",VLOOKUP(J1681,טבלה1[#All],2,0)),\"\")","v":""}]
[null,null,null,null,null,null,null,null,null,null,null,{"$f":"_xlfn.IFNA(IF(J1682>500,\"ומעלה 500\",VLOOKUP(J1682,טבלה1[#All],2,0)),\"\")","v":""}]
[null,null,null,null,null,null,null,null,null,null,null,{"$f":"_xlfn.IFNA(IF(J1683>500,\"ומעלה 500\",VLOOKUP(J1683,טבלה1[#All],2,0)),\"\")","v":""}]
[null,null,null,null,null,null,null,null,null,null,null,{"$f":"_xlfn.IFNA(IF(J1684>500,\"ומעלה 500\",VLOOKUP(J1684,טבלה1[#All],2,0)),\"\")","v":""}]
[null,null,null,null,null,null,null,null,null,null,null,{"$f":"_xlfn.IFNA(IF(J1685>500,\"ומעלה 500\",VLOOKUP(J1685,טבלה1[#All],2,0)),\"\")","v":""}]
[null,null,null,null,null,null,null,null,null,null,null,{"$f":"_xlfn.IFNA(IF(J1686>500,\"ומעלה 500\",VLOOKUP(J1686,טבלה1[#All],2,0)),\"\")","v":""}]
[null,null,null,null,null,null,null,null,null,null,null,{"$f":"_xlfn.IFNA(IF(J1687>500,\"ומעלה 500\",VLOOKUP(J1687,טבלה1[#All],2,0)),\"\")","v":""}]
[null,null,null,null,null,null,null,null,null,null,null,{"$f":"_xlfn.IFNA(IF(J1688>500,\"ומעלה 500\",VLOOKUP(J1688,טבלה1[#All],2,0)),\"\")","v":""}]
[null,null,null,null,null,null,null,null,null,null,null,{"$f":"_xlfn.IFNA(IF(J1689>500,\"ומעלה 500\",VLOOKUP(J1689,טבלה1[#All],2,0)),\"\")","v":""}]
[null,null,null,null,null,null,null,null,null,null,null,{"$f":"_xlfn.IFNA(IF(J1690>500,\"ומעלה 500\",VLOOKUP(J1690,טבלה1[#All],2,0)),\"\")","v":""}]
[null,null,null,null,null,null,null,null,null,null,null,{"$f":"_xlfn.IFNA(IF(J1691>500,\"ומעלה 500\",VLOOKUP(J1691,טבלה1[#All],2,0)),\"\")","v":""}]
[null,null,null,null,null,null,null,null,null,null,null,{"$f":"_xlfn.IFNA(IF(J1692>500,\"ומעלה 500\",VLOOKUP(J1692,טבלה1[#All],2,0)),\"\")","v":""}]
[null,null,null,null,null,null,null,null,null,null,null,{"$f":"_xlfn.IFNA(IF(J1693>500,\"ומעלה 500\",VLOOKUP(J1693,טבלה1[#All],2,0)),\"\")","v":""}]
[null,null,null,null,null,null,null,null,null,null,null,{"$f":"_xlfn.IFNA(IF(J1694>500,\"ומעלה 500\",VLOOKUP(J1694,טבלה1[#All],2,0)),\"\")","v":""}]
[null,null,null,null,null,null,null,null,null,null,null,{"$f":"_xlfn.IFNA(IF(J1695>500,\"ומעלה 500\",VLOOKUP(J1695,טבלה1[#All],2,0)),\"\")","v":""}]
[null,null,null,null,null,null,null,null,null,null,null,{"$f":"_xlfn.IFNA(IF(J1696>500,\"ומעלה 500\",VLOOKUP(J1696,טבלה1[#All],2,0)),\"\")","v":""}]
[null,null,null,null,null,null,null,null,null,null,null,{"$f":"_xlfn.IFNA(IF(J1697>500,\"ומעלה 500\",VLOOKUP(J1697,טבלה1[#All],2,0)),\"\")","v":""}]
[null,null,null,null,null,null,null,null,null,null,null,{"$f":"_xlfn.IFNA(IF(J1698>500,\"ומעלה 500\",VLOOKUP(J1698,טבלה1[#All],2,0)),\"\")","v":""}]
[null,null,null,null,null,null,null,null,null,null,null,{"$f":"_xlfn.IFNA(IF(J1699>500,\"ומעלה 500\",VLOOKUP(J1699,טבלה1[#All],2,0)),\"\")","v":""}]
[null,null,null,null,null,null,null,null,null,null,null,{"$f":"_xlfn.IFNA(IF(J1700>500,\"ומעלה 500\",VLOOKUP(J1700,טבלה1[#All],2,0)),\"\")","v":""}]
[null,null,null,null,null,null,null,null,null,null,null,{"$f":"_xlfn.IFNA(IF(J1701>500,\"ומעלה 500\",VLOOKUP(J1701,טבלה1[#All],2,0)),\"\")","v":""}]
[null,null,null,null,null,null,null,null,null,null,null,{"$f":"_xlfn.IFNA(IF(J1702>500,\"ומעלה 500\",VLOOKUP(J1702,טבלה1[#All],2,0)),\"\")","v":""}]
[null,null,null,null,null,null,null,null,null,null,null,{"$f":"_xlfn.IFNA(IF(J1703>500,\"ומעלה 500\",VLOOKUP(J1703,טבלה1[#All],2,0)),\"\")","v":""}]
[null,null,null,null,null,null,null,null,null,null,null,{"$f":"_xlfn.IFNA(IF(J1704>500,\"ומעלה 500\",VLOOKUP(J1704,טבלה1[#All],2,0)),\"\")","v":""}]
[null,null,null,null,null,null,null,null,null,null,null,{"$f":"_xlfn.IFNA(IF(J1705>500,\"ומעלה 500\",VLOOKUP(J1705,טבלה1[#All],2,0)),\"\")","v":""}]
[null,null,null,null,null,null,null,null,null,null,null,{"$f":"_xlfn.IFNA(IF(J1706>500,\"ומעלה 500\",VLOOKUP(J1706,טבלה1[#All],2,0)),\"\")","v":""}]
[null,null,null,null,null,null,null,null,null,null,null,{"$f":"_xlfn.IFNA(IF(J1707>500,\"ומעלה 500\",VLOOKUP(J1707,טבלה1[#All],2,0)),\"\")","v":""}]
[null,null,null,null,null,null,null,null,null,null,null,{"$f":"_xlfn.IFNA(IF(J1708>500,\"ומעלה 500\",VLOOKUP(J1708,טבלה1[#All],2,0)),\"\")","v":""}]
[null,null,null,null,null,null,null,null,null,null,null,{"$f":"_xlfn.IFNA(IF(J1709>500,\"ומעלה 500\",VLOOKUP(J1709,טבלה1[#All],2,0)),\"\")","v":""}]
[null,null,null,null,null,null,null,null,null,null,null,{"$f":"_xlfn.IFNA(IF(J1710>500,\"ומעלה 500\",VLOOKUP(J1710,טבלה1[#All],2,0)),\"\")","v":""}]
[null,null,null,null,null,null,null,null,null,null,null,{"$f":"_xlfn.IFNA(IF(J1711>500,\"ומעלה 500\",VLOOKUP(J1711,טבלה1[#All],2,0)),\"\")","v":""}]
[null,null,null,null,null,null,null,null,null,null,null,{"$f":"_xlfn.IFNA(IF(J1712>500,\"ומעלה 500\",VLOOKUP(J1712,טבלה1[#All],2,0)),\"\")","v":""}]
[null,null,null,null,null,null,null,null,null,null,null,{"$f":"_xlfn.IFNA(IF(J1713>500,\"ומעלה 500\",VLOOKUP(J1713,טבלה1[#All],2,0)),\"\")","v":""}]
[null,null,null,null,null,null,null,null,null,null,null,{"$f":"_xlfn.IFNA(IF(J1714>500,\"ומעלה 500\",VLOOKUP(J1714,טבלה1[#All],2,0)),\"\")","v":""}]
[null,null,null,null,null,null,null,null,null,null,null,{"$f":"_xlfn.IFNA(IF(J1715>500,\"ומעלה 500\",VLOOKUP(J1715,טבלה1[#All],2,0)),\"\")","v":""}]
[null,null,null,null,null,null,null,null,null,null,null,{"$f":"_xlfn.IFNA(IF(J1716>500,\"ומעלה 500\",VLOOKUP(J1716,טבלה1[#All],2,0)),\"\")","v":""}]
[null,null,null,null,null,null,null,null,null,null,null,{"$f":"_xlfn.IFNA(IF(J1717>500,\"ומעלה 500\",VLOOKUP(J1717,טבלה1[#All],2,0)),\"\")","v":""}]
[null,null,null,null,null,null,null,null,null,null,null,{"$f":"_xlfn.IFNA(IF(J1718>500,\"ומעלה 500\",VLOOKUP(J1718,טבלה1[#All],2,0)),\"\")","v":""}]
[null,null,null,null,null,null,null,null,null,null,null,{"$f":"_xlfn.IFNA(IF(J1719>500,\"ומעלה 500\",VLOOKUP(J1719,טבלה1[#All],2,0)),\"\")","v":""}]
[null,null,null,null,null,null,null,null,null,null,null,{"$f":"_xlfn.IFNA(IF(J1720>500,\"ומעלה 500\",VLOOKUP(J1720,טבלה1[#All],2,0)),\"\")","v":""}]
[null,null,null,null,null,null,null,null,null,null,null,{"$f":"_xlfn.IFNA(IF(J1721>500,\"ומעלה 500\",VLOOKUP(J1721,טבלה1[#All],2,0)),\"\")","v":""}]
[null,null,null,null,null,null,null,null,null,null,null,{"$f":"_xlfn.IFNA(IF(J1722>500,\"ומעלה 500\",VLOOKUP(J1722,טבלה1[#All],2,0)),\"\")","v":""}]
[null,null,null,null,null,null,null,null,null,null,null,{"$f":"_xlfn.IFNA(IF(J1723>500,\"ומעלה 500\",VLOOKUP(J1723,טבלה1[#All],2,0)),\"\")","v":""}]
[null,null,null,null,null,null,null,null,null,null,null,{"$f":"_xlfn.IFNA(IF(J1724>500,\"ומעלה 500\",VLOOKUP(J1724,טבלה1[#All],2,0)),\"\")","v":""}]
[null,null,null,null,null,null,null,null,null,null,null,{"$f":"_xlfn.IFNA(IF(J1725>500,\"ומעלה 500\",VLOOKUP(J1725,טבלה1[#All],2,0)),\"\")","v":""}]
[null,null,null,null,null,null,null,null,null,null,null,{"$f":"_xlfn.IFNA(IF(J1726>500,\"ומעלה 500\",VLOOKUP(J1726,טבלה1[#All],2,0)),\"\")","v":""}]
[null,null,null,null,null,null,null,null,null,null,null,{"$f":"_xlfn.IFNA(IF(J1727>500,\"ומעלה 500\",VLOOKUP(J1727,טבלה1[#All],2,0)),\"\")","v":""}]
[null,null,null,null,null,null,null,null,null,null,null,{"$f":"_xlfn.IFNA(IF(J1728>500,\"ומעלה 500\",VLOOKUP(J1728,טבלה1[#All],2,0)),\"\")","v":""}]
[null,null,null,null,null,null,null,null,null,null,null,{"$f":"_xlfn.IFNA(IF(J1729>500,\"ומעלה 500\",VLOOKUP(J1729,טבלה1[#All],2,0)),\"\")","v":""}]
[null,null,null,null,null,null,null,null,null,null,null,{"$f":"_xlfn.IFNA(IF(J1730>500,\"ומעלה 500\",VLOOKUP(J1730,טבלה1[#All],2,0)),\"\")","v":""}]
[null,null,null,null,null,null,null,null,null,null,null,{"$f":"_xlfn.IFNA(IF(J1731>500,\"ומעלה 500\",VLOOKUP(J1731,טבלה1[#All],2,0)),\"\")","v":""}]
[null,null,null,null,null,null,null,null,null,null,null,{"$f":"_xlfn.IFNA(IF(J1732>500,\"ומעלה 500\",VLOOKUP(J1732,טבלה1[#All],2,0)),\"\")","v":""}]
[null,null,null,null,null,null,null,null,null,null,null,{"$f":"_xlfn.IFNA(IF(J1733>500,\"ומעלה 500\",VLOOKUP(J1733,טבלה1[#All],2,0)),\"\")","v":""}]
[null,null,null,null,null,null,null,null,null,null,null,{"$f":"_xlfn.IFNA(IF(J1734>500,\"ומעלה 500\",VLOOKUP(J1734,טבלה1[#All],2,0)),\"\")","v":""}]
[null,null,null,null,null,null,null,null,null,null,null,{"$f":"_xlfn.IFNA(IF(J1735>500,\"ומעלה 500\",VLOOKUP(J1735,טבלה1[#All],2,0)),\"\")","v":""}]
[null,null,null,null,null,null,null,null,null,null,null,{"$f":"_xlfn.IFNA(IF(J1736>500,\"ומעלה 500\",VLOOKUP(J1736,טבלה1[#All],2,0)),\"\")","v":""}]
[null,null,null,null,null,null,null,null,null,null,null,{"$f":"_xlfn.IFNA(IF(J1737>500,\"ומעלה 500\",VLOOKUP(J1737,טבלה1[#All],2,0)),\"\")","v":""}]
[null,null,null,null,null,null,null,null,null,null,null,{"$f":"_xlfn.IFNA(IF(J1738>500,\"ומעלה 500\",VLOOKUP(J1738,טבלה1[#All],2,0)),\"\")","v":""}]
[null,null,null,null,null,null,null,null,null,null,null,{"$f":"_xlfn.IFNA(IF(J1739>500,\"ומעלה 500\",VLOOKUP(J1739,טבלה1[#All],2,0)),\"\")","v":""}]
[null,null,null,null,null,null,null,null,null,null,null,{"$f":"_xlfn.IFNA(IF(J1740>500,\"ומעלה 500\",VLOOKUP(J1740,טבלה1[#All],2,0)),\"\")","v":""}]
[null,null,null,null,null,null,null,null,null,null,null,{"$f":"_xlfn.IFNA(IF(J1741>500,\"ומעלה 500\",VLOOKUP(J1741,טבלה1[#All],2,0)),\"\")","v":""}]
[null,null,null,null,null,null,null,null,null,null,null,{"$f":"_xlfn.IFNA(IF(J1742>500,\"ומעלה 500\",VLOOKUP(J1742,טבלה1[#All],2,0)),\"\")","v":""}]
[null,null,null,null,null,null,null,null,null,null,null,{"$f":"_xlfn.IFNA(IF(J1743>500,\"ומעלה 500\",VLOOKUP(J1743,טבלה1[#All],2,0)),\"\")","v":""}]
[null,null,null,null,null,null,null,null,null,null,null,{"$f":"_xlfn.IFNA(IF(J1744>500,\"ומעלה 500\",VLOOKUP(J1744,טבלה1[#All],2,0)),\"\")","v":""}]
[null,null,null,null,null,null,null,null,null,null,null,{"$f":"_xlfn.IFNA(IF(J1745>500,\"ומעלה 500\",VLOOKUP(J1745,טבלה1[#All],2,0)),\"\")","v":""}]
[null,null,null,null,null,null,null,null,null,null,null,{"$f":"_xlfn.IFNA(IF(J1746>500,\"ומעלה 500\",VLOOKUP(J1746,טבלה1[#All],2,0)),\"\")","v":""}]
[null,null,null,null,null,null,null,null,null,null,null,{"$f":"_xlfn.IFNA(IF(J1747>500,\"ומעלה 500\",VLOOKUP(J1747,טבלה1[#All],2,0)),\"\")","v":""}]
[null,null,null,null,null,null,null,null,null,null,null,{"$f":"_xlfn.IFNA(IF(J1748>500,\"ומעלה 500\",VLOOKUP(J1748,טבלה1[#All],2,0)),\"\")","v":""}]
[null,null,null,null,null,null,null,null,null,null,null,{"$f":"_xlfn.IFNA(IF(J1749>500,\"ומעלה 500\",VLOOKUP(J1749,טבלה1[#All],2,0)),\"\")","v":""}]
[null,null,null,null,null,null,null,null,null,null,null,{"$f":"_xlfn.IFNA(IF(J1750>500,\"ומעלה 500\",VLOOKUP(J1750,טבלה1[#All],2,0)),\"\")","v":""}]
[null,null,null,null,null,null,null,null,null,null,null,{"$f":"_xlfn.IFNA(IF(J1751>500,\"ומעלה 500\",VLOOKUP(J1751,טבלה1[#All],2,0)),\"\")","v":""}]
[null,null,null,null,null,null,null,null,null,null,null,{"$f":"_xlfn.IFNA(IF(J1752>500,\"ומעלה 500\",VLOOKUP(J1752,טבלה1[#All],2,0)),\"\")","v":""}]
[null,null,null,null,null,null,null,null,null,null,null,{"$f":"_xlfn.IFNA(IF(J1753>500,\"ומעלה 500\",VLOOKUP(J1753,טבלה1[#All],2,0)),\"\")","v":""}]
[null,null,null,null,null,null,null,null,null,null,null,{"$f":"_xlfn.IFNA(IF(J1754>500,\"ומעלה 500\",VLOOKUP(J1754,טבלה1[#All],2,0)),\"\")","v":""}]
[null,null,null,null,null,null,null,null,null,null,null,{"$f":"_xlfn.IFNA(IF(J1755>500,\"ומעלה 500\",VLOOKUP(J1755,טבלה1[#All],2,0)),\"\")","v":""}]
[null,null,null,null,null,null,null,null,null,null,null,{"$f":"_xlfn.IFNA(IF(J1756>500,\"ומעלה 500\",VLOOKUP(J1756,טבלה1[#All],2,0)),\"\")","v":""}]
[null,null,null,null,null,null,null,null,null,null,null,{"$f":"_xlfn.IFNA(IF(J1757>500,\"ומעלה 500\",VLOOKUP(J1757,טבלה1[#All],2,0)),\"\")","v":""}]
[null,null,null,null,null,null,null,null,null,null,null,{"$f":"_xlfn.IFNA(IF(J1758>500,\"ומעלה 500\",VLOOKUP(J1758,טבלה1[#All],2,0)),\"\")","v":""}]
[null,null,null,null,null,null,null,null,null,null,null,{"$f":"_xlfn.IFNA(IF(J1759>500,\"ומעלה 500\",VLOOKUP(J1759,טבלה1[#All],2,0)),\"\")","v":""}]
[null,null,null,null,null,null,null,null,null,null,null,{"$f":"_xlfn.IFNA(IF(J1760>500,\"ומעלה 500\",VLOOKUP(J1760,טבלה1[#All],2,0)),\"\")","v":""}]
[null,null,null,null,null,null,null,null,null,null,null,{"$f":"_xlfn.IFNA(IF(J1761>500,\"ומעלה 500\",VLOOKUP(J1761,טבלה1[#All],2,0)),\"\")","v":""}]
[null,null,null,null,null,null,null,null,null,null,null,{"$f":"_xlfn.IFNA(IF(J1762>500,\"ומעלה 500\",VLOOKUP(J1762,טבלה1[#All],2,0)),\"\")","v":""}]
[null,null,null,null,null,null,null,null,null,null,null,{"$f":"_xlfn.IFNA(IF(J1763>500,\"ומעלה 500\",VLOOKUP(J1763,טבלה1[#All],2,0)),\"\")","v":""}]
[null,null,null,null,null,null,null,null,null,null,null,{"$f":"_xlfn.IFNA(IF(J1764>500,\"ומעלה 500\",VLOOKUP(J1764,טבלה1[#All],2,0)),\"\")","v":""}]
[null,null,null,null,null,null,null,null,null,null,null,{"$f":"_xlfn.IFNA(IF(J1765>500,\"ומעלה 500\",VLOOKUP(J1765,טבלה1[#All],2,0)),\"\")","v":""}]
[null,null,null,null,null,null,null,null,null,null,null,{"$f":"_xlfn.IFNA(IF(J1766>500,\"ומעלה 500\",VLOOKUP(J1766,טבלה1[#All],2,0)),\"\")","v":""}]
[null,null,null,null,null,null,null,null,null,null,null,{"$f":"_xlfn.IFNA(IF(J1767>500,\"ומעלה 500\",VLOOKUP(J1767,טבלה1[#All],2,0)),\"\")","v":""}]
[null,null,null,null,null,null,null,null,null,null,null,{"$f":"_xlfn.IFNA(IF(J1768>500,\"ומעלה 500\",VLOOKUP(J1768,טבלה1[#All],2,0)),\"\")","v":""}]
[null,null,null,null,null,null,null,null,null,null,null,{"$f":"_xlfn.IFNA(IF(J1769>500,\"ומעלה 500\",VLOOKUP(J1769,טבלה1[#All],2,0)),\"\")","v":""}]
[null,null,null,null,null,null,null,null,null,null,null,{"$f":"_xlfn.IFNA(IF(J1770>500,\"ומעלה 500\",VLOOKUP(J1770,טבלה1[#All],2,0)),\"\")","v":""}]
[null,null,null,null,null,null,null,null,null,null,null,{"$f":"_xlfn.IFNA(IF(J1771>500,\"ומעלה 500\",VLOOKUP(J1771,טבלה1[#All],2,0)),\"\")","v":""}]
[null,null,null,null,null,null,null,null,null,null,null,{"$f":"_xlfn.IFNA(IF(J1772>500,\"ומעלה 500\",VLOOKUP(J1772,טבלה1[#All],2,0)),\"\")","v":""}]
[null,null,null,null,null,null,null,null,null,null,null,{"$f":"_xlfn.IFNA(IF(J1773>500,\"ומעלה 500\",VLOOKUP(J1773,טבלה1[#All],2,0)),\"\")","v":""}]
[null,null,null,null,null,null,null,null,null,null,null,{"$f":"_xlfn.IFNA(IF(J1774>500,\"ומעלה 500\",VLOOKUP(J1774,טבלה1[#All],2,0)),\"\")","v":""}]
[null,null,null,null,null,null,null,null,null,null,null,{"$f":"_xlfn.IFNA(IF(J1775>500,\"ומעלה 500\",VLOOKUP(J1775,טבלה1[#All],2,0)),\"\")","v":""}]
[null,null,null,null,null,null,null,null,null,null,null,{"$f":"_xlfn.IFNA(IF(J1776>500,\"ומעלה 500\",VLOOKUP(J1776,טבלה1[#All],2,0)),\"\")","v":""}]
[null,null,null,null,null,null,null,null,null,null,null,{"$f":"_xlfn.IFNA(IF(J1777>500,\"ומעלה 500\",VLOOKUP(J1777,טבלה1[#All],2,0)),\"\")","v":""}]
[null,null,null,null,null,null,null,null,null,null,null,{"$f":"_xlfn.IFNA(IF(J1778>500,\"ומעלה 500\",VLOOKUP(J1778,טבלה1[#All],2,0)),\"\")","v":""}]
[null,null,null,null,null,null,null,null,null,null,null,{"$f":"_xlfn.IFNA(IF(J1779>500,\"ומעלה 500\",VLOOKUP(J1779,טבלה1[#All],2,0)),\"\")","v":""}]
[null,null,null,null,null,null,null,null,null,null,null,{"$f":"_xlfn.IFNA(IF(J1780>500,\"ומעלה 500\",VLOOKUP(J1780,טבלה1[#All],2,0)),\"\")","v":""}]
[null,null,null,null,null,null,null,null,null,null,null,{"$f":"_xlfn.IFNA(IF(J1781>500,\"ומעלה 500\",VLOOKUP(J1781,טבלה1[#All],2,0)),\"\")","v":""}]
[null,null,null,null,null,null,null,null,null,null,null,{"$f":"_xlfn.IFNA(IF(J1782>500,\"ומעלה 500\",VLOOKUP(J1782,טבלה1[#All],2,0)),\"\")","v":""}]
[null,null,null,null,null,null,null,null,null,null,null,{"$f":"_xlfn.IFNA(IF(J1783>500,\"ומעלה 500\",VLOOKUP(J1783,טבלה1[#All],2,0)),\"\")","v":""}]
[null,null,null,null,null,null,null,null,null,null,null,{"$f":"_xlfn.IFNA(IF(J1784>500,\"ומעלה 500\",VLOOKUP(J1784,טבלה1[#All],2,0)),\"\")","v":""}]
[null,null,null,null,null,null,null,null,null,null,null,{"$f":"_xlfn.IFNA(IF(J1785>500,\"ומעלה 500\",VLOOKUP(J1785,טבלה1[#All],2,0)),\"\")","v":""}]
[null,null,null,null,null,null,null,null,null,null,null,{"$f":"_xlfn.IFNA(IF(J1786>500,\"ומעלה 500\",VLOOKUP(J1786,טבלה1[#All],2,0)),\"\")","v":""}]
[null,null,null,null,null,null,null,null,null,null,null,{"$f":"_xlfn.IFNA(IF(J1787>500,\"ומעלה 500\",VLOOKUP(J1787,טבלה1[#All],2,0)),\"\")","v":""}]
[null,null,null,null,null,null,null,null,null,null,null,{"$f":"_xlfn.IFNA(IF(J1788>500,\"ומעלה 500\",VLOOKUP(J1788,טבלה1[#All],2,0)),\"\")","v":""}]
[null,null,null,null,null,null,null,null,null,null,null,{"$f":"_xlfn.IFNA(IF(J1789>500,\"ומעלה 500\",VLOOKUP(J1789,טבלה1[#All],2,0)),\"\")","v":""}]
[null,null,null,null,null,null,null,null,null,null,null,{"$f":"_xlfn.IFNA(IF(J1790>500,\"ומעלה 500\",VLOOKUP(J1790,טבלה1[#All],2,0)),\"\")","v":""}]
[null,null,null,null,null,null,null,null,null,null,null,{"$f":"_xlfn.IFNA(IF(J1791>500,\"ומעלה 500\",VLOOKUP(J1791,טבלה1[#All],2,0)),\"\")","v":""}]
[null,null,null,null,null,null,null,null,null,null,null,{"$f":"_xlfn.IFNA(IF(J1792>500,\"ומעלה 500\",VLOOKUP(J1792,טבלה1[#All],2,0)),\"\")","v":""}]
[null,null,null,null,null,null,null,null,null,null,null,{"$f":"_xlfn.IFNA(IF(J1793>500,\"ומעלה 500\",VLOOKUP(J1793,טבלה1[#All],2,0)),\"\")","v":""}]
[null,null,null,null,null,null,null,null,null,null,null,{"$f":"_xlfn.IFNA(IF(J1794>500,\"ומעלה 500\",VLOOKUP(J1794,טבלה1[#All],2,0)),\"\")","v":""}]
[null,null,null,null,null,null,null,null,null,null,null,{"$f":"_xlfn.IFNA(IF(J1795>500,\"ומעלה 500\",VLOOKUP(J1795,טבלה1[#All],2,0)),\"\")","v":""}]
[null,null,null,null,null,null,null,null,null,null,null,{"$f":"_xlfn.IFNA(IF(J1796>500,\"ומעלה 500\",VLOOKUP(J1796,טבלה1[#All],2,0)),\"\")","v":""}]
[null,null,null,null,null,null,null,null,null,null,null,{"$f":"_xlfn.IFNA(IF(J1797>500,\"ומעלה 500\",VLOOKUP(J1797,טבלה1[#All],2,0)),\"\")","v":""}]
[null,null,null,null,null,null,null,null,null,null,null,{"$f":"_xlfn.IFNA(IF(J1798>500,\"ומעלה 500\",VLOOKUP(J1798,טבלה1[#All],2,0)),\"\")","v":""}]
[null,null,null,null,null,null,null,null,null,null,null,{"$f":"_xlfn.IFNA(IF(J1799>500,\"ומעלה 500\",VLOOKUP(J1799,טבלה1[#All],2,0)),\"\")","v":""}]
[null,null,null,null,null,null,null,null,null,null,null,{"$f":"_xlfn.IFNA(IF(J1800>500,\"ומעלה 500\",VLOOKUP(J1800,טבלה1[#All],2,0)),\"\")","v":""}]
[null,null,null,null,null,null,null,null,null,null,null,{"$f":"_xlfn.IFNA(IF(J1801>500,\"ומעלה 500\",VLOOKUP(J1801,טבלה1[#All],2,0)),\"\")","v":""}]
[null,null,null,null,null,null,null,null,null,null,null,{"$f":"_xlfn.IFNA(IF(J1802>500,\"ומעלה 500\",VLOOKUP(J1802,טבלה1[#All],2,0)),\"\")","v":""}]
[null,null,null,null,null,null,null,null,null,null,null,{"$f":"_xlfn.IFNA(IF(J1803>500,\"ומעלה 500\",VLOOKUP(J1803,טבלה1[#All],2,0)),\"\")","v":""}]
[null,null,null,null,null,null,null,null,null,null,null,{"$f":"_xlfn.IFNA(IF(J1804>500,\"ומעלה 500\",VLOOKUP(J1804,טבלה1[#All],2,0)),\"\")","v":""}]
[null,null,null,null,null,null,null,null,null,null,null,{"$f":"_xlfn.IFNA(IF(J1805>500,\"ומעלה 500\",VLOOKUP(J1805,טבלה1[#All],2,0)),\"\")","v":""}]
[null,null,null,null,null,null,null,null,null,null,null,{"$f":"_xlfn.IFNA(IF(J1806>500,\"ומעלה 500\",VLOOKUP(J1806,טבלה1[#All],2,0)),\"\")","v":""}]
[null,null,null,null,null,null,null,null,null,null,null,{"$f":"_xlfn.IFNA(IF(J1807>500,\"ומעלה 500\",VLOOKUP(J1807,טבלה1[#All],2,0)),\"\")","v":""}]
[null,null,null,null,null,null,null,null,null,null,null,{"$f":"_xlfn.IFNA(IF(J1808>500,\"ומעלה 500\",VLOOKUP(J1808,טבלה1[#All],2,0)),\"\")","v":""}]
[null,null,null,null,null,null,null,null,null,null,null,{"$f":"_xlfn.IFNA(IF(J1809>500,\"ומעלה 500\",VLOOKUP(J1809,טבלה1[#All],2,0)),\"\")","v":""}]
[null,null,null,null,null,null,null,null,null,null,null,{"$f":"_xlfn.IFNA(IF(J1810>500,\"ומעלה 500\",VLOOKUP(J1810,טבלה1[#All],2,0)),\"\")","v":""}]
[null,null,null,null,null,null,null,null,null,null,null,{"$f":"_xlfn.IFNA(IF(J1811>500,\"ומעלה 500\",VLOOKUP(J1811,טבלה1[#All],2,0)),\"\")","v":""}]
[null,null,null,null,null,null,null,null,null,null,null,{"$f":"_xlfn.IFNA(IF(J1812>500,\"ומעלה 500\",VLOOKUP(J1812,טבלה1[#All],2,0)),\"\")","v":""}]
[null,null,null,null,null,null,null,null,null,null,null,{"$f":"_xlfn.IFNA(IF(J1813>500,\"ומעלה 500\",VLOOKUP(J1813,טבלה1[#All],2,0)),\"\")","v":""}]
[null,null,null,null,null,null,null,null,null,null,null,{"$f":"_xlfn.IFNA(IF(J1814>500,\"ומעלה 500\",VLOOKUP(J1814,טבלה1[#All],2,0)),\"\")","v":""}]
[null,null,null,null,null,null,null,null,null,null,null,{"$f":"_xlfn.IFNA(IF(J1815>500,\"ומעלה 500\",VLOOKUP(J1815,טבלה1[#All],2,0)),\"\")","v":""}]
[null,null,null,null,null,null,null,null,null,null,null,{"$f":"_xlfn.IFNA(IF(J1816>500,\"ומעלה 500\",VLOOKUP(J1816,טבלה1[#All],2,0)),\"\")","v":""}]
[null,null,null,null,null,null,null,null,null,null,null,{"$f":"_xlfn.IFNA(IF(J1817>500,\"ומעלה 500\",VLOOKUP(J1817,טבלה1[#All],2,0)),\"\")","v":""}]
[null,null,null,null,null,null,null,null,null,null,null,{"$f":"_xlfn.IFNA(IF(J1818>500,\"ומעלה 500\",VLOOKUP(J1818,טבלה1[#All],2,0)),\"\")","v":""}]
[null,null,null,null,null,null,null,null,null,null,null,{"$f":"_xlfn.IFNA(IF(J1819>500,\"ומעלה 500\",VLOOKUP(J1819,טבלה1[#All],2,0)),\"\")","v":""}]
[null,null,null,null,null,null,null,null,null,null,null,{"$f":"_xlfn.IFNA(IF(J1820>500,\"ומעלה 500\",VLOOKUP(J1820,טבלה1[#All],2,0)),\"\")","v":""}]
[null,null,null,null,null,null,null,null,null,null,null,{"$f":"_xlfn.IFNA(IF(J1821>500,\"ומעלה 500\",VLOOKUP(J1821,טבלה1[#All],2,0)),\"\")","v":""}]
[null,null,null,null,null,null,null,null,null,null,null,{"$f":"_xlfn.IFNA(IF(J1822>500,\"ומעלה 500\",VLOOKUP(J1822,טבלה1[#All],2,0)),\"\")","v":""}]
[null,null,null,null,null,null,null,null,null,null,null,{"$f":"_xlfn.IFNA(IF(J1823>500,\"ומעלה 500\",VLOOKUP(J1823,טבלה1[#All],2,0)),\"\")","v":""}]
[null,null,null,null,null,null,null,null,null,null,null,{"$f":"_xlfn.IFNA(IF(J1824>500,\"ומעלה 500\",VLOOKUP(J1824,טבלה1[#All],2,0)),\"\")","v":""}]
[null,null,null,null,null,null,null,null,null,null,null,{"$f":"_xlfn.IFNA(IF(J1825>500,\"ומעלה 500\",VLOOKUP(J1825,טבלה1[#All],2,0)),\"\")","v":""}]
[null,null,null,null,null,null,null,null,null,null,null,{"$f":"_xlfn.IFNA(IF(J1826>500,\"ומעלה 500\",VLOOKUP(J1826,טבלה1[#All],2,0)),\"\")","v":""}]
[null,null,null,null,null,null,null,null,null,null,null,{"$f":"_xlfn.IFNA(IF(J1827>500,\"ומעלה 500\",VLOOKUP(J1827,טבלה1[#All],2,0)),\"\")","v":""}]
[null,null,null,null,null,null,null,null,null,null,null,{"$f":"_xlfn.IFNA(IF(J1828>500,\"ומעלה 500\",VLOOKUP(J1828,טבלה1[#All],2,0)),\"\")","v":""}]
[null,null,null,null,null,null,null,null,null,null,null,{"$f":"_xlfn.IFNA(IF(J1829>500,\"ומעלה 500\",VLOOKUP(J1829,טבלה1[#All],2,0)),\"\")","v":""}]
[null,null,null,null,null,null,null,null,null,null,null,{"$f":"_xlfn.IFNA(IF(J1830>500,\"ומעלה 500\",VLOOKUP(J1830,טבלה1[#All],2,0)),\"\")","v":""}]
[null,null,null,null,null,null,null,null,null,null,null,{"$f":"_xlfn.IFNA(IF(J1831>500,\"ומעלה 500\",VLOOKUP(J1831,טבלה1[#All],2,0)),\"\")","v":""}]
[null,null,null,null,null,null,null,null,null,null,null,{"$f":"_xlfn.IFNA(IF(J1832>500,\"ומעלה 500\",VLOOKUP(J1832,טבלה1[#All],2,0)),\"\")","v":""}]
[null,null,null,null,null,null,null,null,null,null,null,{"$f":"_xlfn.IFNA(IF(J1833>500,\"ומעלה 500\",VLOOKUP(J1833,טבלה1[#All],2,0)),\"\")","v":""}]
[null,null,null,null,null,null,null,null,null,null,null,{"$f":"_xlfn.IFNA(IF(J1834>500,\"ומעלה 500\",VLOOKUP(J1834,טבלה1[#All],2,0)),\"\")","v":""}]
[null,null,null,null,null,null,null,null,null,null,null,{"$f":"_xlfn.IFNA(IF(J1835>500,\"ומעלה 500\",VLOOKUP(J1835,טבלה1[#All],2,0)),\"\")","v":""}]
[null,null,null,null,null,null,null,null,null,null,null,{"$f":"_xlfn.IFNA(IF(J1836>500,\"ומעלה 500\",VLOOKUP(J1836,טבלה1[#All],2,0)),\"\")","v":""}]
[null,null,null,null,null,null,null,null,null,null,null,{"$f":"_xlfn.IFNA(IF(J1837>500,\"ומעלה 500\",VLOOKUP(J1837,טבלה1[#All],2,0)),\"\")","v":""}]
[null,null,null,null,null,null,null,null,null,null,null,{"$f":"_xlfn.IFNA(IF(J1838>500,\"ומעלה 500\",VLOOKUP(J1838,טבלה1[#All],2,0)),\"\")","v":""}]
[null,null,null,null,null,null,null,null,null,null,null,{"$f":"_xlfn.IFNA(IF(J1839>500,\"ומעלה 500\",VLOOKUP(J1839,טבלה1[#All],2,0)),\"\")","v":""}]
[null,null,null,null,null,null,null,null,null,null,null,{"$f":"_xlfn.IFNA(IF(J1840>500,\"ומעלה 500\",VLOOKUP(J1840,טבלה1[#All],2,0)),\"\")","v":""}]
[null,null,null,null,null,null,null,null,null,null,null,{"$f":"_xlfn.IFNA(IF(J1841>500,\"ומעלה 500\",VLOOKUP(J1841,טבלה1[#All],2,0)),\"\")","v":""}]
[null,null,null,null,null,null,null,null,null,null,null,{"$f":"_xlfn.IFNA(IF(J1842>500,\"ומעלה 500\",VLOOKUP(J1842,טבלה1[#All],2,0)),\"\")","v":""}]
[null,null,null,null,null,null,null,null,null,null,null,{"$f":"_xlfn.IFNA(IF(J1843>500,\"ומעלה 500\",VLOOKUP(J1843,טבלה1[#All],2,0)),\"\")","v":""}]
[null,null,null,null,null,null,null,null,null,null,null,{"$f":"_xlfn.IFNA(IF(J1844>500,\"ומעלה 500\",VLOOKUP(J1844,טבלה1[#All],2,0)),\"\")","v":""}]
[null,null,null,null,null,null,null,null,null,null,null,{"$f":"_xlfn.IFNA(IF(J1845>500,\"ומעלה 500\",VLOOKUP(J1845,טבלה1[#All],2,0)),\"\")","v":""}]
[null,null,null,null,null,null,null,null,null,null,null,{"$f":"_xlfn.IFNA(IF(J1846>500,\"ומעלה 500\",VLOOKUP(J1846,טבלה1[#All],2,0)),\"\")","v":""}]
[null,null,null,null,null,null,null,null,null,null,null,{"$f":"_xlfn.IFNA(IF(J1847>500,\"ומעלה 500\",VLOOKUP(J1847,טבלה1[#All],2,0)),\"\")","v":""}]
[null,null,null,null,null,null,null,null,null,null,null,{"$f":"_xlfn.IFNA(IF(J1848>500,\"ומעלה 500\",VLOOKUP(J1848,טבלה1[#All],2,0)),\"\")","v":""}]
[null,null,null,null,null,null,null,null,null,null,null,{"$f":"_xlfn.IFNA(IF(J1849>500,\"ומעלה 500\",VLOOKUP(J1849,טבלה1[#All],2,0)),\"\")","v":""}]
[null,null,null,null,null,null,null,null,null,null,null,{"$f":"_xlfn.IFNA(IF(J1850>500,\"ומעלה 500\",VLOOKUP(J1850,טבלה1[#All],2,0)),\"\")","v":""}]
[null,null,null,null,null,null,null,null,null,null,null,{"$f":"_xlfn.IFNA(IF(J1851>500,\"ומעלה 500\",VLOOKUP(J1851,טבלה1[#All],2,0)),\"\")","v":""}]
[null,null,null,null,null,null,null,null,null,null,null,{"$f":"_xlfn.IFNA(IF(J1852>500,\"ומעלה 500\",VLOOKUP(J1852,טבלה1[#All],2,0)),\"\")","v":""}]
[null,null,null,null,null,null,null,null,null,null,null,{"$f":"_xlfn.IFNA(IF(J1853>500,\"ומעלה 500\",VLOOKUP(J1853,טבלה1[#All],2,0)),\"\")","v":""}]
[null,null,null,null,null,null,null,null,null,null,null,{"$f":"_xlfn.IFNA(IF(J1854>500,\"ומעלה 500\",VLOOKUP(J1854,טבלה1[#All],2,0)),\"\")","v":""}]
[null,null,null,null,null,null,null,null,null,null,null,{"$f":"_xlfn.IFNA(IF(J1855>500,\"ומעלה 500\",VLOOKUP(J1855,טבלה1[#All],2,0)),\"\")","v":""}]
[null,null,null,null,null,null,null,null,null,null,null,{"$f":"_xlfn.IFNA(IF(J1856>500,\"ומעלה 500\",VLOOKUP(J1856,טבלה1[#All],2,0)),\"\")","v":""}]
[null,null,null,null,null,null,null,null,null,null,null,{"$f":"_xlfn.IFNA(IF(J1857>500,\"ומעלה 500\",VLOOKUP(J1857,טבלה1[#All],2,0)),\"\")","v":""}]
[null,null,null,null,null,null,null,null,null,null,null,{"$f":"_xlfn.IFNA(IF(J1858>500,\"ומעלה 500\",VLOOKUP(J1858,טבלה1[#All],2,0)),\"\")","v":""}]
[null,null,null,null,null,null,null,null,null,null,null,{"$f":"_xlfn.IFNA(IF(J1859>500,\"ומעלה 500\",VLOOKUP(J1859,טבלה1[#All],2,0)),\"\")","v":""}]
[null,null,null,null,null,null,null,null,null,null,null,{"$f":"_xlfn.IFNA(IF(J1860>500,\"ומעלה 500\",VLOOKUP(J1860,טבלה1[#All],2,0)),\"\")","v":""}]
[null,null,null,null,null,null,null,null,null,null,null,{"$f":"_xlfn.IFNA(IF(J1861>500,\"ומעלה 500\",VLOOKUP(J1861,טבלה1[#All],2,0)),\"\")","v":""}]
[null,null,null,null,null,null,null,null,null,null,null,{"$f":"_xlfn.IFNA(IF(J1862>500,\"ומעלה 500\",VLOOKUP(J1862,טבלה1[#All],2,0)),\"\")","v":""}]
[null,null,null,null,null,null,null,null,null,null,null,{"$f":"_xlfn.IFNA(IF(J1863>500,\"ומעלה 500\",VLOOKUP(J1863,טבלה1[#All],2,0)),\"\")","v":""}]
[null,null,null,null,null,null,null,null,null,null,null,{"$f":"_xlfn.IFNA(IF(J1864>500,\"ומעלה 500\",VLOOKUP(J1864,טבלה1[#All],2,0)),\"\")","v":""}]
[null,null,null,null,null,null,null,null,null,null,null,{"$f":"_xlfn.IFNA(IF(J1865>500,\"ומעלה 500\",VLOOKUP(J1865,טבלה1[#All],2,0)),\"\")","v":""}]
[null,null,null,null,null,null,null,null,null,null,null,{"$f":"_xlfn.IFNA(IF(J1866>500,\"ומעלה 500\",VLOOKUP(J1866,טבלה1[#All],2,0)),\"\")","v":""}]
[null,null,null,null,null,null,null,null,null,null,null,{"$f":"_xlfn.IFNA(IF(J1867>500,\"ומעלה 500\",VLOOKUP(J1867,טבלה1[#All],2,0)),\"\")","v":""}]
[null,null,null,null,null,null,null,null,null,null,null,{"$f":"_xlfn.IFNA(IF(J1868>500,\"ומעלה 500\",VLOOKUP(J1868,טבלה1[#All],2,0)),\"\")","v":""}]
[null,null,null,null,null,null,null,null,null,null,null,{"$f":"_xlfn.IFNA(IF(J1869>500,\"ומעלה 500\",VLOOKUP(J1869,טבלה1[#All],2,0)),\"\")","v":""}]
[null,null,null,null,null,null,null,null,null,null,null,{"$f":"_xlfn.IFNA(IF(J1870>500,\"ומעלה 500\",VLOOKUP(J1870,טבלה1[#All],2,0)),\"\")","v":""}]
[null,null,null,null,null,null,null,null,null,null,null,{"$f":"_xlfn.IFNA(IF(J1871>500,\"ומעלה 500\",VLOOKUP(J1871,טבלה1[#All],2,0)),\"\")","v":""}]
[null,null,null,null,null,null,null,null,null,null,null,{"$f":"_xlfn.IFNA(IF(J1872>500,\"ומעלה 500\",VLOOKUP(J1872,טבלה1[#All],2,0)),\"\")","v":""}]
[null,null,null,null,null,null,null,null,null,null,null,{"$f":"_xlfn.IFNA(IF(J1873>500,\"ומעלה 500\",VLOOKUP(J1873,טבלה1[#All],2,0)),\"\")","v":""}]
[null,null,null,null,null,null,null,null,null,null,null,{"$f":"_xlfn.IFNA(IF(J1874>500,\"ומעלה 500\",VLOOKUP(J1874,טבלה1[#All],2,0)),\"\")","v":""}]
[null,null,null,null,null,null,null,null,null,null,null,{"$f":"_xlfn.IFNA(IF(J1875>500,\"ומעלה 500\",VLOOKUP(J1875,טבלה1[#All],2,0)),\"\")","v":""}]
[null,null,null,null,null,null,null,null,null,null,null,{"$f":"_xlfn.IFNA(IF(J1876>500,\"ומעלה 500\",VLOOKUP(J1876,טבלה1[#All],2,0)),\"\")","v":""}]
[null,null,null,null,null,null,null,null,null,null,null,{"$f":"_xlfn.IFNA(IF(J1877>500,\"ומעלה 500\",VLOOKUP(J1877,טבלה1[#All],2,0)),\"\")","v":""}]
[null,null,null,null,null,null,null,null,null,null,null,{"$f":"_xlfn.IFNA(IF(J1878>500,\"ומעלה 500\",VLOOKUP(J1878,טבלה1[#All],2,0)),\"\")","v":""}]
[null,null,null,null,null,null,null,null,null,null,null,{"$f":"_xlfn.IFNA(IF(J1879>500,\"ומעלה 500\",VLOOKUP(J1879,טבלה1[#All],2,0)),\"\")","v":""}]
[null,null,null,null,null,null,null,null,null,null,null,{"$f":"_xlfn.IFNA(IF(J1880>500,\"ומעלה 500\",VLOOKUP(J1880,טבלה1[#All],2,0)),\"\")","v":""}]
[null,null,null,null,null,null,null,null,null,null,null,{"$f":"_xlfn.IFNA(IF(J1881>500,\"ומעלה 500\",VLOOKUP(J1881,טבלה1[#All],2,0)),\"\")","v":""}]
[null,null,null,null,null,null,null,null,null,null,null,{"$f":"_xlfn.IFNA(IF(J1882>500,\"ומעלה 500\",VLOOKUP(J1882,טבלה1[#All],2,0)),\"\")","v":""}]
[null,null,null,null,null,null,null,null,null,null,null,{"$f":"_xlfn.IFNA(IF(J1883>500,\"ומעלה 500\",VLOOKUP(J1883,טבלה1[#All],2,0)),\"\")","v":""}]
[null,null,null,null,null,null,null,null,null,null,null,{"$f":"_xlfn.IFNA(IF(J1884>500,\"ומעלה 500\",VLOOKUP(J1884,טבלה1[#All],2,0)),\"\")","v":""}]
[null,null,null,null,null,null,null,null,null,null,null,{"$f":"_xlfn.IFNA(IF(J1885>500,\"ומעלה 500\",VLOOKUP(J1885,טבלה1[#All],2,0)),\"\")","v":""}]
[null,null,null,null,null,null,null,null,null,null,null,{"$f":"_xlfn.IFNA(IF(J1886>500,\"ומעלה 500\",VLOOKUP(J1886,טבלה1[#All],2,0)),\"\")","v":""}]
[null,null,null,null,null,null,null,null,null,null,null,{"$f":"_xlfn.IFNA(IF(J1887>500,\"ומעלה 500\",VLOOKUP(J1887,טבלה1[#All],2,0)),\"\")","v":""}]
[null,null,null,null,null,null,null,null,null,null,null,{"$f":"_xlfn.IFNA(IF(J1888>500,\"ומעלה 500\",VLOOKUP(J1888,טבלה1[#All],2,0)),\"\")","v":""}]
[null,null,null,null,null,null,null,null,null,null,null,{"$f":"_xlfn.IFNA(IF(J1889>500,\"ומעלה 500\",VLOOKUP(J1889,טבלה1[#All],2,0)),\"\")","v":""}]
[null,null,null,null,null,null,null,null,null,null,null,{"$f":"_xlfn.IFNA(IF(J1890>500,\"ומעלה 500\",VLOOKUP(J1890,טבלה1[#All],2,0)),\"\")","v":""}]
[null,null,null,null,null,null,null,null,null,null,null,{"$f":"_xlfn.IFNA(IF(J1891>500,\"ומעלה 500\",VLOOKUP(J1891,טבלה1[#All],2,0)),\"\")","v":""}]
[null,null,null,null,null,null,null,null,null,null,null,{"$f":"_xlfn.IFNA(IF(J1892>500,\"ומעלה 500\",VLOOKUP(J1892,טבלה1[#All],2,0)),\"\")","v":""}]
[null,null,null,null,null,null,null,null,null,null,null,{"$f":"_xlfn.IFNA(IF(J1893>500,\"ומעלה 500\",VLOOKUP(J1893,טבלה1[#All],2,0)),\"\")","v":""}]
[null,null,null,null,null,null,null,null,null,null,null,{"$f":"_xlfn.IFNA(IF(J1894>500,\"ומעלה 500\",VLOOKUP(J1894,טבלה1[#All],2,0)),\"\")","v":""}]
[null,null,null,null,null,null,null,null,null,null,null,{"$f":"_xlfn.IFNA(IF(J1895>500,\"ומעלה 500\",VLOOKUP(J1895,טבלה1[#All],2,0)),\"\")","v":""}]
[null,null,null,null,null,null,null,null,null,null,null,{"$f":"_xlfn.IFNA(IF(J1896>500,\"ומעלה 500\",VLOOKUP(J1896,טבלה1[#All],2,0)),\"\")","v":""}]
[null,null,null,null,null,null,null,null,null,null,null,{"$f":"_xlfn.IFNA(IF(J1897>500,\"ומעלה 500\",VLOOKUP(J1897,טבלה1[#All],2,0)),\"\")","v":""}]
[null,null,null,null,null,null,null,null,null,null,null,{"$f":"_xlfn.IFNA(IF(J1898>500,\"ומעלה 500\",VLOOKUP(J1898,טבלה1[#All],2,0)),\"\")","v":""}]
[null,null,null,null,null,null,null,null,null,null,null,{"$f":"_xlfn.IFNA(IF(J1899>500,\"ומעלה 500\",VLOOKUP(J1899,טבלה1[#All],2,0)),\"\")","v":""}]
[null,null,null,null,null,null,null,null,null,null,null,{"$f":"_xlfn.IFNA(IF(J1900>500,\"ומעלה 500\",VLOOKUP(J1900,טבלה1[#All],2,0)),\"\")","v":""}]
[null,null,null,null,null,null,null,null,null,null,null,{"$f":"_xlfn.IFNA(IF(J1901>500,\"ומעלה 500\",VLOOKUP(J1901,טבלה1[#All],2,0)),\"\")","v":""}]
[null,null,null,null,null,null,null,null,null,null,null,{"$f":"_xlfn.IFNA(IF(J1902>500,\"ומעלה 500\",VLOOKUP(J1902,טבלה1[#All],2,0)),\"\")","v":""}]
[null,null,null,null,null,null,null,null,null,null,null,{"$f":"_xlfn.IFNA(IF(J1903>500,\"ומעלה 500\",VLOOKUP(J1903,טבלה1[#All],2,0)),\"\")","v":""}]
[null,null,null,null,null,null,null,null,null,null,null,{"$f":"_xlfn.IFNA(IF(J1904>500,\"ומעלה 500\",VLOOKUP(J1904,טבלה1[#All],2,0)),\"\")","v":""}]
[null,null,null,null,null,null,null,null,null,null,null,{"$f":"_xlfn.IFNA(IF(J1905>500,\"ומעלה 500\",VLOOKUP(J1905,טבלה1[#All],2,0)),\"\")","v":""}]
[null,null,null,null,null,null,null,null,null,null,null,{"$f":"_xlfn.IFNA(IF(J1906>500,\"ומעלה 500\",VLOOKUP(J1906,טבלה1[#All],2,0)),\"\")","v":""}]
[null,null,null,null,null,null,null,null,null,null,null,{"$f":"_xlfn.IFNA(IF(J1907>500,\"ומעלה 500\",VLOOKUP(J1907,טבלה1[#All],2,0)),\"\")","v":""}]
[null,null,null,null,null,null,null,null,null,null,null,{"$f":"_xlfn.IFNA(IF(J1908>500,\"ומעלה 500\",VLOOKUP(J1908,טבלה1[#All],2,0)),\"\")","v":""}]
[null,null,null,null,null,null,null,null,null,null,null,{"$f":"_xlfn.IFNA(IF(J1909>500,\"ומעלה 500\",VLOOKUP(J1909,טבלה1[#All],2,0)),\"\")","v":""}]
[null,null,null,null,null,null,null,null,null,null,null,{"$f":"_xlfn.IFNA(IF(J1910>500,\"ומעלה 500\",VLOOKUP(J1910,טבלה1[#All],2,0)),\"\")","v":""}]
[null,null,null,null,null,null,null,null,null,null,null,{"$f":"_xlfn.IFNA(IF(J1911>500,\"ומעלה 500\",VLOOKUP(J1911,טבלה1[#All],2,0)),\"\")","v":""}]
[null,null,null,null,null,null,null,null,null,null,null,{"$f":"_xlfn.IFNA(IF(J1912>500,\"ומעלה 500\",VLOOKUP(J1912,טבלה1[#All],2,0)),\"\")","v":""}]
[null,null,null,null,null,null,null,null,null,null,null,{"$f":"_xlfn.IFNA(IF(J1913>500,\"ומעלה 500\",VLOOKUP(J1913,טבלה1[#All],2,0)),\"\")","v":""}]
[null,null,null,null,null,null,null,null,null,null,null,{"$f":"_xlfn.IFNA(IF(J1914>500,\"ומעלה 500\",VLOOKUP(J1914,טבלה1[#All],2,0)),\"\")","v":""}]
[null,null,null,null,null,null,null,null,null,null,null,{"$f":"_xlfn.IFNA(IF(J1915>500,\"ומעלה 500\",VLOOKUP(J1915,טבלה1[#All],2,0)),\"\")","v":""}]
[null,null,null,null,null,null,null,null,null,null,null,{"$f":"_xlfn.IFNA(IF(J1916>500,\"ומעלה 500\",VLOOKUP(J1916,טבלה1[#All],2,0)),\"\")","v":""}]
[null,null,null,null,null,null,null,null,null,null,null,{"$f":"_xlfn.IFNA(IF(J1917>500,\"ומעלה 500\",VLOOKUP(J1917,טבלה1[#All],2,0)),\"\")","v":""}]
[null,null,null,null,null,null,null,null,null,null,null,{"$f":"_xlfn.IFNA(IF(J1918>500,\"ומעלה 500\",VLOOKUP(J1918,טבלה1[#All],2,0)),\"\")","v":""}]
[null,null,null,null,null,null,null,null,null,null,null,{"$f":"_xlfn.IFNA(IF(J1919>500,\"ומעלה 500\",VLOOKUP(J1919,טבלה1[#All],2,0)),\"\")","v":""}]
[null,null,null,null,null,null,null,null,null,null,null,{"$f":"_xlfn.IFNA(IF(J1920>500,\"ומעלה 500\",VLOOKUP(J1920,טבלה1[#All],2,0)),\"\")","v":""}]
[null,null,null,null,null,null,null,null,null,null,null,{"$f":"_xlfn.IFNA(IF(J1921>500,\"ומעלה 500\",VLOOKUP(J1921,טבלה1[#All],2,0)),\"\")","v":""}]
[null,null,null,null,null,null,null,null,null,null,null,{"$f":"_xlfn.IFNA(IF(J1922>500,\"ומעלה 500\",VLOOKUP(J1922,טבלה1[#All],2,0)),\"\")","v":""}]
[null,null,null,null,null,null,null,null,null,null,null,{"$f":"_xlfn.IFNA(IF(J1923>500,\"ומעלה 500\",VLOOKUP(J1923,טבלה1[#All],2,0)),\"\")","v":""}]
[null,null,null,null,null,null,null,null,null,null,null,{"$f":"_xlfn.IFNA(IF(J1924>500,\"ומעלה 500\",VLOOKUP(J1924,טבלה1[#All],2,0)),\"\")","v":""}]
[null,null,null,null,null,null,null,null,null,null,null,{"$f":"_xlfn.IFNA(IF(J1925>500,\"ומעלה 500\",VLOOKUP(J1925,טבלה1[#All],2,0)),\"\")","v":""}]
[null,null,null,null,null,null,null,null,null,null,null,{"$f":"_xlfn.IFNA(IF(J1926>500,\"ומעלה 500\",VLOOKUP(J1926,טבלה1[#All],2,0)),\"\")","v":""}]
[null,null,null,null,null,null,null,null,null,null,null,{"$f":"_xlfn.IFNA(IF(J1927>500,\"ומעלה 500\",VLOOKUP(J1927,טבלה1[#All],2,0)),\"\")","v":""}]
[null,null,null,null,null,null,null,null,null,null,null,{"$f":"_xlfn.IFNA(IF(J1928>500,\"ומעלה 500\",VLOOKUP(J1928,טבלה1[#All],2,0)),\"\")","v":""}]
[null,null,null,null,null,null,null,null,null,null,null,{"$f":"_xlfn.IFNA(IF(J1929>500,\"ומעלה 500\",VLOOKUP(J1929,טבלה1[#All],2,0)),\"\")","v":""}]
[null,null,null,null,null,null,null,null,null,null,null,{"$f":"_xlfn.IFNA(IF(J1930>500,\"ומעלה 500\",VLOOKUP(J1930,טבלה1[#All],2,0)),\"\")","v":""}]
[null,null,null,null,null,null,null,null,null,null,null,{"$f":"_xlfn.IFNA(IF(J1931>500,\"ומעלה 500\",VLOOKUP(J1931,טבלה1[#All],2,0)),\"\")","v":""}]
[null,null,null,null,null,null,null,null,null,null,null,{"$f":"_xlfn.IFNA(IF(J1932>500,\"ומעלה 500\",VLOOKUP(J1932,טבלה1[#All],2,0)),\"\")","v":""}]
[null,null,null,null,null,null,null,null,null,null,null,{"$f":"_xlfn.IFNA(IF(J1933>500,\"ומעלה 500\",VLOOKUP(J1933,טבלה1[#All],2,0)),\"\")","v":""}]
[null,null,null,null,null,null,null,null,null,null,null,{"$f":"_xlfn.IFNA(IF(J1934>500,\"ומעלה 500\",VLOOKUP(J1934,טבלה1[#All],2,0)),\"\")","v":""}]
[null,null,null,null,null,null,null,null,null,null,null,{"$f":"_xlfn.IFNA(IF(J1935>500,\"ומעלה 500\",VLOOKUP(J1935,טבלה1[#All],2,0)),\"\")","v":""}]
[null,null,null,null,null,null,null,null,null,null,null,{"$f":"_xlfn.IFNA(IF(J1936>500,\"ומעלה 500\",VLOOKUP(J1936,טבלה1[#All],2,0)),\"\")","v":""}]
[null,null,null,null,null,null,null,null,null,null,null,{"$f":"_xlfn.IFNA(IF(J1937>500,\"ומעלה 500\",VLOOKUP(J1937,טבלה1[#All],2,0)),\"\")","v":""}]
[null,null,null,null,null,null,null,null,null,null,null,{"$f":"_xlfn.IFNA(IF(J1938>500,\"ומעלה 500\",VLOOKUP(J1938,טבלה1[#All],2,0)),\"\")","v":""}]
[null,null,null,null,null,null,null,null,null,null,null,{"$f":"_xlfn.IFNA(IF(J1939>500,\"ומעלה 500\",VLOOKUP(J1939,טבלה1[#All],2,0)),\"\")","v":""}]
[null,null,null,null,null,null,null,null,null,null,null,{"$f":"_xlfn.IFNA(IF(J1940>500,\"ומעלה 500\",VLOOKUP(J1940,טבלה1[#All],2,0)),\"\")","v":""}]
[null,null,null,null,null,null,null,null,null,null,null,{"$f":"_xlfn.IFNA(IF(J1941>500,\"ומעלה 500\",VLOOKUP(J1941,טבלה1[#All],2,0)),\"\")","v":""}]
[null,null,null,null,null,null,null,null,null,null,null,{"$f":"_xlfn.IFNA(IF(J1942>500,\"ומעלה 500\",VLOOKUP(J1942,טבלה1[#All],2,0)),\"\")","v":""}]
[null,null,null,null,null,null,null,null,null,null,null,{"$f":"_xlfn.IFNA(IF(J1943>500,\"ומעלה 500\",VLOOKUP(J1943,טבלה1[#All],2,0)),\"\")","v":""}]
[null,null,null,null,null,null,null,null,null,null,null,{"$f":"_xlfn.IFNA(IF(J1944>500,\"ומעלה 500\",VLOOKUP(J1944,טבלה1[#All],2,0)),\"\")","v":""}]
[null,null,null,null,null,null,null,null,null,null,null,{"$f":"_xlfn.IFNA(IF(J1945>500,\"ומעלה 500\",VLOOKUP(J1945,טבלה1[#All],2,0)),\"\")","v":""}]
[null,null,null,null,null,null,null,null,null,null,null,{"$f":"_xlfn.IFNA(IF(J1946>500,\"ומעלה 500\",VLOOKUP(J1946,טבלה1[#All],2,0)),\"\")","v":""}]
[null,null,null,null,null,null,null,null,null,null,null,{"$f":"_xlfn.IFNA(IF(J1947>500,\"ומעלה 500\",VLOOKUP(J1947,טבלה1[#All],2,0)),\"\")","v":""}]
[null,null,null,null,null,null,null,null,null,null,null,{"$f":"_xlfn.IFNA(IF(J1948>500,\"ומעלה 500\",VLOOKUP(J1948,טבלה1[#All],2,0)),\"\")","v":""}]
[null,null,null,null,null,null,null,null,null,null,null,{"$f":"_xlfn.IFNA(IF(J1949>500,\"ומעלה 500\",VLOOKUP(J1949,טבלה1[#All],2,0)),\"\")","v":""}]
[null,null,null,null,null,null,null,null,null,null,null,{"$f":"_xlfn.IFNA(IF(J1950>500,\"ומעלה 500\",VLOOKUP(J1950,טבלה1[#All],2,0)),\"\")","v":""}]
[null,null,null,null,null,null,null,null,null,null,null,{"$f":"_xlfn.IFNA(IF(J1951>500,\"ומעלה 500\",VLOOKUP(J1951,טבלה1[#All],2,0)),\"\")","v":""}]
[null,null,null,null,null,null,null,null,null,null,null,{"$f":"_xlfn.IFNA(IF(J1952>500,\"ומעלה 500\",VLOOKUP(J1952,טבלה1[#All],2,0)),\"\")","v":""}]
[null,null,null,null,null,null,null,null,null,null,null,{"$f":"_xlfn.IFNA(IF(J1953>500,\"ומעלה 500\",VLOOKUP(J1953,טבלה1[#All],2,0)),\"\")","v":""}]
[null,null,null,null,null,null,null,null,null,null,null,{"$f":"_xlfn.IFNA(IF(J1954>500,\"ומעלה 500\",VLOOKUP(J1954,טבלה1[#All],2,0)),\"\")","v":""}]
[null,null,null,null,null,null,null,null,null,null,null,{"$f":"_xlfn.IFNA(IF(J1955>500,\"ומעלה 500\",VLOOKUP(J1955,טבלה1[#All],2,0)),\"\")","v":""}]
[null,null,null,null,null,null,null,null,null,null,null,{"$f":"_xlfn.IFNA(IF(J1956>500,\"ומעלה 500\",VLOOKUP(J1956,טבלה1[#All],2,0)),\"\")","v":""}]
[null,null,null,null,null,null,null,null,null,null,null,{"$f":"_xlfn.IFNA(IF(J1957>500,\"ומעלה 500\",VLOOKUP(J1957,טבלה1[#All],2,0)),\"\")","v":""}]
[null,null,null,null,null,null,null,null,null,null,null,{"$f":"_xlfn.IFNA(IF(J1958>500,\"ומעלה 500\",VLOOKUP(J1958,טבלה1[#All],2,0)),\"\")","v":""}]
[null,null,null,null,null,null,null,null,null,null,null,{"$f":"_xlfn.IFNA(IF(J1959>500,\"ומעלה 500\",VLOOKUP(J1959,טבלה1[#All],2,0)),\"\")","v":""}]
[null,null,null,null,null,null,null,null,null,null,null,{"$f":"_xlfn.IFNA(IF(J1960>500,\"ומעלה 500\",VLOOKUP(J1960,טבלה1[#All],2,0)),\"\")","v":""}]
[null,null,null,null,null,null,null,null,null,null,null,{"$f":"_xlfn.IFNA(IF(J1961>500,\"ומעלה 500\",VLOOKUP(J1961,טבלה1[#All],2,0)),\"\")","v":""}]
[null,null,null,null,null,null,null,null,null,null,null,{"$f":"_xlfn.IFNA(IF(J1962>500,\"ומעלה 500\",VLOOKUP(J1962,טבלה1[#All],2,0)),\"\")","v":""}]
[null,null,null,null,null,null,null,null,null,null,null,{"$f":"_xlfn.IFNA(IF(J1963>500,\"ומעלה 500\",VLOOKUP(J1963,טבלה1[#All],2,0)),\"\")","v":""}]
[null,null,null,null,null,null,null,null,null,null,null,{"$f":"_xlfn.IFNA(IF(J1964>500,\"ומעלה 500\",VLOOKUP(J1964,טבלה1[#All],2,0)),\"\")","v":""}]
[null,null,null,null,null,null,null,null,null,null,null,{"$f":"_xlfn.IFNA(IF(J1965>500,\"ומעלה 500\",VLOOKUP(J1965,טבלה1[#All],2,0)),\"\")","v":""}]
[null,null,null,null,null,null,null,null,null,null,null,{"$f":"_xlfn.IFNA(IF(J1966>500,\"ומעלה 500\",VLOOKUP(J1966,טבלה1[#All],2,0)),\"\")","v":""}]
[null,null,null,null,null,null,null,null,null,null,null,{"$f":"_xlfn.IFNA(IF(J1967>500,\"ומעלה 500\",VLOOKUP(J1967,טבלה1[#All],2,0)),\"\")","v":""}]
[null,null,null,null,null,null,null,null,null,null,null,{"$f":"_xlfn.IFNA(IF(J1968>500,\"ומעלה 500\",VLOOKUP(J1968,טבלה1[#All],2,0)),\"\")","v":""}]
[null,null,null,null,null,null,null,null,null,null,null,{"$f":"_xlfn.IFNA(IF(J1969>500,\"ומעלה 500\",VLOOKUP(J1969,טבלה1[#All],2,0)),\"\")","v":""}]
[null,null,null,null,null,null,null,null,null,null,null,{"$f":"_xlfn.IFNA(IF(J1970>500,\"ומעלה 500\",VLOOKUP(J1970,טבלה1[#All],2,0)),\"\")","v":""}]
[null,null,null,null,null,null,null,null,null,null,null,{"$f":"_xlfn.IFNA(IF(J1971>500,\"ומעלה 500\",VLOOKUP(J1971,טבלה1[#All],2,0)),\"\")","v":""}]
[null,null,null,null,null,null,null,null,null,null,null,{"$f":"_xlfn.IFNA(IF(J1972>500,\"ומעלה 500\",VLOOKUP(J1972,טבלה1[#All],2,0)),\"\")","v":""}]
[null,null,null,null,null,null,null,null,null,null,null,{"$f":"_xlfn.IFNA(IF(J1973>500,\"ומעלה 500\",VLOOKUP(J1973,טבלה1[#All],2,0)),\"\")","v":""}]
[null,null,null,null,null,null,null,null,null,null,null,{"$f":"_xlfn.IFNA(IF(J1974>500,\"ומעלה 500\",VLOOKUP(J1974,טבלה1[#All],2,0)),\"\")","v":""}]
[null,null,null,null,null,null,null,null,null,null,null,{"$f":"_xlfn.IFNA(IF(J1975>500,\"ומעלה 500\",VLOOKUP(J1975,טבלה1[#All],2,0)),\"\")","v":""}]
[null,null,null,null,null,null,null,null,null,null,null,{"$f":"_xlfn.IFNA(IF(J1976>500,\"ומעלה 500\",VLOOKUP(J1976,טבלה1[#All],2,0)),\"\")","v":""}]
[null,null,null,null,null,null,null,null,null,null,null,{"$f":"_xlfn.IFNA(IF(J1977>500,\"ומעלה 500\",VLOOKUP(J1977,טבלה1[#All],2,0)),\"\")","v":""}]
[null,null,null,null,null,null,null,null,null,null,null,{"$f":"_xlfn.IFNA(IF(J1978>500,\"ומעלה 500\",VLOOKUP(J1978,טבלה1[#All],2,0)),\"\")","v":""}]
[null,null,null,null,null,null,null,null,null,null,null,{"$f":"_xlfn.IFNA(IF(J1979>500,\"ומעלה 500\",VLOOKUP(J1979,טבלה1[#All],2,0)),\"\")","v":""}]
[null,null,null,null,null,null,null,null,null,null,null,{"$f":"_xlfn.IFNA(IF(J1980>500,\"ומעלה 500\",VLOOKUP(J1980,טבלה1[#All],2,0)),\"\")","v":""}]
[null,null,null,null,null,null,null,null,null,null,null,{"$f":"_xlfn.IFNA(IF(J1981>500,\"ומעלה 500\",VLOOKUP(J1981,טבלה1[#All],2,0)),\"\")","v":""}]
[null,null,null,null,null,null,null,null,null,null,null,{"$f":"_xlfn.IFNA(IF(J1982>500,\"ומעלה 500\",VLOOKUP(J1982,טבלה1[#All],2,0)),\"\")","v":""}]
[null,null,null,null,null,null,null,null,null,null,null,{"$f":"_xlfn.IFNA(IF(J1983>500,\"ומעלה 500\",VLOOKUP(J1983,טבלה1[#All],2,0)),\"\")","v":""}]
[null,null,null,null,null,null,null,null,null,null,null,{"$f":"_xlfn.IFNA(IF(J1984>500,\"ומעלה 500\",VLOOKUP(J1984,טבלה1[#All],2,0)),\"\")","v":""}]
[null,null,null,null,null,null,null,null,null,null,null,{"$f":"_xlfn.IFNA(IF(J1985>500,\"ומעלה 500\",VLOOKUP(J1985,טבלה1[#All],2,0)),\"\")","v":""}]
[null,null,null,null,null,null,null,null,null,null,null,{"$f":"_xlfn.IFNA(IF(J1986>500,\"ומעלה 500\",VLOOKUP(J1986,טבלה1[#All],2,0)),\"\")","v":""}]
[null,null,null,null,null,null,null,null,null,null,null,{"$f":"_xlfn.IFNA(IF(J1987>500,\"ומעלה 500\",VLOOKUP(J1987,טבלה1[#All],2,0)),\"\")","v":""}]
[null,null,null,null,null,null,null,null,null,null,null,{"$f":"_xlfn.IFNA(IF(J1988>500,\"ומעלה 500\",VLOOKUP(J1988,טבלה1[#All],2,0)),\"\")","v":""}]
[null,null,null,null,null,null,null,null,null,null,null,{"$f":"_xlfn.IFNA(IF(J1989>500,\"ומעלה 500\",VLOOKUP(J1989,טבלה1[#All],2,0)),\"\")","v":""}]
[null,null,null,null,null,null,null,null,null,null,null,{"$f":"_xlfn.IFNA(IF(J1990>500,\"ומעלה 500\",VLOOKUP(J1990,טבלה1[#All],2,0)),\"\")","v":""}]
[null,null,null,null,null,null,null,null,null,null,null,{"$f":"_xlfn.IFNA(IF(J1991>500,\"ומעלה 500\",VLOOKUP(J1991,טבלה1[#All],2,0)),\"\")","v":""}]
[null,null,null,null,null,null,null,null,null,null,null,{"$f":"_xlfn.IFNA(IF(J1992>500,\"ומעלה 500\",VLOOKUP(J1992,טבלה1[#All],2,0)),\"\")","v":""}]
[null,null,null,null,null,null,null,null,null,null,null,{"$f":"_xlfn.IFNA(IF(J1993>500,\"ומעלה 500\",VLOOKUP(J1993,טבלה1[#All],2,0)),\"\")","v":""}]
[null,null,null,null,null,null,null,null,null,null,null,{"$f":"_xlfn.IFNA(IF(J1994>500,\"ומעלה 500\",VLOOKUP(J1994,טבלה1[#All],2,0)),\"\")","v":""}]
[null,null,null,null,null,null,null,null,null,null,null,{"$f":"_xlfn.IFNA(IF(J1995>500,\"ומעלה 500\",VLOOKUP(J1995,טבלה1[#All],2,0)),\"\")","v":""}]
[null,null,null,null,null,null,null,null,null,null,null,{"$f":"_xlfn.IFNA(IF(J1996>500,\"ומעלה 500\",VLOOKUP(J1996,טבלה1[#All],2,0)),\"\")","v":""}]
[null,null,null,null,null,null,null,null,null,null,null,{"$f":"_xlfn.IFNA(IF(J1997>500,\"ומעלה 500\",VLOOKUP(J1997,טבלה1[#All],2,0)),\"\")","v":""}]
[null,null,null,null,null,null,null,null,null,null,null,{"$f":"_xlfn.IFNA(IF(J1998>500,\"ומעלה 500\",VLOOKUP(J1998,טבלה1[#All],2,0)),\"\")","v":""}]
[null,null,null,null,null,null,null,null,null,null,null,{"$f":"_xlfn.IFNA(IF(J1999>500,\"ומעלה 500\",VLOOKUP(J1999,טבלה1[#All],2,0)),\"\")","v":""}]
[null,null,null,null,null,null,null,null,null,null,null,{"$f":"_xlfn.IFNA(IF(J2000>500,\"ומעלה 500\",VLOOKUP(J2000,טבלה1[#All],2,0)),\"\")","v":""}]
[null,null,null,null,null,null,null,null,null,null,null,{"$f":"_xlfn.IFNA(IF(J2002>500,\"ומעלה 500\",VLOOKUP(J2002,טבלה1[#All],2,0)),\"\")","v":""}]
[null,null,null,null,null,null,null,null,null,null,null,{"$f":"_xlfn.IFNA(IF(J2013>500,\"ומעלה 500\",VLOOKUP(J2013,טבלה1[#All],2,0)),\"\")","v":""}]
[null,null,null,null,null,null,null,null,null,null,null,{"$f":"_xlfn.IFNA(IF(J2025>500,\"ומעלה 500\",VLOOKUP(J2025,טבלה1[#All],2,0)),\"\")","v":""}]
[null,null,null,null,null,null,null,null,null,null,null,{"$f":"_xlfn.IFNA(IF(J2032>500,\"ומעלה 500\",VLOOKUP(J2032,טבלה1[#All],2,0)),\"\")","v":""}]
[null,null,null,null,null,null,null,null,null,null,null,{"$f":"_xlfn.IFNA(IF(J2041>500,\"ומעלה 500\",VLOOKUP(J2041,טבלה1[#All],2,0)),\"\")","v":""}]
[null,null,null,null,null,null,null,null,null,null,null,{"$f":"_xlfn.IFNA(IF(J2046>500,\"ומעלה 500\",VLOOKUP(J2046,טבלה1[#All],2,0)),\"\")","v":""}]
[null,null,null,null,null,null,null,null,null,null,null,{"$f":"_xlfn.IFNA(IF(J2053>500,\"ומעלה 500\",VLOOKUP(J2053,טבלה1[#All],2,0)),\"\")","v":""}]
[null,null,null,null,null,null,null,null,null,null,null,{"$f":"_xlfn.IFNA(IF(J2065>500,\"ומעלה 500\",VLOOKUP(J2065,טבלה1[#All],2,0)),\"\")","v":""}]
[null,null,null,null,null,null,null,null,null,null,null,{"$f":"_xlfn.IFNA(IF(J2072>500,\"ומעלה 500\",VLOOKUP(J2072,טבלה1[#All],2,0)),\"\")","v":""}]
[null,null,null,null,null,null,null,null,null,null,null,{"$f":"_xlfn.IFNA(IF(J2083>500,\"ומעלה 500\",VLOOKUP(J2083,טבלה1[#All],2,0)),\"\")","v":""}]
[null,null,null,null,null,null,null,null,null,null,null,{"$f":"_xlfn.IFNA(IF(J2095>500,\"ומעלה 500\",VLOOKUP(J2095,טבלה1[#All],2,0)),\"\")","v":""}]
[null,null,null,null,null,null,null,null,null,null,null,{"$f":"_xlfn.IFNA(IF(J2102>500,\"ומעלה 500\",VLOOKUP(J2102,טבלה1[#All],2,0)),\"\")","v":""}]
[null,null,null,null,null,null,null,null,null,null,null,{"$f":"_xlfn.IFNA(IF(J2111>500,\"ומעלה 500\",VLOOKUP(J2111,טבלה1[#All],2,0)),\"\")","v":""}]
[null,null,null,null,null,null,null,null,null,null,null,{"$f":"_xlfn.IFNA(IF(J2116>500,\"ומעלה 500\",VLOOKUP(J2116,טבלה1[#All],2,0)),\"\")","v":""}]
[null,null,null,null,null,null,null,null,null,null,null,{"$f":"_xlfn.IFNA(IF(J2123>500,\"ומעלה 500\",VLOOKUP(J2123,טבלה1[#All],2,0)),\"\")","v":""}]
[null,null,null,null,null,null,null,null,null,null,null,{"$f":"_xlfn.IFNA(IF(J2135>500,\"ומעלה 500\",VLOOKUP(J2135,טבלה1[#All],2,0)),\"\")","v":""}]
[null,null,null,null,null,null,null,null,null,null,null,{"$f":"_xlfn.IFNA(IF(J2142>500,\"ומעלה 500\",VLOOKUP(J2142,טבלה1[#All],2,0)),\"\")","v":""}]
[null,null,null,null,null,null,null,null,null,null,null,{"$f":"_xlfn.IFNA(IF(J2153>500,\"ומעלה 500\",VLOOKUP(J2153,טבלה1[#All],2,0)),\"\")","v":""}]
[null,null,null,null,null,null,null,null,null,null,null,{"$f":"_xlfn.IFNA(IF(J2165>500,\"ומעלה 500\",VLOOKUP(J2165,טבלה1[#All],2,0)),\"\")","v":""}]
[null,null,null,null,null,null,null,null,null,null,null,{"$f":"_xlfn.IFNA(IF(J2172>500,\"ומעלה 500\",VLOOKUP(J2172,טבלה1[#All],2,0)),\"\")","v":""}]
[null,null,null,null,null,null,null,null,null,null,null,{"$f":"_xlfn.IFNA(IF(J2181>500,\"ומעלה 500\",VLOOKUP(J2181,טבלה1[#All],2,0)),\"\")","v":""}]
[null,null,null,null,null,null,null,null,null,null,null,{"$f":"_xlfn.IFNA(IF(J2190>500,\"ומעלה 500\",VLOOKUP(J2190,טבלה1[#All],2,0)),\"\")","v":""}]
[null,null,null,null,null,null,null,null,null,null,null,{"$f":"_xlfn.IFNA(IF(J2193>500,\"ומעלה 500\",VLOOKUP(J2193,טבלה1[#All],2,0)),\"\")","v":""}]
[null,null,null,null,null,null,null,null,null,null,null,{"$f":"_xlfn.IFNA(IF(J2205>500,\"ומעלה 500\",VLOOKUP(J2205,טבלה1[#All],2,0)),\"\")","v":""}]
[null,null,null,null,null,null,null,null,null,null,null,{"$f":"_xlfn.IFNA(IF(J2212>500,\"ומעלה 500\",VLOOKUP(J2212,טבלה1[#All],2,0)),\"\")","v":""}]
[null,null,null,null,null,null,null,null,null,null,null,{"$f":"_xlfn.IFNA(IF(J2223>500,\"ומעלה 500\",VLOOKUP(J2223,טבלה1[#All],2,0)),\"\")","v":""}]
[null,null,null,null,null,null,null,null,null,null,null,{"$f":"_xlfn.IFNA(IF(J2235>500,\"ומעלה 500\",VLOOKUP(J2235,טבלה1[#All],2,0)),\"\")","v":""}]
[null,null,null,null,null,null,null,null,null,null,null,{"$f":"_xlfn.IFNA(IF(J2242>500,\"ומעלה 500\",VLOOKUP(J2242,טבלה1[#All],2,0)),\"\")","v":""}]
[null,null,null,null,null,null,null,null,null,null,null,{"$f":"_xlfn.IFNA(IF(J2251>500,\"ומעלה 500\",VLOOKUP(J2251,טבלה1[#All],2,0)),\"\")","v":""}]
[null,null,null,null,null,null,null,null,null,null,null,{"$f":"_xlfn.IFNA(IF(J2260>500,\"ומעלה 500\",VLOOKUP(J2260,טבלה1[#All],2,0)),\"\")","v":""}]
[null,null,null,null,null,null,null,null,null,null,null,{"$f":"_xlfn.IFNA(IF(J2263>500,\"ומעלה 500\",VLOOKUP(J2263,טבלה1[#All],2,0)),\"\")","v":""}]
[null,null,null,null,null,null,null,null,null,null,null,{"$f":"_xlfn.IFNA(IF(J2275>500,\"ומעלה 500\",VLOOKUP(J2275,טבלה1[#All],2,0)),\"\")","v":""}]
[null,null,null,null,null,null,null,null,null,null,null,{"$f":"_xlfn.IFNA(IF(J2282>500,\"ומעלה 500\",VLOOKUP(J2282,טבלה1[#All],2,0)),\"\")","v":""}]
[null,null,null,null,null,null,null,null,null,null,null,{"$f":"_xlfn.IFNA(IF(J2293>500,\"ומעלה 500\",VLOOKUP(J2293,טבלה1[#All],2,0)),\"\")","v":""}]
[null,null,null,null,null,null,null,null,null,null,null,{"$f":"_xlfn.IFNA(IF(J2305>500,\"ומעלה 500\",VLOOKUP(J2305,טבלה1[#All],2,0)),\"\")","v":""}]
[null,null,null,null,null,null,null,null,null,null,null,{"$f":"_xlfn.IFNA(IF(J2312>500,\"ומעלה 500\",VLOOKUP(J2312,טבלה1[#All],2,0)),\"\")","v":""}]
[null,null,null,null,null,null,null,null,null,null,null,{"$f":"_xlfn.IFNA(IF(J2321>500,\"ומעלה 500\",VLOOKUP(J2321,טבלה1[#All],2,0)),\"\")","v":""}]
[null,null,null,null,null,null,null,null,null,null,null,{"$f":"_xlfn.IFNA(IF(J2330>500,\"ומעלה 500\",VLOOKUP(J2330,טבלה1[#All],2,0)),\"\")","v":""}]
[null,null,null,null,null,null,null,null,null,null,null,{"$f":"_xlfn.IFNA(IF(J2333>500,\"ומעלה 500\",VLOOKUP(J2333,טבלה1[#All],2,0)),\"\")","v":""}]
[null,null,null,null,null,null,null,null,null,null,null,{"$f":"_xlfn.IFNA(IF(J2345>500,\"ומעלה 500\",VLOOKUP(J2345,טבלה1[#All],2,0)),\"\")","v":""}]
[null,null,null,null,null,null,null,null,null,null,null,{"$f":"_xlfn.IFNA(IF(J2352>500,\"ומעלה 500\",VLOOKUP(J2352,טבלה1[#All],2,0)),\"\")","v":""}]
[null,null,null,null,null,null,null,null,null,null,null,{"$f":"_xlfn.IFNA(IF(J2363>500,\"ומעלה 500\",VLOOKUP(J2363,טבלה1[#All],2,0)),\"\")","v":""}]
[null,null,null,null,null,null,null,null,null,null,null,{"$f":"_xlfn.IFNA(IF(J2370>500,\"ומעלה 500\",VLOOKUP(J2370,טבלה1[#All],2,0)),\"\")","v":""}]
[null,null,null,null,null,null,null,null,null,null,null,{"$f":"_xlfn.IFNA(IF(J2382>500,\"ומעלה 500\",VLOOKUP(J2382,טבלה1[#All],2,0)),\"\")","v":""}]
[null,null,null,null,null,null,null,null,null,null,null,{"$f":"_xlfn.IFNA(IF(J2391>500,\"ומעלה 500\",VLOOKUP(J2391,טבלה1[#All],2,0)),\"\")","v":""}]
[null,null,null,null,null,null,null,null,null,null,null,{"$f":"_xlfn.IFNA(IF(J2400>500,\"ומעלה 500\",VLOOKUP(J2400,טבלה1[#All],2,0)),\"\")","v":""}]
[null,null,null,null,null,null,null,null,null,null,null,{"$f":"_xlfn.IFNA(IF(J2403>500,\"ומעלה 500\",VLOOKUP(J2403,טבלה1[#All],2,0)),\"\")","v":""}]
[null,null,null,null,null,null,null,null,null,null,null,{"$f":"_xlfn.IFNA(IF(J2415>500,\"ומעלה 500\",VLOOKUP(J2415,טבלה1[#All],2,0)),\"\")","v":""}]
[null,null,null,null,null,null,null,null,null,null,null,{"$f":"_xlfn.IFNA(IF(J2422>500,\"ומעלה 500\",VLOOKUP(J2422,טבלה1[#All],2,0)),\"\")","v":""}]
[null,null,null,null,null,null,null,null,null,null,null,{"$f":"_xlfn.IFNA(IF(J2433>500,\"ומעלה 500\",VLOOKUP(J2433,טבלה1[#All],2,0)),\"\")","v":""}]
[null,null,null,null,null,null,null,null,null,null,null,{"$f":"_xlfn.IFNA(IF(J2440>500,\"ומעלה 500\",VLOOKUP(J2440,טבלה1[#All],2,0)),\"\")","v":""}]
[null,null,null,null,null,null,null,null,null,null,null,{"$f":"_xlfn.IFNA(IF(J2452>500,\"ומעלה 500\",VLOOKUP(J2452,טבלה1[#All],2,0)),\"\")","v":""}]
[null,null,null,null,null,null,null,null,null,null,null,{"$f":"_xlfn.IFNA(IF(J2461>500,\"ומעלה 500\",VLOOKUP(J2461,טבלה1[#All],2,0)),\"\")","v":""}]
[null,null,null,null,null,null,null,null,null,null,null,{"$f":"_xlfn.IFNA(IF(J2470>500,\"ומעלה 500\",VLOOKUP(J2470,טבלה1[#All],2,0)),\"\")","v":""}]
[null,null,null,null,null,null,null,null,null,null,null,{"$f":"_xlfn.IFNA(IF(J2473>500,\"ומעלה 500\",VLOOKUP(J2473,טבלה1[#All],2,0)),\"\")","v":""}]
[null,null,null,null,null,null,null,null,null,null,null,{"$f":"_xlfn.IFNA(IF(J2489>500,\"ומעלה 500\",VLOOKUP(J2489,טבלה1[#All],2,0)),\"\")","v":""}]
[null,null,null,null,null,null,null,null,null,null,null,{"$f":"_xlfn.IFNA(IF(J2492>500,\"ומעלה 500\",VLOOKUP(J2492,טבלה1[#All],2,0)),\"\")","v":""}]
[null,null,null,null,null,null,null,null,null,null,null,{"$f":"_xlfn.IFNA(IF(J2503>500,\"ומעלה 500\",VLOOKUP(J2503,טבלה1[#All],2,0)),\"\")","v":""}]
[null,null,null,null,null,null,null,null,null,null,null,{"$f":"_xlfn.IFNA(IF(J2510>500,\"ומעלה 500\",VLOOKUP(J2510,טבלה1[#All],2,0)),\"\")","v":""}]
[null,null,null,null,null,null,null,null,null,null,null,{"$f":"_xlfn.IFNA(IF(J2522>500,\"ומעלה 500\",VLOOKUP(J2522,טבלה1[#All],2,0)),\"\")","v":""}]
[null,null,null,null,null,null,null,null,null,null,null,{"$f":"_xlfn.IFNA(IF(J2531>500,\"ומעלה 500\",VLOOKUP(J2531,טבלה1[#All],2,0)),\"\")","v":""}]
[null,null,null,null,null,null,null,null,null,null,null,{"$f":"_xlfn.IFNA(IF(J2540>500,\"ומעלה 500\",VLOOKUP(J2540,טבלה1[#All],2,0)),\"\")","v":""}]
[null,null,null,null,null,null,null,null,null,null,null,{"$f":"_xlfn.IFNA(IF(J2543>500,\"ומעלה 500\",VLOOKUP(J2543,טבלה1[#All],2,0)),\"\")","v":""}]
[null,null,null,null,null,null,null,null,null,null,null,{"$f":"_xlfn.IFNA(IF(J2559>500,\"ומעלה 500\",VLOOKUP(J2559,טבלה1[#All],2,0)),\"\")","v":""}]
[null,null,null,null,null,null,null,null,null,null,null,{"$f":"_xlfn.IFNA(IF(J2562>500,\"ומעלה 500\",VLOOKUP(J2562,טבלה1[#All],2,0)),\"\")","v":""}]
[null,null,null,null,null,null,null,null,null,null,null,{"$f":"_xlfn.IFNA(IF(J2573>500,\"ומעלה 500\",VLOOKUP(J2573,טבלה1[#All],2,0)),\"\")","v":""}]
[null,null,null,null,null,null,null,null,null,null,null,{"$f":"_xlfn.IFNA(IF(J2580>500,\"ומעלה 500\",VLOOKUP(J2580,טבלה1[#All],2,0)),\"\")","v":""}]
[null,null,null,null,null,null,null,null,null,null,null,{"$f":"_xlfn.IFNA(IF(J2592>500,\"ומעלה 500\",VLOOKUP(J2592,טבלה1[#All],2,0)),\"\")","v":""}]
[null,null,null,null,null,null,null,null,null,null,null,{"$f":"_xlfn.IFNA(IF(J2601>500,\"ומעלה 500\",VLOOKUP(J2601,טבלה1[#All],2,0)),\"\")","v":""}]
[null,null,null,null,null,null,null,null,null,null,null,{"$f":"_xlfn.IFNA(IF(J2610>500,\"ומעלה 500\",VLOOKUP(J2610,טבלה1[#All],2,0)),\"\")","v":""}]
[null,null,null,null,null,null,null,null,null,null,null,{"$f":"_xlfn.IFNA(IF(J2613>500,\"ומעלה 500\",VLOOKUP(J2613,טבלה1[#All],2,0)),\"\")","v":""}]
[null,null,null,null,null,null,null,null,null,null,null,{"$f":"_xlfn.IFNA(IF(J2629>500,\"ומעלה 500\",VLOOKUP(J2629,טבלה1[#All],2,0)),\"\")","v":""}]
[null,null,null,null,null,null,null,null,null,null,null,{"$f":"_xlfn.IFNA(IF(J2632>500,\"ומעלה 500\",VLOOKUP(J2632,טבלה1[#All],2,0)),\"\")","v":""}]
[null,null,null,null,null,null,null,null,null,null,null,{"$f":"_xlfn.IFNA(IF(J2643>500,\"ומעלה 500\",VLOOKUP(J2643,טבלה1[#All],2,0)),\"\")","v":""}]
[null,null,null,null,null,null,null,null,null,null,null,{"$f":"_xlfn.IFNA(IF(J2650>500,\"ומעלה 500\",VLOOKUP(J2650,טבלה1[#All],2,0)),\"\")","v":""}]
[null,null,null,null,null,null,null,null,null,null,null,{"$f":"_xlfn.IFNA(IF(J2662>500,\"ומעלה 500\",VLOOKUP(J2662,טבלה1[#All],2,0)),\"\")","v":""}]
[null,null,null,null,null,null,null,null,null,null,null,{"$f":"_xlfn.IFNA(IF(J2671>500,\"ומעלה 500\",VLOOKUP(J2671,טבלה1[#All],2,0)),\"\")","v":""}]
[null,null,null,null,null,null,null,null,null,null,null,{"$f":"_xlfn.IFNA(IF(J2680>500,\"ומעלה 500\",VLOOKUP(J2680,טבלה1[#All],2,0)),\"\")","v":""}]
[null,null,null,null,null,null,null,null,null,null,null,{"$f":"_xlfn.IFNA(IF(J2683>500,\"ומעלה 500\",VLOOKUP(J2683,טבלה1[#All],2,0)),\"\")","v":""}]
[null,null,null,null,null,null,null,null,null,null,null,{"$f":"_xlfn.IFNA(IF(J2699>500,\"ומעלה 500\",VLOOKUP(J2699,טבלה1[#All],2,0)),\"\")","v":""}]
[null,null,null,null,null,null,null,null,null,null,null,{"$f":"_xlfn.IFNA(IF(J2702>500,\"ומעלה 500\",VLOOKUP(J2702,טבלה1[#All],2,0)),\"\")","v":""}]
[null,null,null,null,null,null,null,null,null,null,null,{"$f":"_xlfn.IFNA(IF(J2713>500,\"ומעלה 500\",VLOOKUP(J2713,טבלה1[#All],2,0)),\"\")","v":""}]
[null,null,null,null,null,null,null,null,null,null,null,{"$f":"_xlfn.IFNA(IF(J2720>500,\"ומעלה 500\",VLOOKUP(J2720,טבלה1[#All],2,0)),\"\")","v":""}]
[null,null,null,null,null,null,null,null,null,null,null,{"$f":"_xlfn.IFNA(IF(J2732>500,\"ומעלה 500\",VLOOKUP(J2732,טבלה1[#All],2,0)),\"\")","v":""}]
[null,null,null,null,null,null,null,null,null,null,null,{"$f":"_xlfn.IFNA(IF(J2741>500,\"ומעלה 500\",VLOOKUP(J2741,טבלה1[#All],2,0)),\"\")","v":""}]
[null,null,null,null,null,null,null,null,null,null,null,{"$f":"_xlfn.IFNA(IF(J2750>500,\"ומעלה 500\",VLOOKUP(J2750,טבלה1[#All],2,0)),\"\")","v":""}]
[null,null,null,null,null,null,null,null,null,null,null,{"$f":"_xlfn.IFNA(IF(J2753>500,\"ומעלה 500\",VLOOKUP(J2753,טבלה1[#All],2,0)),\"\")","v":""}]
[null,null,null,null,null,null,null,null,null,null,null,{"$f":"_xlfn.IFNA(IF(J2769>500,\"ומעלה 500\",VLOOKUP(J2769,טבלה1[#All],2,0)),\"\")","v":""}]
[null,null,null,null,null,null,null,null,null,null,null,{"$f":"_xlfn.IFNA(IF(J2772>500,\"ומעלה 500\",VLOOKUP(J2772,טבלה1[#All],2,0)),\"\")","v":""}]
[null,null,null,null,null,null,null,null,null,null,null,{"$f":"_xlfn.IFNA(IF(J2783>500,\"ומעלה 500\",VLOOKUP(J2783,טבלה1[#All],2,0)),\"\")","v":""}]
[null,null,null,null,null,null,null,null,null,null,null,{"$f":"_xlfn.IFNA(IF(J2790>500,\"ומעלה 500\",VLOOKUP(J2790,טבלה1[#All],2,0)),\"\")","v":""}]
[null,null,null,null,null,null,null,null,null,null,null,{"$f":"_xlfn.IFNA(IF(J2802>500,\"ומעלה 500\",VLOOKUP(J2802,טבלה1[#All],2,0)),\"\")","v":""}]
[null,null,null,null,null,null,null,null,null,null,null,{"$f":"_xlfn.IFNA(IF(J2811>500,\"ומעלה 500\",VLOOKUP(J2811,טבלה1[#All],2,0)),\"\")","v":""}]
[null,null,null,null,null,null,null,null,null,null,null,{"$f":"_xlfn.IFNA(IF(J2820>500,\"ומעלה 500\",VLOOKUP(J2820,טבלה1[#All],2,0)),\"\")","v":""}]
[null,null,null,null,null,null,null,null,null,null,null,{"$f":"_xlfn.IFNA(IF(J2823>500,\"ומעלה 500\",VLOOKUP(J2823,טבלה1[#All],2,0)),\"\")","v":""}]
[null,null,null,null,null,null,null,null,null,null,null,{"$f":"_xlfn.IFNA(IF(J2839>500,\"ומעלה 500\",VLOOKUP(J2839,טבלה1[#All],2,0)),\"\")","v":""}]
[null,null,null,null,null,null,null,null,null,null,null,{"$f":"_xlfn.IFNA(IF(J2842>500,\"ומעלה 500\",VLOOKUP(J2842,טבלה1[#All],2,0)),\"\")","v":""}]
[null,null,null,null,null,null,null,null,null,null,null,{"$f":"_xlfn.IFNA(IF(J2857>500,\"ומעלה 500\",VLOOKUP(J2857,טבלה1[#All],2,0)),\"\")","v":""}]
[null,null,null,null,null,null,null,null,null,null,null,{"$f":"_xlfn.IFNA(IF(J2860>500,\"ומעלה 500\",VLOOKUP(J2860,טבלה1[#All],2,0)),\"\")","v":""}]
[null,null,null,null,null,null,null,null,null,null,null,{"$f":"_xlfn.IFNA(IF(J2872>500,\"ומעלה 500\",VLOOKUP(J2872,טבלה1[#All],2,0)),\"\")","v":""}]
[null,null,null,null,null,null,null,null,null,null,null,{"$f":"_xlfn.IFNA(IF(J2881>500,\"ומעלה 500\",VLOOKUP(J2881,טבלה1[#All],2,0)),\"\")","v":""}]
[null,null,null,null,null,null,null,null,null,null,null,{"$f":"_xlfn.IFNA(IF(J2890>500,\"ומעלה 500\",VLOOKUP(J2890,טבלה1[#All],2,0)),\"\")","v":""}]
[null,null,null,null,null,null,null,null,null,null,null,{"$f":"_xlfn.IFNA(IF(J2893>500,\"ומעלה 500\",VLOOKUP(J2893,טבלה1[#All],2,0)),\"\")","v":""}]
[null,null,null,null,null,null,null,null,null,null,null,{"$f":"_xlfn.IFNA(IF(J2909>500,\"ומעלה 500\",VLOOKUP(J2909,טבלה1[#All],2,0)),\"\")","v":""}]
[null,null,null,null,null,null,null,null,null,null,null,{"$f":"_xlfn.IFNA(IF(J2912>500,\"ומעלה 500\",VLOOKUP(J2912,טבלה1[#All],2,0)),\"\")","v":""}]
[null,null,null,null,null,null,null,null,null,null,null,{"$f":"_xlfn.IFNA(IF(J2927>500,\"ומעלה 500\",VLOOKUP(J2927,טבלה1[#All],2,0)),\"\")","v":""}]
[null,null,null,null,null,null,null,null,null,null,null,{"$f":"_xlfn.IFNA(IF(J2930>500,\"ומעלה 500\",VLOOKUP(J2930,טבלה1[#All],2,0)),\"\")","v":""}]
[null,null,null,null,null,null,null,null,null,null,null,{"$f":"_xlfn.IFNA(IF(J2942>500,\"ומעלה 500\",VLOOKUP(J2942,טבלה1[#All],2,0)),\"\")","v":""}]
[null,null,null,null,null,null,null,null,null,null,null,{"$f":"_xlfn.IFNA(IF(J2951>500,\"ומעלה 500\",VLOOKUP(J2951,טבלה1[#All],2,0)),\"\")","v":""}]
[null,null,null,null,null,null,null,null,null,null,null,{"$f":"_xlfn.IFNA(IF(J2960>500,\"ומעלה 500\",VLOOKUP(J2960,טבלה1[#All],2,0)),\"\")","v":""}]
[null,null,null,null,null,null,null,null,null,null,null,{"$f":"_xlfn.IFNA(IF(J2967>500,\"ומעלה 500\",VLOOKUP(J2967,טבלה1[#All],2,0)),\"\")","v":""}]
[null,null,null,null,null,null,null,null,null,null,null,{"$f":"_xlfn.IFNA(IF(J2979>500,\"ומעלה 500\",VLOOKUP(J2979,טבלה1[#All],2,0)),\"\")","v":""}]
[null,null,null,null,null,null,null,null,null,null,null,{"$f":"_xlfn.IFNA(IF(J2982>500,\"ומעלה 500\",VLOOKUP(J2982,טבלה1[#All],2,0)),\"\")","v":""}]
[null,null,null,null,null,null,null,null,null,null,null,{"$f":"_xlfn.IFNA(IF(J2997>500,\"ומעלה 500\",VLOOKUP(J2997,טבלה1[#All],2,0)),\"\")","v":""}]
[null,null,null,null,null,null,null,null,null,null,null,{"$f":"_xlfn.IFNA(IF(J3000>500,\"ומעלה 500\",VLOOKUP(J3000,טבלה1[#All],2,0)),\"\")","v":""}]
[null,null,null,null,null,null,null,null,null,null,null,{"$f":"_xlfn.IFNA(IF(J3012>500,\"ומעלה 500\",VLOOKUP(J3012,טבלה1[#All],2,0)),\"\")","v":""}]
[null,null,null,null,null,null,null,null,null,null,null,{"$f":"_xlfn.IFNA(IF(J3021>500,\"ומעלה 500\",VLOOKUP(J3021,טבלה1[#All],2,0)),\"\")","v":""}]
[null,null,null,null,null,null,null,null,null,null,null,{"$f":"_xlfn.IFNA(IF(J3030>500,\"ומעלה 500\",VLOOKUP(J3030,טבלה1[#All],2,0)),\"\")","v":""}]
[null,null,null,null,null,null,null,null,null,null,null,{"$f":"_xlfn.IFNA(IF(J3037>500,\"ומעלה 500\",VLOOKUP(J3037,טבלה1[#All],2,0)),\"\")","v":""}]
[null,null,null,null,null,null,null,null,null,null,null,{"$f":"_xlfn.IFNA(IF(J3049>500,\"ומעלה 500\",VLOOKUP(J3049,טבלה1[#All],2,0)),\"\")","v":""}]
[null,null,null,null,null,null,null,null,null,null,null,{"$f":"_xlfn.IFNA(IF(J3052>500,\"ומעלה 500\",VLOOKUP(J3052,טבלה1[#All],2,0)),\"\")","v":""}]
[null,null,null,null,null,null,null,null,null,null,null,{"$f":"_xlfn.IFNA(IF(J3067>500,\"ומעלה 500\",VLOOKUP(J3067,טבלה1[#All],2,0)),\"\")","v":""}]
[null,null,null,null,null,null,null,null,null,null,null,{"$f":"_xlfn.IFNA(IF(J3070>500,\"ומעלה 500\",VLOOKUP(J3070,טבלה1[#All],2,0)),\"\")","v":""}]
[null,null,null,null,null,null,null,null,null,null,null,{"$f":"_xlfn.IFNA(IF(J3082>500,\"ומעלה 500\",VLOOKUP(J3082,טבלה1[#All],2,0)),\"\")","v":""}]
[null,null,null,null,null,null,null,null,null,null,null,{"$f":"_xlfn.IFNA(IF(J3091>500,\"ומעלה 500\",VLOOKUP(J3091,טבלה1[#All],2,0)),\"\")","v":""}]
[null,null,null,null,null,null,null,null,null,null,null,{"$f":"_xlfn.IFNA(IF(J3100>500,\"ומעלה 500\",VLOOKUP(J3100,טבלה1[#All],2,0)),\"\")","v":""}]
[null,null,null,null,null,null,null,null,null,null,null,{"$f":"_xlfn.IFNA(IF(J3107>500,\"ומעלה 500\",VLOOKUP(J3107,טבלה1[#All],2,0)),\"\")","v":""}]
[null,null,null,null,null,null,null,null,null,null,null,{"$f":"_xlfn.IFNA(IF(J3119>500,\"ומעלה 500\",VLOOKUP(J3119,טבלה1[#All],2,0)),\"\")","v":""}]
[null,null,null,null,null,null,null,null,null,null,null,{"$f":"_xlfn.IFNA(IF(J3122>500,\"ומעלה 500\",VLOOKUP(J3122,טבלה1[#All],2,0)),\"\")","v":""}]
[null,null,null,null,null,null,null,null,null,null,null,{"$f":"_xlfn.IFNA(IF(J3137>500,\"ומעלה 500\",VLOOKUP(J3137,טבלה1[#All],2,0)),\"\")","v":""}]
[null,null,null,null,null,null,null,null,null,null,null,{"$f":"_xlfn.IFNA(IF(J3140>500,\"ומעלה 500\",VLOOKUP(J3140,טבלה1[#All],2,0)),\"\")","v":""}]
[null,null,null,null,null,null,null,null,null,null,null,{"$f":"_xlfn.IFNA(IF(J3147>500,\"ומעלה 500\",VLOOKUP(J3147,טבלה1[#All],2,0)),\"\")","v":""}]
[null,null,null,null,null,null,null,null,null,null,null,{"$f":"_xlfn.IFNA(IF(J3161>500,\"ומעלה 500\",VLOOKUP(J3161,טבלה1[#All],2,0)),\"\")","v":""}]
[null,null,null,null,null,null,null,null,null,null,null,{"$f":"_xlfn.IFNA(IF(J3170>500,\"ומעלה 500\",VLOOKUP(J3170,טבלה1[#All],2,0)),\"\")","v":""}]
[null,null,null,null,null,null,null,null,null,null,null,{"$f":"_xlfn.IFNA(IF(J3177>500,\"ומעלה 500\",VLOOKUP(J3177,טבלה1[#All],2,0)),\"\")","v":""}]
[null,null,null,null,null,null,null,null,null,null,null,{"$f":"_xlfn.IFNA(IF(J3189>500,\"ומעלה 500\",VLOOKUP(J3189,טבלה1[#All],2,0)),\"\")","v":""}]
[null,null,null,null,null,null,null,null,null,null,null,{"$f":"_xlfn.IFNA(IF(J3192>500,\"ומעלה 500\",VLOOKUP(J3192,טבלה1[#All],2,0)),\"\")","v":""}]
[null,null,null,null,null,null,null,null,null,null,null,{"$f":"_xlfn.IFNA(IF(J3207>500,\"ומעלה 500\",VLOOKUP(J3207,טבלה1[#All],2,0)),\"\")","v":""}]
[null,null,null,null,null,null,null,null,null,null,null,{"$f":"_xlfn.IFNA(IF(J3210>500,\"ומעלה 500\",VLOOKUP(J3210,טבלה1[#All],2,0)),\"\")","v":""}]
[null,null,null,null,null,null,null,null,null,null,null,{"$f":"_xlfn.IFNA(IF(J3217>500,\"ומעלה 500\",VLOOKUP(J3217,טבלה1[#All],2,0)),\"\")","v":""}]
[null,null,null,null,null,null,null,null,null,null,null,{"$f":"_xlfn.IFNA(IF(J3231>500,\"ומעלה 500\",VLOOKUP(J3231,טבלה1[#All],2,0)),\"\")","v":""}]
[null,null,null,null,null,null,null,null,null,null,null,{"$f":"_xlfn.IFNA(IF(J3240>500,\"ומעלה 500\",VLOOKUP(J3240,טבלה1[#All],2,0)),\"\")","v":""}]
[null,null,null,null,null,null,null,null,null,null,null,{"$f":"_xlfn.IFNA(IF(J3247>500,\"ומעלה 500\",VLOOKUP(J3247,טבלה1[#All],2,0)),\"\")","v":""}]
[null,null,null,null,null,null,null,null,null,null,null,{"$f":"_xlfn.IFNA(IF(J3259>500,\"ומעלה 500\",VLOOKUP(J3259,טבלה1[#All],2,0)),\"\")","v":""}]
[null,null,null,null,null,null,null,null,null,null,null,{"$f":"_xlfn.IFNA(IF(J3262>500,\"ומעלה 500\",VLOOKUP(J3262,טבלה1[#All],2,0)),\"\")","v":""}]
[null,null,null,null,null,null,null,null,null,null,null,{"$f":"_xlfn.IFNA(IF(J3277>500,\"ומעלה 500\",VLOOKUP(J3277,טבלה1[#All],2,0)),\"\")","v":""}]
[null,null,null,null,null,null,null,null,null,null,null,{"$f":"_xlfn.IFNA(IF(J3280>500,\"ומעלה 500\",VLOOKUP(J3280,טבלה1[#All],2,0)),\"\")","v":""}]
[null,null,null,null,null,null,null,null,null,null,null,{"$f":"_xlfn.IFNA(IF(J3287>500,\"ומעלה 500\",VLOOKUP(J3287,טבלה1[#All],2,0)),\"\")","v":""}]
[null,null,null,null,null,null,null,null,null,null,null,{"$f":"_xlfn.IFNA(IF(J3301>500,\"ומעלה 500\",VLOOKUP(J3301,טבלה1[#All],2,0)),\"\")","v":""}]
[null,null,null,null,null,null,null,null,null,null,null,{"$f":"_xlfn.IFNA(IF(J3310>500,\"ומעלה 500\",VLOOKUP(J3310,טבלה1[#All],2,0)),\"\")","v":""}]
[null,null,null,null,null,null,null,null,null,null,null,{"$f":"_xlfn.IFNA(IF(J3317>500,\"ומעלה 500\",VLOOKUP(J3317,טבלה1[#All],2,0)),\"\")","v":""}]
[null,null,null,null,null,null,null,null,null,null,null,{"$f":"_xlfn.IFNA(IF(J3329>500,\"ומעלה 500\",VLOOKUP(J3329,טבלה1[#All],2,0)),\"\")","v":""}]
[null,null,null,null,null,null,null,null,null,null,null,{"$f":"_xlfn.IFNA(IF(J3332>500,\"ומעלה 500\",VLOOKUP(J3332,טבלה1[#All],2,0)),\"\")","v":""}]
[null,null,null,null,null,null,null,null,null,null,null,{"$f":"_xlfn.IFNA(IF(J3347>500,\"ומעלה 500\",VLOOKUP(J3347,טבלה1[#All],2,0)),\"\")","v":""}]
[null,null,null,null,null,null,null,null,null,null,null,{"$f":"_xlfn.IFNA(IF(J3350>500,\"ומעלה 500\",VLOOKUP(J3350,טבלה1[#All],2,0)),\"\")","v":""}]
[null,null,null,null,null,null,null,null,null,null,null,{"$f":"_xlfn.IFNA(IF(J3357>500,\"ומעלה 500\",VLOOKUP(J3357,טבלה1[#All],2,0)),\"\")","v":""}]
[null,null,null,null,null,null,null,null,null,null,null,{"$f":"_xlfn.IFNA(IF(J3371>500,\"ומעלה 500\",VLOOKUP(J3371,טבלה1[#All],2,0)),\"\")","v":""}]
[null,null,null,null,null,null,null,null,null,null,null,{"$f":"_xlfn.IFNA(IF(J3380>500,\"ומעלה 500\",VLOOKUP(J3380,טבלה1[#All],2,0)),\"\")","v":""}]
[null,null,null,null,null,null,null,null,null,null,null,{"$f":"_xlfn.IFNA(IF(J3387>500,\"ומעלה 500\",VLOOKUP(J3387,טבלה1[#All],2,0)),\"\")","v":""}]
[null,null,null,null,null,null,null,null,null,null,null,{"$f":"_xlfn.IFNA(IF(J3399>500,\"ומעלה 500\",VLOOKUP(J3399,טבלה1[#All],2,0)),\"\")","v":""}]
[null,null,null,null,null,null,null,null,null,null,null,{"$f":"_xlfn.IFNA(IF(J3402>500,\"ומעלה 500\",VLOOKUP(J3402,טבלה1[#All],2,0)),\"\")","v":""}]
[null,null,null,null,null,null,null,null,null,null,null,{"$f":"_xlfn.IFNA(IF(J3417>500,\"ומעלה 500\",VLOOKUP(J3417,טבלה1[#All],2,0)),\"\")","v":""}]
[null,null,null,null,null,null,null,null,null,null,null,{"$f":"_xlfn.IFNA(IF(J3420>500,\"ומעלה 500\",VLOOKUP(J3420,טבלה1[#All],2,0)),\"\")","v":""}]
[null,null,null,null,null,null,null,null,null,null,null,{"$f":"_xlfn.IFNA(IF(J3427>500,\"ומעלה 500\",VLOOKUP(J3427,טבלה1[#All],2,0)),\"\")","v":""}]
[null,null,null,null,null,null,null,null,null,null,null,{"$f":"_xlfn.IFNA(IF(J3441>500,\"ומעלה 500\",VLOOKUP(J3441,טבלה1[#All],2,0)),\"\")","v":""}]
[null,null,null,null,null,null,null,null,null,null,null,{"$f":"_xlfn.IFNA(IF(J3445>500,\"ומעלה 500\",VLOOKUP(J3445,טבלה1[#All],2,0)),\"\")","v":""}]
[null,null,null,null,null,null,null,null,null,null,null,{"$f":"_xlfn.IFNA(IF(J3457>500,\"ומעלה 500\",VLOOKUP(J3457,טבלה1[#All],2,0)),\"\")","v":""}]
[null,null,null,null,null,null,null,null,null,null,null,{"$f":"_xlfn.IFNA(IF(J3469>500,\"ומעלה 500\",VLOOKUP(J3469,טבלה1[#All],2,0)),\"\")","v":""}]
[null,null,null,null,null,null,null,null,null,null,null,{"$f":"_xlfn.IFNA(IF(J3472>500,\"ומעלה 500\",VLOOKUP(J3472,טבלה1[#All],2,0)),\"\")","v":""}]
[null,null,null,null,null,null,null,null,null,null,null,{"$f":"_xlfn.IFNA(IF(J3487>500,\"ומעלה 500\",VLOOKUP(J3487,טבלה1[#All],2,0)),\"\")","v":""}]
[null,null,null,null,null,null,null,null,null,null,null,{"$f":"_xlfn.IFNA(IF(J3490>500,\"ומעלה 500\",VLOOKUP(J3490,טבלה1[#All],2,0)),\"\")","v":""}]
[null,null,null,null,null,null,null,null,null,null,null,{"$f":"_xlfn.IFNA(IF(J3497>500,\"ומעלה 500\",VLOOKUP(J3497,טבלה1[#All],2,0)),\"\")","v":""}]
[null,null,null,null,null,null,null,null,null,null,null,{"$f":"_xlfn.IFNA(IF(J3511>500,\"ומעלה 500\",VLOOKUP(J3511,טבלה1[#All],2,0)),\"\")","v":""}]
[null,null,null,null,null,null,null,null,null,null,null,{"$f":"_xlfn.IFNA(IF(J3515>500,\"ומעלה 500\",VLOOKUP(J3515,טבלה1[#All],2,0)),\"\")","v":""}]
[null,null,null,null,null,null,null,null,null,null,null,{"$f":"_xlfn.IFNA(IF(J3527>500,\"ומעלה 500\",VLOOKUP(J3527,טבלה1[#All],2,0)),\"\")","v":""}]
[null,null,null,null,null,null,null,null,null,null,null,{"$f":"_xlfn.IFNA(IF(J3539>500,\"ומעלה 500\",VLOOKUP(J3539,טבלה1[#All],2,0)),\"\")","v":""}]
[null,null,null,null,null,null,null,null,null,null,null,{"$f":"_xlfn.IFNA(IF(J3542>500,\"ומעלה 500\",VLOOKUP(J3542,טבלה1[#All],2,0)),\"\")","v":""}]
[null,null,null,null,null,null,null,null,null,null,null,{"$f":"_xlfn.IFNA(IF(J3557>500,\"ומעלה 500\",VLOOKUP(J3557,טבלה1[#All],2,0)),\"\")","v":""}]
[null,null,null,null,null,null,null,null,null,null,null,{"$f":"_xlfn.IFNA(IF(J3560>500,\"ומעלה 500\",VLOOKUP(J3560,טבלה1[#All],2,0)),\"\")","v":""}]
[null,null,null,null,null,null,null,null,null,null,null,{"$f":"_xlfn.IFNA(IF(J3567>500,\"ומעלה 500\",VLOOKUP(J3567,טבלה1[#All],2,0)),\"\")","v":""}]
[null,null,null,null,null,null,null,null,null,null,null,{"$f":"_xlfn.IFNA(IF(J3581>500,\"ומעלה 500\",VLOOKUP(J3581,טבלה1[#All],2,0)),\"\")","v":""}]
[null,null,null,null,null,null,null,null,null,null,null,{"$f":"_xlfn.IFNA(IF(J3585>500,\"ומעלה 500\",VLOOKUP(J3585,טבלה1[#All],2,0)),\"\")","v":""}]
[null,null,null,null,null,null,null,null,null,null,null,{"$f":"_xlfn.IFNA(IF(J3597>500,\"ומעלה 500\",VLOOKUP(J3597,טבלה1[#All],2,0)),\"\")","v":""}]
[null,null,null,null,null,null,null,null,null,null,null,{"$f":"_xlfn.IFNA(IF(J3609>500,\"ומעלה 500\",VLOOKUP(J3609,טבלה1[#All],2,0)),\"\")","v":""}]
[null,null,null,null,null,null,null,null,null,null,null,{"$f":"_xlfn.IFNA(IF(J3612>500,\"ומעלה 500\",VLOOKUP(J3612,טבלה1[#All],2,0)),\"\")","v":""}]
[null,null,null,null,null,null,null,null,null,null,null,{"$f":"_xlfn.IFNA(IF(J3627>500,\"ומעלה 500\",VLOOKUP(J3627,טבלה1[#All],2,0)),\"\")","v":""}]
[null,null,null,null,null,null,null,null,null,null,null,{"$f":"_xlfn.IFNA(IF(J3634>500,\"ומעלה 500\",VLOOKUP(J3634,טבלה1[#All],2,0)),\"\")","v":""}]
[null,null,null,null,null,null,null,null,null,null,null,{"$f":"_xlfn.IFNA(IF(J3637>500,\"ומעלה 500\",VLOOKUP(J3637,טבלה1[#All],2,0)),\"\")","v":""}]
[null,null,null,null,null,null,null,null,null,null,null,{"$f":"_xlfn.IFNA(IF(J3651>500,\"ומעלה 500\",VLOOKUP(J3651,טבלה1[#All],2,0)),\"\")","v":""}]
[null,null,null,null,null,null,null,null,null,null,null,{"$f":"_xlfn.IFNA(IF(J3655>500,\"ומעלה 500\",VLOOKUP(J3655,טבלה1[#All],2,0)),\"\")","v":""}]
[null,null,null,null,null,null,null,null,null,null,null,{"$f":"_xlfn.IFNA(IF(J3667>500,\"ומעלה 500\",VLOOKUP(J3667,טבלה1[#All],2,0)),\"\")","v":""}]
[null,null,null,null,null,null,null,null,null,null,null,{"$f":"_xlfn.IFNA(IF(J3679>500,\"ומעלה 500\",VLOOKUP(J3679,טבלה1[#All],2,0)),\"\")","v":""}]
[null,null,null,null,null,null,null,null,null,null,null,{"$f":"_xlfn.IFNA(IF(J3682>500,\"ומעלה 500\",VLOOKUP(J3682,טבלה1[#All],2,0)),\"\")","v":""}]
[null,null,null,null,null,null,null,null,null,null,null,{"$f":"_xlfn.IFNA(IF(J3697>500,\"ומעלה 500\",VLOOKUP(J3697,טבלה1[#All],2,0)),\"\")","v":""}]
[null,null,null,null,null,null,null,null,null,null,null,{"$f":"_xlfn.IFNA(IF(J3704>500,\"ומעלה 500\",VLOOKUP(J3704,טבלה1[#All],2,0)),\"\")","v":""}]
[null,null,null,null,null,null,null,null,null,null,null,{"$f":"_xlfn.IFNA(IF(J3707>500,\"ומעלה 500\",VLOOKUP(J3707,טבלה1[#All],2,0)),\"\")","v":""}]
[null,null,null,null,null,null,null,null,null,null,null,{"$f":"_xlfn.IFNA(IF(J3721>500,\"ומעלה 500\",VLOOKUP(J3721,טבלה1[#All],2,0)),\"\")","v":""}]
[null,null,null,null,null,null,null,null,null,null,null,{"$f":"_xlfn.IFNA(IF(J3725>500,\"ומעלה 500\",VLOOKUP(J3725,טבלה1[#All],2,0)),\"\")","v":""}]
[null,null,null,null,null,null,null,null,null,null,null,{"$f":"_xlfn.IFNA(IF(J3737>500,\"ומעלה 500\",VLOOKUP(J3737,טבלה1[#All],2,0)),\"\")","v":""}]
[null,null,null,null,null,null,null,null,null,null,null,{"$f":"_xlfn.IFNA(IF(J3744>500,\"ומעלה 500\",VLOOKUP(J3744,טבלה1[#All],2,0)),\"\")","v":""}]
[null,null,null,null,null,null,null,null,null,null,null,{"$f":"_xlfn.IFNA(IF(J3752>500,\"ומעלה 500\",VLOOKUP(J3752,טבלה1[#All],2,0)),\"\")","v":""}]
[null,null,null,null,null,null,null,null,null,null,null,{"$f":"_xlfn.IFNA(IF(J3767>500,\"ומעלה 500\",VLOOKUP(J3767,טבלה1[#All],2,0)),\"\")","v":""}]
[null,null,null,null,null,null,null,null,null,null,null,{"$f":"_xlfn.IFNA(IF(J3774>500,\"ומעלה 500\",VLOOKUP(J3774,טבלה1[#All],2,0)),\"\")","v":""}]
[null,null,null,null,null,null,null,null,null,null,null,{"$f":"_xlfn.IFNA(IF(J3777>500,\"ומעלה 500\",VLOOKUP(J3777,טבלה1[#All],2,0)),\"\")","v":""}]
[null,null,null,null,null,null,null,null,null,null,null,{"$f":"_xlfn.IFNA(IF(J3791>500,\"ומעלה 500\",VLOOKUP(J3791,טבלה1[#All],2,0)),\"\")","v":""}]
[null,null,null,null,null,null,null,null,null,null,null,{"$f":"_xlfn.IFNA(IF(J3795>500,\"ומעלה 500\",VLOOKUP(J3795,טבלה1[#All],2,0)),\"\")","v":""}]
[null,null,null,null,null,null,null,null,null,null,null,{"$f":"_xlfn.IFNA(IF(J3807>500,\"ומעלה 500\",VLOOKUP(J3807,טבלה1[#All],2,0)),\"\")","v":""}]
[null,null,null,null,null,null,null,null,null,null,null,{"$f":"_xlfn.IFNA(IF(J3814>500,\"ומעלה 500\",VLOOKUP(J3814,טבלה1[#All],2,0)),\"\")","v":""}]
[null,null,null,null,null,null,null,null,null,null,null,{"$f":"_xlfn.IFNA(IF(J3822>500,\"ומעלה 500\",VLOOKUP(J3822,טבלה1[#All],2,0)),\"\")","v":""}]
[null,null,null,null,null,null,null,null,null,null,null,{"$f":"_xlfn.IFNA(IF(J3837>500,\"ומעלה 500\",VLOOKUP(J3837,טבלה1[#All],2,0)),\"\")","v":""}]
[null,null,null,null,null,null,null,null,null,null,null,{"$f":"_xlfn.IFNA(IF(J3844>500,\"ומעלה 500\",VLOOKUP(J3844,טבלה1[#All],2,0)),\"\")","v":""}]
[null,null,null,null,null,null,null,null,null,null,null,{"$f":"_xlfn.IFNA(IF(J3847>500,\"ומעלה 500\",VLOOKUP(J3847,טבלה1[#All],2,0)),\"\")","v":""}]
[null,null,null,null,null,null,null,null,null,null,null,{"$f":"_xlfn.IFNA(IF(J3861>500,\"ומעלה 500\",VLOOKUP(J3861,טבלה1[#All],2,0)),\"\")","v":""}]
[null,null,null,null,null,null,null,null,null,null,null,{"$f":"_xlfn.IFNA(IF(J3865>500,\"ומעלה 500\",VLOOKUP(J3865,טבלה1[#All],2,0)),\"\")","v":""}]
[null,null,null,null,null,null,null,null,null,null,null,{"$f":"_xlfn.IFNA(IF(J3877>500,\"ומעלה 500\",VLOOKUP(J3877,טבלה1[#All],2,0)),\"\")","v":""}]
[null,null,null,null,null,null,null,null,null,null,null,{"$f":"_xlfn.IFNA(IF(J3884>500,\"ומעלה 500\",VLOOKUP(J3884,טבלה1[#All],2,0)),\"\")","v":""}]
[null,null,null,null,null,null,null,null,null,null,null,{"$f":"_xlfn.IFNA(IF(J3892>500,\"ומעלה 500\",VLOOKUP(J3892,טבלה1[#All],2,0)),\"\")","v":""}]
[null,null,null,null,null,null,null,null,null,null,null,{"$f":"_xlfn.IFNA(IF(J3907>500,\"ומעלה 500\",VLOOKUP(J3907,טבלה1[#All],2,0)),\"\")","v":""}]
[null,null,null,null,null,null,null,null,null,null,null,{"$f":"_xlfn.IFNA(IF(J3914>500,\"ומעלה 500\",VLOOKUP(J3914,טבלה1[#All],2,0)),\"\")","v":""}]
[null,null,null,null,null,null,null,null,null,null,null,{"$f":"_xlfn.IFNA(IF(J3917>500,\"ומעלה 500\",VLOOKUP(J3917,טבלה1[#All],2,0)),\"\")","v":""}]
[null,null,null,null,null,null,null,null,null,null,null,{"$f":"_xlfn.IFNA(IF(J3931>500,\"ומעלה 500\",VLOOKUP(J3931,טבלה1[#All],2,0)),\"\")","v":""}]
[null,null,null,null,null,null,null,null,null,null,null,{"$f":"_xlfn.IFNA(IF(J3935>500,\"ומעלה 500\",VLOOKUP(J3935,טבלה1[#All],2,0)),\"\")","v":""}]
[null,null,null,null,null,null,null,null,null,null,null,{"$f":"_xlfn.IFNA(IF(J3947>500,\"ומעלה 500\",VLOOKUP(J3947,טבלה1[#All],2,0)),\"\")","v":""}]
[null,null,null,null,null,null,null,null,null,null,null,{"$f":"_xlfn.IFNA(IF(J3954>500,\"ומעלה 500\",VLOOKUP(J3954,טבלה1[#All],2,0)),\"\")","v":""}]
[null,null,null,null,null,null,null,null,null,null,null,{"$f":"_xlfn.IFNA(IF(J3962>500,\"ומעלה 500\",VLOOKUP(J3962,טבלה1[#All],2,0)),\"\")","v":""}]
[null,null,null,null,null,null,null,null,null,null,null,{"$f":"_xlfn.IFNA(IF(J3977>500,\"ומעלה 500\",VLOOKUP(J3977,טבלה1[#All],2,0)),\"\")","v":""}]
[null,null,null,null,null,null,null,null,null,null,null,{"$f":"_xlfn.IFNA(IF(J3984>500,\"ומעלה 500\",VLOOKUP(J3984,טבלה1[#All],2,0)),\"\")","v":""}]
[null,null,null,null,null,null,null,null,null,null,null,{"$f":"_xlfn.IFNA(IF(J3987>500,\"ומעלה 500\",VLOOKUP(J3987,טבלה1[#All],2,0)),\"\")","v":""}]
[null,null,null,null,null,null,null,null,null,null,null,{"$f":"_xlfn.IFNA(IF(J4001>500,\"ומעלה 500\",VLOOKUP(J4001,טבלה1[#All],2,0)),\"\")","v":""}]
[null,null,null,null,null,null,null,null,null,null,null,{"$f":"_xlfn.IFNA(IF(J4005>500,\"ומעלה 500\",VLOOKUP(J4005,טבלה1[#All],2,0)),\"\")","v":""}]
[null,null,null,null,null,null,null,null,null,null,null,{"$f":"_xlfn.IFNA(IF(J4017>500,\"ומעלה 500\",VLOOKUP(J4017,טבלה1[#All],2,0)),\"\")","v":""}]
[null,null,null,null,null,null,null,null,null,null,null,{"$f":"_xlfn.IFNA(IF(J4024>500,\"ומעלה 500\",VLOOKUP(J4024,טבלה1[#All],2,0)),\"\")","v":""}]
[null,null,null,null,null,null,null,null,null,null,null,{"$f":"_xlfn.IFNA(IF(J4032>500,\"ומעלה 500\",VLOOKUP(J4032,טבלה1[#All],2,0)),\"\")","v":""}]
[null,null,null,null,null,null,null,null,null,null,null,{"$f":"_xlfn.IFNA(IF(J4047>500,\"ומעלה 500\",VLOOKUP(J4047,טבלה1[#All],2,0)),\"\")","v":""}]
[null,null,null,null,null,null,null,null,null,null,null,{"$f":"_xlfn.IFNA(IF(J4054>500,\"ומעלה 500\",VLOOKUP(J4054,טבלה1[#All],2,0)),\"\")","v":""}]
[null,null,null,null,null,null,null,null,null,null,null,{"$f":"_xlfn.IFNA(IF(J4057>500,\"ומעלה 500\",VLOOKUP(J4057,טבלה1[#All],2,0)),\"\")","v":""}]
[null,null,null,null,null,null,null,null,null,null,null,{"$f":"_xlfn.IFNA(IF(J4071>500,\"ומעלה 500\",VLOOKUP(J4071,טבלה1[#All],2,0)),\"\")","v":""}]
[null,null,null,null,null,null,null,null,null,null,null,{"$f":"_xlfn.IFNA(IF(J4075>500,\"ומעלה 500\",VLOOKUP(J4075,טבלה1[#All],2,0)),\"\")","v":""}]
[null,null,null,null,null,null,null,null,null,null,null,{"$f":"_xlfn.IFNA(IF(J4087>500,\"ומעלה 500\",VLOOKUP(J4087,טבלה1[#All],2,0)),\"\")","v":""}]
[null,null,null,null,null,null,null,null,null,null,null,{"$f":"_xlfn.IFNA(IF(J4094>500,\"ומעלה 500\",VLOOKUP(J4094,טבלה1[#All],2,0)),\"\")","v":""}]
[null,null,null,null,null,null,null,null,null,null,null,{"$f":"_xlfn.IFNA(IF(J4102>500,\"ומעלה 500\",VLOOKUP(J4102,טבלה1[#All],2,0)),\"\")","v":""}]
[null,null,null,null,null,null,null,null,null,null,null,{"$f":"_xlfn.IFNA(IF(J4112>500,\"ומעלה 500\",VLOOKUP(J4112,טבלה1[#All],2,0)),\"\")","v":""}]
[null,null,null,null,null,null,null,null,null,null,null,{"$f":"_xlfn.IFNA(IF(J4124>500,\"ומעלה 500\",VLOOKUP(J4124,טבלה1[#All],2,0)),\"\")","v":""}]
[null,null,null,null,null,null,null,null,null,null,null,{"$f":"_xlfn.IFNA(IF(J4127>500,\"ומעלה 500\",VLOOKUP(J4127,טבלה1[#All],2,0)),\"\")","v":""}]
[null,null,null,null,null,null,null,null,null,null,null,{"$f":"_xlfn.IFNA(IF(J4141>500,\"ומעלה 500\",VLOOKUP(J4141,טבלה1[#All],2,0)),\"\")","v":""}]
[null,null,null,null,null,null,null,null,null,null,null,{"$f":"_xlfn.IFNA(IF(J4145>500,\"ומעלה 500\",VLOOKUP(J4145,טבלה1[#All],2,0)),\"\")","v":""}]
[null,null,null,null,null,null,null,null,null,null,null,{"$f":"_xlfn.IFNA(IF(J4157>500,\"ומעלה 500\",VLOOKUP(J4157,טבלה1[#All],2,0)),\"\")","v":""}]
[null,null,null,null,null,null,null,null,null,null,null,{"$f":"_xlfn.IFNA(IF(J4164>500,\"ומעלה 500\",VLOOKUP(J4164,טבלה1[#All],2,0)),\"\")","v":""}]
[null,null,null,null,null,null,null,null,null,null,null,{"$f":"_xlfn.IFNA(IF(J4172>500,\"ומעלה 500\",VLOOKUP(J4172,טבלה1[#All],2,0)),\"\")","v":""}]
[null,null,null,null,null,null,null,null,null,null,null,{"$f":"_xlfn.IFNA(IF(J4182>500,\"ומעלה 500\",VLOOKUP(J4182,טבלה1[#All],2,0)),\"\")","v":""}]
[null,null,null,null,null,null,null,null,null,null,null,{"$f":"_xlfn.IFNA(IF(J4194>500,\"ומעלה 500\",VLOOKUP(J4194,טבלה1[#All],2,0)),\"\")","v":""}]
[null,null,null,null,null,null,null,null,null,null,null,{"$f":"_xlfn.IFNA(IF(J4197>500,\"ומעלה 500\",VLOOKUP(J4197,טבלה1[#All],2,0)),\"\")","v":""}]
[null,null,null,null,null,null,null,null,null,null,null,{"$f":"_xlfn.IFNA(IF(J4211>500,\"ומעלה 500\",VLOOKUP(J4211,טבלה1[#All],2,0)),\"\")","v":""}]
[null,null,null,null,null,null,null,null,null,null,null,{"$f":"_xlfn.IFNA(IF(J4215>500,\"ומעלה 500\",VLOOKUP(J4215,טבלה1[#All],2,0)),\"\")","v":""}]
[null,null,null,null,null,null,null,null,null,null,null,{"$f":"_xlfn.IFNA(IF(J4231>500,\"ומעלה 500\",VLOOKUP(J4231,טבלה1[#All],2,0)),\"\")","v":""}]
[null,null,null,null,null,null,null,null,null,null,null,{"$f":"_xlfn.IFNA(IF(J4234>500,\"ומעלה 500\",VLOOKUP(J4234,טבלה1[#All],2,0)),\"\")","v":""}]
[null,null,null,null,null,null,null,null,null,null,null,{"$f":"_xlfn.IFNA(IF(J4242>500,\"ומעלה 500\",VLOOKUP(J4242,טבלה1[#All],2,0)),\"\")","v":""}]
[null,null,null,null,null,null,null,null,null,null,null,{"$f":"_xlfn.IFNA(IF(J4252>500,\"ומעלה 500\",VLOOKUP(J4252,טבלה1[#All],2,0)),\"\")","v":""}]
[null,null,null,null,null,null,null,null,null,null,null,{"$f":"_xlfn.IFNA(IF(J4264>500,\"ומעלה 500\",VLOOKUP(J4264,טבלה1[#All],2,0)),\"\")","v":""}]
[null,null,null,null,null,null,null,null,null,null,null,{"$f":"_xlfn.IFNA(IF(J4267>500,\"ומעלה 500\",VLOOKUP(J4267,טבלה1[#All],2,0)),\"\")","v":""}]
[null,null,null,null,null,null,null,null,null,null,null,{"$f":"_xlfn.IFNA(IF(J4281>500,\"ומעלה 500\",VLOOKUP(J4281,טבלה1[#All],2,0)),\"\")","v":""}]
[null,null,null,null,null,null,null,null,null,null,null,{"$f":"_xlfn.IFNA(IF(J4285>500,\"ומעלה 500\",VLOOKUP(J4285,טבלה1[#All],2,0)),\"\")","v":""}]
[null,null,null,null,null,null,null,null,null,null,null,{"$f":"_xlfn.IFNA(IF(J4301>500,\"ומעלה 500\",VLOOKUP(J4301,טבלה1[#All],2,0)),\"\")","v":""}]
[null,null,null,null,null,null,null,null,null,null,null,{"$f":"_xlfn.IFNA(IF(J4304>500,\"ומעלה 500\",VLOOKUP(J4304,טבלה1[#All],2,0)),\"\")","v":""}]
[null,null,null,null,null,null,null,null,null,null,null,{"$f":"_xlfn.IFNA(IF(J4312>500,\"ומעלה 500\",VLOOKUP(J4312,טבלה1[#All],2,0)),\"\")","v":""}]
[null,null,null,null,null,null,null,null,null,null,null,{"$f":"_xlfn.IFNA(IF(J4322>500,\"ומעלה 500\",VLOOKUP(J4322,טבלה1[#All],2,0)),\"\")","v":""}]
[null,null,null,null,null,null,null,null,null,null,null,{"$f":"_xlfn.IFNA(IF(J4334>500,\"ומעלה 500\",VLOOKUP(J4334,טבלה1[#All],2,0)),\"\")","v":""}]
[null,null,null,null,null,null,null,null,null,null,null,{"$f":"_xlfn.IFNA(IF(J4337>500,\"ומעלה 500\",VLOOKUP(J4337,טבלה1[#All],2,0)),\"\")","v":""}]
[null,null,null,null,null,null,null,null,null,null,null,{"$f":"_xlfn.IFNA(IF(J4351>500,\"ומעלה 500\",VLOOKUP(J4351,טבלה1[#All],2,0)),\"\")","v":""}]
[null,null,null,null,null,null,null,null,null,null,null,{"$f":"_xlfn.IFNA(IF(J4355>500,\"ומעלה 500\",VLOOKUP(J4355,טבלה1[#All],2,0)),\"\")","v":""}]
[null,null,null,null,null,null,null,null,null,null,null,{"$f":"_xlfn.IFNA(IF(J4371>500,\"ומעלה 500\",VLOOKUP(J4371,טבלה1[#All],2,0)),\"\")","v":""}]
[null,null,null,null,null,null,null,null,null,null,null,{"$f":"_xlfn.IFNA(IF(J4374>500,\"ומעלה 500\",VLOOKUP(J4374,טבלה1[#All],2,0)),\"\")","v":""}]
[null,null,null,null,null,null,null,null,null,null,null,{"$f":"_xlfn.IFNA(IF(J4382>500,\"ומעלה 500\",VLOOKUP(J4382,טבלה1[#All],2,0)),\"\")","v":""}]
[null,null,null,null,null,null,null,null,null,null,null,{"$f":"_xlfn.IFNA(IF(J4392>500,\"ומעלה 500\",VLOOKUP(J4392,טבלה1[#All],2,0)),\"\")","v":""}]
[null,null,null,null,null,null,null,null,null,null,null,{"$f":"_xlfn.IFNA(IF(J4404>500,\"ומעלה 500\",VLOOKUP(J4404,טבלה1[#All],2,0)),\"\")","v":""}]
[null,null,null,null,null,null,null,null,null,null,null,{"$f":"_xlfn.IFNA(IF(J4411>500,\"ומעלה 500\",VLOOKUP(J4411,טבלה1[#All],2,0)),\"\")","v":""}]
[null,null,null,null,null,null,null,null,null,null,null,{"$f":"_xlfn.IFNA(IF(J4421>500,\"ומעלה 500\",VLOOKUP(J4421,טבלה1[#All],2,0)),\"\")","v":""}]
[null,null,null,null,null,null,null,null,null,null,null,{"$f":"_xlfn.IFNA(IF(J4425>500,\"ומעלה 500\",VLOOKUP(J4425,טבלה1[#All],2,0)),\"\")","v":""}]
[null,null,null,null,null,null,null,null,null,null,null,{"$f":"_xlfn.IFNA(IF(J4441>500,\"ומעלה 500\",VLOOKUP(J4441,טבלה1[#All],2,0)),\"\")","v":""}]
[null,null,null,null,null,null,null,null,null,null,null,{"$f":"_xlfn.IFNA(IF(J4444>500,\"ומעלה 500\",VLOOKUP(J4444,טבלה1[#All],2,0)),\"\")","v":""}]
[null,null,null,null,null,null,null,null,null,null,null,{"$f":"_xlfn.IFNA(IF(J4452>500,\"ומעלה 500\",VLOOKUP(J4452,טבלה1[#All],2,0)),\"\")","v":""}]
[null,null,null,null,null,null,null,null,null,null,null,{"$f":"_xlfn.IFNA(IF(J4462>500,\"ומעלה 500\",VLOOKUP(J4462,טבלה1[#All],2,0)),\"\")","v":""}]
[null,null,null,null,null,null,null,null,null,null,null,{"$f":"_xlfn.IFNA(IF(J4474>500,\"ומעלה 500\",VLOOKUP(J4474,טבלה1[#All],2,0)),\"\")","v":""}]
[null,null,null,null,null,null,null,null,null,null,null,{"$f":"_xlfn.IFNA(IF(J4481>500,\"ומעלה 500\",VLOOKUP(J4481,טבלה1[#All],2,0)),\"\")","v":""}]
[null,null,null,null,null,null,null,null,null,null,null,{"$f":"_xlfn.IFNA(IF(J4491>500,\"ומעלה 500\",VLOOKUP(J4491,טבלה1[#All],2,0)),\"\")","v":""}]
[null,null,null,null,null,null,null,null,null,null,null,{"$f":"_xlfn.IFNA(IF(J4495>500,\"ומעלה 500\",VLOOKUP(J4495,טבלה1[#All],2,0)),\"\")","v":""}]
[null,null,null,null,null,null,null,null,null,null,null,{"$f":"_xlfn.IFNA(IF(J4511>500,\"ומעלה 500\",VLOOKUP(J4511,טבלה1[#All],2,0)),\"\")","v":""}]
[null,null,null,null,null,null,null,null,null,null,null,{"$f":"_xlfn.IFNA(IF(J4514>500,\"ומעלה 500\",VLOOKUP(J4514,טבלה1[#All],2,0)),\"\")","v":""}]
[null,null,null,null,null,null,null,null,null,null,null,{"$f":"_xlfn.IFNA(IF(J4522>500,\"ומעלה 500\",VLOOKUP(J4522,טבלה1[#All],2,0)),\"\")","v":""}]
[null,null,null,null,null,null,null,null,null,null,null,{"$f":"_xlfn.IFNA(IF(J4532>500,\"ומעלה 500\",VLOOKUP(J4532,טבלה1[#All],2,0)),\"\")","v":""}]
[null,null,null,null,null,null,null,null,null,null,null,{"$f":"_xlfn.IFNA(IF(J4544>500,\"ומעלה 500\",VLOOKUP(J4544,טבלה1[#All],2,0)),\"\")","v":""}]
[null,null,null,null,null,null,null,null,null,null,null,{"$f":"_xlfn.IFNA(IF(J4551>500,\"ומעלה 500\",VLOOKUP(J4551,טבלה1[#All],2,0)),\"\")","v":""}]
[null,null,null,null,null,null,null,null,null,null,null,{"$f":"_xlfn.IFNA(IF(J4561>500,\"ומעלה 500\",VLOOKUP(J4561,טבלה1[#All],2,0)),\"\")","v":""}]
[null,null,null,null,null,null,null,null,null,null,null,{"$f":"_xlfn.IFNA(IF(J4565>500,\"ומעלה 500\",VLOOKUP(J4565,טבלה1[#All],2,0)),\"\")","v":""}]
[null,null,null,null,null,null,null,null,null,null,null,{"$f":"_xlfn.IFNA(IF(J4581>500,\"ומעלה 500\",VLOOKUP(J4581,טבלה1[#All],2,0)),\"\")","v":""}]
[null,null,null,null,null,null,null,null,null,null,null,{"$f":"_xlfn.IFNA(IF(J4584>500,\"ומעלה 500\",VLOOKUP(J4584,טבלה1[#All],2,0)),\"\")","v":""}]
[null,null,null,null,null,null,null,null,null,null,null,{"$f":"_xlfn.IFNA(IF(J4592>500,\"ומעלה 500\",VLOOKUP(J4592,טבלה1[#All],2,0)),\"\")","v":""}]
[null,null,null,null,null,null,null,null,null,null,null,{"$f":"_xlfn.IFNA(IF(J4602>500,\"ומעלה 500\",VLOOKUP(J4602,טבלה1[#All],2,0)),\"\")","v":""}]
[null,null,null,null,null,null,null,null,null,null,null,{"$f":"_xlfn.IFNA(IF(J4614>500,\"ומעלה 500\",VLOOKUP(J4614,טבלה1[#All],2,0)),\"\")","v":""}]
[null,null,null,null,null,null,null,null,null,null,null,{"$f":"_xlfn.IFNA(IF(J4621>500,\"ומעלה 500\",VLOOKUP(J4621,טבלה1[#All],2,0)),\"\")","v":""}]
[null,null,null,null,null,null,null,null,null,null,null,{"$f":"_xlfn.IFNA(IF(J4631>500,\"ומעלה 500\",VLOOKUP(J4631,טבלה1[#All],2,0)),\"\")","v":""}]
[null,null,null,null,null,null,null,null,null,null,null,{"$f":"_xlfn.IFNA(IF(J4635>500,\"ומעלה 500\",VLOOKUP(J4635,טבלה1[#All],2,0)),\"\")","v":""}]
[null,null,null,null,null,null,null,null,null,null,null,{"$f":"_xlfn.IFNA(IF(J4651>500,\"ומעלה 500\",VLOOKUP(J4651,טבלה1[#All],2,0)),\"\")","v":""}]
[null,null,null,null,null,null,null,null,null,null,null,{"$f":"_xlfn.IFNA(IF(J4654>500,\"ומעלה 500\",VLOOKUP(J4654,טבלה1[#All],2,0)),\"\")","v":""}]
[null,null,null,null,null,null,null,null,null,null,null,{"$f":"_xlfn.IFNA(IF(J4662>500,\"ומעלה 500\",VLOOKUP(J4662,טבלה1[#All],2,0)),\"\")","v":""}]
[null,null,null,null,null,null,null,null,null,null,null,{"$f":"_xlfn.IFNA(IF(J4672>500,\"ומעלה 500\",VLOOKUP(J4672,טבלה1[#All],2,0)),\"\")","v":""}]
[null,null,null,null,null,null,null,null,null,null,null,{"$f":"_xlfn.IFNA(IF(J4684>500,\"ומעלה 500\",VLOOKUP(J4684,טבלה1[#All],2,0)),\"\")","v":""}]
[null,null,null,null,null,null,null,null,null,null,null,{"$f":"_xlfn.IFNA(IF(J4691>500,\"ומעלה 500\",VLOOKUP(J4691,טבלה1[#All],2,0)),\"\")","v":""}]
[null,null,null,null,null,null,null,null,null,null,null,{"$f":"_xlfn.IFNA(IF(J4701>500,\"ומעלה 500\",VLOOKUP(J4701,טבלה1[#All],2,0)),\"\")","v":""}]
[null,null,null,null,null,null,null,null,null,null,null,{"$f":"_xlfn.IFNA(IF(J4709>500,\"ומעלה 500\",VLOOKUP(J4709,טבלה1[#All],2,0)),\"\")","v":""}]
[null,null,null,null,null,null,null,null,null,null,null,{"$f":"_xlfn.IFNA(IF(J4721>500,\"ומעלה 500\",VLOOKUP(J4721,טבלה1[#All],2,0)),\"\")","v":""}]
[null,null,null,null,null,null,null,null,null,null,null,{"$f":"_xlfn.IFNA(IF(J4724>500,\"ומעלה 500\",VLOOKUP(J4724,טבלה1[#All],2,0)),\"\")","v":""}]
[null,null,null,null,null,null,null,null,null,null,null,{"$f":"_xlfn.IFNA(IF(J4732>500,\"ומעלה 500\",VLOOKUP(J4732,טבלה1[#All],2,0)),\"\")","v":""}]
[null,null,null,null,null,null,null,null,null,null,null,{"$f":"_xlfn.IFNA(IF(J4742>500,\"ומעלה 500\",VLOOKUP(J4742,טבלה1[#All],2,0)),\"\")","v":""}]
[null,null,null,null,null,null,null,null,null,null,null,{"$f":"_xlfn.IFNA(IF(J4754>500,\"ומעלה 500\",VLOOKUP(J4754,טבלה1[#All],2,0)),\"\")","v":""}]
[null,null,null,null,null,null,null,null,null,null,null,{"$f":"_xlfn.IFNA(IF(J4761>500,\"ומעלה 500\",VLOOKUP(J4761,טבלה1[#All],2,0)),\"\")","v":""}]
[null,null,null,null,null,null,null,null,null,null,null,{"$f":"_xlfn.IFNA(IF(J4771>500,\"ומעלה 500\",VLOOKUP(J4771,טבלה1[#All],2,0)),\"\")","v":""}]
[null,null,null,null,null,null,null,null,null,null,null,{"$f":"_xlfn.IFNA(IF(J4779>500,\"ומעלה 500\",VLOOKUP(J4779,טבלה1[#All],2,0)),\"\")","v":""}]
[null,null,null,null,null,null,null,null,null,null,null,{"$f":"_xlfn.IFNA(IF(J4791>500,\"ומעלה 500\",VLOOKUP(J4791,טבלה1[#All],2,0)),\"\")","v":""}]
[null,null,null,null,null,null,null,null,null,null,null,{"$f":"_xlfn.IFNA(IF(J4794>500,\"ומעלה 500\",VLOOKUP(J4794,טבלה1[#All],2,0)),\"\")","v":""}]
[null,null,null,null,null,null,null,null,null,null,null,{"$f":"_xlfn.IFNA(IF(J4802>500,\"ומעלה 500\",VLOOKUP(J4802,טבלה1[#All],2,0)),\"\")","v":""}]
[null,null,null,null,null,null,null,null,null,null,null,{"$f":"_xlfn.IFNA(IF(J4812>500,\"ומעלה 500\",VLOOKUP(J4812,טבלה1[#All],2,0)),\"\")","v":""}]
[null,null,null,null,null,null,null,null,null,null,null,{"$f":"_xlfn.IFNA(IF(J4824>500,\"ומעלה 500\",VLOOKUP(J4824,טבלה1[#All],2,0)),\"\")","v":""}]
[null,null,null,null,null,null,null,null,null,null,null,{"$f":"_xlfn.IFNA(IF(J4831>500,\"ומעלה 500\",VLOOKUP(J4831,טבלה1[#All],2,0)),\"\")","v":""}]
[null,null,null,null,null,null,null,null,null,null,null,{"$f":"_xlfn.IFNA(IF(J4841>500,\"ומעלה 500\",VLOOKUP(J4841,טבלה1[#All],2,0)),\"\")","v":""}]
[null,null,null,null,null,null,null,null,null,null,null,{"$f":"_xlfn.IFNA(IF(J4849>500,\"ומעלה 500\",VLOOKUP(J4849,טבלה1[#All],2,0)),\"\")","v":""}]
[null,null,null,null,null,null,null,null,null,null,null,{"$f":"_xlfn.IFNA(IF(J4861>500,\"ומעלה 500\",VLOOKUP(J4861,טבלה1[#All],2,0)),\"\")","v":""}]
[null,null,null,null,null,null,null,null,null,null,null,{"$f":"_xlfn.IFNA(IF(J4864>500,\"ומעלה 500\",VLOOKUP(J4864,טבלה1[#All],2,0)),\"\")","v":""}]
[null,null,null,null,null,null,null,null,null,null,null,{"$f":"_xlfn.IFNA(IF(J4872>500,\"ומעלה 500\",VLOOKUP(J4872,טבלה1[#All],2,0)),\"\")","v":""}]
[null,null,null,null,null,null,null,null,null,null,null,{"$f":"_xlfn.IFNA(IF(J4882>500,\"ומעלה 500\",VLOOKUP(J4882,טבלה1[#All],2,0)),\"\")","v":""}]
[null,null,null,null,null,null,null,null,null,null,null,{"$f":"_xlfn.IFNA(IF(J4889>500,\"ומעלה 500\",VLOOKUP(J4889,טבלה1[#All],2,0)),\"\")","v":""}]
[null,null,null,null,null,null,null,null,null,null,null,{"$f":"_xlfn.IFNA(IF(J4901>500,\"ומעלה 500\",VLOOKUP(J4901,טבלה1[#All],2,0)),\"\")","v":""}]
[null,null,null,null,null,null,null,null,null,null,null,{"$f":"_xlfn.IFNA(IF(J4911>500,\"ומעלה 500\",VLOOKUP(J4911,טבלה1[#All],2,0)),\"\")","v":""}]
[null,null,null,null,null,null,null,null,null,null,null,{"$f":"_xlfn.IFNA(IF(J4919>500,\"ומעלה 500\",VLOOKUP(J4919,טבלה1[#All],2,0)),\"\")","v":""}]
[null,null,null,null,null,null,null,null,null,null,null,{"$f":"_xlfn.IFNA(IF(J4931>500,\"ומעלה 500\",VLOOKUP(J4931,טבלה1[#All],2,0)),\"\")","v":""}]
[null,null,null,null,null,null,null,null,null,null,null,{"$f":"_xlfn.IFNA(IF(J4934>500,\"ומעלה 500\",VLOOKUP(J4934,טבלה1[#All],2,0)),\"\")","v":""}]
[null,null,null,null,null,null,null,null,null,null,null,{"$f":"_xlfn.IFNA(IF(J4942>500,\"ומעלה 500\",VLOOKUP(J4942,טבלה1[#All],2,0)),\"\")","v":""}]
[null,null,null,null,null,null,null,null,null,null,null,{"$f":"_xlfn.IFNA(IF(J4952>500,\"ומעלה 500\",VLOOKUP(J4952,טבלה1[#All],2,0)),\"\")","v":""}]
[null,null,null,null,null,null,null,null,null,null,null,{"$f":"_xlfn.IFNA(IF(J4959>500,\"ומעלה 500\",VLOOKUP(J4959,טבלה1[#All],2,0)),\"\")","v":""}]
[null,null,null,null,null,null,null,null,null,null,null,{"$f":"_xlfn.IFNA(IF(J4971>500,\"ומעלה 500\",VLOOKUP(J4971,טבלה1[#All],2,0)),\"\")","v":""}]
[null,null,null,null,null,null,null,null,null,null,null,{"$f":"_xlfn.IFNA(IF(J4981>500,\"ומעלה 500\",VLOOKUP(J4981,טבלה1[#All],2,0)),\"\")","v":""}]
[null,null,null,null,null,null,null,null,null,null,null,{"$f":"_xlfn.IFNA(IF(J4989>500,\"ומעלה 500\",VLOOKUP(J4989,טבלה1[#All],2,0)),\"\")","v":""}]
[null,null,null,null,null,null,null,null,null,null,null,{"$f":"_xlfn.IFNA(IF(J5001>500,\"ומעלה 500\",VLOOKUP(J5001,טבלה1[#All],2,0)),\"\")","v":""}]
[null,null,null,null,null,null,null,null,null,null,null,{"$f":"_xlfn.IFNA(IF(J5008>500,\"ומעלה 500\",VLOOKUP(J5008,טבלה1[#All],2,0)),\"\")","v":""}]
[null,null,null,null,null,null,null,null,null,null,null,{"$f":"_xlfn.IFNA(IF(J5012>500,\"ומעלה 500\",VLOOKUP(J5012,טבלה1[#All],2,0)),\"\")","v":""}]
[null,null,null,null,null,null,null,null,null,null,null,{"$f":"_xlfn.IFNA(IF(J5022>500,\"ומעלה 500\",VLOOKUP(J5022,טבלה1[#All],2,0)),\"\")","v":""}]
[null,null,null,null,null,null,null,null,null,null,null,{"$f":"_xlfn.IFNA(IF(J5029>500,\"ומעלה 500\",VLOOKUP(J5029,טבלה1[#All],2,0)),\"\")","v":""}]
[null,null,null,null,null,null,null,null,null,null,null,{"$f":"_xlfn.IFNA(IF(J5041>500,\"ומעלה 500\",VLOOKUP(J5041,טבלה1[#All],2,0)),\"\")","v":""}]
[null,null,null,null,null,null,null,null,null,null,null,{"$f":"_xlfn.IFNA(IF(J5051>500,\"ומעלה 500\",VLOOKUP(J5051,טבלה1[#All],2,0)),\"\")","v":""}]
[null,null,null,null,null,null,null,null,null,null,null,{"$f":"_xlfn.IFNA(IF(J5059>500,\"ומעלה 500\",VLOOKUP(J5059,טבלה1[#All],2,0)),\"\")","v":""}]
[null,null,null,null,null,null,null,null,null,null,null,{"$f":"_xlfn.IFNA(IF(J5071>500,\"ומעלה 500\",VLOOKUP(J5071,טבלה1[#All],2,0)),\"\")","v":""}]
[null,null,null,null,null,null,null,null,null,null,null,{"$f":"_xlfn.IFNA(IF(J5078>500,\"ומעלה 500\",VLOOKUP(J5078,טבלה1[#All],2,0)),\"\")","v":""}]
[null,null,null,null,null,null,null,null,null,null,null,{"$f":"_xlfn.IFNA(IF(J5082>500,\"ומעלה 500\",VLOOKUP(J5082,טבלה1[#All],2,0)),\"\")","v":""}]
[null,null,null,null,null,null,null,null,null,null,null,{"$f":"_xlfn.IFNA(IF(J5092>500,\"ומעלה 500\",VLOOKUP(J5092,טבלה1[#All],2,0)),\"\")","v":""}]
[null,null,null,null,null,null,null,null,null,null,null,{"$f":"_xlfn.IFNA(IF(J5099>500,\"ומעלה 500\",VLOOKUP(J5099,טבלה1[#All],2,0)),\"\")","v":""}]
[null,null,null,null,null,null,null,null,null,null,null,{"$f":"_xlfn.IFNA(IF(J5111>500,\"ומעלה 500\",VLOOKUP(J5111,טבלה1[#All],2,0)),\"\")","v":""}]
[null,null,null,null,null,null,null,null,null,null,null,{"$f":"_xlfn.IFNA(IF(J5121>500,\"ומעלה 500\",VLOOKUP(J5121,טבלה1[#All],2,0)),\"\")","v":""}]
[null,null,null,null,null,null,null,null,null,null,null,{"$f":"_xlfn.IFNA(IF(J5129>500,\"ומעלה 500\",VLOOKUP(J5129,טבלה1[#All],2,0)),\"\")","v":""}]
[null,null,null,null,null,null,null,null,null,null,null,{"$f":"_xlfn.IFNA(IF(J5141>500,\"ומעלה 500\",VLOOKUP(J5141,טבלה1[#All],2,0)),\"\")","v":""}]
[null,null,null,null,null,null,null,null,null,null,null,{"$f":"_xlfn.IFNA(IF(J5148>500,\"ומעלה 500\",VLOOKUP(J5148,טבלה1[#All],2,0)),\"\")","v":""}]
[null,null,null,null,null,null,null,null,null,null,null,{"$f":"_xlfn.IFNA(IF(J5152>500,\"ומעלה 500\",VLOOKUP(J5152,טבלה1[#All],2,0)),\"\")","v":""}]
[null,null,null,null,null,null,null,null,null,null,null,{"$f":"_xlfn.IFNA(IF(J5162>500,\"ומעלה 500\",VLOOKUP(J5162,טבלה1[#All],2,0)),\"\")","v":""}]
[null,null,null,null,null,null,null,null,null,null,null,{"$f":"_xlfn.IFNA(IF(J5169>500,\"ומעלה 500\",VLOOKUP(J5169,טבלה1[#All],2,0)),\"\")","v":""}]
[null,null,null,null,null,null,null,null,null,null,null,{"$f":"_xlfn.IFNA(IF(J5181>500,\"ומעלה 500\",VLOOKUP(J5181,טבלה1[#All],2,0)),\"\")","v":""}]
[null,null,null,null,null,null,null,null,null,null,null,{"$f":"_xlfn.IFNA(IF(J5191>500,\"ומעלה 500\",VLOOKUP(J5191,טבלה1[#All],2,0)),\"\")","v":""}]
[null,null,null,null,null,null,null,null,null,null,null,{"$f":"_xlfn.IFNA(IF(J5199>500,\"ומעלה 500\",VLOOKUP(J5199,טבלה1[#All],2,0)),\"\")","v":""}]
[null,null,null,null,null,null,null,null,null,null,null,{"$f":"_xlfn.IFNA(IF(J5211>500,\"ומעלה 500\",VLOOKUP(J5211,טבלה1[#All],2,0)),\"\")","v":""}]
[null,null,null,null,null,null,null,null,null,null,null,{"$f":"_xlfn.IFNA(IF(J5218>500,\"ומעלה 500\",VLOOKUP(J5218,טבלה1[#All],2,0)),\"\")","v":""}]
[null,null,null,null,null,null,null,null,null,null,null,{"$f":"_xlfn.IFNA(IF(J5222>500,\"ומעלה 500\",VLOOKUP(J5222,טבלה1[#All],2,0)),\"\")","v":""}]
[null,null,null,null,null,null,null,null,null,null,null,{"$f":"_xlfn.IFNA(IF(J5232>500,\"ומעלה 500\",VLOOKUP(J5232,טבלה1[#All],2,0)),\"\")","v":""}]
[null,null,null,null,null,null,null,null,null,null,null,{"$f":"_xlfn.IFNA(IF(J5239>500,\"ומעלה 500\",VLOOKUP(J5239,טבלה1[#All],2,0)),\"\")","v":""}]
[null,null,null,null,null,null,null,null,null,null,null,{"$f":"_xlfn.IFNA(IF(J5251>500,\"ומעלה 500\",VLOOKUP(J5251,טבלה1[#All],2,0)),\"\")","v":""}]
[null,null,null,null,null,null,null,null,null,null,null,{"$f":"_xlfn.IFNA(IF(J5261>500,\"ומעלה 500\",VLOOKUP(J5261,טבלה1[#All],2,0)),\"\")","v":""}]
[null,null,null,null,null,null,null,null,null,null,null,{"$f":"_xlfn.IFNA(IF(J5269>500,\"ומעלה 500\",VLOOKUP(J5269,טבלה1[#All],2,0)),\"\")","v":""}]
[null,null,null,null,null,null,null,null,null,null,null,{"$f":"_xlfn.IFNA(IF(J5281>500,\"ומעלה 500\",VLOOKUP(J5281,טבלה1[#All],2,0)),\"\")","v":""}]
[null,null,null,null,null,null,null,null,null,null,null,{"$f":"_xlfn.IFNA(IF(J5288>500,\"ומעלה 500\",VLOOKUP(J5288,טבלה1[#All],2,0)),\"\")","v":""}]
[null,null,null,null,null,null,null,null,null,null,null,{"$f":"_xlfn.IFNA(IF(J5292>500,\"ומעלה 500\",VLOOKUP(J5292,טבלה1[#All],2,0)),\"\")","v":""}]
[null,null,null,null,null,null,null,null,null,null,null,{"$f":"_xlfn.IFNA(IF(J5306>500,\"ומעלה 500\",VLOOKUP(J5306,טבלה1[#All],2,0)),\"\")","v":""}]
[null,null,null,null,null,null,null,null,null,null,null,{"$f":"_xlfn.IFNA(IF(J5309>500,\"ומעלה 500\",VLOOKUP(J5309,טבלה1[#All],2,0)),\"\")","v":""}]
[null,null,null,null,null,null,null,null,null,null,null,{"$f":"_xlfn.IFNA(IF(J5321>500,\"ומעלה 500\",VLOOKUP(J5321,טבלה1[#All],2,0)),\"\")","v":""}]
[null,null,null,null,null,null,null,null,null,null,null,{"$f":"_xlfn.IFNA(IF(J5331>500,\"ומעלה 500\",VLOOKUP(J5331,טבלה1[#All],2,0)),\"\")","v":""}]
[null,null,null,null,null,null,null,null,null,null,null,{"$f":"_xlfn.IFNA(IF(J5339>500,\"ומעלה 500\",VLOOKUP(J5339,טבלה1[#All],2,0)),\"\")","v":""}]
[null,null,null,null,null,null,null,null,null,null,null,{"$f":"_xlfn.IFNA(IF(J5351>500,\"ומעלה 500\",VLOOKUP(J5351,טבלה1[#All],2,0)),\"\")","v":""}]
[null,null,null,null,null,null,null,null,null,null,null,{"$f":"_xlfn.IFNA(IF(J5358>500,\"ומעלה 500\",VLOOKUP(J5358,טבלה1[#All],2,0)),\"\")","v":""}]
[null,null,null,null,null,null,null,null,null,null,null,{"$f":"_xlfn.IFNA(IF(J5362>500,\"ומעלה 500\",VLOOKUP(J5362,טבלה1[#All],2,0)),\"\")","v":""}]
[null,null,null,null,null,null,null,null,null,null,null,{"$f":"_xlfn.IFNA(IF(J5376>500,\"ומעלה 500\",VLOOKUP(J5376,טבלה1[#All],2,0)),\"\")","v":""}]
[null,null,null,null,null,null,null,null,null,null,null,{"$f":"_xlfn.IFNA(IF(J5379>500,\"ומעלה 500\",VLOOKUP(J5379,טבלה1[#All],2,0)),\"\")","v":""}]
[null,null,null,null,null,null,null,null,null,null,null,{"$f":"_xlfn.IFNA(IF(J5391>500,\"ומעלה 500\",VLOOKUP(J5391,טבלה1[#All],2,0)),\"\")","v":""}]
[null,null,null,null,null,null,null,null,null,null,null,{"$f":"_xlfn.IFNA(IF(J5401>500,\"ומעלה 500\",VLOOKUP(J5401,טבלה1[#All],2,0)),\"\")","v":""}]
[null,null,null,null,null,null,null,null,null,null,null,{"$f":"_xlfn.IFNA(IF(J5409>500,\"ומעלה 500\",VLOOKUP(J5409,טבלה1[#All],2,0)),\"\")","v":""}]
[null,null,null,null,null,null,null,null,null,null,null,{"$f":"_xlfn.IFNA(IF(J5421>500,\"ומעלה 500\",VLOOKUP(J5421,טבלה1[#All],2,0)),\"\")","v":""}]
[null,null,null,null,null,null,null,null,null,null,null,{"$f":"_xlfn.IFNA(IF(J5428>500,\"ומעלה 500\",VLOOKUP(J5428,טבלה1[#All],2,0)),\"\")","v":""}]
[null,null,null,null,null,null,null,null,null,null,null,{"$f":"_xlfn.IFNA(IF(J5432>500,\"ומעלה 500\",VLOOKUP(J5432,טבלה1[#All],2,0)),\"\")","v":""}]
[null,null,null,null,null,null,null,null,null,null,null,{"$f":"_xlfn.IFNA(IF(J5446>500,\"ומעלה 500\",VLOOKUP(J5446,טבלה1[#All],2,0)),\"\")","v":""}]
[null,null,null,null,null,null,null,null,null,null,null,{"$f":"_xlfn.IFNA(IF(J5449>500,\"ומעלה 500\",VLOOKUP(J5449,טבלה1[#All],2,0)),\"\")","v":""}]
[null,null,null,null,null,null,null,null,null,null,null,{"$f":"_xlfn.IFNA(IF(J5461>500,\"ומעלה 500\",VLOOKUP(J5461,טבלה1[#All],2,0)),\"\")","v":""}]
[null,null,null,null,null,null,null,null,null,null,null,{"$f":"_xlfn.IFNA(IF(J5471>500,\"ומעלה 500\",VLOOKUP(J5471,טבלה1[#All],2,0)),\"\")","v":""}]
[null,null,null,null,null,null,null,null,null,null,null,{"$f":"_xlfn.IFNA(IF(J5479>500,\"ומעלה 500\",VLOOKUP(J5479,טבלה1[#All],2,0)),\"\")","v":""}]
[null,null,null,null,null,null,null,null,null,null,null,{"$f":"_xlfn.IFNA(IF(J5486>500,\"ומעלה 500\",VLOOKUP(J5486,טבלה1[#All],2,0)),\"\")","v":""}]
[null,null,null,null,null,null,null,null,null,null,null,{"$f":"_xlfn.IFNA(IF(J5498>500,\"ומעלה 500\",VLOOKUP(J5498,טבלה1[#All],2,0)),\"\")","v":""}]
[null,null,null,null,null,null,null,null,null,null,null,{"$f":"_xlfn.IFNA(IF(J5502>500,\"ומעלה 500\",VLOOKUP(J5502,טבלה1[#All],2,0)),\"\")","v":""}]
[null,null,null,null,null,null,null,null,null,null,null,{"$f":"_xlfn.IFNA(IF(J5516>500,\"ומעלה 500\",VLOOKUP(J5516,טבלה1[#All],2,0)),\"\")","v":""}]
[null,null,null,null,null,null,null,null,null,null,null,{"$f":"_xlfn.IFNA(IF(J5519>500,\"ומעלה 500\",VLOOKUP(J5519,טבלה1[#All],2,0)),\"\")","v":""}]
[null,null,null,null,null,null,null,null,null,null,null,{"$f":"_xlfn.IFNA(IF(J5531>500,\"ומעלה 500\",VLOOKUP(J5531,טבלה1[#All],2,0)),\"\")","v":""}]
[null,null,null,null,null,null,null,null,null,null,null,{"$f":"_xlfn.IFNA(IF(J5541>500,\"ומעלה 500\",VLOOKUP(J5541,טבלה1[#All],2,0)),\"\")","v":""}]
[null,null,null,null,null,null,null,null,null,null,null,{"$f":"_xlfn.IFNA(IF(J5549>500,\"ומעלה 500\",VLOOKUP(J5549,טבלה1[#All],2,0)),\"\")","v":""}]
[null,null,null,null,null,null,null,null,null,null,null,{"$f":"_xlfn.IFNA(IF(J5556>500,\"ומעלה 500\",VLOOKUP(J5556,טבלה1[#All],2,0)),\"\")","v":""}]
[null,null,null,null,null,null,null,null,null,null,null,{"$f":"_xlfn.IFNA(IF(J5568>500,\"ומעלה 500\",VLOOKUP(J5568,טבלה1[#All],2,0)),\"\")","v":""}]
[null,null,null,null,null,null,null,null,null,null,null,{"$f":"_xlfn.IFNA(IF(J5572>500,\"ומעלה 500\",VLOOKUP(J5572,טבלה1[#All],2,0)),\"\")","v":""}]
[null,null,null,null,null,null,null,null,null,null,null,{"$f":"_xlfn.IFNA(IF(J5586>500,\"ומעלה 500\",VLOOKUP(J5586,טבלה1[#All],2,0)),\"\")","v":""}]
[null,null,null,null,null,null,null,null,null,null,null,{"$f":"_xlfn.IFNA(IF(J5589>500,\"ומעלה 500\",VLOOKUP(J5589,טבלה1[#All],2,0)),\"\")","v":""}]
[null,null,null,null,null,null,null,null,null,null,null,{"$f":"_xlfn.IFNA(IF(J5601>500,\"ומעלה 500\",VLOOKUP(J5601,טבלה1[#All],2,0)),\"\")","v":""}]
[null,null,null,null,null,null,null,null,null,null,null,{"$f":"_xlfn.IFNA(IF(J5611>500,\"ומעלה 500\",VLOOKUP(J5611,טבלה1[#All],2,0)),\"\")","v":""}]
[null,null,null,null,null,null,null,null,null,null,null,{"$f":"_xlfn.IFNA(IF(J5619>500,\"ומעלה 500\",VLOOKUP(J5619,טבלה1[#All],2,0)),\"\")","v":""}]
[null,null,null,null,null,null,null,null,null,null,null,{"$f":"_xlfn.IFNA(IF(J5626>500,\"ומעלה 500\",VLOOKUP(J5626,טבלה1[#All],2,0)),\"\")","v":""}]
[null,null,null,null,null,null,null,null,null,null,null,{"$f":"_xlfn.IFNA(IF(J5638>500,\"ומעלה 500\",VLOOKUP(J5638,טבלה1[#All],2,0)),\"\")","v":""}]
[null,null,null,null,null,null,null,null,null,null,null,{"$f":"_xlfn.IFNA(IF(J5642>500,\"ומעלה 500\",VLOOKUP(J5642,טבלה1[#All],2,0)),\"\")","v":""}]
[null,null,null,null,null,null,null,null,null,null,null,{"$f":"_xlfn.IFNA(IF(J5656>500,\"ומעלה 500\",VLOOKUP(J5656,טבלה1[#All],2,0)),\"\")","v":""}]
[null,null,null,null,null,null,null,null,null,null,null,{"$f":"_xlfn.IFNA(IF(J5659>500,\"ומעלה 500\",VLOOKUP(J5659,טבלה1[#All],2,0)),\"\")","v":""}]
[null,null,null,null,null,null,null,null,null,null,null,{"$f":"_xlfn.IFNA(IF(J5675>500,\"ומעלה 500\",VLOOKUP(J5675,טבלה1[#All],2,0)),\"\")","v":""}]
[null,null,null,null,null,null,null,null,null,null,null,{"$f":"_xlfn.IFNA(IF(J5681>500,\"ומעלה 500\",VLOOKUP(J5681,טבלה1[#All],2,0)),\"\")","v":""}]
[null,null,null,null,null,null,null,null,null,null,null,{"$f":"_xlfn.IFNA(IF(J5689>500,\"ומעלה 500\",VLOOKUP(J5689,טבלה1[#All],2,0)),\"\")","v":""}]
[null,null,null,null,null,null,null,null,null,null,null,{"$f":"_xlfn.IFNA(IF(J5696>500,\"ומעלה 500\",VLOOKUP(J5696,טבלה1[#All],2,0)),\"\")","v":""}]
[null,null,null,null,null,null,null,null,null,null,null,{"$f":"_xlfn.IFNA(IF(J5708>500,\"ומעלה 500\",VLOOKUP(J5708,טבלה1[#All],2,0)),\"\")","v":""}]
[null,null,null,null,null,null,null,null,null,null,null,{"$f":"_xlfn.IFNA(IF(J5712>500,\"ומעלה 500\",VLOOKUP(J5712,טבלה1[#All],2,0)),\"\")","v":""}]
[null,null,null,null,null,null,null,null,null,null,null,{"$f":"_xlfn.IFNA(IF(J5726>500,\"ומעלה 500\",VLOOKUP(J5726,טבלה1[#All],2,0)),\"\")","v":""}]
[null,null,null,null,null,null,null,null,null,null,null,{"$f":"_xlfn.IFNA(IF(J5729>500,\"ומעלה 500\",VLOOKUP(J5729,טבלה1[#All],2,0)),\"\")","v":""}]
[null,null,null,null,null,null,null,null,null,null,null,{"$f":"_xlfn.IFNA(IF(J5745>500,\"ומעלה 500\",VLOOKUP(J5745,טבלה1[#All],2,0)),\"\")","v":""}]
[null,null,null,null,null,null,null,null,null,null,null,{"$f":"_xlfn.IFNA(IF(J5751>500,\"ומעלה 500\",VLOOKUP(J5751,טבלה1[#All],2,0)),\"\")","v":""}]
[null,null,null,null,null,null,null,null,null,null,null,{"$f":"_xlfn.IFNA(IF(J5759>500,\"ומעלה 500\",VLOOKUP(J5759,טבלה1[#All],2,0)),\"\")","v":""}]
[null,null,null,null,null,null,null,null,null,null,null,{"$f":"_xlfn.IFNA(IF(J5766>500,\"ומעלה 500\",VLOOKUP(J5766,טבלה1[#All],2,0)),\"\")","v":""}]
[null,null,null,null,null,null,null,null,null,null,null,{"$f":"_xlfn.IFNA(IF(J5778>500,\"ומעלה 500\",VLOOKUP(J5778,טבלה1[#All],2,0)),\"\")","v":""}]
[null,null,null,null,null,null,null,null,null,null,null,{"$f":"_xlfn.IFNA(IF(J5782>500,\"ומעלה 500\",VLOOKUP(J5782,טבלה1[#All],2,0)),\"\")","v":""}]
[null,null,null,null,null,null,null,null,null,null,null,{"$f":"_xlfn.IFNA(IF(J5796>500,\"ומעלה 500\",VLOOKUP(J5796,טבלה1[#All],2,0)),\"\")","v":""}]
[null,null,null,null,null,null,null,null,null,null,null,{"$f":"_xlfn.IFNA(IF(J5799>500,\"ומעלה 500\",VLOOKUP(J5799,טבלה1[#All],2,0)),\"\")","v":""}]
[null,null,null,null,null,null,null,null,null,null,null,{"$f":"_xlfn.IFNA(IF(J5815>500,\"ומעלה 500\",VLOOKUP(J5815,טבלה1[#All],2,0)),\"\")","v":""}]
[null,null,null,null,null,null,null,null,null,null,null,{"$f":"_xlfn.IFNA(IF(J5821>500,\"ומעלה 500\",VLOOKUP(J5821,טבלה1[#All],2,0)),\"\")","v":""}]
[null,null,null,null,null,null,null,null,null,null,null,{"$f":"_xlfn.IFNA(IF(J5829>500,\"ומעלה 500\",VLOOKUP(J5829,טבלה1[#All],2,0)),\"\")","v":""}]
[null,null,null,null,null,null,null,null,null,null,null,{"$f":"_xlfn.IFNA(IF(J5836>500,\"ומעלה 500\",VLOOKUP(J5836,טבלה1[#All],2,0)),\"\")","v":""}]
[null,null,null,null,null,null,null,null,null,null,null,{"$f":"_xlfn.IFNA(IF(J5848>500,\"ומעלה 500\",VLOOKUP(J5848,טבלה1[#All],2,0)),\"\")","v":""}]
[null,null,null,null,null,null,null,null,null,null,null,{"$f":"_xlfn.IFNA(IF(J5852>500,\"ומעלה 500\",VLOOKUP(J5852,טבלה1[#All],2,0)),\"\")","v":""}]
[null,null,null,null,null,null,null,null,null,null,null,{"$f":"_xlfn.IFNA(IF(J5866>500,\"ומעלה 500\",VLOOKUP(J5866,טבלה1[#All],2,0)),\"\")","v":""}]
[null,null,null,null,null,null,null,null,null,null,null,{"$f":"_xlfn.IFNA(IF(J5869>500,\"ומעלה 500\",VLOOKUP(J5869,טבלה1[#All],2,0)),\"\")","v":""}]
[null,null,null,null,null,null,null,null,null,null,null,{"$f":"_xlfn.IFNA(IF(J5885>500,\"ומעלה 500\",VLOOKUP(J5885,טבלה1[#All],2,0)),\"\")","v":""}]
[null,null,null,null,null,null,null,null,null,null,null,{"$f":"_xlfn.IFNA(IF(J5891>500,\"ומעלה 500\",VLOOKUP(J5891,טבלה1[#All],2,0)),\"\")","v":""}]
[null,null,null,null,null,null,null,null,null,null,null,{"$f":"_xlfn.IFNA(IF(J5899>500,\"ומעלה 500\",VLOOKUP(J5899,טבלה1[#All],2,0)),\"\")","v":""}]
[null,null,null,null,null,null,null,null,null,null,null,{"$f":"_xlfn.IFNA(IF(J5906>500,\"ומעלה 500\",VLOOKUP(J5906,טבלה1[#All],2,0)),\"\")","v":""}]
[null,null,null,null,null,null,null,null,null,null,null,{"$f":"_xlfn.IFNA(IF(J5918>500,\"ומעלה 500\",VLOOKUP(J5918,טבלה1[#All],2,0)),\"\")","v":""}]
[null,null,null,null,null,null,null,null,null,null,null,{"$f":"_xlfn.IFNA(IF(J5922>500,\"ומעלה 500\",VLOOKUP(J5922,טבלה1[#All],2,0)),\"\")","v":""}]
[null,null,null,null,null,null,null,null,null,null,null,{"$f":"_xlfn.IFNA(IF(J5936>500,\"ומעלה 500\",VLOOKUP(J5936,טבלה1[#All],2,0)),\"\")","v":""}]
[null,null,null,null,null,null,null,null,null,null,null,{"$f":"_xlfn.IFNA(IF(J5939>500,\"ומעלה 500\",VLOOKUP(J5939,טבלה1[#All],2,0)),\"\")","v":""}]
[null,null,null,null,null,null,null,null,null,null,null,{"$f":"_xlfn.IFNA(IF(J5955>500,\"ומעלה 500\",VLOOKUP(J5955,טבלה1[#All],2,0)),\"\")","v":""}]
[null,null,null,null,null,null,null,null,null,null,null,{"$f":"_xlfn.IFNA(IF(J5961>500,\"ומעלה 500\",VLOOKUP(J5961,טבלה1[#All],2,0)),\"\")","v":""}]
[null,null,null,null,null,null,null,null,null,null,null,{"$f":"_xlfn.IFNA(IF(J5964>500,\"ומעלה 500\",VLOOKUP(J5964,טבלה1[#All],2,0)),\"\")","v":""}]
[null,null,null,null,null,null,null,null,null,null,null,{"$f":"_xlfn.IFNA(IF(J5976>500,\"ומעלה 500\",VLOOKUP(J5976,טבלה1[#All],2,0)),\"\")","v":""}]
[null,null,null,null,null,null,null,null,null,null,null,{"$f":"_xlfn.IFNA(IF(J5988>500,\"ומעלה 500\",VLOOKUP(J5988,טבלה1[#All],2,0)),\"\")","v":""}]
[null,null,null,null,null,null,null,null,null,null,null,{"$f":"_xlfn.IFNA(IF(J5992>500,\"ומעלה 500\",VLOOKUP(J5992,טבלה1[#All],2,0)),\"\")","v":""}]
[null,null,null,null,null,null,null,null,null,null,null,{"$f":"_xlfn.IFNA(IF(J6006>500,\"ומעלה 500\",VLOOKUP(J6006,טבלה1[#All],2,0)),\"\")","v":""}]
[null,null,null,null,null,null,null,null,null,null,null,{"$f":"_xlfn.IFNA(IF(J6009>500,\"ומעלה 500\",VLOOKUP(J6009,טבלה1[#All],2,0)),\"\")","v":""}]
[null,null,null,null,null,null,null,null,null,null,null,{"$f":"_xlfn.IFNA(IF(J6025>500,\"ומעלה 500\",VLOOKUP(J6025,טבלה1[#All],2,0)),\"\")","v":""}]
[null,null,null,null,null,null,null,null,null,null,null,{"$f":"_xlfn.IFNA(IF(J6031>500,\"ומעלה 500\",VLOOKUP(J6031,טבלה1[#All],2,0)),\"\")","v":""}]
[null,null,null,null,null,null,null,null,null,null,null,{"$f":"_xlfn.IFNA(IF(J6034>500,\"ומעלה 500\",VLOOKUP(J6034,טבלה1[#All],2,0)),\"\")","v":""}]
[null,null,null,null,null,null,null,null,null,null,null,{"$f":"_xlfn.IFNA(IF(J6046>500,\"ומעלה 500\",VLOOKUP(J6046,טבלה1[#All],2,0)),\"\")","v":""}]
[null,null,null,null,null,null,null,null,null,null,null,{"$f":"_xlfn.IFNA(IF(J6058>500,\"ומעלה 500\",VLOOKUP(J6058,טבלה1[#All],2,0)),\"\")","v":""}]
[null,null,null,null,null,null,null,null,null,null,null,{"$f":"_xlfn.IFNA(IF(J6062>500,\"ומעלה 500\",VLOOKUP(J6062,טבלה1[#All],2,0)),\"\")","v":""}]
[null,null,null,null,null,null,null,null,null,null,null,{"$f":"_xlfn.IFNA(IF(J6076>500,\"ומעלה 500\",VLOOKUP(J6076,טבלה1[#All],2,0)),\"\")","v":""}]
[null,null,null,null,null,null,null,null,null,null,null,{"$f":"_xlfn.IFNA(IF(J6079>500,\"ומעלה 500\",VLOOKUP(J6079,טבלה1[#All],2,0)),\"\")","v":""}]
[null,null,null,null,null,null,null,null,null,null,null,{"$f":"_xlfn.IFNA(IF(J6095>500,\"ומעלה 500\",VLOOKUP(J6095,טבלה1[#All],2,0)),\"\")","v":""}]
[null,null,null,null,null,null,null,null,null,null,null,{"$f":"_xlfn.IFNA(IF(J6101>500,\"ומעלה 500\",VLOOKUP(J6101,טבלה1[#All],2,0)),\"\")","v":""}]
[null,null,null,null,null,null,null,null,null,null,null,{"$f":"_xlfn.IFNA(IF(J6104>500,\"ומעלה 500\",VLOOKUP(J6104,טבלה1[#All],2,0)),\"\")","v":""}]
[null,null,null,null,null,null,null,null,null,null,null,{"$f":"_xlfn.IFNA(IF(J6116>500,\"ומעלה 500\",VLOOKUP(J6116,טבלה1[#All],2,0)),\"\")","v":""}]
[null,null,null,null,null,null,null,null,null,null,null,{"$f":"_xlfn.IFNA(IF(J6128>500,\"ומעלה 500\",VLOOKUP(J6128,טבלה1[#All],2,0)),\"\")","v":""}]
[null,null,null,null,null,null,null,null,null,null,null,{"$f":"_xlfn.IFNA(IF(J6132>500,\"ומעלה 500\",VLOOKUP(J6132,טבלה1[#All],2,0)),\"\")","v":""}]
[null,null,null,null,null,null,null,null,null,null,null,{"$f":"_xlfn.IFNA(IF(J6146>500,\"ומעלה 500\",VLOOKUP(J6146,טבלה1[#All],2,0)),\"\")","v":""}]
[null,null,null,null,null,null,null,null,null,null,null,{"$f":"_xlfn.IFNA(IF(J6153>500,\"ומעלה 500\",VLOOKUP(J6153,טבלה1[#All],2,0)),\"\")","v":""}]
[null,null,null,null,null,null,null,null,null,null,null,{"$f":"_xlfn.IFNA(IF(J6165>500,\"ומעלה 500\",VLOOKUP(J6165,טבלה1[#All],2,0)),\"\")","v":""}]
[null,null,null,null,null,null,null,null,null,null,null,{"$f":"_xlfn.IFNA(IF(J6171>500,\"ומעלה 500\",VLOOKUP(J6171,טבלה1[#All],2,0)),\"\")","v":""}]
[null,null,null,null,null,null,null,null,null,null,null,{"$f":"_xlfn.IFNA(IF(J6174>500,\"ומעלה 500\",VLOOKUP(J6174,טבלה1[#All],2,0)),\"\")","v":""}]
[null,null,null,null,null,null,null,null,null,null,null,{"$f":"_xlfn.IFNA(IF(J6186>500,\"ומעלה 500\",VLOOKUP(J6186,טבלה1[#All],2,0)),\"\")","v":""}]
[null,null,null,null,null,null,null,null,null,null,null,{"$f":"_xlfn.IFNA(IF(J6198>500,\"ומעלה 500\",VLOOKUP(J6198,טבלה1[#All],2,0)),\"\")","v":""}]
[null,null,null,null,null,null,null,null,null,null,null,{"$f":"_xlfn.IFNA(IF(J6202>500,\"ומעלה 500\",VLOOKUP(J6202,טבלה1[#All],2,0)),\"\")","v":""}]
[null,null,null,null,null,null,null,null,null,null,null,{"$f":"_xlfn.IFNA(IF(J6216>500,\"ומעלה 500\",VLOOKUP(J6216,טבלה1[#All],2,0)),\"\")","v":""}]
[null,null,null,null,null,null,null,null,null,null,null,{"$f":"_xlfn.IFNA(IF(J6223>500,\"ומעלה 500\",VLOOKUP(J6223,טבלה1[#All],2,0)),\"\")","v":""}]
[null,null,null,null,null,null,null,null,null,null,null,{"$f":"_xlfn.IFNA(IF(J6235>500,\"ומעלה 500\",VLOOKUP(J6235,טבלה1[#All],2,0)),\"\")","v":""}]
[null,null,null,null,null,null,null,null,null,null,null,{"$f":"_xlfn.IFNA(IF(J6241>500,\"ומעלה 500\",VLOOKUP(J6241,טבלה1[#All],2,0)),\"\")","v":""}]
[null,null,null,null,null,null,null,null,null,null,null,{"$f":"_xlfn.IFNA(IF(J6244>500,\"ומעלה 500\",VLOOKUP(J6244,טבלה1[#All],2,0)),\"\")","v":""}]
[null,null,null,null,null,null,null,null,null,null,null,{"$f":"_xlfn.IFNA(IF(J6256>500,\"ומעלה 500\",VLOOKUP(J6256,טבלה1[#All],2,0)),\"\")","v":""}]
[null,null,null,null,null,null,null,null,null,null,null,{"$f":"_xlfn.IFNA(IF(J6263>500,\"ומעלה 500\",VLOOKUP(J6263,טבלה1[#All],2,0)),\"\")","v":""}]
[null,null,null,null,null,null,null,null,null,null,null,{"$f":"_xlfn.IFNA(IF(J6272>500,\"ומעלה 500\",VLOOKUP(J6272,טבלה1[#All],2,0)),\"\")","v":""}]
[null,null,null,null,null,null,null,null,null,null,null,{"$f":"_xlfn.IFNA(IF(J6286>500,\"ומעלה 500\",VLOOKUP(J6286,טבלה1[#All],2,0)),\"\")","v":""}]
[null,null,null,null,null,null,null,null,null,null,null,{"$f":"_xlfn.IFNA(IF(J6293>500,\"ומעלה 500\",VLOOKUP(J6293,טבלה1[#All],2,0)),\"\")","v":""}]
[null,null,null,null,null,null,null,null,null,null,null,{"$f":"_xlfn.IFNA(IF(J6305>500,\"ומעלה 500\",VLOOKUP(J6305,טבלה1[#All],2,0)),\"\")","v":""}]
[null,null,null,null,null,null,null,null,null,null,null,{"$f":"_xlfn.IFNA(IF(J6311>500,\"ומעלה 500\",VLOOKUP(J6311,טבלה1[#All],2,0)),\"\")","v":""}]
[null,null,null,null,null,null,null,null,null,null,null,{"$f":"_xlfn.IFNA(IF(J6314>500,\"ומעלה 500\",VLOOKUP(J6314,טבלה1[#All],2,0)),\"\")","v":""}]
[null,null,null,null,null,null,null,null,null,null,null,{"$f":"_xlfn.IFNA(IF(J6326>500,\"ומעלה 500\",VLOOKUP(J6326,טבלה1[#All],2,0)),\"\")","v":""}]
[null,null,null,null,null,null,null,null,null,null,null,{"$f":"_xlfn.IFNA(IF(J6333>500,\"ומעלה 500\",VLOOKUP(J6333,טבלה1[#All],2,0)),\"\")","v":""}]
[null,null,null,null,null,null,null,null,null,null,null,{"$f":"_xlfn.IFNA(IF(J6342>500,\"ומעלה 500\",VLOOKUP(J6342,טבלה1[#All],2,0)),\"\")","v":""}]
[null,null,null,null,null,null,null,null,null,null,null,{"$f":"_xlfn.IFNA(IF(J6356>500,\"ומעלה 500\",VLOOKUP(J6356,טבלה1[#All],2,0)),\"\")","v":""}]
[null,null,null,null,null,null,null,null,null,null,null,{"$f":"_xlfn.IFNA(IF(J6363>500,\"ומעלה 500\",VLOOKUP(J6363,טבלה1[#All],2,0)),\"\")","v":""}]
[null,null,null,null,null,null,null,null,null,null,null,{"$f":"_xlfn.IFNA(IF(J6375>500,\"ומעלה 500\",VLOOKUP(J6375,טבלה1[#All],2,0)),\"\")","v":""}]
[null,null,null,null,null,null,null,null,null,null,null,{"$f":"_xlfn.IFNA(IF(J6378>500,\"ומעלה 500\",VLOOKUP(J6378,טבלה1[#All],2,0)),\"\")","v":""}]
[null,null,null,null,null,null,null,null,null,null,null,{"$f":"_xlfn.IFNA(IF(J6391>500,\"ומעלה 500\",VLOOKUP(J6391,טבלה1[#All],2,0)),\"\")","v":""}]
[null,null,null,null,null,null,null,null,null,null,null,{"$f":"_xlfn.IFNA(IF(J6396>500,\"ומעלה 500\",VLOOKUP(J6396,טבלה1[#All],2,0)),\"\")","v":""}]
[null,null,null,null,null,null,null,null,null,null,null,{"$f":"_xlfn.IFNA(IF(J6403>500,\"ומעלה 500\",VLOOKUP(J6403,טבלה1[#All],2,0)),\"\")","v":""}]
[null,null,null,null,null,null,null,null,null,null,null,{"$f":"_xlfn.IFNA(IF(J6415>500,\"ומעלה 500\",VLOOKUP(J6415,טבלה1[#All],2,0)),\"\")","v":""}]
[null,null,null,null,null,null,null,null,null,null,null,{"$f":"_xlfn.IFNA(IF(J6422>500,\"ומעלה 500\",VLOOKUP(J6422,טבלה1[#All],2,0)),\"\")","v":""}]
[null,null,null,null,null,null,null,null,null,null,null,{"$f":"_xlfn.IFNA(IF(J6433>500,\"ומעלה 500\",VLOOKUP(J6433,טבלה1[#All],2,0)),\"\")","v":""}]
[null,null,null,null,null,null,null,null,null,null,null,{"$f":"_xlfn.IFNA(IF(J6445>500,\"ומעלה 500\",VLOOKUP(J6445,טבלה1[#All],2,0)),\"\")","v":""}]
[null,null,null,null,null,null,null,null,null,null,null,{"$f":"_xlfn.IFNA(IF(J6452>500,\"ומעלה 500\",VLOOKUP(J6452,טבלה1[#All],2,0)),\"\")","v":""}]
[null,null,null,null,null,null,null,null,null,null,null,{"$f":"_xlfn.IFNA(IF(J6461>500,\"ומעלה 500\",VLOOKUP(J6461,טבלה1[#All],2,0)),\"\")","v":""}]
[null,null,null,null,null,null,null,null,null,null,null,{"$f":"_xlfn.IFNA(IF(J6466>500,\"ומעלה 500\",VLOOKUP(J6466,טבלה1[#All],2,0)),\"\")","v":""}]
[null,null,null,null,null,null,null,null,null,null,null,{"$f":"_xlfn.IFNA(IF(J6473>500,\"ומעלה 500\",VLOOKUP(J6473,טבלה1[#All],2,0)),\"\")","v":""}]
[null,null,null,null,null,null,null,null,null,null,null,{"$f":"_xlfn.IFNA(IF(J6485>500,\"ומעלה 500\",VLOOKUP(J6485,טבלה1[#All],2,0)),\"\")","v":""}]
[null,null,null,null,null,null,null,null,null,null,null,{"$f":"_xlfn.IFNA(IF(J6492>500,\"ומעלה 500\",VLOOKUP(J6492,טבלה1[#All],2,0)),\"\")","v":""}]
[null,null,null,null,null,null,null,null,null,null,null,{"$f":"_xlfn.IFNA(IF(J6503>500,\"ומעלה 500\",VLOOKUP(J6503,טבלה1[#All],2,0)),\"\")","v":""}]
[null,null,null,null,null,null,null,null,null,null,null,{"$f":"_xlfn.IFNA(IF(J6515>500,\"ומעלה 500\",VLOOKUP(J6515,טבלה1[#All],2,0)),\"\")","v":""}]
[null,null,null,null,null,null,null,null,null,null,null,{"$f":"_xlfn.IFNA(IF(J6522>500,\"ומעלה 500\",VLOOKUP(J6522,טבלה1[#All],2,0)),\"\")","v":""}]
[null,null,null,null,null,null,null,null,null,null,null,{"$f":"_xlfn.IFNA(IF(J6531>500,\"ומעלה 500\",VLOOKUP(J6531,טבלה1[#All],2,0)),\"\")","v":""}]
[null,null,null,null,null,null,null,null,null,null,null,{"$f":"_xlfn.IFNA(IF(J6536>500,\"ומעלה 500\",VLOOKUP(J6536,טבלה1[#All],2,0)),\"\")","v":""}]
[null,null,null,null,null,null,null,null,null,null,null,{"$f":"_xlfn.IFNA(IF(J6543>500,\"ומעלה 500\",VLOOKUP(J6543,טבלה1[#All],2,0)),\"\")","v":""}]
[null,null,null,null,null,null,null,null,null,null,null,{"$f":"_xlfn.IFNA(IF(J6555>500,\"ומעלה 500\",VLOOKUP(J6555,טבלה1[#All],2,0)),\"\")","v":""}]
[null,null,null,null,null,null,null,null,null,null,null,{"$f":"_xlfn.IFNA(IF(J6562>500,\"ומעלה 500\",VLOOKUP(J6562,טבלה1[#All],2,0)),\"\")","v":""}]
[null,null,null,null,null,null,null,null,null,null,null,{"$f":"_xlfn.IFNA(IF(J6573>500,\"ומעלה 500\",VLOOKUP(J6573,טבלה1[#All],2,0)),\"\")","v":""}]
[null,null,null,null,null,null,null,null,null,null,null,{"$f":"_xlfn.IFNA(IF(J6585>500,\"ומעלה 500\",VLOOKUP(J6585,טבלה1[#All],2,0)),\"\")","v":""}]
[null,null,null,null,null,null,null,null,null,null,null,{"$f":"_xlfn.IFNA(IF(J6592>500,\"ומעלה 500\",VLOOKUP(J6592,טבלה1[#All],2,0)),\"\")","v":""}]
[null,null,null,null,null,null,null,null,null,null,null,{"$f":"_xlfn.IFNA(IF(J6601>500,\"ומעלה 500\",VLOOKUP(J6601,טבלה1[#All],2,0)),\"\")","v":""}]
[null,null,null,null,null,null,null,null,null,null,null,{"$f":"_xlfn.IFNA(IF(J6606>500,\"ומעלה 500\",VLOOKUP(J6606,טבלה1[#All],2,0)),\"\")","v":""}]
[null,null,null,null,null,null,null,null,null,null,null,{"$f":"_xlfn.IFNA(IF(J6613>500,\"ומעלה 500\",VLOOKUP(J6613,טבלה1[#All],2,0)),\"\")","v":""}]
[null,null,null,null,null,null,null,null,null,null,null,{"$f":"_xlfn.IFNA(IF(J6625>500,\"ומעלה 500\",VLOOKUP(J6625,טבלה1[#All],2,0)),\"\")","v":""}]
[null,null,null,null,null,null,null,null,null,null,null,{"$f":"_xlfn.IFNA(IF(J6632>500,\"ומעלה 500\",VLOOKUP(J6632,טבלה1[#All],2,0)),\"\")","v":""}]
[null,null,null,null,null,null,null,null,null,null,null,{"$f":"_xlfn.IFNA(IF(J6643>500,\"ומעלה 500\",VLOOKUP(J6643,טבלה1[#All],2,0)),\"\")","v":""}]
[null,null,null,null,null,null,null,null,null,null,null,{"$f":"_xlfn.IFNA(IF(J6655>500,\"ומעלה 500\",VLOOKUP(J6655,טבלה1[#All],2,0)),\"\")","v":""}]
[null,null,null,null,null,null,null,null,null,null,null,{"$f":"_xlfn.IFNA(IF(J6662>500,\"ומעלה 500\",VLOOKUP(J6662,טבלה1[#All],2,0)),\"\")","v":""}]
[null,null,null,null,null,null,null,null,null,null,null,{"$f":"_xlfn.IFNA(IF(J6671>500,\"ומעלה 500\",VLOOKUP(J6671,טבלה1[#All],2,0)),\"\")","v":""}]
[null,null,null,null,null,null,null,null,null,null,null,{"$f":"_xlfn.IFNA(IF(J6676>500,\"ומעלה 500\",VLOOKUP(J6676,טבלה1[#All],2,0)),\"\")","v":""}]
[null,null,null,null,null,null,null,null,null,null,null,{"$f":"_xlfn.IFNA(IF(J6683>500,\"ומעלה 500\",VLOOKUP(J6683,טבלה1[#All],2,0)),\"\")","v":""}]
[null,null,null,null,null,null,null,null,null,null,null,{"$f":"_xlfn.IFNA(IF(J6695>500,\"ומעלה 500\",VLOOKUP(J6695,טבלה1[#All],2,0)),\"\")","v":""}]
[null,null,null,null,null,null,null,null,null,null,null,{"$f":"_xlfn.IFNA(IF(J6702>500,\"ומעלה 500\",VLOOKUP(J6702,טבלה1[#All],2,0)),\"\")","v":""}]
[null,null,null,null,null,null,null,null,null,null,null,{"$f":"_xlfn.IFNA(IF(J6713>500,\"ומעלה 500\",VLOOKUP(J6713,טבלה1[#All],2,0)),\"\")","v":""}]
[null,null,null,null,null,null,null,null,null,null,null,{"$f":"_xlfn.IFNA(IF(J6725>500,\"ומעלה 500\",VLOOKUP(J6725,טבלה1[#All],2,0)),\"\")","v":""}]
[null,null,null,null,null,null,null,null,null,null,null,{"$f":"_xlfn.IFNA(IF(J6732>500,\"ומעלה 500\",VLOOKUP(J6732,טבלה1[#All],2,0)),\"\")","v":""}]
[null,null,null,null,null,null,null,null,null,null,null,{"$f":"_xlfn.IFNA(IF(J6741>500,\"ומעלה 500\",VLOOKUP(J6741,טבלה1[#All],2,0)),\"\")","v":""}]
[null,null,null,null,null,null,null,null,null,null,null,{"$f":"_xlfn.IFNA(IF(J6750>500,\"ומעלה 500\",VLOOKUP(J6750,טבלה1[#All],2,0)),\"\")","v":""}]
[null,null,null,null,null,null,null,null,null,null,null,{"$f":"_xlfn.IFNA(IF(J6753>500,\"ומעלה 500\",VLOOKUP(J6753,טבלה1[#All],2,0)),\"\")","v":""}]
[null,null,null,null,null,null,null,null,null,null,null,{"$f":"_xlfn.IFNA(IF(J6765>500,\"ומעלה 500\",VLOOKUP(J6765,טבלה1[#All],2,0)),\"\")","v":""}]
[null,null,null,null,null,null,null,null,null,null,null,{"$f":"_xlfn.IFNA(IF(J6772>500,\"ומעלה 500\",VLOOKUP(J6772,טבלה1[#All],2,0)),\"\")","v":""}]
[null,null,null,null,null,null,null,null,null,null,null,{"$f":"_xlfn.IFNA(IF(J6783>500,\"ומעלה 500\",VLOOKUP(J6783,טבלה1[#All],2,0)),\"\")","v":""}]
[null,null,null,null,null,null,null,null,null,null,null,{"$f":"_xlfn.IFNA(IF(J6795>500,\"ומעלה 500\",VLOOKUP(J6795,טבלה1[#All],2,0)),\"\")","v":""}]
[null,null,null,null,null,null,null,null,null,null,null,{"$f":"_xlfn.IFNA(IF(J6802>500,\"ומעלה 500\",VLOOKUP(J6802,טבלה1[#All],2,0)),\"\")","v":""}]
[null,null,null,null,null,null,null,null,null,null,null,{"$f":"_xlfn.IFNA(IF(J6811>500,\"ומעלה 500\",VLOOKUP(J6811,טבלה1[#All],2,0)),\"\")","v":""}]
[null,null,null,null,null,null,null,null,null,null,null,{"$f":"_xlfn.IFNA(IF(J6820>500,\"ומעלה 500\",VLOOKUP(J6820,טבלה1[#All],2,0)),\"\")","v":""}]
[null,null,null,null,null,null,null,null,null,null,null,{"$f":"_xlfn.IFNA(IF(J6823>500,\"ומעלה 500\",VLOOKUP(J6823,טבלה1[#All],2,0)),\"\")","v":""}]
[null,null,null,null,null,null,null,null,null,null,null,{"$f":"_xlfn.IFNA(IF(J6835>500,\"ומעלה 500\",VLOOKUP(J6835,טבלה1[#All],2,0)),\"\")","v":""}]
[null,null,null,null,null,null,null,null,null,null,null,{"$f":"_xlfn.IFNA(IF(J6842>500,\"ומעלה 500\",VLOOKUP(J6842,טבלה1[#All],2,0)),\"\")","v":""}]
[null,null,null,null,null,null,null,null,null,null,null,{"$f":"_xlfn.IFNA(IF(J6853>500,\"ומעלה 500\",VLOOKUP(J6853,טבלה1[#All],2,0)),\"\")","v":""}]
[null,null,null,null,null,null,null,null,null,null,null,{"$f":"_xlfn.IFNA(IF(J6865>500,\"ומעלה 500\",VLOOKUP(J6865,טבלה1[#All],2,0)),\"\")","v":""}]
[null,null,null,null,null,null,null,null,null,null,null,{"$f":"_xlfn.IFNA(IF(J6872>500,\"ומעלה 500\",VLOOKUP(J6872,טבלה1[#All],2,0)),\"\")","v":""}]
[null,null,null,null,null,null,null,null,null,null,null,{"$f":"_xlfn.IFNA(IF(J6881>500,\"ומעלה 500\",VLOOKUP(J6881,טבלה1[#All],2,0)),\"\")","v":""}]
[null,null,null,null,null,null,null,null,null,null,null,{"$f":"_xlfn.IFNA(IF(J6890>500,\"ומעלה 500\",VLOOKUP(J6890,טבלה1[#All],2,0)),\"\")","v":""}]
[null,null,null,null,null,null,null,null,null,null,null,{"$f":"_xlfn.IFNA(IF(J6893>500,\"ומעלה 500\",VLOOKUP(J6893,טבלה1[#All],2,0)),\"\")","v":""}]
[null,null,null,null,null,null,null,null,null,null,null,{"$f":"_xlfn.IFNA(IF(J6905>500,\"ומעלה 500\",VLOOKUP(J6905,טבלה1[#All],2,0)),\"\")","v":""}]
[null,null,null,null,null,null,null,null,null,null,null,{"$f":"_xlfn.IFNA(IF(J6912>500,\"ומעלה 500\",VLOOKUP(J6912,טבלה1[#All],2,0)),\"\")","v":""}]
[null,null,null,null,null,null,null,null,null,null,null,{"$f":"_xlfn.IFNA(IF(J6923>500,\"ומעלה 500\",VLOOKUP(J6923,טבלה1[#All],2,0)),\"\")","v":""}]
[null,null,null,null,null,null,null,null,null,null,null,{"$f":"_xlfn.IFNA(IF(J6930>500,\"ומעלה 500\",VLOOKUP(J6930,טבלה1[#All],2,0)),\"\")","v":""}]
[null,null,null,null,null,null,null,null,null,null,null,{"$f":"_xlfn.IFNA(IF(J6942>500,\"ומעלה 500\",VLOOKUP(J6942,טבלה1[#All],2,0)),\"\")","v":""}]
[null,null,null,null,null,null,null,null,null,null,null,{"$f":"_xlfn.IFNA(IF(J6951>500,\"ומעלה 500\",VLOOKUP(J6951,טבלה1[#All],2,0)),\"\")","v":""}]
[null,null,null,null,null,null,null,null,null,null,null,{"$f":"_xlfn.IFNA(IF(J6960>500,\"ומעלה 500\",VLOOKUP(J6960,טבלה1[#All],2,0)),\"\")","v":""}]
[null,null,null,null,null,null,null,null,null,null,null,{"$f":"_xlfn.IFNA(IF(J6963>500,\"ומעלה 500\",VLOOKUP(J6963,טבלה1[#All],2,0)),\"\")","v":""}]
[null,null,null,null,null,null,null,null,null,null,null,{"$f":"_xlfn.IFNA(IF(J6975>500,\"ומעלה 500\",VLOOKUP(J6975,טבלה1[#All],2,0)),\"\")","v":""}]
[null,null,null,null,null,null,null,null,null,null,null,{"$f":"_xlfn.IFNA(IF(J6982>500,\"ומעלה 500\",VLOOKUP(J6982,טבלה1[#All],2,0)),\"\")","v":""}]
[null,null,null,null,null,null,null,null,null,null,null,{"$f":"_xlfn.IFNA(IF(J6993>500,\"ומעלה 500\",VLOOKUP(J6993,טבלה1[#All],2,0)),\"\")","v":""}]
[null,null,null,null,null,null,null,null,null,null,null,{"$f":"_xlfn.IFNA(IF(J7000>500,\"ומעלה 500\",VLOOKUP(J7000,טבלה1[#All],2,0)),\"\")","v":""}]
[null,null,null,null,null,null,null,null,null,null,null,{"$f":"_xlfn.IFNA(IF(J7012>500,\"ומעלה 500\",VLOOKUP(J7012,טבלה1[#All],2,0)),\"\")","v":""}]
[null,null,null,null,null,null,null,null,null,null,null,{"$f":"_xlfn.IFNA(IF(J7021>500,\"ומעלה 500\",VLOOKUP(J7021,טבלה1[#All],2,0)),\"\")","v":""}]
[null,null,null,null,null,null,null,null,null,null,null,{"$f":"_xlfn.IFNA(IF(J7030>500,\"ומעלה 500\",VLOOKUP(J7030,טבלה1[#All],2,0)),\"\")","v":""}]
[null,null,null,null,null,null,null,null,null,null,null,{"$f":"_xlfn.IFNA(IF(J7033>500,\"ומעלה 500\",VLOOKUP(J7033,טבלה1[#All],2,0)),\"\")","v":""}]
[null,null,null,null,null,null,null,null,null,null,null,{"$f":"_xlfn.IFNA(IF(J7049>500,\"ומעלה 500\",VLOOKUP(J7049,טבלה1[#All],2,0)),\"\")","v":""}]
[null,null,null,null,null,null,null,null,null,null,null,{"$f":"_xlfn.IFNA(IF(J7052>500,\"ומעלה 500\",VLOOKUP(J7052,טבלה1[#All],2,0)),\"\")","v":""}]
[null,null,null,null,null,null,null,null,null,null,null,{"$f":"_xlfn.IFNA(IF(J7063>500,\"ומעלה 500\",VLOOKUP(J7063,טבלה1[#All],2,0)),\"\")","v":""}]
[null,null,null,null,null,null,null,null,null,null,null,{"$f":"_xlfn.IFNA(IF(J7070>500,\"ומעלה 500\",VLOOKUP(J7070,טבלה1[#All],2,0)),\"\")","v":""}]
[null,null,null,null,null,null,null,null,null,null,null,{"$f":"_xlfn.IFNA(IF(J7082>500,\"ומעלה 500\",VLOOKUP(J7082,טבלה1[#All],2,0)),\"\")","v":""}]
[null,null,null,null,null,null,null,null,null,null,null,{"$f":"_xlfn.IFNA(IF(J7091>500,\"ומעלה 500\",VLOOKUP(J7091,טבלה1[#All],2,0)),\"\")","v":""}]
[null,null,null,null,null,null,null,null,null,null,null,{"$f":"_xlfn.IFNA(IF(J7100>500,\"ומעלה 500\",VLOOKUP(J7100,טבלה1[#All],2,0)),\"\")","v":""}]
[null,null,null,null,null,null,null,null,null,null,null,{"$f":"_xlfn.IFNA(IF(J7103>500,\"ומעלה 500\",VLOOKUP(J7103,טבלה1[#All],2,0)),\"\")","v":""}]
[null,null,null,null,null,null,null,null,null,null,null,{"$f":"_xlfn.IFNA(IF(J7119>500,\"ומעלה 500\",VLOOKUP(J7119,טבלה1[#All],2,0)),\"\")","v":""}]
[null,null,null,null,null,null,null,null,null,null,null,{"$f":"_xlfn.IFNA(IF(J7122>500,\"ומעלה 500\",VLOOKUP(J7122,טבלה1[#All],2,0)),\"\")","v":""}]
[null,null,null,null,null,null,null,null,null,null,null,{"$f":"_xlfn.IFNA(IF(J7133>500,\"ומעלה 500\",VLOOKUP(J7133,טבלה1[#All],2,0)),\"\")","v":""}]
[null,null,null,null,null,null,null,null,null,null,null,{"$f":"_xlfn.IFNA(IF(J7140>500,\"ומעלה 500\",VLOOKUP(J7140,טבלה1[#All],2,0)),\"\")","v":""}]
[null,null,null,null,null,null,null,null,null,null,null,{"$f":"_xlfn.IFNA(IF(J7152>500,\"ומעלה 500\",VLOOKUP(J7152,טבלה1[#All],2,0)),\"\")","v":""}]
[null,null,null,null,null,null,null,null,null,null,null,{"$f":"_xlfn.IFNA(IF(J7161>500,\"ומעלה 500\",VLOOKUP(J7161,טבלה1[#All],2,0)),\"\")","v":""}]
[null,null,null,null,null,null,null,null,null,null,null,{"$f":"_xlfn.IFNA(IF(J7170>500,\"ומעלה 500\",VLOOKUP(J7170,טבלה1[#All],2,0)),\"\")","v":""}]
[null,null,null,null,null,null,null,null,null,null,null,{"$f":"_xlfn.IFNA(IF(J7173>500,\"ומעלה 500\",VLOOKUP(J7173,טבלה1[#All],2,0)),\"\")","v":""}]
[null,null,null,null,null,null,null,null,null,null,null,{"$f":"_xlfn.IFNA(IF(J7189>500,\"ומעלה 500\",VLOOKUP(J7189,טבלה1[#All],2,0)),\"\")","v":""}]
[null,null,null,null,null,null,null,null,null,null,null,{"$f":"_xlfn.IFNA(IF(J7192>500,\"ומעלה 500\",VLOOKUP(J7192,טבלה1[#All],2,0)),\"\")","v":""}]
[null,null,null,null,null,null,null,null,null,null,null,{"$f":"_xlfn.IFNA(IF(J7203>500,\"ומעלה 500\",VLOOKUP(J7203,טבלה1[#All],2,0)),\"\")","v":""}]
[null,null,null,null,null,null,null,null,null,null,null,{"$f":"_xlfn.IFNA(IF(J7210>500,\"ומעלה 500\",VLOOKUP(J7210,טבלה1[#All],2,0)),\"\")","v":""}]
[null,null,null,null,null,null,null,null,null,null,null,{"$f":"_xlfn.IFNA(IF(J7222>500,\"ומעלה 500\",VLOOKUP(J7222,טבלה1[#All],2,0)),\"\")","v":""}]
[null,null,null,null,null,null,null,null,null,null,null,{"$f":"_xlfn.IFNA(IF(J7231>500,\"ומעלה 500\",VLOOKUP(J7231,טבלה1[#All],2,0)),\"\")","v":""}]
[null,null,null,null,null,null,null,null,null,null,null,{"$f":"_xlfn.IFNA(IF(J7240>500,\"ומעלה 500\",VLOOKUP(J7240,טבלה1[#All],2,0)),\"\")","v":""}]
[null,null,null,null,null,null,null,null,null,null,null,{"$f":"_xlfn.IFNA(IF(J7243>500,\"ומעלה 500\",VLOOKUP(J7243,טבלה1[#All],2,0)),\"\")","v":""}]
[null,null,null,null,null,null,null,null,null,null,null,{"$f":"_xlfn.IFNA(IF(J7259>500,\"ומעלה 500\",VLOOKUP(J7259,טבלה1[#All],2,0)),\"\")","v":""}]
[null,null,null,null,null,null,null,null,null,null,null,{"$f":"_xlfn.IFNA(IF(J7262>500,\"ומעלה 500\",VLOOKUP(J7262,טבלה1[#All],2,0)),\"\")","v":""}]
[null,null,null,null,null,null,null,null,null,null,null,{"$f":"_xlfn.IFNA(IF(J7273>500,\"ומעלה 500\",VLOOKUP(J7273,טבלה1[#All],2,0)),\"\")","v":""}]
[null,null,null,null,null,null,null,null,null,null,null,{"$f":"_xlfn.IFNA(IF(J7280>500,\"ומעלה 500\",VLOOKUP(J7280,טבלה1[#All],2,0)),\"\")","v":""}]
[null,null,null,null,null,null,null,null,null,null,null,{"$f":"_xlfn.IFNA(IF(J7292>500,\"ומעלה 500\",VLOOKUP(J7292,טבלה1[#All],2,0)),\"\")","v":""}]
[null,null,null,null,null,null,null,null,null,null,null,{"$f":"_xlfn.IFNA(IF(J7301>500,\"ומעלה 500\",VLOOKUP(J7301,טבלה1[#All],2,0)),\"\")","v":""}]
[null,null,null,null,null,null,null,null,null,null,null,{"$f":"_xlfn.IFNA(IF(J7310>500,\"ומעלה 500\",VLOOKUP(J7310,טבלה1[#All],2,0)),\"\")","v":""}]
[null,null,null,null,null,null,null,null,null,null,null,{"$f":"_xlfn.IFNA(IF(J7313>500,\"ומעלה 500\",VLOOKUP(J7313,טבלה1[#All],2,0)),\"\")","v":""}]
[null,null,null,null,null,null,null,null,null,null,null,{"$f":"_xlfn.IFNA(IF(J7329>500,\"ומעלה 500\",VLOOKUP(J7329,טבלה1[#All],2,0)),\"\")","v":""}]
[null,null,null,null,null,null,null,null,null,null,null,{"$f":"_xlfn.IFNA(IF(J7332>500,\"ומעלה 500\",VLOOKUP(J7332,טבלה1[#All],2,0)),\"\")","v":""}]
[null,null,null,null,null,null,null,null,null,null,null,{"$f":"_xlfn.IFNA(IF(J7343>500,\"ומעלה 500\",VLOOKUP(J7343,טבלה1[#All],2,0)),\"\")","v":""}]
[null,null,null,null,null,null,null,null,null,null,null,{"$f":"_xlfn.IFNA(IF(J7350>500,\"ומעלה 500\",VLOOKUP(J7350,טבלה1[#All],2,0)),\"\")","v":""}]
[null,null,null,null,null,null,null,null,null,null,null,{"$f":"_xlfn.IFNA(IF(J7362>500,\"ומעלה 500\",VLOOKUP(J7362,טבלה1[#All],2,0)),\"\")","v":""}]
[null,null,null,null,null,null,null,null,null,null,null,{"$f":"_xlfn.IFNA(IF(J7371>500,\"ומעלה 500\",VLOOKUP(J7371,טבלה1[#All],2,0)),\"\")","v":""}]
[null,null,null,null,null,null,null,null,null,null,null,{"$f":"_xlfn.IFNA(IF(J7380>500,\"ומעלה 500\",VLOOKUP(J7380,טבלה1[#All],2,0)),\"\")","v":""}]
[null,null,null,null,null,null,null,null,null,null,null,{"$f":"_xlfn.IFNA(IF(J7383>500,\"ומעלה 500\",VLOOKUP(J7383,טבלה1[#All],2,0)),\"\")","v":""}]
[null,null,null,null,null,null,null,null,null,null,null,{"$f":"_xlfn.IFNA(IF(J7399>500,\"ומעלה 500\",VLOOKUP(J7399,טבלה1[#All],2,0)),\"\")","v":""}]
[null,null,null,null,null,null,null,null,null,null,null,{"$f":"_xlfn.IFNA(IF(J7402>500,\"ומעלה 500\",VLOOKUP(J7402,טבלה1[#All],2,0)),\"\")","v":""}]
[null,null,null,null,null,null,null,null,null,null,null,{"$f":"_xlfn.IFNA(IF(J7408>500,\"ומעלה 500\",VLOOKUP(J7408,טבלה1[#All],2,0)),\"\")","v":""}]
[null,null,null,null,null,null,null,null,null,null,null,{"$f":"_xlfn.IFNA(IF(J7420>500,\"ומעלה 500\",VLOOKUP(J7420,טבלה1[#All],2,0)),\"\")","v":""}]
[null,null,null,null,null,null,null,null,null,null,null,{"$f":"_xlfn.IFNA(IF(J7432>500,\"ומעלה 500\",VLOOKUP(J7432,טבלה1[#All],2,0)),\"\")","v":""}]
[null,null,null,null,null,null,null,null,null,null,null,{"$f":"_xlfn.IFNA(IF(J7441>500,\"ומעלה 500\",VLOOKUP(J7441,טבלה1[#All],2,0)),\"\")","v":""}]
[null,null,null,null,null,null,null,null,null,null,null,{"$f":"_xlfn.IFNA(IF(J7450>500,\"ומעלה 500\",VLOOKUP(J7450,טבלה1[#All],2,0)),\"\")","v":""}]
[null,null,null,null,null,null,null,null,null,null,null,{"$f":"_xlfn.IFNA(IF(J7453>500,\"ומעלה 500\",VLOOKUP(J7453,טבלה1[#All],2,0)),\"\")","v":""}]
[null,null,null,null,null,null,null,null,null,null,null,{"$f":"_xlfn.IFNA(IF(J7469>500,\"ומעלה 500\",VLOOKUP(J7469,טבלה1[#All],2,0)),\"\")","v":""}]
[null,null,null,null,null,null,null,null,null,null,null,{"$f":"_xlfn.IFNA(IF(J7472>500,\"ומעלה 500\",VLOOKUP(J7472,טבלה1[#All],2,0)),\"\")","v":""}]
[null,null,null,null,null,null,null,null,null,null,null,{"$f":"_xlfn.IFNA(IF(J7478>500,\"ומעלה 500\",VLOOKUP(J7478,טבלה1[#All],2,0)),\"\")","v":""}]
[null,null,null,null,null,null,null,null,null,null,null,{"$f":"_xlfn.IFNA(IF(J7490>500,\"ומעלה 500\",VLOOKUP(J7490,טבלה1[#All],2,0)),\"\")","v":""}]
[null,null,null,null,null,null,null,null,null,null,null,{"$f":"_xlfn.IFNA(IF(J7502>500,\"ומעלה 500\",VLOOKUP(J7502,טבלה1[#All],2,0)),\"\")","v":""}]
[null,null,null,null,null,null,null,null,null,null,null,{"$f":"_xlfn.IFNA(IF(J7511>500,\"ומעלה 500\",VLOOKUP(J7511,טבלה1[#All],2,0)),\"\")","v":""}]
[null,null,null,null,null,null,null,null,null,null,null,{"$f":"_xlfn.IFNA(IF(J7520>500,\"ומעלה 500\",VLOOKUP(J7520,טבלה1[#All],2,0)),\"\")","v":""}]
[null,null,null,null,null,null,null,null,null,null,null,{"$f":"_xlfn.IFNA(IF(J7527>500,\"ומעלה 500\",VLOOKUP(J7527,טבלה1[#All],2,0)),\"\")","v":""}]
[null,null,null,null,null,null,null,null,null,null,null,{"$f":"_xlfn.IFNA(IF(J7539>500,\"ומעלה 500\",VLOOKUP(J7539,טבלה1[#All],2,0)),\"\")","v":""}]
[null,null,null,null,null,null,null,null,null,null,null,{"$f":"_xlfn.IFNA(IF(J7542>500,\"ומעלה 500\",VLOOKUP(J7542,טבלה1[#All],2,0)),\"\")","v":""}]
[null,null,null,null,null,null,null,null,null,null,null,{"$f":"_xlfn.IFNA(IF(J7548>500,\"ומעלה 500\",VLOOKUP(J7548,טבלה1[#All],2,0)),\"\")","v":""}]
[null,null,null,null,null,null,null,null,null,null,null,{"$f":"_xlfn.IFNA(IF(J7560>500,\"ומעלה 500\",VLOOKUP(J7560,טבלה1[#All],2,0)),\"\")","v":""}]
[null,null,null,null,null,null,null,null,null,null,null,{"$f":"_xlfn.IFNA(IF(J7572>500,\"ומעלה 500\",VLOOKUP(J7572,טבלה1[#All],2,0)),\"\")","v":""}]
[null,null,null,null,null,null,null,null,null,null,null,{"$f":"_xlfn.IFNA(IF(J7581>500,\"ומעלה 500\",VLOOKUP(J7581,טבלה1[#All],2,0)),\"\")","v":""}]
[null,null,null,null,null,null,null,null,null,null,null,{"$f":"_xlfn.IFNA(IF(J7590>500,\"ומעלה 500\",VLOOKUP(J7590,טבלה1[#All],2,0)),\"\")","v":""}]
[null,null,null,null,null,null,null,null,null,null,null,{"$f":"_xlfn.IFNA(IF(J7597>500,\"ומעלה 500\",VLOOKUP(J7597,טבלה1[#All],2,0)),\"\")","v":""}]
[null,null,null,null,null,null,null,null,null,null,null,{"$f":"_xlfn.IFNA(IF(J7609>500,\"ומעלה 500\",VLOOKUP(J7609,טבלה1[#All],2,0)),\"\")","v":""}]
[null,null,null,null,null,null,null,null,null,null,null,{"$f":"_xlfn.IFNA(IF(J7612>500,\"ומעלה 500\",VLOOKUP(J7612,טבלה1[#All],2,0)),\"\")","v":""}]
[null,null,null,null,null,null,null,null,null,null,null,{"$f":"_xlfn.IFNA(IF(J7618>500,\"ומעלה 500\",VLOOKUP(J7618,טבלה1[#All],2,0)),\"\")","v":""}]
[null,null,null,null,null,null,null,null,null,null,null,{"$f":"_xlfn.IFNA(IF(J7630>500,\"ומעלה 500\",VLOOKUP(J7630,טבלה1[#All],2,0)),\"\")","v":""}]
[null,null,null,null,null,null,null,null,null,null,null,{"$f":"_xlfn.IFNA(IF(J7642>500,\"ומעלה 500\",VLOOKUP(J7642,טבלה1[#All],2,0)),\"\")","v":""}]
[null,null,null,null,null,null,null,null,null,null,null,{"$f":"_xlfn.IFNA(IF(J7651>500,\"ומעלה 500\",VLOOKUP(J7651,טבלה1[#All],2,0)),\"\")","v":""}]
[null,null,null,null,null,null,null,null,null,null,null,{"$f":"_xlfn.IFNA(IF(J7660>500,\"ומעלה 500\",VLOOKUP(J7660,טבלה1[#All],2,0)),\"\")","v":""}]
[null,null,null,null,null,null,null,null,null,null,null,{"$f":"_xlfn.IFNA(IF(J7667>500,\"ומעלה 500\",VLOOKUP(J7667,טבלה1[#All],2,0)),\"\")","v":""}]
[null,null,null,null,null,null,null,null,null,null,null,{"$f":"_xlfn.IFNA(IF(J7679>500,\"ומעלה 500\",VLOOKUP(J7679,טבלה1[#All],2,0)),\"\")","v":""}]
[null,null,null,null,null,null,null,null,null,null,null,{"$f":"_xlfn.IFNA(IF(J7682>500,\"ומעלה 500\",VLOOKUP(J7682,טבלה1[#All],2,0)),\"\")","v":""}]
[null,null,null,null,null,null,null,null,null,null,null,{"$f":"_xlfn.IFNA(IF(J7688>500,\"ומעלה 500\",VLOOKUP(J7688,טבלה1[#All],2,0)),\"\")","v":""}]
[null,null,null,null,null,null,null,null,null,null,null,{"$f":"_xlfn.IFNA(IF(J7700>500,\"ומעלה 500\",VLOOKUP(J7700,טבלה1[#All],2,0)),\"\")","v":""}]
[null,null,null,null,null,null,null,null,null,null,null,{"$f":"_xlfn.IFNA(IF(J7707>500,\"ומעלה 500\",VLOOKUP(J7707,טבלה1[#All],2,0)),\"\")","v":""}]
[null,null,null,null,null,null,null,null,null,null,null,{"$f":"_xlfn.IFNA(IF(J7721>500,\"ומעלה 500\",VLOOKUP(J7721,טבלה1[#All],2,0)),\"\")","v":""}]
[null,null,null,null,null,null,null,null,null,null,null,{"$f":"_xlfn.IFNA(IF(J7730>500,\"ומעלה 500\",VLOOKUP(J7730,טבלה1[#All],2,0)),\"\")","v":""}]
[null,null,null,null,null,null,null,null,null,null,null,{"$f":"_xlfn.IFNA(IF(J7737>500,\"ומעלה 500\",VLOOKUP(J7737,טבלה1[#All],2,0)),\"\")","v":""}]
[null,null,null,null,null,null,null,null,null,null,null,{"$f":"_xlfn.IFNA(IF(J7749>500,\"ומעלה 500\",VLOOKUP(J7749,טבלה1[#All],2,0)),\"\")","v":""}]
[null,null,null,null,null,null,null,null,null,null,null,{"$f":"_xlfn.IFNA(IF(J7752>500,\"ומעלה 500\",VLOOKUP(J7752,טבלה1[#All],2,0)),\"\")","v":""}]
[null,null,null,null,null,null,null,null,null,null,null,{"$f":"_xlfn.IFNA(IF(J7758>500,\"ומעלה 500\",VLOOKUP(J7758,טבלה1[#All],2,0)),\"\")","v":""}]
[null,null,null,null,null,null,null,null,null,null,null,{"$f":"_xlfn.IFNA(IF(J7770>500,\"ומעלה 500\",VLOOKUP(J7770,טבלה1[#All],2,0)),\"\")","v":""}]
[null,null,null,null,null,null,null,null,null,null,null,{"$f":"_xlfn.IFNA(IF(J7777>500,\"ומעלה 500\",VLOOKUP(J7777,טבלה1[#All],2,0)),\"\")","v":""}]
[null,null,null,null,null,null,null,null,null,null,null,{"$f":"_xlfn.IFNA(IF(J7791>500,\"ומעלה 500\",VLOOKUP(J7791,טבלה1[#All],2,0)),\"\")","v":""}]
[null,null,null,null,null,null,null,null,null,null,null,{"$f":"_xlfn.IFNA(IF(J7800>500,\"ומעלה 500\",VLOOKUP(J7800,טבלה1[#All],2,0)),\"\")","v":""}]
[null,null,null,null,null,null,null,null,null,null,null,{"$f":"_xlfn.IFNA(IF(J7807>500,\"ומעלה 500\",VLOOKUP(J7807,טבלה1[#All],2,0)),\"\")","v":""}]
[null,null,null,null,null,null,null,null,null,null,null,{"$f":"_xlfn.IFNA(IF(J7819>500,\"ומעלה 500\",VLOOKUP(J7819,טבלה1[#All],2,0)),\"\")","v":""}]
[null,null,null,null,null,null,null,null,null,null,null,{"$f":"_xlfn.IFNA(IF(J7822>500,\"ומעלה 500\",VLOOKUP(J7822,טבלה1[#All],2,0)),\"\")","v":""}]
[null,null,null,null,null,null,null,null,null,null,null,{"$f":"_xlfn.IFNA(IF(J7828>500,\"ומעלה 500\",VLOOKUP(J7828,טבלה1[#All],2,0)),\"\")","v":""}]
[null,null,null,null,null,null,null,null,null,null,null,{"$f":"_xlfn.IFNA(IF(J7840>500,\"ומעלה 500\",VLOOKUP(J7840,טבלה1[#All],2,0)),\"\")","v":""}]
[null,null,null,null,null,null,null,null,null,null,null,{"$f":"_xlfn.IFNA(IF(J7847>500,\"ומעלה 500\",VLOOKUP(J7847,טבלה1[#All],2,0)),\"\")","v":""}]
[null,null,null,null,null,null,null,null,null,null,null,{"$f":"_xlfn.IFNA(IF(J7861>500,\"ומעלה 500\",VLOOKUP(J7861,טבלה1[#All],2,0)),\"\")","v":""}]
[null,null,null,null,null,null,null,null,null,null,null,{"$f":"_xlfn.IFNA(IF(J7870>500,\"ומעלה 500\",VLOOKUP(J7870,טבלה1[#All],2,0)),\"\")","v":""}]
[null,null,null,null,null,null,null,null,null,null,null,{"$f":"_xlfn.IFNA(IF(J7877>500,\"ומעלה 500\",VLOOKUP(J7877,טבלה1[#All],2,0)),\"\")","v":""}]
[null,null,null,null,null,null,null,null,null,null,null,{"$f":"_xlfn.IFNA(IF(J7889>500,\"ומעלה 500\",VLOOKUP(J7889,טבלה1[#All],2,0)),\"\")","v":""}]
[null,null,null,null,null,null,null,null,null,null,null,{"$f":"_xlfn.IFNA(IF(J7892>500,\"ומעלה 500\",VLOOKUP(J7892,טבלה1[#All],2,0)),\"\")","v":""}]
[null,null,null,null,null,null,null,null,null,null,null,{"$f":"_xlfn.IFNA(IF(J7898>500,\"ומעלה 500\",VLOOKUP(J7898,טבלה1[#All],2,0)),\"\")","v":""}]
[null,null,null,null,null,null,null,null,null,null,null,{"$f":"_xlfn.IFNA(IF(J7910>500,\"ומעלה 500\",VLOOKUP(J7910,טבלה1[#All],2,0)),\"\")","v":""}]
[null,null,null,null,null,null,null,null,null,null,null,{"$f":"_xlfn.IFNA(IF(J7917>500,\"ומעלה 500\",VLOOKUP(J7917,טבלה1[#All],2,0)),\"\")","v":""}]
[null,null,null,null,null,null,null,null,null,null,null,{"$f":"_xlfn.IFNA(IF(J7931>500,\"ומעלה 500\",VLOOKUP(J7931,טבלה1[#All],2,0)),\"\")","v":""}]
[null,null,null,null,null,null,null,null,null,null,null,{"$f":"_xlfn.IFNA(IF(J7940>500,\"ומעלה 500\",VLOOKUP(J7940,טבלה1[#All],2,0)),\"\")","v":""}]
[null,null,null,null,null,null,null,null,null,null,null,{"$f":"_xlfn.IFNA(IF(J7947>500,\"ומעלה 500\",VLOOKUP(J7947,טבלה1[#All],2,0)),\"\")","v":""}]
[null,null,null,null,null,null,null,null,null,null,null,{"$f":"_xlfn.IFNA(IF(J7959>500,\"ומעלה 500\",VLOOKUP(J7959,טבלה1[#All],2,0)),\"\")","v":""}]
[null,null,null,null,null,null,null,null,null,null,null,{"$f":"_xlfn.IFNA(IF(J7962>500,\"ומעלה 500\",VLOOKUP(J7962,טבלה1[#All],2,0)),\"\")","v":""}]
[null,null,null,null,null,null,null,null,null,null,null,{"$f":"_xlfn.IFNA(IF(J7968>500,\"ומעלה 500\",VLOOKUP(J7968,טבלה1[#All],2,0)),\"\")","v":""}]
[null,null,null,null,null,null,null,null,null,null,null,{"$f":"_xlfn.IFNA(IF(J7980>500,\"ומעלה 500\",VLOOKUP(J7980,טבלה1[#All],2,0)),\"\")","v":""}]
[null,null,null,null,null,null,null,null,null,null,null,{"$f":"_xlfn.IFNA(IF(J7987>500,\"ומעלה 500\",VLOOKUP(J7987,טבלה1[#All],2,0)),\"\")","v":""}]
[null,null,null,null,null,null,null,null,null,null,null,{"$f":"_xlfn.IFNA(IF(J8001>500,\"ומעלה 500\",VLOOKUP(J8001,טבלה1[#All],2,0)),\"\")","v":""}]
[null,null,null,null,null,null,null,null,null,null,null,{"$f":"_xlfn.IFNA(IF(J8005>500,\"ומעלה 500\",VLOOKUP(J8005,טבלה1[#All],2,0)),\"\")","v":""}]
[null,null,null,null,null,null,null,null,null,null,null,{"$f":"_xlfn.IFNA(IF(J8017>500,\"ומעלה 500\",VLOOKUP(J8017,טבלה1[#All],2,0)),\"\")","v":""}]
[null,null,null,null,null,null,null,null,null,null,null,{"$f":"_xlfn.IFNA(IF(J8029>500,\"ומעלה 500\",VLOOKUP(J8029,טבלה1[#All],2,0)),\"\")","v":""}]
[null,null,null,null,null,null,null,null,null,null,null,{"$f":"_xlfn.IFNA(IF(J8032>500,\"ומעלה 500\",VLOOKUP(J8032,טבלה1[#All],2,0)),\"\")","v":""}]
[null,null,null,null,null,null,null,null,null,null,null,{"$f":"_xlfn.IFNA(IF(J8038>500,\"ומעלה 500\",VLOOKUP(J8038,טבלה1[#All],2,0)),\"\")","v":""}]
[null,null,null,null,null,null,null,null,null,null,null,{"$f":"_xlfn.IFNA(IF(J8050>500,\"ומעלה 500\",VLOOKUP(J8050,טבלה1[#All],2,0)),\"\")","v":""}]
[null,null,null,null,null,null,null,null,null,null,null,{"$f":"_xlfn.IFNA(IF(J8057>500,\"ומעלה 500\",VLOOKUP(J8057,טבלה1[#All],2,0)),\"\")","v":""}]
[null,null,null,null,null,null,null,null,null,null,null,{"$f":"_xlfn.IFNA(IF(J8071>500,\"ומעלה 500\",VLOOKUP(J8071,טבלה1[#All],2,0)),\"\")","v":""}]
[null,null,null,null,null,null,null,null,null,null,null,{"$f":"_xlfn.IFNA(IF(J8075>500,\"ומעלה 500\",VLOOKUP(J8075,טבלה1[#All],2,0)),\"\")","v":""}]
[null,null,null,null,null,null,null,null,null,null,null,{"$f":"_xlfn.IFNA(IF(J8087>500,\"ומעלה 500\",VLOOKUP(J8087,טבלה1[#All],2,0)),\"\")","v":""}]
[null,null,null,null,null,null,null,null,null,null,null,{"$f":"_xlfn.IFNA(IF(J8099>500,\"ומעלה 500\",VLOOKUP(J8099,טבלה1[#All],2,0)),\"\")","v":""}]
[null,null,null,null,null,null,null,null,null,null,null,{"$f":"_xlfn.IFNA(IF(J8102>500,\"ומעלה 500\",VLOOKUP(J8102,טבלה1[#All],2,0)),\"\")","v":""}]
[null,null,null,null,null,null,null,null,null,null,null,{"$f":"_xlfn.IFNA(IF(J8108>500,\"ומעלה 500\",VLOOKUP(J8108,טבלה1[#All],2,0)),\"\")","v":""}]
[null,null,null,null,null,null,null,null,null,null,null,{"$f":"_xlfn.IFNA(IF(J8120>500,\"ומעלה 500\",VLOOKUP(J8120,טבלה1[#All],2,0)),\"\")","v":""}]
[null,null,null,null,null,null,null,null,null,null,null,{"$f":"_xlfn.IFNA(IF(J8127>500,\"ומעלה 500\",VLOOKUP(J8127,טבלה1[#All],2,0)),\"\")","v":""}]
[null,null,null,null,null,null,null,null,null,null,null,{"$f":"_xlfn.IFNA(IF(J8141>500,\"ומעלה 500\",VLOOKUP(J8141,טבלה1[#All],2,0)),\"\")","v":""}]
[null,null,null,null,null,null,null,null,null,null,null,{"$f":"_xlfn.IFNA(IF(J8145>500,\"ומעלה 500\",VLOOKUP(J8145,טבלה1[#All],2,0)),\"\")","v":""}]
[null,null,null,null,null,null,null,null,null,null,null,{"$f":"_xlfn.IFNA(IF(J8157>500,\"ומעלה 500\",VLOOKUP(J8157,טבלה1[#All],2,0)),\"\")","v":""}]
[null,null,null,null,null,null,null,null,null,null,null,{"$f":"_xlfn.IFNA(IF(J8169>500,\"ומעלה 500\",VLOOKUP(J8169,טבלה1[#All],2,0)),\"\")","v":""}]
[null,null,null,null,null,null,null,null,null,null,null,{"$f":"_xlfn.IFNA(IF(J8172>500,\"ומעלה 500\",VLOOKUP(J8172,טבלה1[#All],2,0)),\"\")","v":""}]
[null,null,null,null,null,null,null,null,null,null,null,{"$f":"_xlfn.IFNA(IF(J8178>500,\"ומעלה 500\",VLOOKUP(J8178,טבלה1[#All],2,0)),\"\")","v":""}]
[null,null,null,null,null,null,null,null,null,null,null,{"$f":"_xlfn.IFNA(IF(J8194>500,\"ומעלה 500\",VLOOKUP(J8194,טבלה1[#All],2,0)),\"\")","v":""}]
[null,null,null,null,null,null,null,null,null,null,null,{"$f":"_xlfn.IFNA(IF(J8197>500,\"ומעלה 500\",VLOOKUP(J8197,טבלה1[#All],2,0)),\"\")","v":""}]
[null,null,null,null,null,null,null,null,null,null,null,{"$f":"_xlfn.IFNA(IF(J8211>500,\"ומעלה 500\",VLOOKUP(J8211,טבלה1[#All],2,0)),\"\")","v":""}]
[null,null,null,null,null,null,null,null,null,null,null,{"$f":"_xlfn.IFNA(IF(J8215>500,\"ומעלה 500\",VLOOKUP(J8215,טבלה1[#All],2,0)),\"\")","v":""}]
[null,null,null,null,null,null,null,null,null,null,null,{"$f":"_xlfn.IFNA(IF(J8227>500,\"ומעלה 500\",VLOOKUP(J8227,טבלה1[#All],2,0)),\"\")","v":""}]
[null,null,null,null,null,null,null,null,null,null,null,{"$f":"_xlfn.IFNA(IF(J8239>500,\"ומעלה 500\",VLOOKUP(J8239,טבלה1[#All],2,0)),\"\")","v":""}]
[null,null,null,null,null,null,null,null,null,null,null,{"$f":"_xlfn.IFNA(IF(J8242>500,\"ומעלה 500\",VLOOKUP(J8242,טבלה1[#All],2,0)),\"\")","v":""}]
[null,null,null,null,null,null,null,null,null,null,null,{"$f":"_xlfn.IFNA(IF(J8248>500,\"ומעלה 500\",VLOOKUP(J8248,טבלה1[#All],2,0)),\"\")","v":""}]
[null,null,null,null,null,null,null,null,null,null,null,{"$f":"_xlfn.IFNA(IF(J8264>500,\"ומעלה 500\",VLOOKUP(J8264,טבלה1[#All],2,0)),\"\")","v":""}]
[null,null,null,null,null,null,null,null,null,null,null,{"$f":"_xlfn.IFNA(IF(J8267>500,\"ומעלה 500\",VLOOKUP(J8267,טבלה1[#All],2,0)),\"\")","v":""}]
[null,null,null,null,null,null,null,null,null,null,null,{"$f":"_xlfn.IFNA(IF(J8281>500,\"ומעלה 500\",VLOOKUP(J8281,טבלה1[#All],2,0)),\"\")","v":""}]
[null,null,null,null,null,null,null,null,null,null,null,{"$f":"_xlfn.IFNA(IF(J8285>500,\"ומעלה 500\",VLOOKUP(J8285,טבלה1[#All],2,0)),\"\")","v":""}]
[null,null,null,null,null,null,null,null,null,null,null,{"$f":"_xlfn.IFNA(IF(J8297>500,\"ומעלה 500\",VLOOKUP(J8297,טבלה1[#All],2,0)),\"\")","v":""}]
[null,null,null,null,null,null,null,null,null,null,null,{"$f":"_xlfn.IFNA(IF(J8304>500,\"ומעלה 500\",VLOOKUP(J8304,טבלה1[#All],2,0)),\"\")","v":""}]
[null,null,null,null,null,null,null,null,null,null,null,{"$f":"_xlfn.IFNA(IF(J8312>500,\"ומעלה 500\",VLOOKUP(J8312,טבלה1[#All],2,0)),\"\")","v":""}]
[null,null,null,null,null,null,null,null,null,null,null,{"$f":"_xlfn.IFNA(IF(J8318>500,\"ומעלה 500\",VLOOKUP(J8318,טבלה1[#All],2,0)),\"\")","v":""}]
[null,null,null,null,null,null,null,null,null,null,null,{"$f":"_xlfn.IFNA(IF(J8334>500,\"ומעלה 500\",VLOOKUP(J8334,טבלה1[#All],2,0)),\"\")","v":""}]
[null,null,null,null,null,null,null,null,null,null,null,{"$f":"_xlfn.IFNA(IF(J8337>500,\"ומעלה 500\",VLOOKUP(J8337,טבלה1[#All],2,0)),\"\")","v":""}]
[null,null,null,null,null,null,null,null,null,null,null,{"$f":"_xlfn.IFNA(IF(J8351>500,\"ומעלה 500\",VLOOKUP(J8351,טבלה1[#All],2,0)),\"\")","v":""}]
[null,null,null,null,null,null,null,null,null,null,null,{"$f":"_xlfn.IFNA(IF(J8355>500,\"ומעלה 500\",VLOOKUP(J8355,טבלה1[#All],2,0)),\"\")","v":""}]
[null,null,null,null,null,null,null,null,null,null,null,{"$f":"_xlfn.IFNA(IF(J8367>500,\"ומעלה 500\",VLOOKUP(J8367,טבלה1[#All],2,0)),\"\")","v":""}]
[null,null,null,null,null,null,null,null,null,null,null,{"$f":"_xlfn.IFNA(IF(J8374>500,\"ומעלה 500\",VLOOKUP(J8374,טבלה1[#All],2,0)),\"\")","v":""}]
[null,null,null,null,null,null,null,null,null,null,null,{"$f":"_xlfn.IFNA(IF(J8382>500,\"ומעלה 500\",VLOOKUP(J8382,טבלה1[#All],2,0)),\"\")","v":""}]
[null,null,null,null,null,null,null,null,null,null,null,{"$f":"_xlfn.IFNA(IF(J8388>500,\"ומעלה 500\",VLOOKUP(J8388,טבלה1[#All],2,0)),\"\")","v":""}]
[null,null,null,null,null,null,null,null,null,null,null,{"$f":"_xlfn.IFNA(IF(J8404>500,\"ומעלה 500\",VLOOKUP(J8404,טבלה1[#All],2,0)),\"\")","v":""}]
[null,null,null,null,null,null,null,null,null,null,null,{"$f":"_xlfn.IFNA(IF(J8407>500,\"ומעלה 500\",VLOOKUP(J8407,טבלה1[#All],2,0)),\"\")","v":""}]
[null,null,null,null,null,null,null,null,null,null,null,{"$f":"_xlfn.IFNA(IF(J8421>500,\"ומעלה 500\",VLOOKUP(J8421,טבלה1[#All],2,0)),\"\")","v":""}]
[null,null,null,null,null,null,null,null,null,null,null,{"$f":"_xlfn.IFNA(IF(J8425>500,\"ומעלה 500\",VLOOKUP(J8425,טבלה1[#All],2,0)),\"\")","v":""}]
[null,null,null,null,null,null,null,null,null,null,null,{"$f":"_xlfn.IFNA(IF(J8437>500,\"ומעלה 500\",VLOOKUP(J8437,טבלה1[#All],2,0)),\"\")","v":""}]
[null,null,null,null,null,null,null,null,null,null,null,{"$f":"_xlfn.IFNA(IF(J8444>500,\"ומעלה 500\",VLOOKUP(J8444,טבלה1[#All],2,0)),\"\")","v":""}]
[null,null,null,null,null,null,null,null,null,null,null,{"$f":"_xlfn.IFNA(IF(J8452>500,\"ומעלה 500\",VLOOKUP(J8452,טבלה1[#All],2,0)),\"\")","v":""}]
[null,null,null,null,null,null,null,null,null,null,null,{"$f":"_xlfn.IFNA(IF(J8458>500,\"ומעלה 500\",VLOOKUP(J8458,טבלה1[#All],2,0)),\"\")","v":""}]
[null,null,null,null,null,null,null,null,null,null,null,{"$f":"_xlfn.IFNA(IF(J8474>500,\"ומעלה 500\",VLOOKUP(J8474,טבלה1[#All],2,0)),\"\")","v":""}]
[null,null,null,null,null,null,null,null,null,null,null,{"$f":"_xlfn.IFNA(IF(J8477>500,\"ומעלה 500\",VLOOKUP(J8477,טבלה1[#All],2,0)),\"\")","v":""}]
[null,null,null,null,null,null,null,null,null,null,null,{"$f":"_xlfn.IFNA(IF(J8491>500,\"ומעלה 500\",VLOOKUP(J8491,טבלה1[#All],2,0)),\"\")","v":""}]
[null,null,null,null,null,null,null,null,null,null,null,{"$f":"_xlfn.IFNA(IF(J8495>500,\"ומעלה 500\",VLOOKUP(J8495,טבלה1[#All],2,0)),\"\")","v":""}]
[null,null,null,null,null,null,null,null,null,null,null,{"$f":"_xlfn.IFNA(IF(J8507>500,\"ומעלה 500\",VLOOKUP(J8507,טבלה1[#All],2,0)),\"\")","v":""}]
[null,null,null,null,null,null,null,null,null,null,null,{"$f":"_xlfn.IFNA(IF(J8514>500,\"ומעלה 500\",VLOOKUP(J8514,טבלה1[#All],2,0)),\"\")","v":""}]
[null,null,null,null,null,null,null,null,null,null,null,{"$f":"_xlfn.IFNA(IF(J8522>500,\"ומעלה 500\",VLOOKUP(J8522,טבלה1[#All],2,0)),\"\")","v":""}]
[null,null,null,null,null,null,null,null,null,null,null,{"$f":"_xlfn.IFNA(IF(J8528>500,\"ומעלה 500\",VLOOKUP(J8528,טבלה1[#All],2,0)),\"\")","v":""}]
[null,null,null,null,null,null,null,null,null,null,null,{"$f":"_xlfn.IFNA(IF(J8544>500,\"ומעלה 500\",VLOOKUP(J8544,טבלה1[#All],2,0)),\"\")","v":""}]
[null,null,null,null,null,null,null,null,null,null,null,{"$f":"_xlfn.IFNA(IF(J8547>500,\"ומעלה 500\",VLOOKUP(J8547,טבלה1[#All],2,0)),\"\")","v":""}]
[null,null,null,null,null,null,null,null,null,null,null,{"$f":"_xlfn.IFNA(IF(J8561>500,\"ומעלה 500\",VLOOKUP(J8561,טבלה1[#All],2,0)),\"\")","v":""}]
[null,null,null,null,null,null,null,null,null,null,null,{"$f":"_xlfn.IFNA(IF(J8565>500,\"ומעלה 500\",VLOOKUP(J8565,טבלה1[#All],2,0)),\"\")","v":""}]
[null,null,null,null,null,null,null,null,null,null,null,{"$f":"_xlfn.IFNA(IF(J8577>500,\"ומעלה 500\",VLOOKUP(J8577,טבלה1[#All],2,0)),\"\")","v":""}]
[null,null,null,null,null,null,null,null,null,null,null,{"$f":"_xlfn.IFNA(IF(J8584>500,\"ומעלה 500\",VLOOKUP(J8584,טבלה1[#All],2,0)),\"\")","v":""}]
[null,null,null,null,null,null,null,null,null,null,null,{"$f":"_xlfn.IFNA(IF(J8592>500,\"ומעלה 500\",VLOOKUP(J8592,טבלה1[#All],2,0)),\"\")","v":""}]
[null,null,null,null,null,null,null,null,null,null,null,{"$f":"_xlfn.IFNA(IF(J8602>500,\"ומעלה 500\",VLOOKUP(J8602,טבלה1[#All],2,0)),\"\")","v":""}]
[null,null,null,null,null,null,null,null,null,null,null,{"$f":"_xlfn.IFNA(IF(J8614>500,\"ומעלה 500\",VLOOKUP(J8614,טבלה1[#All],2,0)),\"\")","v":""}]
[null,null,null,null,null,null,null,null,null,null,null,{"$f":"_xlfn.IFNA(IF(J8617>500,\"ומעלה 500\",VLOOKUP(J8617,טבלה1[#All],2,0)),\"\")","v":""}]
[null,null,null,null,null,null,null,null,null,null,null,{"$f":"_xlfn.IFNA(IF(J8631>500,\"ומעלה 500\",VLOOKUP(J8631,טבלה1[#All],2,0)),\"\")","v":""}]
[null,null,null,null,null,null,null,null,null,null,null,{"$f":"_xlfn.IFNA(IF(J8635>500,\"ומעלה 500\",VLOOKUP(J8635,טבלה1[#All],2,0)),\"\")","v":""}]
[null,null,null,null,null,null,null,null,null,null,null,{"$f":"_xlfn.IFNA(IF(J8647>500,\"ומעלה 500\",VLOOKUP(J8647,טבלה1[#All],2,0)),\"\")","v":""}]
[null,null,null,null,null,null,null,null,null,null,null,{"$f":"_xlfn.IFNA(IF(J8654>500,\"ומעלה 500\",VLOOKUP(J8654,טבלה1[#All],2,0)),\"\")","v":""}]
[null,null,null,null,null,null,null,null,null,null,null,{"$f":"_xlfn.IFNA(IF(J8662>500,\"ומעלה 500\",VLOOKUP(J8662,טבלה1[#All],2,0)),\"\")","v":""}]
[null,null,null,null,null,null,null,null,null,null,null,{"$f":"_xlfn.IFNA(IF(J8672>500,\"ומעלה 500\",VLOOKUP(J8672,טבלה1[#All],2,0)),\"\")","v":""}]
[null,null,null,null,null,null,null,null,null,null,null,{"$f":"_xlfn.IFNA(IF(J8684>500,\"ומעלה 500\",VLOOKUP(J8684,טבלה1[#All],2,0)),\"\")","v":""}]
[null,null,null,null,null,null,null,null,null,null,null,{"$f":"_xlfn.IFNA(IF(J8687>500,\"ומעלה 500\",VLOOKUP(J8687,טבלה1[#All],2,0)),\"\")","v":""}]
[null,null,null,null,null,null,null,null,null,null,null,{"$f":"_xlfn.IFNA(IF(J8701>500,\"ומעלה 500\",VLOOKUP(J8701,טבלה1[#All],2,0)),\"\")","v":""}]
[null,null,null,null,null,null,null,null,null,null,null,{"$f":"_xlfn.IFNA(IF(J8705>500,\"ומעלה 500\",VLOOKUP(J8705,טבלה1[#All],2,0)),\"\")","v":""}]
[null,null,null,null,null,null,null,null,null,null,null,{"$f":"_xlfn.IFNA(IF(J8717>500,\"ומעלה 500\",VLOOKUP(J8717,טבלה1[#All],2,0)),\"\")","v":""}]
[null,null,null,null,null,null,null,null,null,null,null,{"$f":"_xlfn.IFNA(IF(J8724>500,\"ומעלה 500\",VLOOKUP(J8724,טבלה1[#All],2,0)),\"\")","v":""}]
[null,null,null,null,null,null,null,null,null,null,null,{"$f":"_xlfn.IFNA(IF(J8732>500,\"ומעלה 500\",VLOOKUP(J8732,טבלה1[#All],2,0)),\"\")","v":""}]
[null,null,null,null,null,null,null,null,null,null,null,{"$f":"_xlfn.IFNA(IF(J8742>500,\"ומעלה 500\",VLOOKUP(J8742,טבלה1[#All],2,0)),\"\")","v":""}]
[null,null,null,null,null,null,null,null,null,null,null,{"$f":"_xlfn.IFNA(IF(J8754>500,\"ומעלה 500\",VLOOKUP(J8754,טבלה1[#All],2,0)),\"\")","v":""}]
[null,null,null,null,null,null,null,null,null,null,null,{"$f":"_xlfn.IFNA(IF(J8757>500,\"ומעלה 500\",VLOOKUP(J8757,טבלה1[#All],2,0)),\"\")","v":""}]
[null,null,null,null,null,null,null,null,null,null,null,{"$f":"_xlfn.IFNA(IF(J8771>500,\"ומעלה 500\",VLOOKUP(J8771,טבלה1[#All],2,0)),\"\")","v":""}]
[null,null,null,null,null,null,null,null,null,null,null,{"$f":"_xlfn.IFNA(IF(J8775>500,\"ומעלה 500\",VLOOKUP(J8775,טבלה1[#All],2,0)),\"\")","v":""}]
[null,null,null,null,null,null,null,null,null,null,null,{"$f":"_xlfn.IFNA(IF(J8782>500,\"ומעלה 500\",VLOOKUP(J8782,טבלה1[#All],2,0)),\"\")","v":""}]
[null,null,null,null,null,null,null,null,null,null,null,{"$f":"_xlfn.IFNA(IF(J8794>500,\"ומעלה 500\",VLOOKUP(J8794,טבלה1[#All],2,0)),\"\")","v":""}]
[null,null,null,null,null,null,null,null,null,null,null,{"$f":"_xlfn.IFNA(IF(J8802>500,\"ומעלה 500\",VLOOKUP(J8802,טבלה1[#All],2,0)),\"\")","v":""}]
[null,null,null,null,null,null,null,null,null,null,null,{"$f":"_xlfn.IFNA(IF(J8812>500,\"ומעלה 500\",VLOOKUP(J8812,טבלה1[#All],2,0)),\"\")","v":""}]
[null,null,null,null,null,null,null,null,null,null,null,{"$f":"_xlfn.IFNA(IF(J8824>500,\"ומעלה 500\",VLOOKUP(J8824,טבלה1[#All],2,0)),\"\")","v":""}]
[null,null,null,null,null,null,null,null,null,null,null,{"$f":"_xlfn.IFNA(IF(J8827>500,\"ומעלה 500\",VLOOKUP(J8827,טבלה1[#All],2,0)),\"\")","v":""}]
[null,null,null,null,null,null,null,null,null,null,null,{"$f":"_xlfn.IFNA(IF(J8841>500,\"ומעלה 500\",VLOOKUP(J8841,טבלה1[#All],2,0)),\"\")","v":""}]
[null,null,null,null,null,null,null,null,null,null,null,{"$f":"_xlfn.IFNA(IF(J8845>500,\"ומעלה 500\",VLOOKUP(J8845,טבלה1[#All],2,0)),\"\")","v":""}]
[null,null,null,null,null,null,null,null,null,null,null,{"$f":"_xlfn.IFNA(IF(J8852>500,\"ומעלה 500\",VLOOKUP(J8852,טבלה1[#All],2,0)),\"\")","v":""}]
[null,null,null,null,null,null,null,null,null,null,null,{"$f":"_xlfn.IFNA(IF(J8864>500,\"ומעלה 500\",VLOOKUP(J8864,טבלה1[#All],2,0)),\"\")","v":""}]
[null,null,null,null,null,null,null,null,null,null,null,{"$f":"_xlfn.IFNA(IF(J8872>500,\"ומעלה 500\",VLOOKUP(J8872,טבלה1[#All],2,0)),\"\")","v":""}]
[null,null,null,null,null,null,null,null,null,null,null,{"$f":"_xlfn.IFNA(IF(J8882>500,\"ומעלה 500\",VLOOKUP(J8882,טבלה1[#All],2,0)),\"\")","v":""}]
[null,null,null,null,null,null,null,null,null,null,null,{"$f":"_xlfn.IFNA(IF(J8894>500,\"ומעלה 500\",VLOOKUP(J8894,טבלה1[#All],2,0)),\"\")","v":""}]
[null,null,null,null,null,null,null,null,null,null,null,{"$f":"_xlfn.IFNA(IF(J8897>500,\"ומעלה 500\",VLOOKUP(J8897,טבלה1[#All],2,0)),\"\")","v":""}]
[null,null,null,null,null,null,null,null,null,null,null,{"$f":"_xlfn.IFNA(IF(J8911>500,\"ומעלה 500\",VLOOKUP(J8911,טבלה1[#All],2,0)),\"\")","v":""}]
[null,null,null,null,null,null,null,null,null,null,null,{"$f":"_xlfn.IFNA(IF(J8915>500,\"ומעלה 500\",VLOOKUP(J8915,טבלה1[#All],2,0)),\"\")","v":""}]
[null,null,null,null,null,null,null,null,null,null,null,{"$f":"_xlfn.IFNA(IF(J8922>500,\"ומעלה 500\",VLOOKUP(J8922,טבלה1[#All],2,0)),\"\")","v":""}]
[null,null,null,null,null,null,null,null,null,null,null,{"$f":"_xlfn.IFNA(IF(J8934>500,\"ומעלה 500\",VLOOKUP(J8934,טבלה1[#All],2,0)),\"\")","v":""}]
[null,null,null,null,null,null,null,null,null,null,null,{"$f":"_xlfn.IFNA(IF(J8942>500,\"ומעלה 500\",VLOOKUP(J8942,טבלה1[#All],2,0)),\"\")","v":""}]
[null,null,null,null,null,null,null,null,null,null,null,{"$f":"_xlfn.IFNA(IF(J8952>500,\"ומעלה 500\",VLOOKUP(J8952,טבלה1[#All],2,0)),\"\")","v":""}]
[null,null,null,null,null,null,null,null,null,null,null,{"$f":"_xlfn.IFNA(IF(J8964>500,\"ומעלה 500\",VLOOKUP(J8964,טבלה1[#All],2,0)),\"\")","v":""}]
[null,null,null,null,null,null,null,null,null,null,null,{"$f":"_xlfn.IFNA(IF(J8971>500,\"ומעלה 500\",VLOOKUP(J8971,טבלה1[#All],2,0)),\"\")","v":""}]
[null,null,null,null,null,null,null,null,null,null,null,{"$f":"_xlfn.IFNA(IF(J8981>500,\"ומעלה 500\",VLOOKUP(J8981,טבלה1[#All],2,0)),\"\")","v":""}]
[null,null,null,null,null,null,null,null,null,null,null,{"$f":"_xlfn.IFNA(IF(J8985>500,\"ומעלה 500\",VLOOKUP(J8985,טבלה1[#All],2,0)),\"\")","v":""}]
[null,null,null,null,null,null,null,null,null,null,null,{"$f":"_xlfn.IFNA(IF(J8992>500,\"ומעלה 500\",VLOOKUP(J8992,טבלה1[#All],2,0)),\"\")","v":""}]
[null,null,null,null,null,null,null,null,null,null,null,{"$f":"_xlfn.IFNA(IF(J9004>500,\"ומעלה 500\",VLOOKUP(J9004,טבלה1[#All],2,0)),\"\")","v":""}]
[null,null,null,null,null,null,null,null,null,null,null,{"$f":"_xlfn.IFNA(IF(J9012>500,\"ומעלה 500\",VLOOKUP(J9012,טבלה1[#All],2,0)),\"\")","v":""}]
[null,null,null,null,null,null,null,null,null,null,null,{"$f":"_xlfn.IFNA(IF(J9022>500,\"ומעלה 500\",VLOOKUP(J9022,טבלה1[#All],2,0)),\"\")","v":""}]
[null,null,null,null,null,null,null,null,null,null,null,{"$f":"_xlfn.IFNA(IF(J9034>500,\"ומעלה 500\",VLOOKUP(J9034,טבלה1[#All],2,0)),\"\")","v":""}]
[null,null,null,null,null,null,null,null,null,null,null,{"$f":"_xlfn.IFNA(IF(J9041>500,\"ומעלה 500\",VLOOKUP(J9041,טבלה1[#All],2,0)),\"\")","v":""}]
[null,null,null,null,null,null,null,null,null,null,null,{"$f":"_xlfn.IFNA(IF(J9051>500,\"ומעלה 500\",VLOOKUP(J9051,טבלה1[#All],2,0)),\"\")","v":""}]
[null,null,null,null,null,null,null,null,null,null,null,{"$f":"_xlfn.IFNA(IF(J9055>500,\"ומעלה 500\",VLOOKUP(J9055,טבלה1[#All],2,0)),\"\")","v":""}]
[null,null,null,null,null,null,null,null,null,null,null,{"$f":"_xlfn.IFNA(IF(J9062>500,\"ומעלה 500\",VLOOKUP(J9062,טבלה1[#All],2,0)),\"\")","v":""}]
[null,null,null,null,null,null,null,null,null,null,null,{"$f":"_xlfn.IFNA(IF(J9074>500,\"ומעלה 500\",VLOOKUP(J9074,טבלה1[#All],2,0)),\"\")","v":""}]
[null,null,null,null,null,null,null,null,null,null,null,{"$f":"_xlfn.IFNA(IF(J9082>500,\"ומעלה 500\",VLOOKUP(J9082,טבלה1[#All],2,0)),\"\")","v":""}]
[null,null,null,null,null,null,null,null,null,null,null,{"$f":"_xlfn.IFNA(IF(J9092>500,\"ומעלה 500\",VLOOKUP(J9092,טבלה1[#All],2,0)),\"\")","v":""}]
[null,null,null,null,null,null,null,null,null,null,null,{"$f":"_xlfn.IFNA(IF(J9104>500,\"ומעלה 500\",VLOOKUP(J9104,טבלה1[#All],2,0)),\"\")","v":""}]
[null,null,null,null,null,null,null,null,null,null,null,{"$f":"_xlfn.IFNA(IF(J9111>500,\"ומעלה 500\",VLOOKUP(J9111,טבלה1[#All],2,0)),\"\")","v":""}]
[null,null,null,null,null,null,null,null,null,null,null,{"$f":"_xlfn.IFNA(IF(J9121>500,\"ומעלה 500\",VLOOKUP(J9121,טבלה1[#All],2,0)),\"\")","v":""}]
[null,null,null,null,null,null,null,null,null,null,null,{"$f":"_xlfn.IFNA(IF(J9125>500,\"ומעלה 500\",VLOOKUP(J9125,טבלה1[#All],2,0)),\"\")","v":""}]
[null,null,null,null,null,null,null,null,null,null,null,{"$f":"_xlfn.IFNA(IF(J9132>500,\"ומעלה 500\",VLOOKUP(J9132,טבלה1[#All],2,0)),\"\")","v":""}]
[null,null,null,null,null,null,null,null,null,null,null,{"$f":"_xlfn.IFNA(IF(J9144>500,\"ומעלה 500\",VLOOKUP(J9144,טבלה1[#All],2,0)),\"\")","v":""}]
[null,null,null,null,null,null,null,null,null,null,null,{"$f":"_xlfn.IFNA(IF(J9152>500,\"ומעלה 500\",VLOOKUP(J9152,טבלה1[#All],2,0)),\"\")","v":""}]
[null,null,null,null,null,null,null,null,null,null,null,{"$f":"_xlfn.IFNA(IF(J9162>500,\"ומעלה 500\",VLOOKUP(J9162,טבלה1[#All],2,0)),\"\")","v":""}]
[null,null,null,null,null,null,null,null,null,null,null,{"$f":"_xlfn.IFNA(IF(J9174>500,\"ומעלה 500\",VLOOKUP(J9174,טבלה1[#All],2,0)),\"\")","v":""}]
[null,null,null,null,null,null,null,null,null,null,null,{"$f":"_xlfn.IFNA(IF(J9181>500,\"ומעלה 500\",VLOOKUP(J9181,טבלה1[#All],2,0)),\"\")","v":""}]
[null,null,null,null,null,null,null,null,null,null,null,{"$f":"_xlfn.IFNA(IF(J9191>500,\"ומעלה 500\",VLOOKUP(J9191,טבלה1[#All],2,0)),\"\")","v":""}]
[null,null,null,null,null,null,null,null,null,null,null,{"$f":"_xlfn.IFNA(IF(J9195>500,\"ומעלה 500\",VLOOKUP(J9195,טבלה1[#All],2,0)),\"\")","v":""}]
[null,null,null,null,null,null,null,null,null,null,null,{"$f":"_xlfn.IFNA(IF(J9202>500,\"ומעלה 500\",VLOOKUP(J9202,טבלה1[#All],2,0)),\"\")","v":""}]
[null,null,null,null,null,null,null,null,null,null,null,{"$f":"_xlfn.IFNA(IF(J9214>500,\"ומעלה 500\",VLOOKUP(J9214,טבלה1[#All],2,0)),\"\")","v":""}]
[null,null,null,null,null,null,null,null,null,null,null,{"$f":"_xlfn.IFNA(IF(J9222>500,\"ומעלה 500\",VLOOKUP(J9222,טבלה1[#All],2,0)),\"\")","v":""}]
[null,null,null,null,null,null,null,null,null,null,null,{"$f":"_xlfn.IFNA(IF(J9232>500,\"ומעלה 500\",VLOOKUP(J9232,טבלה1[#All],2,0)),\"\")","v":""}]
[null,null,null,null,null,null,null,null,null,null,null,{"$f":"_xlfn.IFNA(IF(J9244>500,\"ומעלה 500\",VLOOKUP(J9244,טבלה1[#All],2,0)),\"\")","v":""}]
[null,null,null,null,null,null,null,null,null,null,null,{"$f":"_xlfn.IFNA(IF(J9251>500,\"ומעלה 500\",VLOOKUP(J9251,טבלה1[#All],2,0)),\"\")","v":""}]
[null,null,null,null,null,null,null,null,null,null,null,{"$f":"_xlfn.IFNA(IF(J9261>500,\"ומעלה 500\",VLOOKUP(J9261,טבלה1[#All],2,0)),\"\")","v":""}]
[null,null,null,null,null,null,null,null,null,null,null,{"$f":"_xlfn.IFNA(IF(J9269>500,\"ומעלה 500\",VLOOKUP(J9269,טבלה1[#All],2,0)),\"\")","v":""}]
[null,null,null,null,null,null,null,null,null,null,null,{"$f":"_xlfn.IFNA(IF(J9272>500,\"ומעלה 500\",VLOOKUP(J9272,טבלה1[#All],2,0)),\"\")","v":""}]
[null,null,null,null,null,null,null,null,null,null,null,{"$f":"_xlfn.IFNA(IF(J9284>500,\"ומעלה 500\",VLOOKUP(J9284,טבלה1[#All],2,0)),\"\")","v":""}]
[null,null,null,null,null,null,null,null,null,null,null,{"$f":"_xlfn.IFNA(IF(J9292>500,\"ומעלה 500\",VLOOKUP(J9292,טבלה1[#All],2,0)),\"\")","v":""}]
[null,null,null,null,null,null,null,null,null,null,null,{"$f":"_xlfn.IFNA(IF(J9302>500,\"ומעלה 500\",VLOOKUP(J9302,טבלה1[#All],2,0)),\"\")","v":""}]
[null,null,null,null,null,null,null,null,null,null,null,{"$f":"_xlfn.IFNA(IF(J9314>500,\"ומעלה 500\",VLOOKUP(J9314,טבלה1[#All],2,0)),\"\")","v":""}]
[null,null,null,null,null,null,null,null,null,null,null,{"$f":"_xlfn.IFNA(IF(J9321>500,\"ומעלה 500\",VLOOKUP(J9321,טבלה1[#All],2,0)),\"\")","v":""}]
[null,null,null,null,null,null,null,null,null,null,null,{"$f":"_xlfn.IFNA(IF(J9331>500,\"ומעלה 500\",VLOOKUP(J9331,טבלה1[#All],2,0)),\"\")","v":""}]
[null,null,null,null,null,null,null,null,null,null,null,{"$f":"_xlfn.IFNA(IF(J9339>500,\"ומעלה 500\",VLOOKUP(J9339,טבלה1[#All],2,0)),\"\")","v":""}]
[null,null,null,null,null,null,null,null,null,null,null,{"$f":"_xlfn.IFNA(IF(J9342>500,\"ומעלה 500\",VLOOKUP(J9342,טבלה1[#All],2,0)),\"\")","v":""}]
[null,null,null,null,null,null,null,null,null,null,null,{"$f":"_xlfn.IFNA(IF(J9354>500,\"ומעלה 500\",VLOOKUP(J9354,טבלה1[#All],2,0)),\"\")","v":""}]
[null,null,null,null,null,null,null,null,null,null,null,{"$f":"_xlfn.IFNA(IF(J9362>500,\"ומעלה 500\",VLOOKUP(J9362,טבלה1[#All],2,0)),\"\")","v":""}]
[null,null,null,null,null,null,null,null,null,null,null,{"$f":"_xlfn.IFNA(IF(J9372>500,\"ומעלה 500\",VLOOKUP(J9372,טבלה1[#All],2,0)),\"\")","v":""}]
[null,null,null,null,null,null,null,null,null,null,null,{"$f":"_xlfn.IFNA(IF(J9384>500,\"ומעלה 500\",VLOOKUP(J9384,טבלה1[#All],2,0)),\"\")","v":""}]
[null,null,null,null,null,null,null,null,null,null,null,{"$f":"_xlfn.IFNA(IF(J9391>500,\"ומעלה 500\",VLOOKUP(J9391,טבלה1[#All],2,0)),\"\")","v":""}]
[null,null,null,null,null,null,null,null,null,null,null,{"$f":"_xlfn.IFNA(IF(J9401>500,\"ומעלה 500\",VLOOKUP(J9401,טבלה1[#All],2,0)),\"\")","v":""}]
[null,null,null,null,null,null,null,null,null,null,null,{"$f":"_xlfn.IFNA(IF(J9409>500,\"ומעלה 500\",VLOOKUP(J9409,טבלה1[#All],2,0)),\"\")","v":""}]
[null,null,null,null,null,null,null,null,null,null,null,{"$f":"_xlfn.IFNA(IF(J9412>500,\"ומעלה 500\",VLOOKUP(J9412,טבלה1[#All],2,0)),\"\")","v":""}]
[null,null,null,null,null,null,null,null,null,null,null,{"$f":"_xlfn.IFNA(IF(J9424>500,\"ומעלה 500\",VLOOKUP(J9424,טבלה1[#All],2,0)),\"\")","v":""}]
[null,null,null,null,null,null,null,null,null,null,null,{"$f":"_xlfn.IFNA(IF(J9432>500,\"ומעלה 500\",VLOOKUP(J9432,טבלה1[#All],2,0)),\"\")","v":""}]
[null,null,null,null,null,null,null,null,null,null,null,{"$f":"_xlfn.IFNA(IF(J9442>500,\"ומעלה 500\",VLOOKUP(J9442,טבלה1[#All],2,0)),\"\")","v":""}]
[null,null,null,null,null,null,null,null,null,null,null,{"$f":"_xlfn.IFNA(IF(J9449>500,\"ומעלה 500\",VLOOKUP(J9449,טבלה1[#All],2,0)),\"\")","v":""}]
[null,null,null,null,null,null,null,null,null,null,null,{"$f":"_xlfn.IFNA(IF(J9461>500,\"ומעלה 500\",VLOOKUP(J9461,טבלה1[#All],2,0)),\"\")","v":""}]
[null,null,null,null,null,null,null,null,null,null,null,{"$f":"_xlfn.IFNA(IF(J9471>500,\"ומעלה 500\",VLOOKUP(J9471,טבלה1[#All],2,0)),\"\")","v":""}]
[null,null,null,null,null,null,null,null,null,null,null,{"$f":"_xlfn.IFNA(IF(J9479>500,\"ומעלה 500\",VLOOKUP(J9479,טבלה1[#All],2,0)),\"\")","v":""}]
[null,null,null,null,null,null,null,null,null,null,null,{"$f":"_xlfn.IFNA(IF(J9482>500,\"ומעלה 500\",VLOOKUP(J9482,טבלה1[#All],2,0)),\"\")","v":""}]
[null,null,null,null,null,null,null,null,null,null,null,{"$f":"_xlfn.IFNA(IF(J9494>500,\"ומעלה 500\",VLOOKUP(J9494,טבלה1[#All],2,0)),\"\")","v":""}]
[null,null,null,null,null,null,null,null,null,null,null,{"$f":"_xlfn.IFNA(IF(J9502>500,\"ומעלה 500\",VLOOKUP(J9502,טבלה1[#All],2,0)),\"\")","v":""}]
[null,null,null,null,null,null,null,null,null,null,null,{"$f":"_xlfn.IFNA(IF(J9512>500,\"ומעלה 500\",VLOOKUP(J9512,טבלה1[#All],2,0)),\"\")","v":""}]
[null,null,null,null,null,null,null,null,null,null,null,{"$f":"_xlfn.IFNA(IF(J9519>500,\"ומעלה 500\",VLOOKUP(J9519,טבלה1[#All],2,0)),\"\")","v":""}]
[null,null,null,null,null,null,null,null,null,null,null,{"$f":"_xlfn.IFNA(IF(J9531>500,\"ומעלה 500\",VLOOKUP(J9531,טבלה1[#All],2,0)),\"\")","v":""}]
[null,null,null,null,null,null,null,null,null,null,null,{"$f":"_xlfn.IFNA(IF(J9541>500,\"ומעלה 500\",VLOOKUP(J9541,טבלה1[#All],2,0)),\"\")","v":""}]
[null,null,null,null,null,null,null,null,null,null,null,{"$f":"_xlfn.IFNA(IF(J9549>500,\"ומעלה 500\",VLOOKUP(J9549,טבלה1[#All],2,0)),\"\")","v":""}]
[null,null,null,null,null,null,null,null,null,null,null,{"$f":"_xlfn.IFNA(IF(J9552>500,\"ומעלה 500\",VLOOKUP(J9552,טבלה1[#All],2,0)),\"\")","v":""}]
[null,null,null,null,null,null,null,null,null,null,null,{"$f":"_xlfn.IFNA(IF(J9568>500,\"ומעלה 500\",VLOOKUP(J9568,טבלה1[#All],2,0)),\"\")","v":""}]
[null,null,null,null,null,null,null,null,null,null,null,{"$f":"_xlfn.IFNA(IF(J9572>500,\"ומעלה 500\",VLOOKUP(J9572,טבלה1[#All],2,0)),\"\")","v":""}]
[null,null,null,null,null,null,null,null,null,null,null,{"$f":"_xlfn.IFNA(IF(J9582>500,\"ומעלה 500\",VLOOKUP(J9582,טבלה1[#All],2,0)),\"\")","v":""}]
[null,null,null,null,null,null,null,null,null,null,null,{"$f":"_xlfn.IFNA(IF(J9589>500,\"ומעלה 500\",VLOOKUP(J9589,טבלה1[#All],2,0)),\"\")","v":""}]
[null,null,null,null,null,null,null,null,null,null,null,{"$f":"_xlfn.IFNA(IF(J9601>500,\"ומעלה 500\",VLOOKUP(J9601,טבלה1[#All],2,0)),\"\")","v":""}]
[null,null,null,null,null,null,null,null,null,null,null,{"$f":"_xlfn.IFNA(IF(J9611>500,\"ומעלה 500\",VLOOKUP(J9611,טבלה1[#All],2,0)),\"\")","v":""}]
[null,null,null,null,null,null,null,null,null,null,null,{"$f":"_xlfn.IFNA(IF(J9619>500,\"ומעלה 500\",VLOOKUP(J9619,טבלה1[#All],2,0)),\"\")","v":""}]
[null,null,null,null,null,null,null,null,null,null,null,{"$f":"_xlfn.IFNA(IF(J9622>500,\"ומעלה 500\",VLOOKUP(J9622,טבלה1[#All],2,0)),\"\")","v":""}]
[null,null,null,null,null,null,null,null,null,null,null,{"$f":"_xlfn.IFNA(IF(J9638>500,\"ומעלה 500\",VLOOKUP(J9638,טבלה1[#All],2,0)),\"\")","v":""}]
[null,null,null,null,null,null,null,null,null,null,null,{"$f":"_xlfn.IFNA(IF(J9642>500,\"ומעלה 500\",VLOOKUP(J9642,טבלה1[#All],2,0)),\"\")","v":""}]
[null,null,null,null,null,null,null,null,null,null,null,{"$f":"_xlfn.IFNA(IF(J9652>500,\"ומעלה 500\",VLOOKUP(J9652,טבלה1[#All],2,0)),\"\")","v":""}]
[null,null,null,null,null,null,null,null,null,null,null,{"$f":"_xlfn.IFNA(IF(J9659>500,\"ומעלה 500\",VLOOKUP(J9659,טבלה1[#All],2,0)),\"\")","v":""}]
[null,null,null,null,null,null,null,null,null,null,null,{"$f":"_xlfn.IFNA(IF(J9671>500,\"ומעלה 500\",VLOOKUP(J9671,טבלה1[#All],2,0)),\"\")","v":""}]
[null,null,null,null,null,null,null,null,null,null,null,{"$f":"_xlfn.IFNA(IF(J9681>500,\"ומעלה 500\",VLOOKUP(J9681,טבלה1[#All],2,0)),\"\")","v":""}]
[null,null,null,null,null,null,null,null,null,null,null,{"$f":"_xlfn.IFNA(IF(J9689>500,\"ומעלה 500\",VLOOKUP(J9689,טבלה1[#All],2,0)),\"\")","v":""}]
[null,null,null,null,null,null,null,null,null,null,null,{"$f":"_xlfn.IFNA(IF(J9692>500,\"ומעלה 500\",VLOOKUP(J9692,טבלה1[#All],2,0)),\"\")","v":""}]
[null,null,null,null,null,null,null,null,null,null,null,{"$f":"_xlfn.IFNA(IF(J9708>500,\"ומעלה 500\",VLOOKUP(J9708,טבלה1[#All],2,0)),\"\")","v":""}]
[null,null,null,null,null,null,null,null,null,null,null,{"$f":"_xlfn.IFNA(IF(J9712>500,\"ומעלה 500\",VLOOKUP(J9712,טבלה1[#All],2,0)),\"\")","v":""}]
[null,null,null,null,null,null,null,null,null,null,null,{"$f":"_xlfn.IFNA(IF(J9722>500,\"ומעלה 500\",VLOOKUP(J9722,טבלה1[#All],2,0)),\"\")","v":""}]
[null,null,null,null,null,null,null,null,null,null,null,{"$f":"_xlfn.IFNA(IF(J9729>500,\"ומעלה 500\",VLOOKUP(J9729,טבלה1[#All],2,0)),\"\")","v":""}]
[null,null,null,null,null,null,null,null,null,null,null,{"$f":"_xlfn.IFNA(IF(J9741>500,\"ומעלה 500\",VLOOKUP(J9741,טבלה1[#All],2,0)),\"\")","v":""}]
[null,null,null,null,null,null,null,null,null,null,null,{"$f":"_xlfn.IFNA(IF(J9751>500,\"ומעלה 500\",VLOOKUP(J9751,טבלה1[#All],2,0)),\"\")","v":""}]
[null,null,null,null,null,null,null,null,null,null,null,{"$f":"_xlfn.IFNA(IF(J9759>500,\"ומעלה 500\",VLOOKUP(J9759,טבלה1[#All],2,0)),\"\")","v":""}]
[null,null,null,null,null,null,null,null,null,null,null,{"$f":"_xlfn.IFNA(IF(J9762>500,\"ומעלה 500\",VLOOKUP(J9762,טבלה1[#All],2,0)),\"\")","v":""}]
[null,null,null,null,null,null,null,null,null,null,null,{"$f":"_xlfn.IFNA(IF(J9778>500,\"ומעלה 500\",VLOOKUP(J9778,טבלה1[#All],2,0)),\"\")","v":""}]
[null,null,null,null,null,null,null,null,null,null,null,{"$f":"_xlfn.IFNA(IF(J9782>500,\"ומעלה 500\",VLOOKUP(J9782,טבלה1[#All],2,0)),\"\")","v":""}]
[null,null,null,null,null,null,null,null,null,null,null,{"$f":"_xlfn.IFNA(IF(J9792>500,\"ומעלה 500\",VLOOKUP(J9792,טבלה1[#All],2,0)),\"\")","v":""}]
[null,null,null,null,null,null,null,null,null,null,null,{"$f":"_xlfn.IFNA(IF(J9799>500,\"ומעלה 500\",VLOOKUP(J9799,טבלה1[#All],2,0)),\"\")","v":""}]
[null,null,null,null,null,null,null,null,null,null,null,{"$f":"_xlfn.IFNA(IF(J9811>500,\"ומעלה 500\",VLOOKUP(J9811,טבלה1[#All],2,0)),\"\")","v":""}]
[null,null,null,null,null,null,null,null,null,null,null,{"$f":"_xlfn.IFNA(IF(J9821>500,\"ומעלה 500\",VLOOKUP(J9821,טבלה1[#All],2,0)),\"\")","v":""}]
[null,null,null,null,null,null,null,null,null,null,null,{"$f":"_xlfn.IFNA(IF(J9829>500,\"ומעלה 500\",VLOOKUP(J9829,טבלה1[#All],2,0)),\"\")","v":""}]
[null,null,null,null,null,null,null,null,null,null,null,{"$f":"_xlfn.IFNA(IF(J9832>500,\"ומעלה 500\",VLOOKUP(J9832,טבלה1[#All],2,0)),\"\")","v":""}]
[null,null,null,null,null,null,null,null,null,null,null,{"$f":"_xlfn.IFNA(IF(J9848>500,\"ומעלה 500\",VLOOKUP(J9848,טבלה1[#All],2,0)),\"\")","v":""}]
[null,null,null,null,null,null,null,null,null,null,null,{"$f":"_xlfn.IFNA(IF(J9852>500,\"ומעלה 500\",VLOOKUP(J9852,טבלה1[#All],2,0)),\"\")","v":""}]
[null,null,null,null,null,null,null,null,null,null,null,{"$f":"_xlfn.IFNA(IF(J9866>500,\"ומעלה 500\",VLOOKUP(J9866,טבלה1[#All],2,0)),\"\")","v":""}]
[null,null,null,null,null,null,null,null,null,null,null,{"$f":"_xlfn.IFNA(IF(J9869>500,\"ומעלה 500\",VLOOKUP(J9869,טבלה1[#All],2,0)),\"\")","v":""}]
[null,null,null,null,null,null,null,null,null,null,null,{"$f":"_xlfn.IFNA(IF(J9881>500,\"ומעלה 500\",VLOOKUP(J9881,טבלה1[#All],2,0)),\"\")","v":""}]
[null,null,null,null,null,null,null,null,null,null,null,{"$f":"_xlfn.IFNA(IF(J9891>500,\"ומעלה 500\",VLOOKUP(J9891,טבלה1[#All],2,0)),\"\")","v":""}]
[null,null,null,null,null,null,null,null,null,null,null,{"$f":"_xlfn.IFNA(IF(J9899>500,\"ומעלה 500\",VLOOKUP(J9899,טבלה1[#All],2,0)),\"\")","v":""}]
[null,null,null,null,null,null,null,null,null,null,null,{"$f":"_xlfn.IFNA(IF(J9902>500,\"ומעלה 500\",VLOOKUP(J9902,טבלה1[#All],2,0)),\"\")","v":""}]
[null,null,null,null,null,null,null,null,null,null,null,{"$f":"_xlfn.IFNA(IF(J9918>500,\"ומעלה 500\",VLOOKUP(J9918,טבלה1[#All],2,0)),\"\")","v":""}]
[null,null,null,null,null,null,null,null,null,null,null,{"$f":"_xlfn.IFNA(IF(J9922>500,\"ומעלה 500\",VLOOKUP(J9922,טבלה1[#All],2,0)),\"\")","v":""}]
[null,null,null,null,null,null,null,null,null,null,null,{"$f":"_xlfn.IFNA(IF(J9936>500,\"ומעלה 500\",VLOOKUP(J9936,טבלה1[#All],2,0)),\"\")","v":""}]
[null,null,null,null,null,null,null,null,null,null,null,{"$f":"_xlfn.IFNA(IF(J9939>500,\"ומעלה 500\",VLOOKUP(J9939,טבלה1[#All],2,0)),\"\")","v":""}]
[null,null,null,null,null,null,null,null,null,null,null,{"$f":"_xlfn.IFNA(IF(J9951>500,\"ומעלה 500\",VLOOKUP(J9951,טבלה1[#All],2,0)),\"\")","v":""}]
[null,null,null,null,null,null,null,null,null,null,null,{"$f":"_xlfn.IFNA(IF(J9961>500,\"ומעלה 500\",VLOOKUP(J9961,טבלה1[#All],2,0)),\"\")","v":""}]
[null,null,null,null,null,null,null,null,null,null,null,{"$f":"_xlfn.IFNA(IF(J9969>500,\"ומעלה 500\",VLOOKUP(J9969,טבלה1[#All],2,0)),\"\")","v":""}]
[null,null,null,null,null,null,null,null,null,null,null,{"$f":"_xlfn.IFNA(IF(J9972>500,\"ומעלה 500\",VLOOKUP(J9972,טבלה1[#All],2,0)),\"\")","v":""}]
[null,null,null,null,null,null,null,null,null,null,null,{"$f":"_xlfn.IFNA(IF(J9988>500,\"ומעלה 500\",VLOOKUP(J9988,טבלה1[#All],2,0)),\"\")","v":""}]
[null,null,null,null,null,null,null,null,null,null,null,{"$f":"_xlfn.IFNA(IF(J9992>500,\"ומעלה 500\",VLOOKUP(J9992,טבלה1[#All],2,0)),\"\")","v":""}]
[null,null,null,null,null,null,null,null,null,null,null,{"$f":"_xlfn.IFNA(IF(J10006>500,\"ומעלה 500\",VLOOKUP(J10006,טבלה1[#All],2,0)),\"\")","v":""}]
[null,null,null,null,null,null,null,null,null,null,null,{"$f":"_xlfn.IFNA(IF(J10009>500,\"ומעלה 500\",VLOOKUP(J10009,טבלה1[#All],2,0)),\"\")","v":""}]
[null,null,null,null,null,null,null,null,null,null,null,{"$f":"_xlfn.IFNA(IF(J10021>500,\"ומעלה 500\",VLOOKUP(J10021,טבלה1[#All],2,0)),\"\")","v":""}]
[null,null,null,null,null,null,null,null,null,null,null,{"$f":"_xlfn.IFNA(IF(J10031>500,\"ומעלה 500\",VLOOKUP(J10031,טבלה1[#All],2,0)),\"\")","v":""}]
[null,null,null,null,null,null,null,null,null,null,null,{"$f":"_xlfn.IFNA(IF(J10039>500,\"ומעלה 500\",VLOOKUP(J10039,טבלה1[#All],2,0)),\"\")","v":""}]
[null,null,null,null,null,null,null,null,null,null,null,{"$f":"_xlfn.IFNA(IF(J10046>500,\"ומעלה 500\",VLOOKUP(J10046,טבלה1[#All],2,0)),\"\")","v":""}]
[null,null,null,null,null,null,null,null,null,null,null,{"$f":"_xlfn.IFNA(IF(J10058>500,\"ומעלה 500\",VLOOKUP(J10058,טבלה1[#All],2,0)),\"\")","v":""}]
[null,null,null,null,null,null,null,null,null,null,null,{"$f":"_xlfn.IFNA(IF(J10062>500,\"ומעלה 500\",VLOOKUP(J10062,טבלה1[#All],2,0)),\"\")","v":""}]
[null,null,null,null,null,null,null,null,null,null,null,{"$f":"_xlfn.IFNA(IF(J10076>500,\"ומעלה 500\",VLOOKUP(J10076,טבלה1[#All],2,0)),\"\")","v":""}]
[null,null,null,null,null,null,null,null,null,null,null,{"$f":"_xlfn.IFNA(IF(J10079>500,\"ומעלה 500\",VLOOKUP(J10079,טבלה1[#All],2,0)),\"\")","v":""}]
[null,null,null,null,null,null,null,null,null,null,null,{"$f":"_xlfn.IFNA(IF(J10091>500,\"ומעלה 500\",VLOOKUP(J10091,טבלה1[#All],2,0)),\"\")","v":""}]
[null,null,null,null,null,null,null,null,null,null,null,{"$f":"_xlfn.IFNA(IF(J10101>500,\"ומעלה 500\",VLOOKUP(J10101,טבלה1[#All],2,0)),\"\")","v":""}]
[null,null,null,null,null,null,null,null,null,null,null,{"$f":"_xlfn.IFNA(IF(J10109>500,\"ומעלה 500\",VLOOKUP(J10109,טבלה1[#All],2,0)),\"\")","v":""}]
[null,null,null,null,null,null,null,null,null,null,null,{"$f":"_xlfn.IFNA(IF(J10116>500,\"ומעלה 500\",VLOOKUP(J10116,טבלה1[#All],2,0)),\"\")","v":""}]
[null,null,null,null,null,null,null,null,null,null,null,{"$f":"_xlfn.IFNA(IF(J10128>500,\"ומעלה 500\",VLOOKUP(J10128,טבלה1[#All],2,0)),\"\")","v":""}]
[null,null,null,null,null,null,null,null,null,null,null,{"$f":"_xlfn.IFNA(IF(J10132>500,\"ומעלה 500\",VLOOKUP(J10132,טבלה1[#All],2,0)),\"\")","v":""}]
[null,null,null,null,null,null,null,null,null,null,null,{"$f":"_xlfn.IFNA(IF(J10146>500,\"ומעלה 500\",VLOOKUP(J10146,טבלה1[#All],2,0)),\"\")","v":""}]
[null,null,null,null,null,null,null,null,null,null,null,{"$f":"_xlfn.IFNA(IF(J10149>500,\"ומעלה 500\",VLOOKUP(J10149,טבלה1[#All],2,0)),\"\")","v":""}]
[null,null,null,null,null,null,null,null,null,null,null,{"$f":"_xlfn.IFNA(IF(J10161>500,\"ומעלה 500\",VLOOKUP(J10161,טבלה1[#All],2,0)),\"\")","v":""}]
[null,null,null,null,null,null,null,null,null,null,null,{"$f":"_xlfn.IFNA(IF(J10171>500,\"ומעלה 500\",VLOOKUP(J10171,טבלה1[#All],2,0)),\"\")","v":""}]
[null,null,null,null,null,null,null,null,null,null,null,{"$f":"_xlfn.IFNA(IF(J10179>500,\"ומעלה 500\",VLOOKUP(J10179,טבלה1[#All],2,0)),\"\")","v":""}]
[null,null,null,null,null,null,null,null,null,null,null,{"$f":"_xlfn.IFNA(IF(J10186>500,\"ומעלה 500\",VLOOKUP(J10186,טבלה1[#All],2,0)),\"\")","v":""}]
[null,null,null,null,null,null,null,null,null,null,null,{"$f":"_xlfn.IFNA(IF(J10198>500,\"ומעלה 500\",VLOOKUP(J10198,טבלה1[#All],2,0)),\"\")","v":""}]
[null,null,null,null,null,null,null,null,null,null,null,{"$f":"_xlfn.IFNA(IF(J10202>500,\"ומעלה 500\",VLOOKUP(J10202,טבלה1[#All],2,0)),\"\")","v":""}]
[null,null,null,null,null,null,null,null,null,null,null,{"$f":"_xlfn.IFNA(IF(J10216>500,\"ומעלה 500\",VLOOKUP(J10216,טבלה1[#All],2,0)),\"\")","v":""}]
[null,null,null,null,null,null,null,null,null,null,null,{"$f":"_xlfn.IFNA(IF(J10219>500,\"ומעלה 500\",VLOOKUP(J10219,טבלה1[#All],2,0)),\"\")","v":""}]
[null,null,null,null,null,null,null,null,null,null,null,{"$f":"_xlfn.IFNA(IF(J10226>500,\"ומעלה 500\",VLOOKUP(J10226,טבלה1[#All],2,0)),\"\")","v":""}]
[null,null,null,null,null,null,null,null,null,null,null,{"$f":"_xlfn.IFNA(IF(J10241>500,\"ומעלה 500\",VLOOKUP(J10241,טבלה1[#All],2,0)),\"\")","v":""}]
[null,null,null,null,null,null,null,null,null,null,null,{"$f":"_xlfn.IFNA(IF(J10249>500,\"ומעלה 500\",VLOOKUP(J10249,טבלה1[#All],2,0)),\"\")","v":""}]
[null,null,null,null,null,null,null,null,null,null,null,{"$f":"_xlfn.IFNA(IF(J10256>500,\"ומעלה 500\",VLOOKUP(J10256,טבלה1[#All],2,0)),\"\")","v":""}]
[null,null,null,null,null,null,null,null,null,null,null,{"$f":"_xlfn.IFNA(IF(J10268>500,\"ומעלה 500\",VLOOKUP(J10268,טבלה1[#All],2,0)),\"\")","v":""}]
[null,null,null,null,null,null,null,null,null,null,null,{"$f":"_xlfn.IFNA(IF(J10272>500,\"ומעלה 500\",VLOOKUP(J10272,טבלה1[#All],2,0)),\"\")","v":""}]
[null,null,null,null,null,null,null,null,null,null,null,{"$f":"_xlfn.IFNA(IF(J10286>500,\"ומעלה 500\",VLOOKUP(J10286,טבלה1[#All],2,0)),\"\")","v":""}]
[null,null,null,null,null,null,null,null,null,null,null,{"$f":"_xlfn.IFNA(IF(J10289>500,\"ומעלה 500\",VLOOKUP(J10289,טבלה1[#All],2,0)),\"\")","v":""}]
[null,null,null,null,null,null,null,null,null,null,null,{"$f":"_xlfn.IFNA(IF(J10296>500,\"ומעלה 500\",VLOOKUP(J10296,טבלה1[#All],2,0)),\"\")","v":""}]
[null,null,null,null,null,null,null,null,null,null,null,{"$f":"_xlfn.IFNA(IF(J10311>500,\"ומעלה 500\",VLOOKUP(J10311,טבלה1[#All],2,0)),\"\")","v":""}]
[null,null,null,null,null,null,null,null,null,null,null,{"$f":"_xlfn.IFNA(IF(J10319>500,\"ומעלה 500\",VLOOKUP(J10319,טבלה1[#All],2,0)),\"\")","v":""}]
[null,null,null,null,null,null,null,null,null,null,null,{"$f":"_xlfn.IFNA(IF(J10326>500,\"ומעלה 500\",VLOOKUP(J10326,טבלה1[#All],2,0)),\"\")","v":""}]
[null,null,null,null,null,null,null,null,null,null,null,{"$f":"_xlfn.IFNA(IF(J10338>500,\"ומעלה 500\",VLOOKUP(J10338,טבלה1[#All],2,0)),\"\")","v":""}]
[null,null,null,null,null,null,null,null,null,null,null,{"$f":"_xlfn.IFNA(IF(J10342>500,\"ומעלה 500\",VLOOKUP(J10342,טבלה1[#All],2,0)),\"\")","v":""}]
[null,null,null,null,null,null,null,null,null,null,null,{"$f":"_xlfn.IFNA(IF(J10356>500,\"ומעלה 500\",VLOOKUP(J10356,טבלה1[#All],2,0)),\"\")","v":""}]
[null,null,null,null,null,null,null,null,null,null,null,{"$f":"_xlfn.IFNA(IF(J10359>500,\"ומעלה 500\",VLOOKUP(J10359,טבלה1[#All],2,0)),\"\")","v":""}]
[null,null,null,null,null,null,null,null,null,null,null,{"$f":"_xlfn.IFNA(IF(J10366>500,\"ומעלה 500\",VLOOKUP(J10366,טבלה1[#All],2,0)),\"\")","v":""}]
[null,null,null,null,null,null,null,null,null,null,null,{"$f":"_xlfn.IFNA(IF(J10381>500,\"ומעלה 500\",VLOOKUP(J10381,טבלה1[#All],2,0)),\"\")","v":""}]
[null,null,null,null,null,null,null,null,null,null,null,{"$f":"_xlfn.IFNA(IF(J10389>500,\"ומעלה 500\",VLOOKUP(J10389,טבלה1[#All],2,0)),\"\")","v":""}]
[null,null,null,null,null,null,null,null,null,null,null,{"$f":"_xlfn.IFNA(IF(J10396>500,\"ומעלה 500\",VLOOKUP(J10396,טבלה1[#All],2,0)),\"\")","v":""}]
[null,null,null,null,null,null,null,null,null,null,null,{"$f":"_xlfn.IFNA(IF(J10408>500,\"ומעלה 500\",VLOOKUP(J10408,טבלה1[#All],2,0)),\"\")","v":""}]
[null,null,null,null,null,null,null,null,null,null,null,{"$f":"_xlfn.IFNA(IF(J10412>500,\"ומעלה 500\",VLOOKUP(J10412,טבלה1[#All],2,0)),\"\")","v":""}]
[null,null,null,null,null,null,null,null,null,null,null,{"$f":"_xlfn.IFNA(IF(J10426>500,\"ומעלה 500\",VLOOKUP(J10426,טבלה1[#All],2,0)),\"\")","v":""}]
[null,null,null,null,null,null,null,null,null,null,null,{"$f":"_xlfn.IFNA(IF(J10429>500,\"ומעלה 500\",VLOOKUP(J10429,טבלה1[#All],2,0)),\"\")","v":""}]
[null,null,null,null,null,null,null,null,null,null,null,{"$f":"_xlfn.IFNA(IF(J10436>500,\"ומעלה 500\",VLOOKUP(J10436,טבלה1[#All],2,0)),\"\")","v":""}]
[null,null,null,null,null,null,null,null,null,null,null,{"$f":"_xlfn.IFNA(IF(J10451>500,\"ומעלה 500\",VLOOKUP(J10451,טבלה1[#All],2,0)),\"\")","v":""}]
[null,null,null,null,null,null,null,null,null,null,null,{"$f":"_xlfn.IFNA(IF(J10459>500,\"ומעלה 500\",VLOOKUP(J10459,טבלה1[#All],2,0)),\"\")","v":""}]
[null,null,null,null,null,null,null,null,null,null,null,{"$f":"_xlfn.IFNA(IF(J10466>500,\"ומעלה 500\",VLOOKUP(J10466,טבלה1[#All],2,0)),\"\")","v":""}]
[null,null,null,null,null,null,null,null,null,null,null,{"$f":"_xlfn.IFNA(IF(J10478>500,\"ומעלה 500\",VLOOKUP(J10478,טבלה1[#All],2,0)),\"\")","v":""}]
[null,null,null,null,null,null,null,null,null,null,null,{"$f":"_xlfn.IFNA(IF(J10482>500,\"ומעלה 500\",VLOOKUP(J10482,טבלה1[#All],2,0)),\"\")","v":""}]
[null,null,null,null,null,null,null,null,null,null,null,{"$f":"_xlfn.IFNA(IF(J10496>500,\"ומעלה 500\",VLOOKUP(J10496,טבלה1[#All],2,0)),\"\")","v":""}]
[null,null,null,null,null,null,null,null,null,null,null,{"$f":"_xlfn.IFNA(IF(J10499>500,\"ומעלה 500\",VLOOKUP(J10499,טבלה1[#All],2,0)),\"\")","v":""}]
[null,null,null,null,null,null,null,null,null,null,null,{"$f":"_xlfn.IFNA(IF(J10506>500,\"ומעלה 500\",VLOOKUP(J10506,טבלה1[#All],2,0)),\"\")","v":""}]
[null,null,null,null,null,null,null,null,null,null,null,{"$f":"_xlfn.IFNA(IF(J10521>500,\"ומעלה 500\",VLOOKUP(J10521,טבלה1[#All],2,0)),\"\")","v":""}]
[null,null,null,null,null,null,null,null,null,null,null,{"$f":"_xlfn.IFNA(IF(J10524>500,\"ומעלה 500\",VLOOKUP(J10524,טבלה1[#All],2,0)),\"\")","v":""}]
[null,null,null,null,null,null,null,null,null,null,null,{"$f":"_xlfn.IFNA(IF(J10536>500,\"ומעלה 500\",VLOOKUP(J10536,טבלה1[#All],2,0)),\"\")","v":""}]
[null,null,null,null,null,null,null,null,null,null,null,{"$f":"_xlfn.IFNA(IF(J10548>500,\"ומעלה 500\",VLOOKUP(J10548,טבלה1[#All],2,0)),\"\")","v":""}]
[null,null,null,null,null,null,null,null,null,null,null,{"$f":"_xlfn.IFNA(IF(J10552>500,\"ומעלה 500\",VLOOKUP(J10552,טבלה1[#All],2,0)),\"\")","v":""}]
[null,null,null,null,null,null,null,null,null,null,null,{"$f":"_xlfn.IFNA(IF(J10566>500,\"ומעלה 500\",VLOOKUP(J10566,טבלה1[#All],2,0)),\"\")","v":""}]
[null,null,null,null,null,null,null,null,null,null,null,{"$f":"_xlfn.IFNA(IF(J10569>500,\"ומעלה 500\",VLOOKUP(J10569,טבלה1[#All],2,0)),\"\")","v":""}]
[null,null,null,null,null,null,null,null,null,null,null,{"$f":"_xlfn.IFNA(IF(J10576>500,\"ומעלה 500\",VLOOKUP(J10576,טבלה1[#All],2,0)),\"\")","v":""}]
[null,null,null,null,null,null,null,null,null,null,null,{"$f":"_xlfn.IFNA(IF(J10591>500,\"ומעלה 500\",VLOOKUP(J10591,טבלה1[#All],2,0)),\"\")","v":""}]
[null,null,null,null,null,null,null,null,null,null,null,{"$f":"_xlfn.IFNA(IF(J10594>500,\"ומעלה 500\",VLOOKUP(J10594,טבלה1[#All],2,0)),\"\")","v":""}]
[null,null,null,null,null,null,null,null,null,null,null,{"$f":"_xlfn.IFNA(IF(J10606>500,\"ומעלה 500\",VLOOKUP(J10606,טבלה1[#All],2,0)),\"\")","v":""}]
[null,null,null,null,null,null,null,null,null,null,null,{"$f":"_xlfn.IFNA(IF(J10618>500,\"ומעלה 500\",VLOOKUP(J10618,טבלה1[#All],2,0)),\"\")","v":""}]
[null,null,null,null,null,null,null,null,null,null,null,{"$f":"_xlfn.IFNA(IF(J10622>500,\"ומעלה 500\",VLOOKUP(J10622,טבלה1[#All],2,0)),\"\")","v":""}]
[null,null,null,null,null,null,null,null,null,null,null,{"$f":"_xlfn.IFNA(IF(J10636>500,\"ומעלה 500\",VLOOKUP(J10636,טבלה1[#All],2,0)),\"\")","v":""}]
[null,null,null,null,null,null,null,null,null,null,null,{"$f":"_xlfn.IFNA(IF(J10643>500,\"ומעלה 500\",VLOOKUP(J10643,טבלה1[#All],2,0)),\"\")","v":""}]
[null,null,null,null,null,null,null,null,null,null,null,{"$f":"_xlfn.IFNA(IF(J10646>500,\"ומעלה 500\",VLOOKUP(J10646,טבלה1[#All],2,0)),\"\")","v":""}]
[null,null,null,null,null,null,null,null,null,null,null,{"$f":"_xlfn.IFNA(IF(J10661>500,\"ומעלה 500\",VLOOKUP(J10661,טבלה1[#All],2,0)),\"\")","v":""}]
[null,null,null,null,null,null,null,null,null,null,null,{"$f":"_xlfn.IFNA(IF(J10664>500,\"ומעלה 500\",VLOOKUP(J10664,טבלה1[#All],2,0)),\"\")","v":""}]
[null,null,null,null,null,null,null,null,null,null,null,{"$f":"_xlfn.IFNA(IF(J10676>500,\"ומעלה 500\",VLOOKUP(J10676,טבלה1[#All],2,0)),\"\")","v":""}]
[null,null,null,null,null,null,null,null,null,null,null,{"$f":"_xlfn.IFNA(IF(J10688>500,\"ומעלה 500\",VLOOKUP(J10688,טבלה1[#All],2,0)),\"\")","v":""}]
[null,null,null,null,null,null,null,null,null,null,null,{"$f":"_xlfn.IFNA(IF(J10692>500,\"ומעלה 500\",VLOOKUP(J10692,טבלה1[#All],2,0)),\"\")","v":""}]
[null,null,null,null,null,null,null,null,null,null,null,{"$f":"_xlfn.IFNA(IF(J10706>500,\"ומעלה 500\",VLOOKUP(J10706,טבלה1[#All],2,0)),\"\")","v":""}]
[null,null,null,null,null,null,null,null,null,null,null,{"$f":"_xlfn.IFNA(IF(J10713>500,\"ומעלה 500\",VLOOKUP(J10713,טבלה1[#All],2,0)),\"\")","v":""}]
[null,null,null,null,null,null,null,null,null,null,null,{"$f":"_xlfn.IFNA(IF(J10716>500,\"ומעלה 500\",VLOOKUP(J10716,טבלה1[#All],2,0)),\"\")","v":""}]
[null,null,null,null,null,null,null,null,null,null,null,{"$f":"_xlfn.IFNA(IF(J10731>500,\"ומעלה 500\",VLOOKUP(J10731,טבלה1[#All],2,0)),\"\")","v":""}]
[null,null,null,null,null,null,null,null,null,null,null,{"$f":"_xlfn.IFNA(IF(J10734>500,\"ומעלה 500\",VLOOKUP(J10734,טבלה1[#All],2,0)),\"\")","v":""}]
[null,null,null,null,null,null,null,null,null,null,null,{"$f":"_xlfn.IFNA(IF(J10746>500,\"ומעלה 500\",VLOOKUP(J10746,טבלה1[#All],2,0)),\"\")","v":""}]
[null,null,null,null,null,null,null,null,null,null,null,{"$f":"_xlfn.IFNA(IF(J10758>500,\"ומעלה 500\",VLOOKUP(J10758,טבלה1[#All],2,0)),\"\")","v":""}]
[null,null,null,null,null,null,null,null,null,null,null,{"$f":"_xlfn.IFNA(IF(J10765>500,\"ומעלה 500\",VLOOKUP(J10765,טבלה1[#All],2,0)),\"\")","v":""}]
[null,null,null,null,null,null,null,null,null,null,null,{"$f":"_xlfn.IFNA(IF(J10772>500,\"ומעלה 500\",VLOOKUP(J10772,טבלה1[#All],2,0)),\"\")","v":""}]
[null,null,null,null,null,null,null,null,null,null,null,{"$f":"_xlfn.IFNA(IF(J10783>500,\"ומעלה 500\",VLOOKUP(J10783,טבלה1[#All],2,0)),\"\")","v":""}]
[null,null,null,null,null,null,null,null,null,null,null,{"$f":"_xlfn.IFNA(IF(J10786>500,\"ומעלה 500\",VLOOKUP(J10786,טבלה1[#All],2,0)),\"\")","v":""}]
[null,null,null,null,null,null,null,null,null,null,null,{"$f":"_xlfn.IFNA(IF(J10798>500,\"ומעלה 500\",VLOOKUP(J10798,טבלה1[#All],2,0)),\"\")","v":""}]
[null,null,null,null,null,null,null,null,null,null,null,{"$f":"_xlfn.IFNA(IF(J10811>500,\"ומעלה 500\",VLOOKUP(J10811,טבלה1[#All],2,0)),\"\")","v":""}]
[null,null,null,null,null,null,null,null,null,null,null,{"$f":"_xlfn.IFNA(IF(J10816>500,\"ומעלה 500\",VLOOKUP(J10816,טבלה1[#All],2,0)),\"\")","v":""}]
[null,null,null,null,null,null,null,null,null,null,null,{"$f":"_xlfn.IFNA(IF(J10823>500,\"ומעלה 500\",VLOOKUP(J10823,טבלה1[#All],2,0)),\"\")","v":""}]
[null,null,null,null,null,null,null,null,null,null,null,{"$f":"_xlfn.IFNA(IF(J10835>500,\"ומעלה 500\",VLOOKUP(J10835,טבלה1[#All],2,0)),\"\")","v":""}]
[null,null,null,null,null,null,null,null,null,null,null,{"$f":"_xlfn.IFNA(IF(J10842>500,\"ומעלה 500\",VLOOKUP(J10842,טבלה1[#All],2,0)),\"\")","v":""}]
[null,null,null,null,null,null,null,null,null,null,null,{"$f":"_xlfn.IFNA(IF(J10853>500,\"ומעלה 500\",VLOOKUP(J10853,טבלה1[#All],2,0)),\"\")","v":""}]
[null,null,null,null,null,null,null,null,null,null,null,{"$f":"_xlfn.IFNA(IF(J10856>500,\"ומעלה 500\",VLOOKUP(J10856,טבלה1[#All],2,0)),\"\")","v":""}]
[null,null,null,null,null,null,null,null,null,null,null,{"$f":"_xlfn.IFNA(IF(J10868>500,\"ומעלה 500\",VLOOKUP(J10868,טבלה1[#All],2,0)),\"\")","v":""}]
[null,null,null,null,null,null,null,null,null,null,null,{"$f":"_xlfn.IFNA(IF(J10881>500,\"ומעלה 500\",VLOOKUP(J10881,טבלה1[#All],2,0)),\"\")","v":""}]
[null,null,null,null,null,null,null,null,null,null,null,{"$f":"_xlfn.IFNA(IF(J10886>500,\"ומעלה 500\",VLOOKUP(J10886,טבלה1[#All],2,0)),\"\")","v":""}]
[null,null,null,null,null,null,null,null,null,null,null,{"$f":"_xlfn.IFNA(IF(J10893>500,\"ומעלה 500\",VLOOKUP(J10893,טבלה1[#All],2,0)),\"\")","v":""}]
[null,null,null,null,null,null,null,null,null,null,null,{"$f":"_xlfn.IFNA(IF(J10905>500,\"ומעלה 500\",VLOOKUP(J10905,טבלה1[#All],2,0)),\"\")","v":""}]
[null,null,null,null,null,null,null,null,null,null,null,{"$f":"_xlfn.IFNA(IF(J10912>500,\"ומעלה 500\",VLOOKUP(J10912,טבלה1[#All],2,0)),\"\")","v":""}]
[null,null,null,null,null,null,null,null,null,null,null,{"$f":"_xlfn.IFNA(IF(J10923>500,\"ומעלה 500\",VLOOKUP(J10923,טבלה1[#All],2,0)),\"\")","v":""}]
[null,null,null,null,null,null,null,null,null,null,null,{"$f":"_xlfn.IFNA(IF(J10926>500,\"ומעלה 500\",VLOOKUP(J10926,טבלה1[#All],2,0)),\"\")","v":""}]
[null,null,null,null,null,null,null,null,null,null,null,{"$f":"_xlfn.IFNA(IF(J10938>500,\"ומעלה 500\",VLOOKUP(J10938,טבלה1[#All],2,0)),\"\")","v":""}]
[null,null,null,null,null,null,null,null,null,null,null,{"$f":"_xlfn.IFNA(IF(J10951>500,\"ומעלה 500\",VLOOKUP(J10951,טבלה1[#All],2,0)),\"\")","v":""}]
[null,null,null,null,null,null,null,null,null,null,null,{"$f":"_xlfn.IFNA(IF(J10956>500,\"ומעלה 500\",VLOOKUP(J10956,טבלה1[#All],2,0)),\"\")","v":""}]
[null,null,null,null,null,null,null,null,null,null,null,{"$f":"_xlfn.IFNA(IF(J10963>500,\"ומעלה 500\",VLOOKUP(J10963,טבלה1[#All],2,0)),\"\")","v":""}]
[null,null,null,null,null,null,null,null,null,null,null,{"$f":"_xlfn.IFNA(IF(J10975>500,\"ומעלה 500\",VLOOKUP(J10975,טבלה1[#All],2,0)),\"\")","v":""}]
[null,null,null,null,null,null,null,null,null,null,null,{"$f":"_xlfn.IFNA(IF(J10982>500,\"ומעלה 500\",VLOOKUP(J10982,טבלה1[#All],2,0)),\"\")","v":""}]
[null,null,null,null,null,null,null,null,null,null,null,{"$f":"_xlfn.IFNA(IF(J10993>500,\"ומעלה 500\",VLOOKUP(J10993,טבלה1[#All],2,0)),\"\")","v":""}]
[null,null,null,null,null,null,null,null,null,null,null,{"$f":"_xlfn.IFNA(IF(J10996>500,\"ומעלה 500\",VLOOKUP(J10996,טבלה1[#All],2,0)),\"\")","v":""}]
[null,null,null,null,null,null,null,null,null,null,null,{"$f":"_xlfn.IFNA(IF(J11012>500,\"ומעלה 500\",VLOOKUP(J11012,טבלה1[#All],2,0)),\"\")","v":""}]
[null,null,null,null,null,null,null,null,null,null,null,{"$f":"_xlfn.IFNA(IF(J11021>500,\"ומעלה 500\",VLOOKUP(J11021,טבלה1[#All],2,0)),\"\")","v":""}]
[null,null,null,null,null,null,null,null,null,null,null,{"$f":"_xlfn.IFNA(IF(J11026>500,\"ומעלה 500\",VLOOKUP(J11026,טבלה1[#All],2,0)),\"\")","v":""}]
[null,null,null,null,null,null,null,null,null,null,null,{"$f":"_xlfn.IFNA(IF(J11033>500,\"ומעלה 500\",VLOOKUP(J11033,טבלה1[#All],2,0)),\"\")","v":""}]
[null,null,null,null,null,null,null,null,null,null,null,{"$f":"_xlfn.IFNA(IF(J11045>500,\"ומעלה 500\",VLOOKUP(J11045,טבלה1[#All],2,0)),\"\")","v":""}]
[null,null,null,null,null,null,null,null,null,null,null,{"$f":"_xlfn.IFNA(IF(J11052>500,\"ומעלה 500\",VLOOKUP(J11052,טבלה1[#All],2,0)),\"\")","v":""}]
[null,null,null,null,null,null,null,null,null,null,null,{"$f":"_xlfn.IFNA(IF(J11063>500,\"ומעלה 500\",VLOOKUP(J11063,טבלה1[#All],2,0)),\"\")","v":""}]
[null,null,null,null,null,null,null,null,null,null,null,{"$f":"_xlfn.IFNA(IF(J11066>500,\"ומעלה 500\",VLOOKUP(J11066,טבלה1[#All],2,0)),\"\")","v":""}]
[null,null,null,null,null,null,null,null,null,null,null,{"$f":"_xlfn.IFNA(IF(J11082>500,\"ומעלה 500\",VLOOKUP(J11082,טבלה1[#All],2,0)),\"\")","v":""}]
[null,null,null,null,null,null,null,null,null,null,null,{"$f":"_xlfn.IFNA(IF(J11091>500,\"ומעלה 500\",VLOOKUP(J11091,טבלה1[#All],2,0)),\"\")","v":""}]
[null,null,null,null,null,null,null,null,null,null,null,{"$f":"_xlfn.IFNA(IF(J11096>500,\"ומעלה 500\",VLOOKUP(J11096,טבלה1[#All],2,0)),\"\")","v":""}]
[null,null,null,null,null,null,null,null,null,null,null,{"$f":"_xlfn.IFNA(IF(J11103>500,\"ומעלה 500\",VLOOKUP(J11103,טבלה1[#All],2,0)),\"\")","v":""}]
[null,null,null,null,null,null,null,null,null,null,null,{"$f":"_xlfn.IFNA(IF(J11115>500,\"ומעלה 500\",VLOOKUP(J11115,טבלה1[#All],2,0)),\"\")","v":""}]
[null,null,null,null,null,null,null,null,null,null,null,{"$f":"_xlfn.IFNA(IF(J11122>500,\"ומעלה 500\",VLOOKUP(J11122,טבלה1[#All],2,0)),\"\")","v":""}]
[null,null,null,null,null,null,null,null,null,null,null,{"$f":"_xlfn.IFNA(IF(J11133>500,\"ומעלה 500\",VLOOKUP(J11133,טבלה1[#All],2,0)),\"\")","v":""}]
[null,null,null,null,null,null,null,null,null,null,null,{"$f":"_xlfn.IFNA(IF(J11136>500,\"ומעלה 500\",VLOOKUP(J11136,טבלה1[#All],2,0)),\"\")","v":""}]
[null,null,null,null,null,null,null,null,null,null,null,{"$f":"_xlfn.IFNA(IF(J11152>500,\"ומעלה 500\",VLOOKUP(J11152,טבלה1[#All],2,0)),\"\")","v":""}]
[null,null,null,null,null,null,null,null,null,null,null,{"$f":"_xlfn.IFNA(IF(J11161>500,\"ומעלה 500\",VLOOKUP(J11161,טבלה1[#All],2,0)),\"\")","v":""}]
[null,null,null,null,null,null,null,null,null,null,null,{"$f":"_xlfn.IFNA(IF(J11166>500,\"ומעלה 500\",VLOOKUP(J11166,טבלה1[#All],2,0)),\"\")","v":""}]
[null,null,null,null,null,null,null,null,null,null,null,{"$f":"_xlfn.IFNA(IF(J11173>500,\"ומעלה 500\",VLOOKUP(J11173,טבלה1[#All],2,0)),\"\")","v":""}]
[null,null,null,null,null,null,null,null,null,null,null,{"$f":"_xlfn.IFNA(IF(J11185>500,\"ומעלה 500\",VLOOKUP(J11185,טבלה1[#All],2,0)),\"\")","v":""}]
[null,null,null,null,null,null,null,null,null,null,null,{"$f":"_xlfn.IFNA(IF(J11192>500,\"ומעלה 500\",VLOOKUP(J11192,טבלה1[#All],2,0)),\"\")","v":""}]
[null,null,null,null,null,null,null,null,null,null,null,{"$f":"_xlfn.IFNA(IF(J11203>500,\"ומעלה 500\",VLOOKUP(J11203,טבלה1[#All],2,0)),\"\")","v":""}]
[null,null,null,null,null,null,null,null,null,null,null,{"$f":"_xlfn.IFNA(IF(J11206>500,\"ומעלה 500\",VLOOKUP(J11206,טבלה1[#All],2,0)),\"\")","v":""}]
[null,null,null,null,null,null,null,null,null,null,null,{"$f":"_xlfn.IFNA(IF(J11222>500,\"ומעלה 500\",VLOOKUP(J11222,טבלה1[#All],2,0)),\"\")","v":""}]
[null,null,null,null,null,null,null,null,null,null,null,{"$f":"_xlfn.IFNA(IF(J11231>500,\"ומעלה 500\",VLOOKUP(J11231,טבלה1[#All],2,0)),\"\")","v":""}]
[null,null,null,null,null,null,null,null,null,null,null,{"$f":"_xlfn.IFNA(IF(J11236>500,\"ומעלה 500\",VLOOKUP(J11236,טבלה1[#All],2,0)),\"\")","v":""}]
[null,null,null,null,null,null,null,null,null,null,null,{"$f":"_xlfn.IFNA(IF(J11243>500,\"ומעלה 500\",VLOOKUP(J11243,טבלה1[#All],2,0)),\"\")","v":""}]
[null,null,null,null,null,null,null,null,null,null,null,{"$f":"_xlfn.IFNA(IF(J11255>500,\"ומעלה 500\",VLOOKUP(J11255,טבלה1[#All],2,0)),\"\")","v":""}]
[null,null,null,null,null,null,null,null,null,null,null,{"$f":"_xlfn.IFNA(IF(J11262>500,\"ומעלה 500\",VLOOKUP(J11262,טבלה1[#All],2,0)),\"\")","v":""}]
[null,null,null,null,null,null,null,null,null,null,null,{"$f":"_xlfn.IFNA(IF(J11273>500,\"ומעלה 500\",VLOOKUP(J11273,טבלה1[#All],2,0)),\"\")","v":""}]
[null,null,null,null,null,null,null,null,null,null,null,{"$f":"_xlfn.IFNA(IF(J11276>500,\"ומעלה 500\",VLOOKUP(J11276,טבלה1[#All],2,0)),\"\")","v":""}]
[null,null,null,null,null,null,null,null,null,null,null,{"$f":"_xlfn.IFNA(IF(J11292>500,\"ומעלה 500\",VLOOKUP(J11292,טבלה1[#All],2,0)),\"\")","v":""}]
[null,null,null,null,null,null,null,null,null,null,null,{"$f":"_xlfn.IFNA(IF(J11301>500,\"ומעלה 500\",VLOOKUP(J11301,טבלה1[#All],2,0)),\"\")","v":""}]
[null,null,null,null,null,null,null,null,null,null,null,{"$f":"_xlfn.IFNA(IF(J11310>500,\"ומעלה 500\",VLOOKUP(J11310,טבלה1[#All],2,0)),\"\")","v":""}]
[null,null,null,null,null,null,null,null,null,null,null,{"$f":"_xlfn.IFNA(IF(J11313>500,\"ומעלה 500\",VLOOKUP(J11313,טבלה1[#All],2,0)),\"\")","v":""}]
[null,null,null,null,null,null,null,null,null,null,null,{"$f":"_xlfn.IFNA(IF(J11325>500,\"ומעלה 500\",VLOOKUP(J11325,טבלה1[#All],2,0)),\"\")","v":""}]
[null,null,null,null,null,null,null,null,null,null,null,{"$f":"_xlfn.IFNA(IF(J11332>500,\"ומעלה 500\",VLOOKUP(J11332,טבלה1[#All],2,0)),\"\")","v":""}]
[null,null,null,null,null,null,null,null,null,null,null,{"$f":"_xlfn.IFNA(IF(J11343>500,\"ומעלה 500\",VLOOKUP(J11343,טבלה1[#All],2,0)),\"\")","v":""}]
[null,null,null,null,null,null,null,null,null,null,null,{"$f":"_xlfn.IFNA(IF(J11346>500,\"ומעלה 500\",VLOOKUP(J11346,טבלה1[#All],2,0)),\"\")","v":""}]
[null,null,null,null,null,null,null,null,null,null,null,{"$f":"_xlfn.IFNA(IF(J11362>500,\"ומעלה 500\",VLOOKUP(J11362,טבלה1[#All],2,0)),\"\")","v":""}]
[null,null,null,null,null,null,null,null,null,null,null,{"$f":"_xlfn.IFNA(IF(J11371>500,\"ומעלה 500\",VLOOKUP(J11371,טבלה1[#All],2,0)),\"\")","v":""}]
[null,null,null,null,null,null,null,null,null,null,null,{"$f":"_xlfn.IFNA(IF(J11380>500,\"ומעלה 500\",VLOOKUP(J11380,טבלה1[#All],2,0)),\"\")","v":""}]
[null,null,null,null,null,null,null,null,null,null,null,{"$f":"_xlfn.IFNA(IF(J11383>500,\"ומעלה 500\",VLOOKUP(J11383,טבלה1[#All],2,0)),\"\")","v":""}]
[null,null,null,null,null,null,null,null,null,null,null,{"$f":"_xlfn.IFNA(IF(J11395>500,\"ומעלה 500\",VLOOKUP(J11395,טבלה1[#All],2,0)),\"\")","v":""}]
[null,null,null,null,null,null,null,null,null,null,null,{"$f":"_xlfn.IFNA(IF(J11402>500,\"ומעלה 500\",VLOOKUP(J11402,טבלה1[#All],2,0)),\"\")","v":""}]
[null,null,null,null,null,null,null,null,null,null,null,{"$f":"_xlfn.IFNA(IF(J11413>500,\"ומעלה 500\",VLOOKUP(J11413,טבלה1[#All],2,0)),\"\")","v":""}]
[null,null,null,null,null,null,null,null,null,null,null,{"$f":"_xlfn.IFNA(IF(J11416>500,\"ומעלה 500\",VLOOKUP(J11416,טבלה1[#All],2,0)),\"\")","v":""}]
[null,null,null,null,null,null,null,null,null,null,null,{"$f":"_xlfn.IFNA(IF(J11432>500,\"ומעלה 500\",VLOOKUP(J11432,טבלה1[#All],2,0)),\"\")","v":""}]
[null,null,null,null,null,null,null,null,null,null,null,{"$f":"_xlfn.IFNA(IF(J11441>500,\"ומעלה 500\",VLOOKUP(J11441,טבלה1[#All],2,0)),\"\")","v":""}]
[null,null,null,null,null,null,null,null,null,null,null,{"$f":"_xlfn.IFNA(IF(J11450>500,\"ומעלה 500\",VLOOKUP(J11450,טבלה1[#All],2,0)),\"\")","v":""}]
[null,null,null,null,null,null,null,null,null,null,null,{"$f":"_xlfn.IFNA(IF(J11453>500,\"ומעלה 500\",VLOOKUP(J11453,טבלה1[#All],2,0)),\"\")","v":""}]
[null,null,null,null,null,null,null,null,null,null,null,{"$f":"_xlfn.IFNA(IF(J11465>500,\"ומעלה 500\",VLOOKUP(J11465,טבלה1[#All],2,0)),\"\")","v":""}]
[null,null,null,null,null,null,null,null,null,null,null,{"$f":"_xlfn.IFNA(IF(J11472>500,\"ומעלה 500\",VLOOKUP(J11472,טבלה1[#All],2,0)),\"\")","v":""}]
[null,null,null,null,null,null,null,null,null,null,null,{"$f":"_xlfn.IFNA(IF(J11483>500,\"ומעלה 500\",VLOOKUP(J11483,טבלה1[#All],2,0)),\"\")","v":""}]
[null,null,null,null,null,null,null,null,null,null,null,{"$f":"_xlfn.IFNA(IF(J11490>500,\"ומעלה 500\",VLOOKUP(J11490,טבלה1[#All],2,0)),\"\")","v":""}]
[null,null,null,null,null,null,null,null,null,null,null,{"$f":"_xlfn.IFNA(IF(J11502>500,\"ומעלה 500\",VLOOKUP(J11502,טבלה1[#All],2,0)),\"\")","v":""}]
[null,null,null,null,null,null,null,null,null,null,null,{"$f":"_xlfn.IFNA(IF(J11511>500,\"ומעלה 500\",VLOOKUP(J11511,טבלה1[#All],2,0)),\"\")","v":""}]
[null,null,null,null,null,null,null,null,null,null,null,{"$f":"_xlfn.IFNA(IF(J11520>500,\"ומעלה 500\",VLOOKUP(J11520,טבלה1[#All],2,0)),\"\")","v":""}]
[null,null,null,null,null,null,null,null,null,null,null,{"$f":"_xlfn.IFNA(IF(J11523>500,\"ומעלה 500\",VLOOKUP(J11523,טבלה1[#All],2,0)),\"\")","v":""}]
[null,null,null,null,null,null,null,null,null,null,null,{"$f":"_xlfn.IFNA(IF(J11535>500,\"ומעלה 500\",VLOOKUP(J11535,טבלה1[#All],2,0)),\"\")","v":""}]
[null,null,null,null,null,null,null,null,null,null,null,{"$f":"_xlfn.IFNA(IF(J11542>500,\"ומעלה 500\",VLOOKUP(J11542,טבלה1[#All],2,0)),\"\")","v":""}]
[null,null,null,null,null,null,null,null,null,null,null,{"$f":"_xlfn.IFNA(IF(J11553>500,\"ומעלה 500\",VLOOKUP(J11553,טבלה1[#All],2,0)),\"\")","v":""}]
[null,null,null,null,null,null,null,null,null,null,null,{"$f":"_xlfn.IFNA(IF(J11560>500,\"ומעלה 500\",VLOOKUP(J11560,טבלה1[#All],2,0)),\"\")","v":""}]
[null,null,null,null,null,null,null,null,null,null,null,{"$f":"_xlfn.IFNA(IF(J11572>500,\"ומעלה 500\",VLOOKUP(J11572,טבלה1[#All],2,0)),\"\")","v":""}]
[null,null,null,null,null,null,null,null,null,null,null,{"$f":"_xlfn.IFNA(IF(J11581>500,\"ומעלה 500\",VLOOKUP(J11581,טבלה1[#All],2,0)),\"\")","v":""}]
[null,null,null,null,null,null,null,null,null,null,null,{"$f":"_xlfn.IFNA(IF(J11590>500,\"ומעלה 500\",VLOOKUP(J11590,טבלה1[#All],2,0)),\"\")","v":""}]
[null,null,null,null,null,null,null,null,null,null,null,{"$f":"_xlfn.IFNA(IF(J11593>500,\"ומעלה 500\",VLOOKUP(J11593,טבלה1[#All],2,0)),\"\")","v":""}]
[null,null,null,null,null,null,null,null,null,null,null,{"$f":"_xlfn.IFNA(IF(J11600>500,\"ומעלה 500\",VLOOKUP(J11600,טבלה1[#All],2,0)),\"\")","v":""}]
[null,null,null,null,null,null,null,null,null,null,null,{"$f":"_xlfn.IFNA(IF(J11612>500,\"ומעלה 500\",VLOOKUP(J11612,טבלה1[#All],2,0)),\"\")","v":""}]
[null,null,null,null,null,null,null,null,null,null,null,{"$f":"_xlfn.IFNA(IF(J11623>500,\"ומעלה 500\",VLOOKUP(J11623,טבלה1[#All],2,0)),\"\")","v":""}]
[null,null,null,null,null,null,null,null,null,null,null,{"$f":"_xlfn.IFNA(IF(J11630>500,\"ומעלה 500\",VLOOKUP(J11630,טבלה1[#All],2,0)),\"\")","v":""}]
[null,null,null,null,null,null,null,null,null,null,null,{"$f":"_xlfn.IFNA(IF(J11642>500,\"ומעלה 500\",VLOOKUP(J11642,טבלה1[#All],2,0)),\"\")","v":""}]
[null,null,null,null,null,null,null,null,null,null,null,{"$f":"_xlfn.IFNA(IF(J11651>500,\"ומעלה 500\",VLOOKUP(J11651,טבלה1[#All],2,0)),\"\")","v":""}]
[null,null,null,null,null,null,null,null,null,null,null,{"$f":"_xlfn.IFNA(IF(J11660>500,\"ומעלה 500\",VLOOKUP(J11660,טבלה1[#All],2,0)),\"\")","v":""}]
[null,null,null,null,null,null,null,null,null,null,null,{"$f":"_xlfn.IFNA(IF(J11663>500,\"ומעלה 500\",VLOOKUP(J11663,טבלה1[#All],2,0)),\"\")","v":""}]
[null,null,null,null,null,null,null,null,null,null,null,{"$f":"_xlfn.IFNA(IF(J11670>500,\"ומעלה 500\",VLOOKUP(J11670,טבלה1[#All],2,0)),\"\")","v":""}]
[null,null,null,null,null,null,null,null,null,null,null,{"$f":"_xlfn.IFNA(IF(J11682>500,\"ומעלה 500\",VLOOKUP(J11682,טבלה1[#All],2,0)),\"\")","v":""}]
[null,null,null,null,null,null,null,null,null,null,null,{"$f":"_xlfn.IFNA(IF(J11693>500,\"ומעלה 500\",VLOOKUP(J11693,טבלה1[#All],2,0)),\"\")","v":""}]
[null,null,null,null,null,null,null,null,null,null,null,{"$f":"_xlfn.IFNA(IF(J11700>500,\"ומעלה 500\",VLOOKUP(J11700,טבלה1[#All],2,0)),\"\")","v":""}]
[null,null,null,null,null,null,null,null,null,null,null,{"$f":"_xlfn.IFNA(IF(J11712>500,\"ומעלה 500\",VLOOKUP(J11712,טבלה1[#All],2,0)),\"\")","v":""}]
[null,null,null,null,null,null,null,null,null,null,null,{"$f":"_xlfn.IFNA(IF(J11721>500,\"ומעלה 500\",VLOOKUP(J11721,טבלה1[#All],2,0)),\"\")","v":""}]
[null,null,null,null,null,null,null,null,null,null,null,{"$f":"_xlfn.IFNA(IF(J11730>500,\"ומעלה 500\",VLOOKUP(J11730,טבלה1[#All],2,0)),\"\")","v":""}]
[null,null,null,null,null,null,null,null,null,null,null,{"$f":"_xlfn.IFNA(IF(J11733>500,\"ומעלה 500\",VLOOKUP(J11733,טבלה1[#All],2,0)),\"\")","v":""}]
[null,null,null,null,null,null,null,null,null,null,null,{"$f":"_xlfn.IFNA(IF(J11740>500,\"ומעלה 500\",VLOOKUP(J11740,טבלה1[#All],2,0)),\"\")","v":""}]
[null,null,null,null,null,null,null,null,null,null,null,{"$f":"_xlfn.IFNA(IF(J11752>500,\"ומעלה 500\",VLOOKUP(J11752,טבלה1[#All],2,0)),\"\")","v":""}]
[null,null,null,null,null,null,null,null,null,null,null,{"$f":"_xlfn.IFNA(IF(J11763>500,\"ומעלה 500\",VLOOKUP(J11763,טבלה1[#All],2,0)),\"\")","v":""}]
[null,null,null,null,null,null,null,null,null,null,null,{"$f":"_xlfn.IFNA(IF(J11770>500,\"ומעלה 500\",VLOOKUP(J11770,טבלה1[#All],2,0)),\"\")","v":""}]
[null,null,null,null,null,null,null,null,null,null,null,{"$f":"_xlfn.IFNA(IF(J11782>500,\"ומעלה 500\",VLOOKUP(J11782,טבלה1[#All],2,0)),\"\")","v":""}]
[null,null,null,null,null,null,null,null,null,null,null,{"$f":"_xlfn.IFNA(IF(J11791>500,\"ומעלה 500\",VLOOKUP(J11791,טבלה1[#All],2,0)),\"\")","v":""}]
[null,null,null,null,null,null,null,null,null,null,null,{"$f":"_xlfn.IFNA(IF(J11800>500,\"ומעלה 500\",VLOOKUP(J11800,טבלה1[#All],2,0)),\"\")","v":""}]
[null,null,null,null,null,null,null,null,null,null,null,{"$f":"_xlfn.IFNA(IF(J11803>500,\"ומעלה 500\",VLOOKUP(J11803,טבלה1[#All],2,0)),\"\")","v":""}]
[null,null,null,null,null,null,null,null,null,null,null,{"$f":"_xlfn.IFNA(IF(J11810>500,\"ומעלה 500\",VLOOKUP(J11810,טבלה1[#All],2,0)),\"\")","v":""}]
[null,null,null,null,null,null,null,null,null,null,null,{"$f":"_xlfn.IFNA(IF(J11822>500,\"ומעלה 500\",VLOOKUP(J11822,טבלה1[#All],2,0)),\"\")","v":""}]
[null,null,null,null,null,null,null,null,null,null,null,{"$f":"_xlfn.IFNA(IF(J11833>500,\"ומעלה 500\",VLOOKUP(J11833,טבלה1[#All],2,0)),\"\")","v":""}]
[null,null,null,null,null,null,null,null,null,null,null,{"$f":"_xlfn.IFNA(IF(J11840>500,\"ומעלה 500\",VLOOKUP(J11840,טבלה1[#All],2,0)),\"\")","v":""}]
[null,null,null,null,null,null,null,null,null,null,null,{"$f":"_xlfn.IFNA(IF(J11852>500,\"ומעלה 500\",VLOOKUP(J11852,טבלה1[#All],2,0)),\"\")","v":""}]
[null,null,null,null,null,null,null,null,null,null,null,{"$f":"_xlfn.IFNA(IF(J11861>500,\"ומעלה 500\",VLOOKUP(J11861,טבלה1[#All],2,0)),\"\")","v":""}]
[null,null,null,null,null,null,null,null,null,null,null,{"$f":"_xlfn.IFNA(IF(J11870>500,\"ומעלה 500\",VLOOKUP(J11870,טבלה1[#All],2,0)),\"\")","v":""}]
[null,null,null,null,null,null,null,null,null,null,null,{"$f":"_xlfn.IFNA(IF(J11873>500,\"ומעלה 500\",VLOOKUP(J11873,טבלה1[#All],2,0)),\"\")","v":""}]
[null,null,null,null,null,null,null,null,null,null,null,{"$f":"_xlfn.IFNA(IF(J11880>500,\"ומעלה 500\",VLOOKUP(J11880,טבלה1[#All],2,0)),\"\")","v":""}]
[null,null,null,null,null,null,null,null,null,null,null,{"$f":"_xlfn.IFNA(IF(J11892>500,\"ומעלה 500\",VLOOKUP(J11892,טבלה1[#All],2,0)),\"\")","v":""}]
[null,null,null,null,null,null,null,null,null,null,null,{"$f":"_xlfn.IFNA(IF(J11898>500,\"ומעלה 500\",VLOOKUP(J11898,טבלה1[#All],2,0)),\"\")","v":""}]
[null,null,null,null,null,null,null,null,null,null,null,{"$f":"_xlfn.IFNA(IF(J11910>500,\"ומעלה 500\",VLOOKUP(J11910,טבלה1[#All],2,0)),\"\")","v":""}]
[null,null,null,null,null,null,null,null,null,null,null,{"$f":"_xlfn.IFNA(IF(J11922>500,\"ומעלה 500\",VLOOKUP(J11922,טבלה1[#All],2,0)),\"\")","v":""}]
[null,null,null,null,null,null,null,null,null,null,null,{"$f":"_xlfn.IFNA(IF(J11931>500,\"ומעלה 500\",VLOOKUP(J11931,טבלה1[#All],2,0)),\"\")","v":""}]
[null,null,null,null,null,null,null,null,null,null,null,{"$f":"_xlfn.IFNA(IF(J11940>500,\"ומעלה 500\",VLOOKUP(J11940,טבלה1[#All],2,0)),\"\")","v":""}]
[null,null,null,null,null,null,null,null,null,null,null,{"$f":"_xlfn.IFNA(IF(J11943>500,\"ומעלה 500\",VLOOKUP(J11943,טבלה1[#All],2,0)),\"\")","v":""}]
[null,null,null,null,null,null,null,null,null,null,null,{"$f":"_xlfn.IFNA(IF(J11950>500,\"ומעלה 500\",VLOOKUP(J11950,טבלה1[#All],2,0)),\"\")","v":""}]
[null,null,null,null,null,null,null,null,null,null,null,{"$f":"_xlfn.IFNA(IF(J11962>500,\"ומעלה 500\",VLOOKUP(J11962,טבלה1[#All],2,0)),\"\")","v":""}]
[null,null,null,null,null,null,null,null,null,null,null,{"$f":"_xlfn.IFNA(IF(J11968>500,\"ומעלה 500\",VLOOKUP(J11968,טבלה1[#All],2,0)),\"\")","v":""}]
[null,null,null,null,null,null,null,null,null,null,null,{"$f":"_xlfn.IFNA(IF(J11980>500,\"ומעלה 500\",VLOOKUP(J11980,טבלה1[#All],2,0)),\"\")","v":""}]
[null,null,null,null,null,null,null,null,null,null,null,{"$f":"_xlfn.IFNA(IF(J11992>500,\"ומעלה 500\",VLOOKUP(J11992,טבלה1[#All],2,0)),\"\")","v":""}]
[null,null,null,null,null,null,null,null,null,null,null,{"$f":"_xlfn.IFNA(IF(J12001>500,\"ומעלה 500\",VLOOKUP(J12001,טבלה1[#All],2,0)),\"\")","v":""}]
[null,null,null,null,null,null,null,null,null,null,null,{"$f":"_xlfn.IFNA(IF(J12010>500,\"ומעלה 500\",VLOOKUP(J12010,טבלה1[#All],2,0)),\"\")","v":""}]
[null,null,null,null,null,null,null,null,null,null,null,{"$f":"_xlfn.IFNA(IF(J12013>500,\"ומעלה 500\",VLOOKUP(J12013,טבלה1[#All],2,0)),\"\")","v":""}]
[null,null,null,null,null,null,null,null,null,null,null,{"$f":"_xlfn.IFNA(IF(J12020>500,\"ומעלה 500\",VLOOKUP(J12020,טבלה1[#All],2,0)),\"\")","v":""}]
[null,null,null,null,null,null,null,null,null,null,null,{"$f":"_xlfn.IFNA(IF(J12032>500,\"ומעלה 500\",VLOOKUP(J12032,טבלה1[#All],2,0)),\"\")","v":""}]
[null,null,null,null,null,null,null,null,null,null,null,{"$f":"_xlfn.IFNA(IF(J12038>500,\"ומעלה 500\",VLOOKUP(J12038,טבלה1[#All],2,0)),\"\")","v":""}]
[null,null,null,null,null,null,null,null,null,null,null,{"$f":"_xlfn.IFNA(IF(J12050>500,\"ומעלה 500\",VLOOKUP(J12050,טבלה1[#All],2,0)),\"\")","v":""}]
[null,null,null,null,null,null,null,null,null,null,null,{"$f":"_xlfn.IFNA(IF(J12062>500,\"ומעלה 500\",VLOOKUP(J12062,טבלה1[#All],2,0)),\"\")","v":""}]
[null,null,null,null,null,null,null,null,null,null,null,{"$f":"_xlfn.IFNA(IF(J12071>500,\"ומעלה 500\",VLOOKUP(J12071,טבלה1[#All],2,0)),\"\")","v":""}]
[null,null,null,null,null,null,null,null,null,null,null,{"$f":"_xlfn.IFNA(IF(J12080>500,\"ומעלה 500\",VLOOKUP(J12080,טבלה1[#All],2,0)),\"\")","v":""}]
[null,null,null,null,null,null,null,null,null,null,null,{"$f":"_xlfn.IFNA(IF(J12087>500,\"ומעלה 500\",VLOOKUP(J12087,טבלה1[#All],2,0)),\"\")","v":""}]
[null,null,null,null,null,null,null,null,null,null,null,{"$f":"_xlfn.IFNA(IF(J12090>500,\"ומעלה 500\",VLOOKUP(J12090,טבלה1[#All],2,0)),\"\")","v":""}]
[null,null,null,null,null,null,null,null,null,null,null,{"$f":"_xlfn.IFNA(IF(J12102>500,\"ומעלה 500\",VLOOKUP(J12102,טבלה1[#All],2,0)),\"\")","v":""}]
[null,null,null,null,null,null,null,null,null,null,null,{"$f":"_xlfn.IFNA(IF(J12108>500,\"ומעלה 500\",VLOOKUP(J12108,טבלה1[#All],2,0)),\"\")","v":""}]
[null,null,null,null,null,null,null,null,null,null,null,{"$f":"_xlfn.IFNA(IF(J12120>500,\"ומעלה 500\",VLOOKUP(J12120,טבלה1[#All],2,0)),\"\")","v":""}]
[null,null,null,null,null,null,null,null,null,null,null,{"$f":"_xlfn.IFNA(IF(J12132>500,\"ומעלה 500\",VLOOKUP(J12132,טבלה1[#All],2,0)),\"\")","v":""}]
[null,null,null,null,null,null,null,null,null,null,null,{"$f":"_xlfn.IFNA(IF(J12141>500,\"ומעלה 500\",VLOOKUP(J12141,טבלה1[#All],2,0)),\"\")","v":""}]
[null,null,null,null,null,null,null,null,null,null,null,{"$f":"_xlfn.IFNA(IF(J12150>500,\"ומעלה 500\",VLOOKUP(J12150,טבלה1[#All],2,0)),\"\")","v":""}]
[null,null,null,null,null,null,null,null,null,null,null,{"$f":"_xlfn.IFNA(IF(J12157>500,\"ומעלה 500\",VLOOKUP(J12157,טבלה1[#All],2,0)),\"\")","v":""}]
[null,null,null,null,null,null,null,null,null,null,null,{"$f":"_xlfn.IFNA(IF(J12160>500,\"ומעלה 500\",VLOOKUP(J12160,טבלה1[#All],2,0)),\"\")","v":""}]
[null,null,null,null,null,null,null,null,null,null,null,{"$f":"_xlfn.IFNA(IF(J12172>500,\"ומעלה 500\",VLOOKUP(J12172,טבלה1[#All],2,0)),\"\")","v":""}]
[null,null,null,null,null,null,null,null,null,null,null,{"$f":"_xlfn.IFNA(IF(J12178>500,\"ומעלה 500\",VLOOKUP(J12178,טבלה1[#All],2,0)),\"\")","v":""}]
[null,null,null,null,null,null,null,null,null,null,null,{"$f":"_xlfn.IFNA(IF(J12190>500,\"ומעלה 500\",VLOOKUP(J12190,טבלה1[#All],2,0)),\"\")","v":""}]
[null,null,null,null,null,null,null,null,null,null,null,{"$f":"_xlfn.IFNA(IF(J12202>500,\"ומעלה 500\",VLOOKUP(J12202,טבלה1[#All],2,0)),\"\")","v":""}]
[null,null,null,null,null,null,null,null,null,null,null,{"$f":"_xlfn.IFNA(IF(J12211>500,\"ומעלה 500\",VLOOKUP(J12211,טבלה1[#All],2,0)),\"\")","v":""}]
[null,null,null,null,null,null,null,null,null,null,null,{"$f":"_xlfn.IFNA(IF(J12220>500,\"ומעלה 500\",VLOOKUP(J12220,טבלה1[#All],2,0)),\"\")","v":""}]
[null,null,null,null,null,null,null,null,null,null,null,{"$f":"_xlfn.IFNA(IF(J12227>500,\"ומעלה 500\",VLOOKUP(J12227,טבלה1[#All],2,0)),\"\")","v":""}]
[null,null,null,null,null,null,null,null,null,null,null,{"$f":"_xlfn.IFNA(IF(J12230>500,\"ומעלה 500\",VLOOKUP(J12230,טבלה1[#All],2,0)),\"\")","v":""}]
[null,null,null,null,null,null,null,null,null,null,null,{"$f":"_xlfn.IFNA(IF(J12242>500,\"ומעלה 500\",VLOOKUP(J12242,טבלה1[#All],2,0)),\"\")","v":""}]
[null,null,null,null,null,null,null,null,null,null,null,{"$f":"_xlfn.IFNA(IF(J12248>500,\"ומעלה 500\",VLOOKUP(J12248,טבלה1[#All],2,0)),\"\")","v":""}]
[null,null,null,null,null,null,null,null,null,null,null,{"$f":"_xlfn.IFNA(IF(J12260>500,\"ומעלה 500\",VLOOKUP(J12260,טבלה1[#All],2,0)),\"\")","v":""}]
[null,null,null,null,null,null,null,null,null,null,null,{"$f":"_xlfn.IFNA(IF(J12267>500,\"ומעלה 500\",VLOOKUP(J12267,טבלה1[#All],2,0)),\"\")","v":""}]
[null,null,null,null,null,null,null,null,null,null,null,{"$f":"_xlfn.IFNA(IF(J12281>500,\"ומעלה 500\",VLOOKUP(J12281,טבלה1[#All],2,0)),\"\")","v":""}]
[null,null,null,null,null,null,null,null,null,null,null,{"$f":"_xlfn.IFNA(IF(J12290>500,\"ומעלה 500\",VLOOKUP(J12290,טבלה1[#All],2,0)),\"\")","v":""}]
[null,null,null,null,null,null,null,null,null,null,null,{"$f":"_xlfn.IFNA(IF(J12297>500,\"ומעלה 500\",VLOOKUP(J12297,טבלה1[#All],2,0)),\"\")","v":""}]
[null,null,null,null,null,null,null,null,null,null,null,{"$f":"_xlfn.IFNA(IF(J12300>500,\"ומעלה 500\",VLOOKUP(J12300,טבלה1[#All],2,0)),\"\")","v":""}]
[null,null,null,null,null,null,null,null,null,null,null,{"$f":"_xlfn.IFNA(IF(J12312>500,\"ומעלה 500\",VLOOKUP(J12312,טבלה1[#All],2,0)),\"\")","v":""}]
[null,null,null,null,null,null,null,null,null,null,null,{"$f":"_xlfn.IFNA(IF(J12318>500,\"ומעלה 500\",VLOOKUP(J12318,טבלה1[#All],2,0)),\"\")","v":""}]
[null,null,null,null,null,null,null,null,null,null,null,{"$f":"_xlfn.IFNA(IF(J12330>500,\"ומעלה 500\",VLOOKUP(J12330,טבלה1[#All],2,0)),\"\")","v":""}]
[null,null,null,null,null,null,null,null,null,null,null,{"$f":"_xlfn.IFNA(IF(J12337>500,\"ומעלה 500\",VLOOKUP(J12337,טבלה1[#All],2,0)),\"\")","v":""}]
[null,null,null,null,null,null,null,null,null,null,null,{"$f":"_xlfn.IFNA(IF(J12351>500,\"ומעלה 500\",VLOOKUP(J12351,טבלה1[#All],2,0)),\"\")","v":""}]
[null,null,null,null,null,null,null,null,null,null,null,{"$f":"_xlfn.IFNA(IF(J12360>500,\"ומעלה 500\",VLOOKUP(J12360,טבלה1[#All],2,0)),\"\")","v":""}]
[null,null,null,null,null,null,null,null,null,null,null,{"$f":"_xlfn.IFNA(IF(J12367>500,\"ומעלה 500\",VLOOKUP(J12367,טבלה1[#All],2,0)),\"\")","v":""}]
[null,null,null,null,null,null,null,null,null,null,null,{"$f":"_xlfn.IFNA(IF(J12370>500,\"ומעלה 500\",VLOOKUP(J12370,טבלה1[#All],2,0)),\"\")","v":""}]
[null,null,null,null,null,null,null,null,null,null,null,{"$f":"_xlfn.IFNA(IF(J12382>500,\"ומעלה 500\",VLOOKUP(J12382,טבלה1[#All],2,0)),\"\")","v":""}]
[null,null,null,null,null,null,null,null,null,null,null,{"$f":"_xlfn.IFNA(IF(J12388>500,\"ומעלה 500\",VLOOKUP(J12388,טבלה1[#All],2,0)),\"\")","v":""}]
[null,null,null,null,null,null,null,null,null,null,null,{"$f":"_xlfn.IFNA(IF(J12400>500,\"ומעלה 500\",VLOOKUP(J12400,טבלה1[#All],2,0)),\"\")","v":""}]
[null,null,null,null,null,null,null,null,null,null,null,{"$f":"_xlfn.IFNA(IF(J12407>500,\"ומעלה 500\",VLOOKUP(J12407,טבלה1[#All],2,0)),\"\")","v":""}]
[null,null,null,null,null,null,null,null,null,null,null,{"$f":"_xlfn.IFNA(IF(J12421>500,\"ומעלה 500\",VLOOKUP(J12421,טבלה1[#All],2,0)),\"\")","v":""}]
[null,null,null,null,null,null,null,null,null,null,null,{"$f":"_xlfn.IFNA(IF(J12430>500,\"ומעלה 500\",VLOOKUP(J12430,טבלה1[#All],2,0)),\"\")","v":""}]
[null,null,null,null,null,null,null,null,null,null,null,{"$f":"_xlfn.IFNA(IF(J12437>500,\"ומעלה 500\",VLOOKUP(J12437,טבלה1[#All],2,0)),\"\")","v":""}]
[null,null,null,null,null,null,null,null,null,null,null,{"$f":"_xlfn.IFNA(IF(J12440>500,\"ומעלה 500\",VLOOKUP(J12440,טבלה1[#All],2,0)),\"\")","v":""}]
[null,null,null,null,null,null,null,null,null,null,null,{"$f":"_xlfn.IFNA(IF(J12452>500,\"ומעלה 500\",VLOOKUP(J12452,טבלה1[#All],2,0)),\"\")","v":""}]
[null,null,null,null,null,null,null,null,null,null,null,{"$f":"_xlfn.IFNA(IF(J12458>500,\"ומעלה 500\",VLOOKUP(J12458,טבלה1[#All],2,0)),\"\")","v":""}]
[null,null,null,null,null,null,null,null,null,null,null,{"$f":"_xlfn.IFNA(IF(J12470>500,\"ומעלה 500\",VLOOKUP(J12470,טבלה1[#All],2,0)),\"\")","v":""}]
[null,null,null,null,null,null,null,null,null,null,null,{"$f":"_xlfn.IFNA(IF(J12477>500,\"ומעלה 500\",VLOOKUP(J12477,טבלה1[#All],2,0)),\"\")","v":""}]
[null,null,null,null,null,null,null,null,null,null,null,{"$f":"_xlfn.IFNA(IF(J12491>500,\"ומעלה 500\",VLOOKUP(J12491,טבלה1[#All],2,0)),\"\")","v":""}]
[null,null,null,null,null,null,null,null,null,null,null,{"$f":"_xlfn.IFNA(IF(J12500>500,\"ומעלה 500\",VLOOKUP(J12500,טבלה1[#All],2,0)),\"\")","v":""}]
[null,null,null,null,null,null,null,null,null,null,null,{"$f":"_xlfn.IFNA(IF(J12507>500,\"ומעלה 500\",VLOOKUP(J12507,טבלה1[#All],2,0)),\"\")","v":""}]
[null,null,null,null,null,null,null,null,null,null,null,{"$f":"_xlfn.IFNA(IF(J12510>500,\"ומעלה 500\",VLOOKUP(J12510,טבלה1[#All],2,0)),\"\")","v":""}]
[null,null,null,null,null,null,null,null,null,null,null,{"$f":"_xlfn.IFNA(IF(J12522>500,\"ומעלה 500\",VLOOKUP(J12522,טבלה1[#All],2,0)),\"\")","v":""}]
[null,null,null,null,null,null,null,null,null,null,null,{"$f":"_xlfn.IFNA(IF(J12528>500,\"ומעלה 500\",VLOOKUP(J12528,טבלה1[#All],2,0)),\"\")","v":""}]
[null,null,null,null,null,null,null,null,null,null,null,{"$f":"_xlfn.IFNA(IF(J12540>500,\"ומעלה 500\",VLOOKUP(J12540,טבלה1[#All],2,0)),\"\")","v":""}]
[null,null,null,null,null,null,null,null,null,null,null,{"$f":"_xlfn.IFNA(IF(J12547>500,\"ומעלה 500\",VLOOKUP(J12547,טבלה1[#All],2,0)),\"\")","v":""}]
[null,null,null,null,null,null,null,null,null,null,null,{"$f":"_xlfn.IFNA(IF(J12561>500,\"ומעלה 500\",VLOOKUP(J12561,טבלה1[#All],2,0)),\"\")","v":""}]
[null,null,null,null,null,null,null,null,null,null,null,{"$f":"_xlfn.IFNA(IF(J12565>500,\"ומעלה 500\",VLOOKUP(J12565,טבלה1[#All],2,0)),\"\")","v":""}]
[null,null,null,null,null,null,null,null,null,null,null,{"$f":"_xlfn.IFNA(IF(J12577>500,\"ומעלה 500\",VLOOKUP(J12577,טבלה1[#All],2,0)),\"\")","v":""}]
[null,null,null,null,null,null,null,null,null,null,null,{"$f":"_xlfn.IFNA(IF(J12580>500,\"ומעלה 500\",VLOOKUP(J12580,טבלה1[#All],2,0)),\"\")","v":""}]
[null,null,null,null,null,null,null,null,null,null,null,{"$f":"_xlfn.IFNA(IF(J12592>500,\"ומעלה 500\",VLOOKUP(J12592,טבלה1[#All],2,0)),\"\")","v":""}]
[null,null,null,null,null,null,null,null,null,null,null,{"$f":"_xlfn.IFNA(IF(J12598>500,\"ומעלה 500\",VLOOKUP(J12598,טבלה1[#All],2,0)),\"\")","v":""}]
[null,null,null,null,null,null,null,null,null,null,null,{"$f":"_xlfn.IFNA(IF(J12610>500,\"ומעלה 500\",VLOOKUP(J12610,טבלה1[#All],2,0)),\"\")","v":""}]
[null,null,null,null,null,null,null,null,null,null,null,{"$f":"_xlfn.IFNA(IF(J12617>500,\"ומעלה 500\",VLOOKUP(J12617,טבלה1[#All],2,0)),\"\")","v":""}]
[null,null,null,null,null,null,null,null,null,null,null,{"$f":"_xlfn.IFNA(IF(J12631>500,\"ומעלה 500\",VLOOKUP(J12631,טבלה1[#All],2,0)),\"\")","v":""}]
[null,null,null,null,null,null,null,null,null,null,null,{"$f":"_xlfn.IFNA(IF(J12635>500,\"ומעלה 500\",VLOOKUP(J12635,טבלה1[#All],2,0)),\"\")","v":""}]
[null,null,null,null,null,null,null,null,null,null,null,{"$f":"_xlfn.IFNA(IF(J12647>500,\"ומעלה 500\",VLOOKUP(J12647,טבלה1[#All],2,0)),\"\")","v":""}]
[null,null,null,null,null,null,null,null,null,null,null,{"$f":"_xlfn.IFNA(IF(J12650>500,\"ומעלה 500\",VLOOKUP(J12650,טבלה1[#All],2,0)),\"\")","v":""}]
[null,null,null,null,null,null,null,null,null,null,null,{"$f":"_xlfn.IFNA(IF(J12662>500,\"ומעלה 500\",VLOOKUP(J12662,טבלה1[#All],2,0)),\"\")","v":""}]
[null,null,null,null,null,null,null,null,null,null,null,{"$f":"_xlfn.IFNA(IF(J12668>500,\"ומעלה 500\",VLOOKUP(J12668,טבלה1[#All],2,0)),\"\")","v":""}]
[null,null,null,null,null,null,null,null,null,null,null,{"$f":"_xlfn.IFNA(IF(J12680>500,\"ומעלה 500\",VLOOKUP(J12680,טבלה1[#All],2,0)),\"\")","v":""}]
[null,null,null,null,null,null,null,null,null,null,null,{"$f":"_xlfn.IFNA(IF(J12687>500,\"ומעלה 500\",VLOOKUP(J12687,טבלה1[#All],2,0)),\"\")","v":""}]
[null,null,null,null,null,null,null,null,null,null,null,{"$f":"_xlfn.IFNA(IF(J12701>500,\"ומעלה 500\",VLOOKUP(J12701,טבלה1[#All],2,0)),\"\")","v":""}]
[null,null,null,null,null,null,null,null,null,null,null,{"$f":"_xlfn.IFNA(IF(J12705>500,\"ומעלה 500\",VLOOKUP(J12705,טבלה1[#All],2,0)),\"\")","v":""}]
[null,null,null,null,null,null,null,null,null,null,null,{"$f":"_xlfn.IFNA(IF(J12717>500,\"ומעלה 500\",VLOOKUP(J12717,טבלה1[#All],2,0)),\"\")","v":""}]
[null,null,null,null,null,null,null,null,null,null,null,{"$f":"_xlfn.IFNA(IF(J12720>500,\"ומעלה 500\",VLOOKUP(J12720,טבלה1[#All],2,0)),\"\")","v":""}]
[null,null,null,null,null,null,null,null,null,null,null,{"$f":"_xlfn.IFNA(IF(J12732>500,\"ומעלה 500\",VLOOKUP(J12732,טבלה1[#All],2,0)),\"\")","v":""}]
[null,null,null,null,null,null,null,null,null,null,null,{"$f":"_xlfn.IFNA(IF(J12738>500,\"ומעלה 500\",VLOOKUP(J12738,טבלה1[#All],2,0)),\"\")","v":""}]
[null,null,null,null,null,null,null,null,null,null,null,{"$f":"_xlfn.IFNA(IF(J12754>500,\"ומעלה 500\",VLOOKUP(J12754,טבלה1[#All],2,0)),\"\")","v":""}]
[null,null,null,null,null,null,null,null,null,null,null,{"$f":"_xlfn.IFNA(IF(J12757>500,\"ומעלה 500\",VLOOKUP(J12757,טבלה1[#All],2,0)),\"\")","v":""}]
[null,null,null,null,null,null,null,null,null,null,null,{"$f":"_xlfn.IFNA(IF(J12771>500,\"ומעלה 500\",VLOOKUP(J12771,טבלה1[#All],2,0)),\"\")","v":""}]
[null,null,null,null,null,null,null,null,null,null,null,{"$f":"_xlfn.IFNA(IF(J12775>500,\"ומעלה 500\",VLOOKUP(J12775,טבלה1[#All],2,0)),\"\")","v":""}]
[null,null,null,null,null,null,null,null,null,null,null,{"$f":"_xlfn.IFNA(IF(J12787>500,\"ומעלה 500\",VLOOKUP(J12787,טבלה1[#All],2,0)),\"\")","v":""}]
[null,null,null,null,null,null,null,null,null,null,null,{"$f":"_xlfn.IFNA(IF(J12790>500,\"ומעלה 500\",VLOOKUP(J12790,טבלה1[#All],2,0)),\"\")","v":""}]
[null,null,null,null,null,null,null,null,null,null,null,{"$f":"_xlfn.IFNA(IF(J12802>500,\"ומעלה 500\",VLOOKUP(J12802,טבלה1[#All],2,0)),\"\")","v":""}]
[null,null,null,null,null,null,null,null,null,null,null,{"$f":"_xlfn.IFNA(IF(J12808>500,\"ומעלה 500\",VLOOKUP(J12808,טבלה1[#All],2,0)),\"\")","v":""}]
[null,null,null,null,null,null,null,null,null,null,null,{"$f":"_xlfn.IFNA(IF(J12824>500,\"ומעלה 500\",VLOOKUP(J12824,טבלה1[#All],2,0)),\"\")","v":""}]
[null,null,null,null,null,null,null,null,null,null,null,{"$f":"_xlfn.IFNA(IF(J12827>500,\"ומעלה 500\",VLOOKUP(J12827,טבלה1[#All],2,0)),\"\")","v":""}]
[null,null,null,null,null,null,null,null,null,null,null,{"$f":"_xlfn.IFNA(IF(J12841>500,\"ומעלה 500\",VLOOKUP(J12841,טבלה1[#All],2,0)),\"\")","v":""}]
[null,null,null,null,null,null,null,null,null,null,null,{"$f":"_xlfn.IFNA(IF(J12845>500,\"ומעלה 500\",VLOOKUP(J12845,טבלה1[#All],2,0)),\"\")","v":""}]
[null,null,null,null,null,null,null,null,null,null,null,{"$f":"_xlfn.IFNA(IF(J12857>500,\"ומעלה 500\",VLOOKUP(J12857,טבלה1[#All],2,0)),\"\")","v":""}]
[null,null,null,null,null,null,null,null,null,null,null,{"$f":"_xlfn.IFNA(IF(J12864>500,\"ומעלה 500\",VLOOKUP(J12864,טבלה1[#All],2,0)),\"\")","v":""}]
[null,null,null,null,null,null,null,null,null,null,null,{"$f":"_xlfn.IFNA(IF(J12872>500,\"ומעלה 500\",VLOOKUP(J12872,טבלה1[#All],2,0)),\"\")","v":""}]
[null,null,null,null,null,null,null,null,null,null,null,{"$f":"_xlfn.IFNA(IF(J12878>500,\"ומעלה 500\",VLOOKUP(J12878,טבלה1[#All],2,0)),\"\")","v":""}]
[null,null,null,null,null,null,null,null,null,null,null,{"$f":"_xlfn.IFNA(IF(J12894>500,\"ומעלה 500\",VLOOKUP(J12894,טבלה1[#All],2,0)),\"\")","v":""}]
[null,null,null,null,null,null,null,null,null,null,null,{"$f":"_xlfn.IFNA(IF(J12897>500,\"ומעלה 500\",VLOOKUP(J12897,טבלה1[#All],2,0)),\"\")","v":""}]
[null,null,null,null,null,null,null,null,null,null,null,{"$f":"_xlfn.IFNA(IF(J12911>500,\"ומעלה 500\",VLOOKUP(J12911,טבלה1[#All],2,0)),\"\")","v":""}]
[null,null,null,null,null,null,null,null,null,null,null,{"$f":"_xlfn.IFNA(IF(J12915>500,\"ומעלה 500\",VLOOKUP(J12915,טבלה1[#All],2,0)),\"\")","v":""}]
[null,null,null,null,null,null,null,null,null,null,null,{"$f":"_xlfn.IFNA(IF(J12927>500,\"ומעלה 500\",VLOOKUP(J12927,טבלה1[#All],2,0)),\"\")","v":""}]
[null,null,null,null,null,null,null,null,null,null,null,{"$f":"_xlfn.IFNA(IF(J12934>500,\"ומעלה 500\",VLOOKUP(J12934,טבלה1[#All],2,0)),\"\")","v":""}]
[null,null,null,null,null,null,null,null,null,null,null,{"$f":"_xlfn.IFNA(IF(J12942>500,\"ומעלה 500\",VLOOKUP(J12942,טבלה1[#All],2,0)),\"\")","v":""}]
[null,null,null,null,null,null,null,null,null,null,null,{"$f":"_xlfn.IFNA(IF(J12948>500,\"ומעלה 500\",VLOOKUP(J12948,טבלה1[#All],2,0)),\"\")","v":""}]
[null,null,null,null,null,null,null,null,null,null,null,{"$f":"_xlfn.IFNA(IF(J12964>500,\"ומעלה 500\",VLOOKUP(J12964,טבלה1[#All],2,0)),\"\")","v":""}]
[null,null,null,null,null,null,null,null,null,null,null,{"$f":"_xlfn.IFNA(IF(J12967>500,\"ומעלה 500\",VLOOKUP(J12967,טבלה1[#All],2,0)),\"\")","v":""}]
[null,null,null,null,null,null,null,null,null,null,null,{"$f":"_xlfn.IFNA(IF(J12981>500,\"ומעלה 500\",VLOOKUP(J12981,טבלה1[#All],2,0)),\"\")","v":""}]
[null,null,null,null,null,null,null,null,null,null,null,{"$f":"_xlfn.IFNA(IF(J12985>500,\"ומעלה 500\",VLOOKUP(J12985,טבלה1[#All],2,0)),\"\")","v":""}]
[null,null,null,null,null,null,null,null,null,null,null,{"$f":"_xlfn.IFNA(IF(J12997>500,\"ומעלה 500\",VLOOKUP(J12997,טבלה1[#All],2,0)),\"\")","v":""}]
[null,null,null,null,null,null,null,null,null,null,null,{"$f":"_xlfn.IFNA(IF(J13004>500,\"ומעלה 500\",VLOOKUP(J13004,טבלה1[#All],2,0)),\"\")","v":""}]
[null,null,null,null,null,null,null,null,null,null,null,{"$f":"_xlfn.IFNA(IF(J13012>500,\"ומעלה 500\",VLOOKUP(J13012,טבלה1[#All],2,0)),\"\")","v":""}]
[null,null,null,null,null,null,null,null,null,null,null,{"$f":"_xlfn.IFNA(IF(J13018>500,\"ומעלה 500\",VLOOKUP(J13018,טבלה1[#All],2,0)),\"\")","v":""}]
[null,null,null,null,null,null,null,null,null,null,null,{"$f":"_xlfn.IFNA(IF(J13034>500,\"ומעלה 500\",VLOOKUP(J13034,טבלה1[#All],2,0)),\"\")","v":""}]
[null,null,null,null,null,null,null,null,null,null,null,{"$f":"_xlfn.IFNA(IF(J13037>500,\"ומעלה 500\",VLOOKUP(J13037,טבלה1[#All],2,0)),\"\")","v":""}]
[null,null,null,null,null,null,null,null,null,null,null,{"$f":"_xlfn.IFNA(IF(J13051>500,\"ומעלה 500\",VLOOKUP(J13051,טבלה1[#All],2,0)),\"\")","v":""}]
[null,null,null,null,null,null,null,null,null,null,null,{"$f":"_xlfn.IFNA(IF(J13055>500,\"ומעלה 500\",VLOOKUP(J13055,טבלה1[#All],2,0)),\"\")","v":""}]
[null,null,null,null,null,null,null,null,null,null,null,{"$f":"_xlfn.IFNA(IF(J13067>500,\"ומעלה 500\",VLOOKUP(J13067,טבלה1[#All],2,0)),\"\")","v":""}]
[null,null,null,null,null,null,null,null,null,null,null,{"$f":"_xlfn.IFNA(IF(J13074>500,\"ומעלה 500\",VLOOKUP(J13074,טבלה1[#All],2,0)),\"\")","v":""}]
[null,null,null,null,null,null,null,null,null,null,null,{"$f":"_xlfn.IFNA(IF(J13082>500,\"ומעלה 500\",VLOOKUP(J13082,טבלה1[#All],2,0)),\"\")","v":""}]
[null,null,null,null,null,null,null,null,null,null,null,{"$f":"_xlfn.IFNA(IF(J13088>500,\"ומעלה 500\",VLOOKUP(J13088,טבלה1[#All],2,0)),\"\")","v":""}]
[null,null,null,null,null,null,null,null,null,null,null,{"$f":"_xlfn.IFNA(IF(J13104>500,\"ומעלה 500\",VLOOKUP(J13104,טבלה1[#All],2,0)),\"\")","v":""}]
[null,null,null,null,null,null,null,null,null,null,null,{"$f":"_xlfn.IFNA(IF(J13107>500,\"ומעלה 500\",VLOOKUP(J13107,טבלה1[#All],2,0)),\"\")","v":""}]
[null,null,null,null,null,null,null,null,null,null,null,{"$f":"_xlfn.IFNA(IF(J13121>500,\"ומעלה 500\",VLOOKUP(J13121,טבלה1[#All],2,0)),\"\")","v":""}]
[null,null,null,null,null,null,null,null,null,null,null,{"$f":"_xlfn.IFNA(IF(J13125>500,\"ומעלה 500\",VLOOKUP(J13125,טבלה1[#All],2,0)),\"\")","v":""}]
[null,null,null,null,null,null,null,null,null,null,null,{"$f":"_xlfn.IFNA(IF(J13137>500,\"ומעלה 500\",VLOOKUP(J13137,טבלה1[#All],2,0)),\"\")","v":""}]
[null,null,null,null,null,null,null,null,null,null,null,{"$f":"_xlfn.IFNA(IF(J13144>500,\"ומעלה 500\",VLOOKUP(J13144,טבלה1[#All],2,0)),\"\")","v":""}]
[null,null,null,null,null,null,null,null,null,null,null,{"$f":"_xlfn.IFNA(IF(J13152>500,\"ומעלה 500\",VLOOKUP(J13152,טבלה1[#All],2,0)),\"\")","v":""}]
[null,null,null,null,null,null,null,null,null,null,null,{"$f":"_xlfn.IFNA(IF(J13162>500,\"ומעלה 500\",VLOOKUP(J13162,טבלה1[#All],2,0)),\"\")","v":""}]
[null,null,null,null,null,null,null,null,null,null,null,{"$f":"_xlfn.IFNA(IF(J13174>500,\"ומעלה 500\",VLOOKUP(J13174,טבלה1[#All],2,0)),\"\")","v":""}]
[null,null,null,null,null,null,null,null,null,null,null,{"$f":"_xlfn.IFNA(IF(J13177>500,\"ומעלה 500\",VLOOKUP(J13177,טבלה1[#All],2,0)),\"\")","v":""}]
[null,null,null,null,null,null,null,null,null,null,null,{"$f":"_xlfn.IFNA(IF(J13191>500,\"ומעלה 500\",VLOOKUP(J13191,טבלה1[#All],2,0)),\"\")","v":""}]
[null,null,null,null,null,null,null,null,null,null,null,{"$f":"_xlfn.IFNA(IF(J13195>500,\"ומעלה 500\",VLOOKUP(J13195,טבלה1[#All],2,0)),\"\")","v":""}]
[null,null,null,null,null,null,null,null,null,null,null,{"$f":"_xlfn.IFNA(IF(J13207>500,\"ומעלה 500\",VLOOKUP(J13207,טבלה1[#All],2,0)),\"\")","v":""}]
[null,null,null,null,null,null,null,null,null,null,null,{"$f":"_xlfn.IFNA(IF(J13214>500,\"ומעלה 500\",VLOOKUP(J13214,טבלה1[#All],2,0)),\"\")","v":""}]
[null,null,null,null,null,null,null,null,null,null,null,{"$f":"_xlfn.IFNA(IF(J13222>500,\"ומעלה 500\",VLOOKUP(J13222,טבלה1[#All],2,0)),\"\")","v":""}]
[null,null,null,null,null,null,null,null,null,null,null,{"$f":"_xlfn.IFNA(IF(J13232>500,\"ומעלה 500\",VLOOKUP(J13232,טבלה1[#All],2,0)),\"\")","v":""}]
[null,null,null,null,null,null,null,null,null,null,null,{"$f":"_xlfn.IFNA(IF(J13244>500,\"ומעלה 500\",VLOOKUP(J13244,טבלה1[#All],2,0)),\"\")","v":""}]
[null,null,null,null,null,null,null,null,null,null,null,{"$f":"_xlfn.IFNA(IF(J13247>500,\"ומעלה 500\",VLOOKUP(J13247,טבלה1[#All],2,0)),\"\")","v":""}]
[null,null,null,null,null,null,null,null,null,null,null,{"$f":"_xlfn.IFNA(IF(J13261>500,\"ומעלה 500\",VLOOKUP(J13261,טבלה1[#All],2,0)),\"\")","v":""}]
[null,null,null,null,null,null,null,null,null,null,null,{"$f":"_xlfn.IFNA(IF(J13265>500,\"ומעלה 500\",VLOOKUP(J13265,טבלה1[#All],2,0)),\"\")","v":""}]
[null,null,null,null,null,null,null,null,null,null,null,{"$f":"_xlfn.IFNA(IF(J13277>500,\"ומעלה 500\",VLOOKUP(J13277,טבלה1[#All],2,0)),\"\")","v":""}]
[null,null,null,null,null,null,null,null,null,null,null,{"$f":"_xlfn.IFNA(IF(J13284>500,\"ומעלה 500\",VLOOKUP(J13284,טבלה1[#All],2,0)),\"\")","v":""}]
[null,null,null,null,null,null,null,null,null,null,null,{"$f":"_xlfn.IFNA(IF(J13292>500,\"ומעלה 500\",VLOOKUP(J13292,טבלה1[#All],2,0)),\"\")","v":""}]
[null,null,null,null,null,null,null,null,null,null,null,{"$f":"_xlfn.IFNA(IF(J13302>500,\"ומעלה 500\",VLOOKUP(J13302,טבלה1[#All],2,0)),\"\")","v":""}]
[null,null,null,null,null,null,null,null,null,null,null,{"$f":"_xlfn.IFNA(IF(J13314>500,\"ומעלה 500\",VLOOKUP(J13314,טבלה1[#All],2,0)),\"\")","v":""}]
[null,null,null,null,null,null,null,null,null,null,null,{"$f":"_xlfn.IFNA(IF(J13317>500,\"ומעלה 500\",VLOOKUP(J13317,טבלה1[#All],2,0)),\"\")","v":""}]
[null,null,null,null,null,null,null,null,null,null,null,{"$f":"_xlfn.IFNA(IF(J13331>500,\"ומעלה 500\",VLOOKUP(J13331,טבלה1[#All],2,0)),\"\")","v":""}]
[null,null,null,null,null,null,null,null,null,null,null,{"$f":"_xlfn.IFNA(IF(J13335>500,\"ומעלה 500\",VLOOKUP(J13335,טבלה1[#All],2,0)),\"\")","v":""}]
[null,null,null,null,null,null,null,null,null,null,null,{"$f":"_xlfn.IFNA(IF(J13342>500,\"ומעלה 500\",VLOOKUP(J13342,טבלה1[#All],2,0)),\"\")","v":""}]
[null,null,null,null,null,null,null,null,null,null,null,{"$f":"_xlfn.IFNA(IF(J13354>500,\"ומעלה 500\",VLOOKUP(J13354,טבלה1[#All],2,0)),\"\")","v":""}]
[null,null,null,null,null,null,null,null,null,null,null,{"$f":"_xlfn.IFNA(IF(J13362>500,\"ומעלה 500\",VLOOKUP(J13362,טבלה1[#All],2,0)),\"\")","v":""}]
[null,null,null,null,null,null,null,null,null,null,null,{"$f":"_xlfn.IFNA(IF(J13372>500,\"ומעלה 500\",VLOOKUP(J13372,טבלה1[#All],2,0)),\"\")","v":""}]
[null,null,null,null,null,null,null,null,null,null,null,{"$f":"_xlfn.IFNA(IF(J13384>500,\"ומעלה 500\",VLOOKUP(J13384,טבלה1[#All],2,0)),\"\")","v":""}]
[null,null,null,null,null,null,null,null,null,null,null,{"$f":"_xlfn.IFNA(IF(J13387>500,\"ומעלה 500\",VLOOKUP(J13387,טבלה1[#All],2,0)),\"\")","v":""}]
[null,null,null,null,null,null,null,null,null,null,null,{"$f":"_xlfn.IFNA(IF(J13401>500,\"ומעלה 500\",VLOOKUP(J13401,טבלה1[#All],2,0)),\"\")","v":""}]
[null,null,null,null,null,null,null,null,null,null,null,{"$f":"_xlfn.IFNA(IF(J13405>500,\"ומעלה 500\",VLOOKUP(J13405,טבלה1[#All],2,0)),\"\")","v":""}]
[null,null,null,null,null,null,null,null,null,null,null,{"$f":"_xlfn.IFNA(IF(J13412>500,\"ומעלה 500\",VLOOKUP(J13412,טבלה1[#All],2,0)),\"\")","v":""}]
[null,null,null,null,null,null,null,null,null,null,null,{"$f":"_xlfn.IFNA(IF(J13424>500,\"ומעלה 500\",VLOOKUP(J13424,טבלה1[#All],2,0)),\"\")","v":""}]
[null,null,null,null,null,null,null,null,null,null,null,{"$f":"_xlfn.IFNA(IF(J13432>500,\"ומעלה 500\",VLOOKUP(J13432,טבלה1[#All],2,0)),\"\")","v":""}]
[null,null,null,null,null,null,null,null,null,null,null,{"$f":"_xlfn.IFNA(IF(J13442>500,\"ומעלה 500\",VLOOKUP(J13442,טבלה1[#All],2,0)),\"\")","v":""}]
[null,null,null,null,null,null,null,null,null,null,null,{"$f":"_xlfn.IFNA(IF(J13454>500,\"ומעלה 500\",VLOOKUP(J13454,טבלה1[#All],2,0)),\"\")","v":""}]
[null,null,null,null,null,null,null,null,null,null,null,{"$f":"_xlfn.IFNA(IF(J13457>500,\"ומעלה 500\",VLOOKUP(J13457,טבלה1[#All],2,0)),\"\")","v":""}]
[null,null,null,null,null,null,null,null,null,null,null,{"$f":"_xlfn.IFNA(IF(J13471>500,\"ומעלה 500\",VLOOKUP(J13471,טבלה1[#All],2,0)),\"\")","v":""}]
[null,null,null,null,null,null,null,null,null,null,null,{"$f":"_xlfn.IFNA(IF(J13475>500,\"ומעלה 500\",VLOOKUP(J13475,טבלה1[#All],2,0)),\"\")","v":""}]
[null,null,null,null,null,null,null,null,null,null,null,{"$f":"_xlfn.IFNA(IF(J13482>500,\"ומעלה 500\",VLOOKUP(J13482,טבלה1[#All],2,0)),\"\")","v":""}]
[null,null,null,null,null,null,null,null,null,null,null,{"$f":"_xlfn.IFNA(IF(J13494>500,\"ומעלה 500\",VLOOKUP(J13494,טבלה1[#All],2,0)),\"\")","v":""}]
[null,null,null,null,null,null,null,null,null,null,null,{"$f":"_xlfn.IFNA(IF(J13502>500,\"ומעלה 500\",VLOOKUP(J13502,טבלה1[#All],2,0)),\"\")","v":""}]
[null,null,null,null,null,null,null,null,null,null,null,{"$f":"_xlfn.IFNA(IF(J13512>500,\"ומעלה 500\",VLOOKUP(J13512,טבלה1[#All],2,0)),\"\")","v":""}]
[null,null,null,null,null,null,null,null,null,null,null,{"$f":"_xlfn.IFNA(IF(J13524>500,\"ומעלה 500\",VLOOKUP(J13524,טבלה1[#All],2,0)),\"\")","v":""}]
[null,null,null,null,null,null,null,null,null,null,null,{"$f":"_xlfn.IFNA(IF(J13531>500,\"ומעלה 500\",VLOOKUP(J13531,טבלה1[#All],2,0)),\"\")","v":""}]
[null,null,null,null,null,null,null,null,null,null,null,{"$f":"_xlfn.IFNA(IF(J13541>500,\"ומעלה 500\",VLOOKUP(J13541,טבלה1[#All],2,0)),\"\")","v":""}]
[null,null,null,null,null,null,null,null,null,null,null,{"$f":"_xlfn.IFNA(IF(J13545>500,\"ומעלה 500\",VLOOKUP(J13545,טבלה1[#All],2,0)),\"\")","v":""}]
[null,null,null,null,null,null,null,null,null,null,null,{"$f":"_xlfn.IFNA(IF(J13552>500,\"ומעלה 500\",VLOOKUP(J13552,טבלה1[#All],2,0)),\"\")","v":""}]
[null,null,null,null,null,null,null,null,null,null,null,{"$f":"_xlfn.IFNA(IF(J13564>500,\"ומעלה 500\",VLOOKUP(J13564,טבלה1[#All],2,0)),\"\")","v":""}]
[null,null,null,null,null,null,null,null,null,null,null,{"$f":"_xlfn.IFNA(IF(J13572>500,\"ומעלה 500\",VLOOKUP(J13572,טבלה1[#All],2,0)),\"\")","v":""}]
[null,null,null,null,null,null,null,null,null,null,null,{"$f":"_xlfn.IFNA(IF(J13582>500,\"ומעלה 500\",VLOOKUP(J13582,טבלה1[#All],2,0)),\"\")","v":""}]
[null,null,null,null,null,null,null,null,null,null,null,{"$f":"_xlfn.IFNA(IF(J13594>500,\"ומעלה 500\",VLOOKUP(J13594,טבלה1[#All],2,0)),\"\")","v":""}]
[null,null,null,null,null,null,null,null,null,null,null,{"$f":"_xlfn.IFNA(IF(J13601>500,\"ומעלה 500\",VLOOKUP(J13601,טבלה1[#All],2,0)),\"\")","v":""}]
[null,null,null,null,null,null,null,null,null,null,null,{"$f":"_xlfn.IFNA(IF(J13611>500,\"ומעלה 500\",VLOOKUP(J13611,טבלה1[#All],2,0)),\"\")","v":""}]
[null,null,null,null,null,null,null,null,null,null,null,{"$f":"_xlfn.IFNA(IF(J13615>500,\"ומעלה 500\",VLOOKUP(J13615,טבלה1[#All],2,0)),\"\")","v":""}]
[null,null,null,null,null,null,null,null,null,null,null,{"$f":"_xlfn.IFNA(IF(J13622>500,\"ומעלה 500\",VLOOKUP(J13622,טבלה1[#All],2,0)),\"\")","v":""}]
[null,null,null,null,null,null,null,null,null,null,null,{"$f":"_xlfn.IFNA(IF(J13634>500,\"ומעלה 500\",VLOOKUP(J13634,טבלה1[#All],2,0)),\"\")","v":""}]
[null,null,null,null,null,null,null,null,null,null,null,{"$f":"_xlfn.IFNA(IF(J13642>500,\"ומעלה 500\",VLOOKUP(J13642,טבלה1[#All],2,0)),\"\")","v":""}]
[null,null,null,null,null,null,null,null,null,null,null,{"$f":"_xlfn.IFNA(IF(J13652>500,\"ומעלה 500\",VLOOKUP(J13652,טבלה1[#All],2,0)),\"\")","v":""}]
[null,null,null,null,null,null,null,null,null,null,null,{"$f":"_xlfn.IFNA(IF(J13664>500,\"ומעלה 500\",VLOOKUP(J13664,טבלה1[#All],2,0)),\"\")","v":""}]
[null,null,null,null,null,null,null,null,null,null,null,{"$f":"_xlfn.IFNA(IF(J13671>500,\"ומעלה 500\",VLOOKUP(J13671,טבלה1[#All],2,0)),\"\")","v":""}]
[null,null,null,null,null,null,null,null,null,null,null,{"$f":"_xlfn.IFNA(IF(J13681>500,\"ומעלה 500\",VLOOKUP(J13681,טבלה1[#All],2,0)),\"\")","v":""}]
[null,null,null,null,null,null,null,null,null,null,null,{"$f":"_xlfn.IFNA(IF(J13685>500,\"ומעלה 500\",VLOOKUP(J13685,טבלה1[#All],2,0)),\"\")","v":""}]
[null,null,null,null,null,null,null,null,null,null,null,{"$f":"_xlfn.IFNA(IF(J13692>500,\"ומעלה 500\",VLOOKUP(J13692,טבלה1[#All],2,0)),\"\")","v":""}]
[null,null,null,null,null,null,null,null,null,null,null,{"$f":"_xlfn.IFNA(IF(J13704>500,\"ומעלה 500\",VLOOKUP(J13704,טבלה1[#All],2,0)),\"\")","v":""}]
[null,null,null,null,null,null,null,null,null,null,null,{"$f":"_xlfn.IFNA(IF(J13712>500,\"ומעלה 500\",VLOOKUP(J13712,טבלה1[#All],2,0)),\"\")","v":""}]
[null,null,null,null,null,null,null,null,null,null,null,{"$f":"_xlfn.IFNA(IF(J13722>500,\"ומעלה 500\",VLOOKUP(J13722,טבלה1[#All],2,0)),\"\")","v":""}]
[null,null,null,null,null,null,null,null,null,null,null,{"$f":"_xlfn.IFNA(IF(J13734>500,\"ומעלה 500\",VLOOKUP(J13734,טבלה1[#All],2,0)),\"\")","v":""}]
[null,null,null,null,null,null,null,null,null,null,null,{"$f":"_xlfn.IFNA(IF(J13741>500,\"ומעלה 500\",VLOOKUP(J13741,טבלה1[#All],2,0)),\"\")","v":""}]
[null,null,null,null,null,null,null,null,null,null,null,{"$f":"_xlfn.IFNA(IF(J13751>500,\"ומעלה 500\",VLOOKUP(J13751,טבלה1[#All],2,0)),\"\")","v":""}]
[null,null,null,null,null,null,null,null,null,null,null,{"$f":"_xlfn.IFNA(IF(J13755>500,\"ומעלה 500\",VLOOKUP(J13755,טבלה1[#All],2,0)),\"\")","v":""}]
[null,null,null,null,null,null,null,null,null,null,null,{"$f":"_xlfn.IFNA(IF(J13762>500,\"ומעלה 500\",VLOOKUP(J13762,טבלה1[#All],2,0)),\"\")","v":""}]
[null,null,null,null,null,null,null,null,null,null,null,{"$f":"_xlfn.IFNA(IF(J13774>500,\"ומעלה 500\",VLOOKUP(J13774,טבלה1[#All],2,0)),\"\")","v":""}]
[null,null,null,null,null,null,null,null,null,null,null,{"$f":"_xlfn.IFNA(IF(J13782>500,\"ומעלה 500\",VLOOKUP(J13782,טבלה1[#All],2,0)),\"\")","v":""}]
[null,null,null,null,null,null,null,null,null,null,null,{"$f":"_xlfn.IFNA(IF(J13792>500,\"ומעלה 500\",VLOOKUP(J13792,טבלה1[#All],2,0)),\"\")","v":""}]
[null,null,null,null,null,null,null,null,null,null,null,{"$f":"_xlfn.IFNA(IF(J13804>500,\"ומעלה 500\",VLOOKUP(J13804,טבלה1[#All],2,0)),\"\")","v":""}]
[null,null,null,null,null,null,null,null,null,null,null,{"$f":"_xlfn.IFNA(IF(J13811>500,\"ומעלה 500\",VLOOKUP(J13811,טבלה1[#All],2,0)),\"\")","v":""}]
[null,null,null,null,null,null,null,null,null,null,null,{"$f":"_xlfn.IFNA(IF(J13821>500,\"ומעלה 500\",VLOOKUP(J13821,טבלה1[#All],2,0)),\"\")","v":""}]
[null,null,null,null,null,null,null,null,null,null,null,{"$f":"_xlfn.IFNA(IF(J13829>500,\"ומעלה 500\",VLOOKUP(J13829,טבלה1[#All],2,0)),\"\")","v":""}]
[null,null,null,null,null,null,null,null,null,null,null,{"$f":"_xlfn.IFNA(IF(J13832>500,\"ומעלה 500\",VLOOKUP(J13832,טבלה1[#All],2,0)),\"\")","v":""}]
[null,null,null,null,null,null,null,null,null,null,null,{"$f":"_xlfn.IFNA(IF(J13844>500,\"ומעלה 500\",VLOOKUP(J13844,טבלה1[#All],2,0)),\"\")","v":""}]
[null,null,null,null,null,null,null,null,null,null,null,{"$f":"_xlfn.IFNA(IF(J13852>500,\"ומעלה 500\",VLOOKUP(J13852,טבלה1[#All],2,0)),\"\")","v":""}]
[null,null,null,null,null,null,null,null,null,null,null,{"$f":"_xlfn.IFNA(IF(J13862>500,\"ומעלה 500\",VLOOKUP(J13862,טבלה1[#All],2,0)),\"\")","v":""}]
[null,null,null,null,null,null,null,null,null,null,null,{"$f":"_xlfn.IFNA(IF(J13874>500,\"ומעלה 500\",VLOOKUP(J13874,טבלה1[#All],2,0)),\"\")","v":""}]
[null,null,null,null,null,null,null,null,null,null,null,{"$f":"_xlfn.IFNA(IF(J13881>500,\"ומעלה 500\",VLOOKUP(J13881,טבלה1[#All],2,0)),\"\")","v":""}]
[null,null,null,null,null,null,null,null,null,null,null,{"$f":"_xlfn.IFNA(IF(J13891>500,\"ומעלה 500\",VLOOKUP(J13891,טבלה1[#All],2,0)),\"\")","v":""}]
[null,null,null,null,null,null,null,null,null,null,null,{"$f":"_xlfn.IFNA(IF(J13899>500,\"ומעלה 500\",VLOOKUP(J13899,טבלה1[#All],2,0)),\"\")","v":""}]
[null,null,null,null,null,null,null,null,null,null,null,{"$f":"_xlfn.IFNA(IF(J13902>500,\"ומעלה 500\",VLOOKUP(J13902,טבלה1[#All],2,0)),\"\")","v":""}]
[null,null,null,null,null,null,null,null,null,null,null,{"$f":"_xlfn.IFNA(IF(J13914>500,\"ומעלה 500\",VLOOKUP(J13914,טבלה1[#All],2,0)),\"\")","v":""}]
[null,null,null,null,null,null,null,null,null,null,null,{"$f":"_xlfn.IFNA(IF(J13922>500,\"ומעלה 500\",VLOOKUP(J13922,טבלה1[#All],2,0)),\"\")","v":""}]
[null,null,null,null,null,null,null,null,null,null,null,{"$f":"_xlfn.IFNA(IF(J13932>500,\"ומעלה 500\",VLOOKUP(J13932,טבלה1[#All],2,0)),\"\")","v":""}]
[null,null,null,null,null,null,null,null,null,null,null,{"$f":"_xlfn.IFNA(IF(J13939>500,\"ומעלה 500\",VLOOKUP(J13939,טבלה1[#All],2,0)),\"\")","v":""}]
[null,null,null,null,null,null,null,null,null,null,null,{"$f":"_xlfn.IFNA(IF(J13951>500,\"ומעלה 500\",VLOOKUP(J13951,טבלה1[#All],2,0)),\"\")","v":""}]
[null,null,null,null,null,null,null,null,null,null,null,{"$f":"_xlfn.IFNA(IF(J13961>500,\"ומעלה 500\",VLOOKUP(J13961,טבלה1[#All],2,0)),\"\")","v":""}]
[null,null,null,null,null,null,null,null,null,null,null,{"$f":"_xlfn.IFNA(IF(J13969>500,\"ומעלה 500\",VLOOKUP(J13969,טבלה1[#All],2,0)),\"\")","v":""}]
[null,null,null,null,null,null,null,null,null,null,null,{"$f":"_xlfn.IFNA(IF(J13972>500,\"ומעלה 500\",VLOOKUP(J13972,טבלה1[#All],2,0)),\"\")","v":""}]
[null,null,null,null,null,null,null,null,null,null,null,{"$f":"_xlfn.IFNA(IF(J13984>500,\"ומעלה 500\",VLOOKUP(J13984,טבלה1[#All],2,0)),\"\")","v":""}]
[null,null,null,null,null,null,null,null,null,null,null,{"$f":"_xlfn.IFNA(IF(J13992>500,\"ומעלה 500\",VLOOKUP(J13992,טבלה1[#All],2,0)),\"\")","v":""}]
[null,null,null,null,null,null,null,null,null,null,null,{"$f":"_xlfn.IFNA(IF(J14002>500,\"ומעלה 500\",VLOOKUP(J14002,טבלה1[#All],2,0)),\"\")","v":""}]
[null,null,null,null,null,null,null,null,null,null,null,{"$f":"_xlfn.IFNA(IF(J14009>500,\"ומעלה 500\",VLOOKUP(J14009,טבלה1[#All],2,0)),\"\")","v":""}]
[null,null,null,null,null,null,null,null,null,null,null,{"$f":"_xlfn.IFNA(IF(J14021>500,\"ומעלה 500\",VLOOKUP(J14021,טבלה1[#All],2,0)),\"\")","v":""}]
[null,null,null,null,null,null,null,null,null,null,null,{"$f":"_xlfn.IFNA(IF(J14031>500,\"ומעלה 500\",VLOOKUP(J14031,טבלה1[#All],2,0)),\"\")","v":""}]
[null,null,null,null,null,null,null,null,null,null,null,{"$f":"_xlfn.IFNA(IF(J14039>500,\"ומעלה 500\",VLOOKUP(J14039,טבלה1[#All],2,0)),\"\")","v":""}]
[null,null,null,null,null,null,null,null,null,null,null,{"$f":"_xlfn.IFNA(IF(J14042>500,\"ומעלה 500\",VLOOKUP(J14042,טבלה1[#All],2,0)),\"\")","v":""}]
[null,null,null,null,null,null,null,null,null,null,null,{"$f":"_xlfn.IFNA(IF(J14054>500,\"ומעלה 500\",VLOOKUP(J14054,טבלה1[#All],2,0)),\"\")","v":""}]
[null,null,null,null,null,null,null,null,null,null,null,{"$f":"_xlfn.IFNA(IF(J14062>500,\"ומעלה 500\",VLOOKUP(J14062,טבלה1[#All],2,0)),\"\")","v":""}]
[null,null,null,null,null,null,null,null,null,null,null,{"$f":"_xlfn.IFNA(IF(J14072>500,\"ומעלה 500\",VLOOKUP(J14072,טבלה1[#All],2,0)),\"\")","v":""}]
[null,null,null,null,null,null,null,null,null,null,null,{"$f":"_xlfn.IFNA(IF(J14079>500,\"ומעלה 500\",VLOOKUP(J14079,טבלה1[#All],2,0)),\"\")","v":""}]
[null,null,null,null,null,null,null,null,null,null,null,{"$f":"_xlfn.IFNA(IF(J14091>500,\"ומעלה 500\",VLOOKUP(J14091,טבלה1[#All],2,0)),\"\")","v":""}]
[null,null,null,null,null,null,null,null,null,null,null,{"$f":"_xlfn.IFNA(IF(J14101>500,\"ומעלה 500\",VLOOKUP(J14101,טבלה1[#All],2,0)),\"\")","v":""}]
[null,null,null,null,null,null,null,null,null,null,null,{"$f":"_xlfn.IFNA(IF(J14109>500,\"ומעלה 500\",VLOOKUP(J14109,טבלה1[#All],2,0)),\"\")","v":""}]
[null,null,null,null,null,null,null,null,null,null,null,{"$f":"_xlfn.IFNA(IF(J14112>500,\"ומעלה 500\",VLOOKUP(J14112,טבלה1[#All],2,0)),\"\")","v":""}]
[null,null,null,null,null,null,null,null,null,null,null,{"$f":"_xlfn.IFNA(IF(J14128>500,\"ומעלה 500\",VLOOKUP(J14128,טבלה1[#All],2,0)),\"\")","v":""}]
[null,null,null,null,null,null,null,null,null,null,null,{"$f":"_xlfn.IFNA(IF(J14132>500,\"ומעלה 500\",VLOOKUP(J14132,טבלה1[#All],2,0)),\"\")","v":""}]
[null,null,null,null,null,null,null,null,null,null,null,{"$f":"_xlfn.IFNA(IF(J14142>500,\"ומעלה 500\",VLOOKUP(J14142,טבלה1[#All],2,0)),\"\")","v":""}]
[null,null,null,null,null,null,null,null,null,null,null,{"$f":"_xlfn.IFNA(IF(J14149>500,\"ומעלה 500\",VLOOKUP(J14149,טבלה1[#All],2,0)),\"\")","v":""}]
[null,null,null,null,null,null,null,null,null,null,null,{"$f":"_xlfn.IFNA(IF(J14161>500,\"ומעלה 500\",VLOOKUP(J14161,טבלה1[#All],2,0)),\"\")","v":""}]
[null,null,null,null,null,null,null,null,null,null,null,{"$f":"_xlfn.IFNA(IF(J14171>500,\"ומעלה 500\",VLOOKUP(J14171,טבלה1[#All],2,0)),\"\")","v":""}]
[null,null,null,null,null,null,null,null,null,null,null,{"$f":"_xlfn.IFNA(IF(J14179>500,\"ומעלה 500\",VLOOKUP(J14179,טבלה1[#All],2,0)),\"\")","v":""}]
[null,null,null,null,null,null,null,null,null,null,null,{"$f":"_xlfn.IFNA(IF(J14182>500,\"ומעלה 500\",VLOOKUP(J14182,טבלה1[#All],2,0)),\"\")","v":""}]
[null,null,null,null,null,null,null,null,null,null,null,{"$f":"_xlfn.IFNA(IF(J14198>500,\"ומעלה 500\",VLOOKUP(J14198,טבלה1[#All],2,0)),\"\")","v":""}]
[null,null,null,null,null,null,null,null,null,null,null,{"$f":"_xlfn.IFNA(IF(J14202>500,\"ומעלה 500\",VLOOKUP(J14202,טבלה1[#All],2,0)),\"\")","v":""}]
[null,null,null,null,null,null,null,null,null,null,null,{"$f":"_xlfn.IFNA(IF(J14212>500,\"ומעלה 500\",VLOOKUP(J14212,טבלה1[#All],2,0)),\"\")","v":""}]
[null,null,null,null,null,null,null,null,null,null,null,{"$f":"_xlfn.IFNA(IF(J14219>500,\"ומעלה 500\",VLOOKUP(J14219,טבלה1[#All],2,0)),\"\")","v":""}]
[null,null,null,null,null,null,null,null,null,null,null,{"$f":"_xlfn.IFNA(IF(J14231>500,\"ומעלה 500\",VLOOKUP(J14231,טבלה1[#All],2,0)),\"\")","v":""}]
[null,null,null,null,null,null,null,null,null,null,null,{"$f":"_xlfn.IFNA(IF(J14241>500,\"ומעלה 500\",VLOOKUP(J14241,טבלה1[#All],2,0)),\"\")","v":""}]
[null,null,null,null,null,null,null,null,null,null,null,{"$f":"_xlfn.IFNA(IF(J14249>500,\"ומעלה 500\",VLOOKUP(J14249,טבלה1[#All],2,0)),\"\")","v":""}]
[null,null,null,null,null,null,null,null,null,null,null,{"$f":"_xlfn.IFNA(IF(J14252>500,\"ומעלה 500\",VLOOKUP(J14252,טבלה1[#All],2,0)),\"\")","v":""}]
[null,null,null,null,null,null,null,null,null,null,null,{"$f":"_xlfn.IFNA(IF(J14268>500,\"ומעלה 500\",VLOOKUP(J14268,טבלה1[#All],2,0)),\"\")","v":""}]
[null,null,null,null,null,null,null,null,null,null,null,{"$f":"_xlfn.IFNA(IF(J14272>500,\"ומעלה 500\",VLOOKUP(J14272,טבלה1[#All],2,0)),\"\")","v":""}]
[null,null,null,null,null,null,null,null,null,null,null,{"$f":"_xlfn.IFNA(IF(J14282>500,\"ומעלה 500\",VLOOKUP(J14282,טבלה1[#All],2,0)),\"\")","v":""}]
[null,null,null,null,null,null,null,null,null,null,null,{"$f":"_xlfn.IFNA(IF(J14289>500,\"ומעלה 500\",VLOOKUP(J14289,טבלה1[#All],2,0)),\"\")","v":""}]
[null,null,null,null,null,null,null,null,null,null,null,{"$f":"_xlfn.IFNA(IF(J14301>500,\"ומעלה 500\",VLOOKUP(J14301,טבלה1[#All],2,0)),\"\")","v":""}]
[null,null,null,null,null,null,null,null,null,null,null,{"$f":"_xlfn.IFNA(IF(J14311>500,\"ומעלה 500\",VLOOKUP(J14311,טבלה1[#All],2,0)),\"\")","v":""}]
[null,null,null,null,null,null,null,null,null,null,null,{"$f":"_xlfn.IFNA(IF(J14319>500,\"ומעלה 500\",VLOOKUP(J14319,טבלה1[#All],2,0)),\"\")","v":""}]
[null,null,null,null,null,null,null,null,null,null,null,{"$f":"_xlfn.IFNA(IF(J14322>500,\"ומעלה 500\",VLOOKUP(J14322,טבלה1[#All],2,0)),\"\")","v":""}]
[null,null,null,null,null,null,null,null,null,null,null,{"$f":"_xlfn.IFNA(IF(J14338>500,\"ומעלה 500\",VLOOKUP(J14338,טבלה1[#All],2,0)),\"\")","v":""}]
[null,null,null,null,null,null,null,null,null,null,null,{"$f":"_xlfn.IFNA(IF(J14342>500,\"ומעלה 500\",VLOOKUP(J14342,טבלה1[#All],2,0)),\"\")","v":""}]
[null,null,null,null,null,null,null,null,null,null,null,{"$f":"_xlfn.IFNA(IF(J14352>500,\"ומעלה 500\",VLOOKUP(J14352,טבלה1[#All],2,0)),\"\")","v":""}]
[null,null,null,null,null,null,null,null,null,null,null,{"$f":"_xlfn.IFNA(IF(J14359>500,\"ומעלה 500\",VLOOKUP(J14359,טבלה1[#All],2,0)),\"\")","v":""}]
[null,null,null,null,null,null,null,null,null,null,null,{"$f":"_xlfn.IFNA(IF(J14371>500,\"ומעלה 500\",VLOOKUP(J14371,טבלה1[#All],2,0)),\"\")","v":""}]
[null,null,null,null,null,null,null,null,null,null,null,{"$f":"_xlfn.IFNA(IF(J14381>500,\"ומעלה 500\",VLOOKUP(J14381,טבלה1[#All],2,0)),\"\")","v":""}]
[null,null,null,null,null,null,null,null,null,null,null,{"$f":"_xlfn.IFNA(IF(J14389>500,\"ומעלה 500\",VLOOKUP(J14389,טבלה1[#All],2,0)),\"\")","v":""}]
[null,null,null,null,null,null,null,null,null,null,null,{"$f":"_xlfn.IFNA(IF(J14392>500,\"ומעלה 500\",VLOOKUP(J14392,טבלה1[#All],2,0)),\"\")","v":""}]
[null,null,null,null,null,null,null,null,null,null,null,{"$f":"_xlfn.IFNA(IF(J14408>500,\"ומעלה 500\",VLOOKUP(J14408,טבלה1[#All],2,0)),\"\")","v":""}]
[null,null,null,null,null,null,null,null,null,null,null,{"$f":"_xlfn.IFNA(IF(J14412>500,\"ומעלה 500\",VLOOKUP(J14412,טבלה1[#All],2,0)),\"\")","v":""}]
[null,null,null,null,null,null,null,null,null,null,null,{"$f":"_xlfn.IFNA(IF(J14417>500,\"ומעלה 500\",VLOOKUP(J14417,טבלה1[#All],2,0)),\"\")","v":""}]
[null,null,null,null,null,null,null,null,null,null,null,{"$f":"_xlfn.IFNA(IF(J14429>500,\"ומעלה 500\",VLOOKUP(J14429,טבלה1[#All],2,0)),\"\")","v":""}]
[null,null,null,null,null,null,null,null,null,null,null,{"$f":"_xlfn.IFNA(IF(J14441>500,\"ומעלה 500\",VLOOKUP(J14441,טבלה1[#All],2,0)),\"\")","v":""}]
[null,null,null,null,null,null,null,null,null,null,null,{"$f":"_xlfn.IFNA(IF(J14451>500,\"ומעלה 500\",VLOOKUP(J14451,טבלה1[#All],2,0)),\"\")","v":""}]
[null,null,null,null,null,null,null,null,null,null,null,{"$f":"_xlfn.IFNA(IF(J14459>500,\"ומעלה 500\",VLOOKUP(J14459,טבלה1[#All],2,0)),\"\")","v":""}]
[null,null,null,null,null,null,null,null,null,null,null,{"$f":"_xlfn.IFNA(IF(J14462>500,\"ומעלה 500\",VLOOKUP(J14462,טבלה1[#All],2,0)),\"\")","v":""}]
[null,null,null,null,null,null,null,null,null,null,null,{"$f":"_xlfn.IFNA(IF(J14478>500,\"ומעלה 500\",VLOOKUP(J14478,טבלה1[#All],2,0)),\"\")","v":""}]
[null,null,null,null,null,null,null,null,null,null,null,{"$f":"_xlfn.IFNA(IF(J14482>500,\"ומעלה 500\",VLOOKUP(J14482,טבלה1[#All],2,0)),\"\")","v":""}]
[null,null,null,null,null,null,null,null,null,null,null,{"$f":"_xlfn.IFNA(IF(J14487>500,\"ומעלה 500\",VLOOKUP(J14487,טבלה1[#All],2,0)),\"\")","v":""}]
[null,null,null,null,null,null,null,null,null,null,null,{"$f":"_xlfn.IFNA(IF(J14499>500,\"ומעלה 500\",VLOOKUP(J14499,טבלה1[#All],2,0)),\"\")","v":""}]
[null,null,null,null,null,null,null,null,null,null,null,{"$f":"_xlfn.IFNA(IF(J14511>500,\"ומעלה 500\",VLOOKUP(J14511,טבלה1[#All],2,0)),\"\")","v":""}]
[null,null,null,null,null,null,null,null,null,null,null,{"$f":"_xlfn.IFNA(IF(J14521>500,\"ומעלה 500\",VLOOKUP(J14521,טבלה1[#All],2,0)),\"\")","v":""}]
[null,null,null,null,null,null,null,null,null,null,null,{"$f":"_xlfn.IFNA(IF(J14529>500,\"ומעלה 500\",VLOOKUP(J14529,טבלה1[#All],2,0)),\"\")","v":""}]
[null,null,null,null,null,null,null,null,null,null,null,{"$f":"_xlfn.IFNA(IF(J14532>500,\"ומעלה 500\",VLOOKUP(J14532,טבלה1[#All],2,0)),\"\")","v":""}]
[null,null,null,null,null,null,null,null,null,null,null,{"$f":"_xlfn.IFNA(IF(J14548>500,\"ומעלה 500\",VLOOKUP(J14548,טבלה1[#All],2,0)),\"\")","v":""}]
[null,null,null,null,null,null,null,null,null,null,null,{"$f":"_xlfn.IFNA(IF(J14552>500,\"ומעלה 500\",VLOOKUP(J14552,טבלה1[#All],2,0)),\"\")","v":""}]
[null,null,null,null,null,null,null,null,null,null,null,{"$f":"_xlfn.IFNA(IF(J14557>500,\"ומעלה 500\",VLOOKUP(J14557,טבלה1[#All],2,0)),\"\")","v":""}]
[null,null,null,null,null,null,null,null,null,null,null,{"$f":"_xlfn.IFNA(IF(J14569>500,\"ומעלה 500\",VLOOKUP(J14569,טבלה1[#All],2,0)),\"\")","v":""}]
[null,null,null,null,null,null,null,null,null,null,null,{"$f":"_xlfn.IFNA(IF(J14581>500,\"ומעלה 500\",VLOOKUP(J14581,טבלה1[#All],2,0)),\"\")","v":""}]
[null,null,null,null,null,null,null,null,null,null,null,{"$f":"_xlfn.IFNA(IF(J14591>500,\"ומעלה 500\",VLOOKUP(J14591,טבלה1[#All],2,0)),\"\")","v":""}]
[null,null,null,null,null,null,null,null,null,null,null,{"$f":"_xlfn.IFNA(IF(J14599>500,\"ומעלה 500\",VLOOKUP(J14599,טבלה1[#All],2,0)),\"\")","v":""}]
[null,null,null,null,null,null,null,null,null,null,null,{"$f":"_xlfn.IFNA(IF(J14606>500,\"ומעלה 500\",VLOOKUP(J14606,טבלה1[#All],2,0)),\"\")","v":""}]
[null,null,null,null,null,null,null,null,null,null,null,{"$f":"_xlfn.IFNA(IF(J14618>500,\"ומעלה 500\",VLOOKUP(J14618,טבלה1[#All],2,0)),\"\")","v":""}]
[null,null,null,null,null,null,null,null,null,null,null,{"$f":"_xlfn.IFNA(IF(J14622>500,\"ומעלה 500\",VLOOKUP(J14622,טבלה1[#All],2,0)),\"\")","v":""}]
[null,null,null,null,null,null,null,null,null,null,null,{"$f":"_xlfn.IFNA(IF(J14627>500,\"ומעלה 500\",VLOOKUP(J14627,טבלה1[#All],2,0)),\"\")","v":""}]
[null,null,null,null,null,null,null,null,null,null,null,{"$f":"_xlfn.IFNA(IF(J14639>500,\"ומעלה 500\",VLOOKUP(J14639,טבלה1[#All],2,0)),\"\")","v":""}]
[null,null,null,null,null,null,null,null,null,null,null,{"$f":"_xlfn.IFNA(IF(J14651>500,\"ומעלה 500\",VLOOKUP(J14651,טבלה1[#All],2,0)),\"\")","v":""}]
[null,null,null,null,null,null,null,null,null,null,null,{"$f":"_xlfn.IFNA(IF(J14661>500,\"ומעלה 500\",VLOOKUP(J14661,טבלה1[#All],2,0)),\"\")","v":""}]
[null,null,null,null,null,null,null,null,null,null,null,{"$f":"_xlfn.IFNA(IF(J14669>500,\"ומעלה 500\",VLOOKUP(J14669,טבלה1[#All],2,0)),\"\")","v":""}]
[null,null,null,null,null,null,null,null,null,null,null,{"$f":"_xlfn.IFNA(IF(J14676>500,\"ומעלה 500\",VLOOKUP(J14676,טבלה1[#All],2,0)),\"\")","v":""}]
[null,null,null,null,null,null,null,null,null,null,null,{"$f":"_xlfn.IFNA(IF(J14688>500,\"ומעלה 500\",VLOOKUP(J14688,טבלה1[#All],2,0)),\"\")","v":""}]
[null,null,null,null,null,null,null,null,null,null,null,{"$f":"_xlfn.IFNA(IF(J14692>500,\"ומעלה 500\",VLOOKUP(J14692,טבלה1[#All],2,0)),\"\")","v":""}]
[null,null,null,null,null,null,null,null,null,null,null,{"$f":"_xlfn.IFNA(IF(J14697>500,\"ומעלה 500\",VLOOKUP(J14697,טבלה1[#All],2,0)),\"\")","v":""}]
[null,null,null,null,null,null,null,null,null,null,null,{"$f":"_xlfn.IFNA(IF(J14709>500,\"ומעלה 500\",VLOOKUP(J14709,טבלה1[#All],2,0)),\"\")","v":""}]
[null,null,null,null,null,null,null,null,null,null,null,{"$f":"_xlfn.IFNA(IF(J14721>500,\"ומעלה 500\",VLOOKUP(J14721,טבלה1[#All],2,0)),\"\")","v":""}]
[null,null,null,null,null,null,null,null,null,null,null,{"$f":"_xlfn.IFNA(IF(J14731>500,\"ומעלה 500\",VLOOKUP(J14731,טבלה1[#All],2,0)),\"\")","v":""}]
[null,null,null,null,null,null,null,null,null,null,null,{"$f":"_xlfn.IFNA(IF(J14739>500,\"ומעלה 500\",VLOOKUP(J14739,טבלה1[#All],2,0)),\"\")","v":""}]
[null,null,null,null,null,null,null,null,null,null,null,{"$f":"_xlfn.IFNA(IF(J14746>500,\"ומעלה 500\",VLOOKUP(J14746,טבלה1[#All],2,0)),\"\")","v":""}]
[null,null,null,null,null,null,null,null,null,null,null,{"$f":"_xlfn.IFNA(IF(J14758>500,\"ומעלה 500\",VLOOKUP(J14758,טבלה1[#All],2,0)),\"\")","v":""}]
[null,null,null,null,null,null,null,null,null,null,null,{"$f":"_xlfn.IFNA(IF(J14762>500,\"ומעלה 500\",VLOOKUP(J14762,טבלה1[#All],2,0)),\"\")","v":""}]
[null,null,null,null,null,null,null,null,null,null,null,{"$f":"_xlfn.IFNA(IF(J14767>500,\"ומעלה 500\",VLOOKUP(J14767,טבלה1[#All],2,0)),\"\")","v":""}]
[null,null,null,null,null,null,null,null,null,null,null,{"$f":"_xlfn.IFNA(IF(J14779>500,\"ומעלה 500\",VLOOKUP(J14779,טבלה1[#All],2,0)),\"\")","v":""}]
[null,null,null,null,null,null,null,null,null,null,null,{"$f":"_xlfn.IFNA(IF(J14786>500,\"ומעלה 500\",VLOOKUP(J14786,טבלה1[#All],2,0)),\"\")","v":""}]
[null,null,null,null,null,null,null,null,null,null,null,{"$f":"_xlfn.IFNA(IF(J14801>500,\"ומעלה 500\",VLOOKUP(J14801,טבלה1[#All],2,0)),\"\")","v":""}]
[null,null,null,null,null,null,null,null,null,null,null,{"$f":"_xlfn.IFNA(IF(J14809>500,\"ומעלה 500\",VLOOKUP(J14809,טבלה1[#All],2,0)),\"\")","v":""}]
[null,null,null,null,null,null,null,null,null,null,null,{"$f":"_xlfn.IFNA(IF(J14816>500,\"ומעלה 500\",VLOOKUP(J14816,טבלה1[#All],2,0)),\"\")","v":""}]
[null,null,null,null,null,null,null,null,null,null,null,{"$f":"_xlfn.IFNA(IF(J14828>500,\"ומעלה 500\",VLOOKUP(J14828,טבלה1[#All],2,0)),\"\")","v":""}]
[null,null,null,null,null,null,null,null,null,null,null,{"$f":"_xlfn.IFNA(IF(J14832>500,\"ומעלה 500\",VLOOKUP(J14832,טבלה1[#All],2,0)),\"\")","v":""}]
[null,null,null,null,null,null,null,null,null,null,null,{"$f":"_xlfn.IFNA(IF(J14837>500,\"ומעלה 500\",VLOOKUP(J14837,טבלה1[#All],2,0)),\"\")","v":""}]
[null,null,null,null,null,null,null,null,null,null,null,{"$f":"_xlfn.IFNA(IF(J14849>500,\"ומעלה 500\",VLOOKUP(J14849,טבלה1[#All],2,0)),\"\")","v":""}]
[null,null,null,null,null,null,null,null,null,null,null,{"$f":"_xlfn.IFNA(IF(J14856>500,\"ומעלה 500\",VLOOKUP(J14856,טבלה1[#All],2,0)),\"\")","v":""}]
[null,null,null,null,null,null,null,null,null,null,null,{"$f":"_xlfn.IFNA(IF(J14871>500,\"ומעלה 500\",VLOOKUP(J14871,טבלה1[#All],2,0)),\"\")","v":""}]
[null,null,null,null,null,null,null,null,null,null,null,{"$f":"_xlfn.IFNA(IF(J14879>500,\"ומעלה 500\",VLOOKUP(J14879,טבלה1[#All],2,0)),\"\")","v":""}]
[null,null,null,null,null,null,null,null,null,null,null,{"$f":"_xlfn.IFNA(IF(J14886>500,\"ומעלה 500\",VLOOKUP(J14886,טבלה1[#All],2,0)),\"\")","v":""}]
[null,null,null,null,null,null,null,null,null,null,null,{"$f":"_xlfn.IFNA(IF(J14898>500,\"ומעלה 500\",VLOOKUP(J14898,טבלה1[#All],2,0)),\"\")","v":""}]
[null,null,null,null,null,null,null,null,null,null,null,{"$f":"_xlfn.IFNA(IF(J14902>500,\"ומעלה 500\",VLOOKUP(J14902,טבלה1[#All],2,0)),\"\")","v":""}]
[null,null,null,null,null,null,null,null,null,null,null,{"$f":"_xlfn.IFNA(IF(J14907>500,\"ומעלה 500\",VLOOKUP(J14907,טבלה1[#All],2,0)),\"\")","v":""}]
[null,null,null,null,null,null,null,null,null,null,null,{"$f":"_xlfn.IFNA(IF(J14919>500,\"ומעלה 500\",VLOOKUP(J14919,טבלה1[#All],2,0)),\"\")","v":""}]
[null,null,null,null,null,null,null,null,null,null,null,{"$f":"_xlfn.IFNA(IF(J14926>500,\"ומעלה 500\",VLOOKUP(J14926,טבלה1[#All],2,0)),\"\")","v":""}]
[null,null,null,null,null,null,null,null,null,null,null,{"$f":"_xlfn.IFNA(IF(J14941>500,\"ומעלה 500\",VLOOKUP(J14941,טבלה1[#All],2,0)),\"\")","v":""}]
[null,null,null,null,null,null,null,null,null,null,null,{"$f":"_xlfn.IFNA(IF(J14949>500,\"ומעלה 500\",VLOOKUP(J14949,טבלה1[#All],2,0)),\"\")","v":""}]
[null,null,null,null,null,null,null,null,null,null,null,{"$f":"_xlfn.IFNA(IF(J14956>500,\"ומעלה 500\",VLOOKUP(J14956,טבלה1[#All],2,0)),\"\")","v":""}]
[null,null,null,null,null,null,null,null,null,null,null,{"$f":"_xlfn.IFNA(IF(J14968>500,\"ומעלה 500\",VLOOKUP(J14968,טבלה1[#All],2,0)),\"\")","v":""}]
[null,null,null,null,null,null,null,null,null,null,null,{"$f":"_xlfn.IFNA(IF(J14972>500,\"ומעלה 500\",VLOOKUP(J14972,טבלה1[#All],2,0)),\"\")","v":""}]
[null,null,null,null,null,null,null,null,null,null,null,{"$f":"_xlfn.IFNA(IF(J14977>500,\"ומעלה 500\",VLOOKUP(J14977,טבלה1[#All],2,0)),\"\")","v":""}]
[null,null,null,null,null,null,null,null,null,null,null,{"$f":"_xlfn.IFNA(IF(J14989>500,\"ומעלה 500\",VLOOKUP(J14989,טבלה1[#All],2,0)),\"\")","v":""}]
[null,null,null,null,null,null,null,null,null,null,null,{"$f":"_xlfn.IFNA(IF(J14996>500,\"ומעלה 500\",VLOOKUP(J14996,טבלה1[#All],2,0)),\"\")","v":""}]
[null,null,null,null,null,null,null,null,null,null,null,{"$f":"_xlfn.IFNA(IF(J15011>500,\"ומעלה 500\",VLOOKUP(J15011,טבלה1[#All],2,0)),\"\")","v":""}]
[null,null,null,null,null,null,null,null,null,null,null,{"$f":"_xlfn.IFNA(IF(J15019>500,\"ומעלה 500\",VLOOKUP(J15019,טבלה1[#All],2,0)),\"\")","v":""}]
[null,null,null,null,null,null,null,null,null,null,null,{"$f":"_xlfn.IFNA(IF(J15026>500,\"ומעלה 500\",VLOOKUP(J15026,טבלה1[#All],2,0)),\"\")","v":""}]
[null,null,null,null,null,null,null,null,null,null,null,{"$f":"_xlfn.IFNA(IF(J15038>500,\"ומעלה 500\",VLOOKUP(J15038,טבלה1[#All],2,0)),\"\")","v":""}]
[null,null,null,null,null,null,null,null,null,null,null,{"$f":"_xlfn.IFNA(IF(J15042>500,\"ומעלה 500\",VLOOKUP(J15042,טבלה1[#All],2,0)),\"\")","v":""}]
[null,null,null,null,null,null,null,null,null,null,null,{"$f":"_xlfn.IFNA(IF(J15047>500,\"ומעלה 500\",VLOOKUP(J15047,טבלה1[#All],2,0)),\"\")","v":""}]
[null,null,null,null,null,null,null,null,null,null,null,{"$f":"_xlfn.IFNA(IF(J15059>500,\"ומעלה 500\",VLOOKUP(J15059,טבלה1[#All],2,0)),\"\")","v":""}]
[null,null,null,null,null,null,null,null,null,null,null,{"$f":"_xlfn.IFNA(IF(J15066>500,\"ומעלה 500\",VLOOKUP(J15066,טבלה1[#All],2,0)),\"\")","v":""}]
[null,null,null,null,null,null,null,null,null,null,null,{"$f":"_xlfn.IFNA(IF(J15081>500,\"ומעלה 500\",VLOOKUP(J15081,טבלה1[#All],2,0)),\"\")","v":""}]
[null,null,null,null,null,null,null,null,null,null,null,{"$f":"_xlfn.IFNA(IF(J15084>500,\"ומעלה 500\",VLOOKUP(J15084,טבלה1[#All],2,0)),\"\")","v":""}]
[null,null,null,null,null,null,null,null,null,null,null,{"$f":"_xlfn.IFNA(IF(J15096>500,\"ומעלה 500\",VLOOKUP(J15096,טבלה1[#All],2,0)),\"\")","v":""}]
[null,null,null,null,null,null,null,null,null,null,null,{"$f":"_xlfn.IFNA(IF(J15108>500,\"ומעלה 500\",VLOOKUP(J15108,טבלה1[#All],2,0)),\"\")","v":""}]
[null,null,null,null,null,null,null,null,null,null,null,{"$f":"_xlfn.IFNA(IF(J15112>500,\"ומעלה 500\",VLOOKUP(J15112,טבלה1[#All],2,0)),\"\")","v":""}]
[null,null,null,null,null,null,null,null,null,null,null,{"$f":"_xlfn.IFNA(IF(J15117>500,\"ומעלה 500\",VLOOKUP(J15117,טבלה1[#All],2,0)),\"\")","v":""}]
[null,null,null,null,null,null,null,null,null,null,null,{"$f":"_xlfn.IFNA(IF(J15129>500,\"ומעלה 500\",VLOOKUP(J15129,טבלה1[#All],2,0)),\"\")","v":""}]
[null,null,null,null,null,null,null,null,null,null,null,{"$f":"_xlfn.IFNA(IF(J15136>500,\"ומעלה 500\",VLOOKUP(J15136,טבלה1[#All],2,0)),\"\")","v":""}]
[null,null,null,null,null,null,null,null,null,null,null,{"$f":"_xlfn.IFNA(IF(J15148>500,\"ומעלה 500\",VLOOKUP(J15148,טבלה1[#All],2,0)),\"\")","v":""}]
[null,null,null,null,null,null,null,null,null,null,null,{"$f":"_xlfn.IFNA(IF(J15153>500,\"ומעלה 500\",VLOOKUP(J15153,טבלה1[#All],2,0)),\"\")","v":""}]
[null,null,null,null,null,null,null,null,null,null,null,{"$f":"_xlfn.IFNA(IF(J15166>500,\"ומעלה 500\",VLOOKUP(J15166,טבלה1[#All],2,0)),\"\")","v":""}]
[null,null,null,null,null,null,null,null,null,null,null,{"$f":"_xlfn.IFNA(IF(J15178>500,\"ומעלה 500\",VLOOKUP(J15178,טבלה1[#All],2,0)),\"\")","v":""}]
[null,null,null,null,null,null,null,null,null,null,null,{"$f":"_xlfn.IFNA(IF(J15185>500,\"ומעלה 500\",VLOOKUP(J15185,טבלה1[#All],2,0)),\"\")","v":""}]
[null,null,null,null,null,null,null,null,null,null,null,{"$f":"_xlfn.IFNA(IF(J15192>500,\"ומעלה 500\",VLOOKUP(J15192,טבלה1[#All],2,0)),\"\")","v":""}]
[null,null,null,null,null,null,null,null,null,null,null,{"$f":"_xlfn.IFNA(IF(J15203>500,\"ומעלה 500\",VLOOKUP(J15203,טבלה1[#All],2,0)),\"\")","v":""}]
[null,null,null,null,null,null,null,null,null,null,null,{"$f":"_xlfn.IFNA(IF(J15206>500,\"ומעלה 500\",VLOOKUP(J15206,טבלה1[#All],2,0)),\"\")","v":""}]
[null,null,null,null,null,null,null,null,null,null,null,{"$f":"_xlfn.IFNA(IF(J15218>500,\"ומעלה 500\",VLOOKUP(J15218,טבלה1[#All],2,0)),\"\")","v":""}]
[null,null,null,null,null,null,null,null,null,null,null,{"$f":"_xlfn.IFNA(IF(J15223>500,\"ומעלה 500\",VLOOKUP(J15223,טבלה1[#All],2,0)),\"\")","v":""}]
[null,null,null,null,null,null,null,null,null,null,null,{"$f":"_xlfn.IFNA(IF(J15236>500,\"ומעלה 500\",VLOOKUP(J15236,טבלה1[#All],2,0)),\"\")","v":""}]
[null,null,null,null,null,null,null,null,null,null,null,{"$f":"_xlfn.IFNA(IF(J15248>500,\"ומעלה 500\",VLOOKUP(J15248,טבלה1[#All],2,0)),\"\")","v":""}]
[null,null,null,null,null,null,null,null,null,null,null,{"$f":"_xlfn.IFNA(IF(J15255>500,\"ומעלה 500\",VLOOKUP(J15255,טבלה1[#All],2,0)),\"\")","v":""}]
[null,null,null,null,null,null,null,null,null,null,null,{"$f":"_xlfn.IFNA(IF(J15262>500,\"ומעלה 500\",VLOOKUP(J15262,טבלה1[#All],2,0)),\"\")","v":""}]
[null,null,null,null,null,null,null,null,null,null,null,{"$f":"_xlfn.IFNA(IF(J15273>500,\"ומעלה 500\",VLOOKUP(J15273,טבלה1[#All],2,0)),\"\")","v":""}]
[null,null,null,null,null,null,null,null,null,null,null,{"$f":"_xlfn.IFNA(IF(J15276>500,\"ומעלה 500\",VLOOKUP(J15276,טבלה1[#All],2,0)),\"\")","v":""}]
[null,null,null,null,null,null,null,null,null,null,null,{"$f":"_xlfn.IFNA(IF(J15288>500,\"ומעלה 500\",VLOOKUP(J15288,טבלה1[#All],2,0)),\"\")","v":""}]
[null,null,null,null,null,null,null,null,null,null,null,{"$f":"_xlfn.IFNA(IF(J15293>500,\"ומעלה 500\",VLOOKUP(J15293,טבלה1[#All],2,0)),\"\")","v":""}]
[null,null,null,null,null,null,null,null,null,null,null,{"$f":"_xlfn.IFNA(IF(J15306>500,\"ומעלה 500\",VLOOKUP(J15306,טבלה1[#All],2,0)),\"\")","v":""}]
[null,null,null,null,null,null,null,null,null,null,null,{"$f":"_xlfn.IFNA(IF(J15318>500,\"ומעלה 500\",VLOOKUP(J15318,טבלה1[#All],2,0)),\"\")","v":""}]
[null,null,null,null,null,null,null,null,null,null,null,{"$f":"_xlfn.IFNA(IF(J15325>500,\"ומעלה 500\",VLOOKUP(J15325,טבלה1[#All],2,0)),\"\")","v":""}]
[null,null,null,null,null,null,null,null,null,null,null,{"$f":"_xlfn.IFNA(IF(J15332>500,\"ומעלה 500\",VLOOKUP(J15332,טבלה1[#All],2,0)),\"\")","v":""}]
[null,null,null,null,null,null,null,null,null,null,null,{"$f":"_xlfn.IFNA(IF(J15343>500,\"ומעלה 500\",VLOOKUP(J15343,טבלה1[#All],2,0)),\"\")","v":""}]
[null,null,null,null,null,null,null,null,null,null,null,{"$f":"_xlfn.IFNA(IF(J15346>500,\"ומעלה 500\",VLOOKUP(J15346,טבלה1[#All],2,0)),\"\")","v":""}]
[null,null,null,null,null,null,null,null,null,null,null,{"$f":"_xlfn.IFNA(IF(J15358>500,\"ומעלה 500\",VLOOKUP(J15358,טבלה1[#All],2,0)),\"\")","v":""}]
[null,null,null,null,null,null,null,null,null,null,null,{"$f":"_xlfn.IFNA(IF(J15363>500,\"ומעלה 500\",VLOOKUP(J15363,טבלה1[#All],2,0)),\"\")","v":""}]
[null,null,null,null,null,null,null,null,null,null,null,{"$f":"_xlfn.IFNA(IF(J15376>500,\"ומעלה 500\",VLOOKUP(J15376,טבלה1[#All],2,0)),\"\")","v":""}]
[null,null,null,null,null,null,null,null,null,null,null,{"$f":"_xlfn.IFNA(IF(J15383>500,\"ומעלה 500\",VLOOKUP(J15383,טבלה1[#All],2,0)),\"\")","v":""}]
[null,null,null,null,null,null,null,null,null,null,null,{"$f":"_xlfn.IFNA(IF(J15395>500,\"ומעלה 500\",VLOOKUP(J15395,טבלה1[#All],2,0)),\"\")","v":""}]
[null,null,null,null,null,null,null,null,null,null,null,{"$f":"_xlfn.IFNA(IF(J15402>500,\"ומעלה 500\",VLOOKUP(J15402,טבלה1[#All],2,0)),\"\")","v":""}]
[null,null,null,null,null,null,null,null,null,null,null,{"$f":"_xlfn.IFNA(IF(J15413>500,\"ומעלה 500\",VLOOKUP(J15413,טבלה1[#All],2,0)),\"\")","v":""}]
[null,null,null,null,null,null,null,null,null,null,null,{"$f":"_xlfn.IFNA(IF(J15416>500,\"ומעלה 500\",VLOOKUP(J15416,טבלה1[#All],2,0)),\"\")","v":""}]
[null,null,null,null,null,null,null,null,null,null,null,{"$f":"_xlfn.IFNA(IF(J15428>500,\"ומעלה 500\",VLOOKUP(J15428,טבלה1[#All],2,0)),\"\")","v":""}]
[null,null,null,null,null,null,null,null,null,null,null,{"$f":"_xlfn.IFNA(IF(J15433>500,\"ומעלה 500\",VLOOKUP(J15433,טבלה1[#All],2,0)),\"\")","v":""}]
[null,null,null,null,null,null,null,null,null,null,null,{"$f":"_xlfn.IFNA(IF(J15446>500,\"ומעלה 500\",VLOOKUP(J15446,טבלה1[#All],2,0)),\"\")","v":""}]
[null,null,null,null,null,null,null,null,null,null,null,{"$f":"_xlfn.IFNA(IF(J15453>500,\"ומעלה 500\",VLOOKUP(J15453,טבלה1[#All],2,0)),\"\")","v":""}]
[null,null,null,null,null,null,null,null,null,null,null,{"$f":"_xlfn.IFNA(IF(J15465>500,\"ומעלה 500\",VLOOKUP(J15465,טבלה1[#All],2,0)),\"\")","v":""}]
[null,null,null,null,null,null,null,null,null,null,null,{"$f":"_xlfn.IFNA(IF(J15472>500,\"ומעלה 500\",VLOOKUP(J15472,טבלה1[#All],2,0)),\"\")","v":""}]
[null,null,null,null,null,null,null,null,null,null,null,{"$f":"_xlfn.IFNA(IF(J15483>500,\"ומעלה 500\",VLOOKUP(J15483,טבלה1[#All],2,0)),\"\")","v":""}]
[null,null,null,null,null,null,null,null,null,null,null,{"$f":"_xlfn.IFNA(IF(J15486>500,\"ומעלה 500\",VLOOKUP(J15486,טבלה1[#All],2,0)),\"\")","v":""}]
[null,null,null,null,null,null,null,null,null,null,null,{"$f":"_xlfn.IFNA(IF(J15498>500,\"ומעלה 500\",VLOOKUP(J15498,טבלה1[#All],2,0)),\"\")","v":""}]
[null,null,null,null,null,null,null,null,null,null,null,{"$f":"_xlfn.IFNA(IF(J15503>500,\"ומעלה 500\",VLOOKUP(J15503,טבלה1[#All],2,0)),\"\")","v":""}]
[null,null,null,null,null,null,null,null,null,null,null,{"$f":"_xlfn.IFNA(IF(J15516>500,\"ומעלה 500\",VLOOKUP(J15516,טבלה1[#All],2,0)),\"\")","v":""}]
[null,null,null,null,null,null,null,null,null,null,null,{"$f":"_xlfn.IFNA(IF(J15523>500,\"ומעלה 500\",VLOOKUP(J15523,טבלה1[#All],2,0)),\"\")","v":""}]
[null,null,null,null,null,null,null,null,null,null,null,{"$f":"_xlfn.IFNA(IF(J15535>500,\"ומעלה 500\",VLOOKUP(J15535,טבלה1[#All],2,0)),\"\")","v":""}]
[null,null,null,null,null,null,null,null,null,null,null,{"$f":"_xlfn.IFNA(IF(J15542>500,\"ומעלה 500\",VLOOKUP(J15542,טבלה1[#All],2,0)),\"\")","v":""}]
[null,null,null,null,null,null,null,null,null,null,null,{"$f":"_xlfn.IFNA(IF(J15553>500,\"ומעלה 500\",VLOOKUP(J15553,טבלה1[#All],2,0)),\"\")","v":""}]
[null,null,null,null,null,null,null,null,null,null,null,{"$f":"_xlfn.IFNA(IF(J15556>500,\"ומעלה 500\",VLOOKUP(J15556,טבלה1[#All],2,0)),\"\")","v":""}]
[null,null,null,null,null,null,null,null,null,null,null,{"$f":"_xlfn.IFNA(IF(J15572>500,\"ומעלה 500\",VLOOKUP(J15572,טבלה1[#All],2,0)),\"\")","v":""}]
[null,null,null,null,null,null,null,null,null,null,null,{"$f":"_xlfn.IFNA(IF(J15573>500,\"ומעלה 500\",VLOOKUP(J15573,טבלה1[#All],2,0)),\"\")","v":""}]
[null,null,null,null,null,null,null,null,null,null,null,{"$f":"_xlfn.IFNA(IF(J15586>500,\"ומעלה 500\",VLOOKUP(J15586,טבלה1[#All],2,0)),\"\")","v":""}]
[null,null,null,null,null,null,null,null,null,null,null,{"$f":"_xlfn.IFNA(IF(J15593>500,\"ומעלה 500\",VLOOKUP(J15593,טבלה1[#All],2,0)),\"\")","v":""}]
[null,null,null,null,null,null,null,null,null,null,null,{"$f":"_xlfn.IFNA(IF(J15605>500,\"ומעלה 500\",VLOOKUP(J15605,טבלה1[#All],2,0)),\"\")","v":""}]
[null,null,null,null,null,null,null,null,null,null,null,{"$f":"_xlfn.IFNA(IF(J15612>500,\"ומעלה 500\",VLOOKUP(J15612,טבלה1[#All],2,0)),\"\")","v":""}]
[null,null,null,null,null,null,null,null,null,null,null,{"$f":"_xlfn.IFNA(IF(J15623>500,\"ומעלה 500\",VLOOKUP(J15623,טבלה1[#All],2,0)),\"\")","v":""}]
[null,null,null,null,null,null,null,null,null,null,null,{"$f":"_xlfn.IFNA(IF(J15626>500,\"ומעלה 500\",VLOOKUP(J15626,טבלה1[#All],2,0)),\"\")","v":""}]
[null,null,null,null,null,null,null,null,null,null,null,{"$f":"_xlfn.IFNA(IF(J15642>500,\"ומעלה 500\",VLOOKUP(J15642,טבלה1[#All],2,0)),\"\")","v":""}]
[null,null,null,null,null,null,null,null,null,null,null,{"$f":"_xlfn.IFNA(IF(J15643>500,\"ומעלה 500\",VLOOKUP(J15643,טבלה1[#All],2,0)),\"\")","v":""}]
[null,null,null,null,null,null,null,null,null,null,null,{"$f":"_xlfn.IFNA(IF(J15656>500,\"ומעלה 500\",VLOOKUP(J15656,טבלה1[#All],2,0)),\"\")","v":""}]
[null,null,null,null,null,null,null,null,null,null,null,{"$f":"_xlfn.IFNA(IF(J15663>500,\"ומעלה 500\",VLOOKUP(J15663,טבלה1[#All],2,0)),\"\")","v":""}]
[null,null,null,null,null,null,null,null,null,null,null,{"$f":"_xlfn.IFNA(IF(J15675>500,\"ומעלה 500\",VLOOKUP(J15675,טבלה1[#All],2,0)),\"\")","v":""}]
[null,null,null,null,null,null,null,null,null,null,null,{"$f":"_xlfn.IFNA(IF(J15682>500,\"ומעלה 500\",VLOOKUP(J15682,טבלה1[#All],2,0)),\"\")","v":""}]
[null,null,null,null,null,null,null,null,null,null,null,{"$f":"_xlfn.IFNA(IF(J15693>500,\"ומעלה 500\",VLOOKUP(J15693,טבלה1[#All],2,0)),\"\")","v":""}]
[null,null,null,null,null,null,null,null,null,null,null,{"$f":"_xlfn.IFNA(IF(J15696>500,\"ומעלה 500\",VLOOKUP(J15696,טבלה1[#All],2,0)),\"\")","v":""}]
[null,null,null,null,null,null,null,null,null,null,null,{"$f":"_xlfn.IFNA(IF(J15712>500,\"ומעלה 500\",VLOOKUP(J15712,טבלה1[#All],2,0)),\"\")","v":""}]
[null,null,null,null,null,null,null,null,null,null,null,{"$f":"_xlfn.IFNA(IF(J15713>500,\"ומעלה 500\",VLOOKUP(J15713,טבלה1[#All],2,0)),\"\")","v":""}]
[null,null,null,null,null,null,null,null,null,null,null,{"$f":"_xlfn.IFNA(IF(J15726>500,\"ומעלה 500\",VLOOKUP(J15726,טבלה1[#All],2,0)),\"\")","v":""}]
[null,null,null,null,null,null,null,null,null,null,null,{"$f":"_xlfn.IFNA(IF(J15733>500,\"ומעלה 500\",VLOOKUP(J15733,טבלה1[#All],2,0)),\"\")","v":""}]
[null,null,null,null,null,null,null,null,null,null,null,{"$f":"_xlfn.IFNA(IF(J15745>500,\"ומעלה 500\",VLOOKUP(J15745,טבלה1[#All],2,0)),\"\")","v":""}]
[null,null,null,null,null,null,null,null,null,null,null,{"$f":"_xlfn.IFNA(IF(J15752>500,\"ומעלה 500\",VLOOKUP(J15752,טבלה1[#All],2,0)),\"\")","v":""}]
[null,null,null,null,null,null,null,null,null,null,null,{"$f":"_xlfn.IFNA(IF(J15763>500,\"ומעלה 500\",VLOOKUP(J15763,טבלה1[#All],2,0)),\"\")","v":""}]
[null,null,null,null,null,null,null,null,null,null,null,{"$f":"_xlfn.IFNA(IF(J15766>500,\"ומעלה 500\",VLOOKUP(J15766,טבלה1[#All],2,0)),\"\")","v":""}]
[null,null,null,null,null,null,null,null,null,null,null,{"$f":"_xlfn.IFNA(IF(J15782>500,\"ומעלה 500\",VLOOKUP(J15782,טבלה1[#All],2,0)),\"\")","v":""}]
[null,null,null,null,null,null,null,null,null,null,null,{"$f":"_xlfn.IFNA(IF(J15783>500,\"ומעלה 500\",VLOOKUP(J15783,טבלה1[#All],2,0)),\"\")","v":""}]
[null,null,null,null,null,null,null,null,null,null,null,{"$f":"_xlfn.IFNA(IF(J15796>500,\"ומעלה 500\",VLOOKUP(J15796,טבלה1[#All],2,0)),\"\")","v":""}]
[null,null,null,null,null,null,null,null,null,null,null,{"$f":"_xlfn.IFNA(IF(J15803>500,\"ומעלה 500\",VLOOKUP(J15803,טבלה1[#All],2,0)),\"\")","v":""}]
[null,null,null,null,null,null,null,null,null,null,null,{"$f":"_xlfn.IFNA(IF(J15815>500,\"ומעלה 500\",VLOOKUP(J15815,טבלה1[#All],2,0)),\"\")","v":""}]
[null,null,null,null,null,null,null,null,null,null,null,{"$f":"_xlfn.IFNA(IF(J15822>500,\"ומעלה 500\",VLOOKUP(J15822,טבלה1[#All],2,0)),\"\")","v":""}]
[null,null,null,null,null,null,null,null,null,null,null,{"$f":"_xlfn.IFNA(IF(J15833>500,\"ומעלה 500\",VLOOKUP(J15833,טבלה1[#All],2,0)),\"\")","v":""}]
[null,null,null,null,null,null,null,null,null,null,null,{"$f":"_xlfn.IFNA(IF(J15836>500,\"ומעלה 500\",VLOOKUP(J15836,טבלה1[#All],2,0)),\"\")","v":""}]
[null,null,null,null,null,null,null,null,null,null,null,{"$f":"_xlfn.IFNA(IF(J15852>500,\"ומעלה 500\",VLOOKUP(J15852,טבלה1[#All],2,0)),\"\")","v":""}]
[null,null,null,null,null,null,null,null,null,null,null,{"$f":"_xlfn.IFNA(IF(J15853>500,\"ומעלה 500\",VLOOKUP(J15853,טבלה1[#All],2,0)),\"\")","v":""}]
[null,null,null,null,null,null,null,null,null,null,null,{"$f":"_xlfn.IFNA(IF(J15861>500,\"ומעלה 500\",VLOOKUP(J15861,טבלה1[#All],2,0)),\"\")","v":""}]
[null,null,null,null,null,null,null,null,null,null,null,{"$f":"_xlfn.IFNA(IF(J15873>500,\"ומעלה 500\",VLOOKUP(J15873,טבלה1[#All],2,0)),\"\")","v":""}]
[null,null,null,null,null,null,null,null,null,null,null,{"$f":"_xlfn.IFNA(IF(J15885>500,\"ומעלה 500\",VLOOKUP(J15885,טבלה1[#All],2,0)),\"\")","v":""}]
[null,null,null,null,null,null,null,null,null,null,null,{"$f":"_xlfn.IFNA(IF(J15892>500,\"ומעלה 500\",VLOOKUP(J15892,טבלה1[#All],2,0)),\"\")","v":""}]
[null,null,null,null,null,null,null,null,null,null,null,{"$f":"_xlfn.IFNA(IF(J15903>500,\"ומעלה 500\",VLOOKUP(J15903,טבלה1[#All],2,0)),\"\")","v":""}]
[null,null,null,null,null,null,null,null,null,null,null,{"$f":"_xlfn.IFNA(IF(J15906>500,\"ומעלה 500\",VLOOKUP(J15906,טבלה1[#All],2,0)),\"\")","v":""}]
[null,null,null,null,null,null,null,null,null,null,null,{"$f":"_xlfn.IFNA(IF(J15922>500,\"ומעלה 500\",VLOOKUP(J15922,טבלה1[#All],2,0)),\"\")","v":""}]
[null,null,null,null,null,null,null,null,null,null,null,{"$f":"_xlfn.IFNA(IF(J15923>500,\"ומעלה 500\",VLOOKUP(J15923,טבלה1[#All],2,0)),\"\")","v":""}]
[null,null,null,null,null,null,null,null,null,null,null,{"$f":"_xlfn.IFNA(IF(J15931>500,\"ומעלה 500\",VLOOKUP(J15931,טבלה1[#All],2,0)),\"\")","v":""}]
[null,null,null,null,null,null,null,null,null,null,null,{"$f":"_xlfn.IFNA(IF(J15943>500,\"ומעלה 500\",VLOOKUP(J15943,טבלה1[#All],2,0)),\"\")","v":""}]
[null,null,null,null,null,null,null,null,null,null,null,{"$f":"_xlfn.IFNA(IF(J15955>500,\"ומעלה 500\",VLOOKUP(J15955,טבלה1[#All],2,0)),\"\")","v":""}]
[null,null,null,null,null,null,null,null,null,null,null,{"$f":"_xlfn.IFNA(IF(J15962>500,\"ומעלה 500\",VLOOKUP(J15962,טבלה1[#All],2,0)),\"\")","v":""}]
[null,null,null,null,null,null,null,null,null,null,null,{"$f":"_xlfn.IFNA(IF(J15973>500,\"ומעלה 500\",VLOOKUP(J15973,טבלה1[#All],2,0)),\"\")","v":""}]
[null,null,null,null,null,null,null,null,null,null,null,{"$f":"_xlfn.IFNA(IF(J15976>500,\"ומעלה 500\",VLOOKUP(J15976,טבלה1[#All],2,0)),\"\")","v":""}]
[null,null,null,null,null,null,null,null,null,null,null,{"$f":"_xlfn.IFNA(IF(J15992>500,\"ומעלה 500\",VLOOKUP(J15992,טבלה1[#All],2,0)),\"\")","v":""}]
[null,null,null,null,null,null,null,null,null,null,null,{"$f":"_xlfn.IFNA(IF(J15993>500,\"ומעלה 500\",VLOOKUP(J15993,טבלה1[#All],2,0)),\"\")","v":""}]
[null,null,null,null,null,null,null,null,null,null,null,{"$f":"_xlfn.IFNA(IF(J16001>500,\"ומעלה 500\",VLOOKUP(J16001,טבלה1[#All],2,0)),\"\")","v":""}]
[null,null,null,null,null,null,null,null,null,null,null,{"$f":"_xlfn.IFNA(IF(J16013>500,\"ומעלה 500\",VLOOKUP(J16013,טבלה1[#All],2,0)),\"\")","v":""}]
[null,null,null,null,null,null,null,null,null,null,null,{"$f":"_xlfn.IFNA(IF(J16025>500,\"ומעלה 500\",VLOOKUP(J16025,טבלה1[#All],2,0)),\"\")","v":""}]
[null,null,null,null,null,null,null,null,null,null,null,{"$f":"_xlfn.IFNA(IF(J16032>500,\"ומעלה 500\",VLOOKUP(J16032,טבלה1[#All],2,0)),\"\")","v":""}]
[null,null,null,null,null,null,null,null,null,null,null,{"$f":"_xlfn.IFNA(IF(J16043>500,\"ומעלה 500\",VLOOKUP(J16043,טבלה1[#All],2,0)),\"\")","v":""}]
[null,null,null,null,null,null,null,null,null,null,null,{"$f":"_xlfn.IFNA(IF(J16050>500,\"ומעלה 500\",VLOOKUP(J16050,טבלה1[#All],2,0)),\"\")","v":""}]
[null,null,null,null,null,null,null,null,null,null,null,{"$f":"_xlfn.IFNA(IF(J16062>500,\"ומעלה 500\",VLOOKUP(J16062,טבלה1[#All],2,0)),\"\")","v":""}]
[null,null,null,null,null,null,null,null,null,null,null,{"$f":"_xlfn.IFNA(IF(J16063>500,\"ומעלה 500\",VLOOKUP(J16063,טבלה1[#All],2,0)),\"\")","v":""}]
[null,null,null,null,null,null,null,null,null,null,null,{"$f":"_xlfn.IFNA(IF(J16071>500,\"ומעלה 500\",VLOOKUP(J16071,טבלה1[#All],2,0)),\"\")","v":""}]
[null,null,null,null,null,null,null,null,null,null,null,{"$f":"_xlfn.IFNA(IF(J16083>500,\"ומעלה 500\",VLOOKUP(J16083,טבלה1[#All],2,0)),\"\")","v":""}]
[null,null,null,null,null,null,null,null,null,null,null,{"$f":"_xlfn.IFNA(IF(J16095>500,\"ומעלה 500\",VLOOKUP(J16095,טבלה1[#All],2,0)),\"\")","v":""}]
[null,null,null,null,null,null,null,null,null,null,null,{"$f":"_xlfn.IFNA(IF(J16102>500,\"ומעלה 500\",VLOOKUP(J16102,טבלה1[#All],2,0)),\"\")","v":""}]
[null,null,null,null,null,null,null,null,null,null,null,{"$f":"_xlfn.IFNA(IF(J16113>500,\"ומעלה 500\",VLOOKUP(J16113,טבלה1[#All],2,0)),\"\")","v":""}]
[null,null,null,null,null,null,null,null,null,null,null,{"$f":"_xlfn.IFNA(IF(J16120>500,\"ומעלה 500\",VLOOKUP(J16120,טבלה1[#All],2,0)),\"\")","v":""}]
[null,null,null,null,null,null,null,null,null,null,null,{"$f":"_xlfn.IFNA(IF(J16132>500,\"ומעלה 500\",VLOOKUP(J16132,טבלה1[#All],2,0)),\"\")","v":""}]
[null,null,null,null,null,null,null,null,null,null,null,{"$f":"_xlfn.IFNA(IF(J16133>500,\"ומעלה 500\",VLOOKUP(J16133,טבלה1[#All],2,0)),\"\")","v":""}]
[null,null,null,null,null,null,null,null,null,null,null,{"$f":"_xlfn.IFNA(IF(J16141>500,\"ומעלה 500\",VLOOKUP(J16141,טבלה1[#All],2,0)),\"\")","v":""}]
[null,null,null,null,null,null,null,null,null,null,null,{"$f":"_xlfn.IFNA(IF(J16153>500,\"ומעלה 500\",VLOOKUP(J16153,טבלה1[#All],2,0)),\"\")","v":""}]
[null,null,null,null,null,null,null,null,null,null,null,{"$f":"_xlfn.IFNA(IF(J16160>500,\"ומעלה 500\",VLOOKUP(J16160,טבלה1[#All],2,0)),\"\")","v":""}]
[null,null,null,null,null,null,null,null,null,null,null,{"$f":"_xlfn.IFNA(IF(J16172>500,\"ומעלה 500\",VLOOKUP(J16172,טבלה1[#All],2,0)),\"\")","v":""}]
[null,null,null,null,null,null,null,null,null,null,null,{"$f":"_xlfn.IFNA(IF(J16183>500,\"ומעלה 500\",VLOOKUP(J16183,טבלה1[#All],2,0)),\"\")","v":""}]
[null,null,null,null,null,null,null,null,null,null,null,{"$f":"_xlfn.IFNA(IF(J16190>500,\"ומעלה 500\",VLOOKUP(J16190,טבלה1[#All],2,0)),\"\")","v":""}]
[null,null,null,null,null,null,null,null,null,null,null,{"$f":"_xlfn.IFNA(IF(J16202>500,\"ומעלה 500\",VLOOKUP(J16202,טבלה1[#All],2,0)),\"\")","v":""}]
[null,null,null,null,null,null,null,null,null,null,null,{"$f":"_xlfn.IFNA(IF(J16203>500,\"ומעלה 500\",VLOOKUP(J16203,טבלה1[#All],2,0)),\"\")","v":""}]
[null,null,null,null,null,null,null,null,null,null,null,{"$f":"_xlfn.IFNA(IF(J16211>500,\"ומעלה 500\",VLOOKUP(J16211,טבלה1[#All],2,0)),\"\")","v":""}]
[null,null,null,null,null,null,null,null,null,null,null,{"$f":"_xlfn.IFNA(IF(J16223>500,\"ומעלה 500\",VLOOKUP(J16223,טבלה1[#All],2,0)),\"\")","v":""}]
[null,null,null,null,null,null,null,null,null,null,null,{"$f":"_xlfn.IFNA(IF(J16230>500,\"ומעלה 500\",VLOOKUP(J16230,טבלה1[#All],2,0)),\"\")","v":""}]
[null,null,null,null,null,null,null,null,null,null,null,{"$f":"_xlfn.IFNA(IF(J16242>500,\"ומעלה 500\",VLOOKUP(J16242,טבלה1[#All],2,0)),\"\")","v":""}]
[null,null,null,null,null,null,null,null,null,null,null,{"$f":"_xlfn.IFNA(IF(J16253>500,\"ומעלה 500\",VLOOKUP(J16253,טבלה1[#All],2,0)),\"\")","v":""}]
[null,null,null,null,null,null,null,null,null,null,null,{"$f":"_xlfn.IFNA(IF(J16260>500,\"ומעלה 500\",VLOOKUP(J16260,טבלה1[#All],2,0)),\"\")","v":""}]
[null,null,null,null,null,null,null,null,null,null,null,{"$f":"_xlfn.IFNA(IF(J16272>500,\"ומעלה 500\",VLOOKUP(J16272,טבלה1[#All],2,0)),\"\")","v":""}]
[null,null,null,null,null,null,null,null,null,null,null,{"$f":"_xlfn.IFNA(IF(J16273>500,\"ומעלה 500\",VLOOKUP(J16273,טבלה1[#All],2,0)),\"\")","v":""}]
[null,null,null,null,null,null,null,null,null,null,null,{"$f":"_xlfn.IFNA(IF(J16281>500,\"ומעלה 500\",VLOOKUP(J16281,טבלה1[#All],2,0)),\"\")","v":""}]
[null,null,null,null,null,null,null,null,null,null,null,{"$f":"_xlfn.IFNA(IF(J16293>500,\"ומעלה 500\",VLOOKUP(J16293,טבלה1[#All],2,0)),\"\")","v":""}]
[null,null,null,null,null,null,null,null,null,null,null,{"$f":"_xlfn.IFNA(IF(J16300>500,\"ומעלה 500\",VLOOKUP(J16300,טבלה1[#All],2,0)),\"\")","v":""}]
[null,null,null,null,null,null,null,null,null,null,null,{"$f":"_xlfn.IFNA(IF(J16312>500,\"ומעלה 500\",VLOOKUP(J16312,טבלה1[#All],2,0)),\"\")","v":""}]
[null,null,null,null,null,null,null,null,null,null,null,{"$f":"_xlfn.IFNA(IF(J16323>500,\"ומעלה 500\",VLOOKUP(J16323,טבלה1[#All],2,0)),\"\")","v":""}]
[null,null,null,null,null,null,null,null,null,null,null,{"$f":"_xlfn.IFNA(IF(J16330>500,\"ומעלה 500\",VLOOKUP(J16330,טבלה1[#All],2,0)),\"\")","v":""}]
[null,null,null,null,null,null,null,null,null,null,null,{"$f":"_xlfn.IFNA(IF(J16342>500,\"ומעלה 500\",VLOOKUP(J16342,טבלה1[#All],2,0)),\"\")","v":""}]
[null,null,null,null,null,null,null,null,null,null,null,{"$f":"_xlfn.IFNA(IF(J16343>500,\"ומעלה 500\",VLOOKUP(J16343,טבלה1[#All],2,0)),\"\")","v":""}]
[null,null,null,null,null,null,null,null,null,null,null,{"$f":"_xlfn.IFNA(IF(J16351>500,\"ומעלה 500\",VLOOKUP(J16351,טבלה1[#All],2,0)),\"\")","v":""}]
[null,null,null,null,null,null,null,null,null,null,null,{"$f":"_xlfn.IFNA(IF(J16363>500,\"ומעלה 500\",VLOOKUP(J16363,טבלה1[#All],2,0)),\"\")","v":""}]
[null,null,null,null,null,null,null,null,null,null,null,{"$f":"_xlfn.IFNA(IF(J16370>500,\"ומעלה 500\",VLOOKUP(J16370,טבלה1[#All],2,0)),\"\")","v":""}]
[null,null,null,null,null,null,null,null,null,null,null,{"$f":"_xlfn.IFNA(IF(J16382>500,\"ומעלה 500\",VLOOKUP(J16382,טבלה1[#All],2,0)),\"\")","v":""}]
[null,null,null,null,null,null,null,null,null,null,null,{"$f":"_xlfn.IFNA(IF(J16393>500,\"ומעלה 500\",VLOOKUP(J16393,טבלה1[#All],2,0)),\"\")","v":""}]
[null,null,null,null,null,null,null,null,null,null,null,{"$f":"_xlfn.IFNA(IF(J16400>500,\"ומעלה 500\",VLOOKUP(J16400,טבלה1[#All],2,0)),\"\")","v":""}]
[null,null,null,null,null,null,null,null,null,null,null,{"$f":"_xlfn.IFNA(IF(J16412>500,\"ומעלה 500\",VLOOKUP(J16412,טבלה1[#All],2,0)),\"\")","v":""}]
[null,null,null,null,null,null,null,null,null,null,null,{"$f":"_xlfn.IFNA(IF(J16413>500,\"ומעלה 500\",VLOOKUP(J16413,טבלה1[#All],2,0)),\"\")","v":""}]
[null,null,null,null,null,null,null,null,null,null,null,{"$f":"_xlfn.IFNA(IF(J16421>500,\"ומעלה 500\",VLOOKUP(J16421,טבלה1[#All],2,0)),\"\")","v":""}]
[null,null,null,null,null,null,null,null,null,null,null,{"$f":"_xlfn.IFNA(IF(J16433>500,\"ומעלה 500\",VLOOKUP(J16433,טבלה1[#All],2,0)),\"\")","v":""}]
[null,null,null,null,null,null,null,null,null,null,null,{"$f":"_xlfn.IFNA(IF(J16440>500,\"ומעלה 500\",VLOOKUP(J16440,טבלה1[#All],2,0)),\"\")","v":""}]
[null,null,null,null,null,null,null,null,null,null,null,{"$f":"_xlfn.IFNA(IF(J16452>500,\"ומעלה 500\",VLOOKUP(J16452,טבלה1[#All],2,0)),\"\")","v":""}]
[null,null,null,null,null,null,null,null,null,null,null,{"$f":"_xlfn.IFNA(IF(J16458>500,\"ומעלה 500\",VLOOKUP(J16458,טבלה1[#All],2,0)),\"\")","v":""}]
[null,null,null,null,null,null,null,null,null,null,null,{"$f":"_xlfn.IFNA(IF(J16470>500,\"ומעלה 500\",VLOOKUP(J16470,טבלה1[#All],2,0)),\"\")","v":""}]
[null,null,null,null,null,null,null,null,null,null,null,{"$f":"_xlfn.IFNA(IF(J16482>500,\"ומעלה 500\",VLOOKUP(J16482,טבלה1[#All],2,0)),\"\")","v":""}]
[null,null,null,null,null,null,null,null,null,null,null,{"$f":"_xlfn.IFNA(IF(J16483>500,\"ומעלה 500\",VLOOKUP(J16483,טבלה1[#All],2,0)),\"\")","v":""}]
[null,null,null,null,null,null,null,null,null,null,null,{"$f":"_xlfn.IFNA(IF(J16491>500,\"ומעלה 500\",VLOOKUP(J16491,טבלה1[#All],2,0)),\"\")","v":""}]
[null,null,null,null,null,null,null,null,null,null,null,{"$f":"_xlfn.IFNA(IF(J16503>500,\"ומעלה 500\",VLOOKUP(J16503,טבלה1[#All],2,0)),\"\")","v":""}]
[null,null,null,null,null,null,null,null,null,null,null,{"$f":"_xlfn.IFNA(IF(J16510>500,\"ומעלה 500\",VLOOKUP(J16510,טבלה1[#All],2,0)),\"\")","v":""}]
[null,null,null,null,null,null,null,null,null,null,null,{"$f":"_xlfn.IFNA(IF(J16522>500,\"ומעלה 500\",VLOOKUP(J16522,טבלה1[#All],2,0)),\"\")","v":""}]
[null,null,null,null,null,null,null,null,null,null,null,{"$f":"_xlfn.IFNA(IF(J16528>500,\"ומעלה 500\",VLOOKUP(J16528,טבלה1[#All],2,0)),\"\")","v":""}]
[null,null,null,null,null,null,null,null,null,null,null,{"$f":"_xlfn.IFNA(IF(J16540>500,\"ומעלה 500\",VLOOKUP(J16540,טבלה1[#All],2,0)),\"\")","v":""}]
[null,null,null,null,null,null,null,null,null,null,null,{"$f":"_xlfn.IFNA(IF(J16552>500,\"ומעלה 500\",VLOOKUP(J16552,טבלה1[#All],2,0)),\"\")","v":""}]
[null,null,null,null,null,null,null,null,null,null,null,{"$f":"_xlfn.IFNA(IF(J16553>500,\"ומעלה 500\",VLOOKUP(J16553,טבלה1[#All],2,0)),\"\")","v":""}]
[null,null,null,null,null,null,null,null,null,null,null,{"$f":"_xlfn.IFNA(IF(J16561>500,\"ומעלה 500\",VLOOKUP(J16561,טבלה1[#All],2,0)),\"\")","v":""}]
[null,null,null,null,null,null,null,null,null,null,null,{"$f":"_xlfn.IFNA(IF(J16573>500,\"ומעלה 500\",VLOOKUP(J16573,טבלה1[#All],2,0)),\"\")","v":""}]
[null,null,null,null,null,null,null,null,null,null,null,{"$f":"_xlfn.IFNA(IF(J16580>500,\"ומעלה 500\",VLOOKUP(J16580,טבלה1[#All],2,0)),\"\")","v":""}]
[null,null,null,null,null,null,null,null,null,null,null,{"$f":"_xlfn.IFNA(IF(J16592>500,\"ומעלה 500\",VLOOKUP(J16592,טבלה1[#All],2,0)),\"\")","v":""}]
[null,null,null,null,null,null,null,null,null,null,null,{"$f":"_xlfn.IFNA(IF(J16598>500,\"ומעלה 500\",VLOOKUP(J16598,טבלה1[#All],2,0)),\"\")","v":""}]
[null,null,null,null,null,null,null,null,null,null,null,{"$f":"_xlfn.IFNA(IF(J16610>500,\"ומעלה 500\",VLOOKUP(J16610,טבלה1[#All],2,0)),\"\")","v":""}]
[null,null,null,null,null,null,null,null,null,null,null,{"$f":"_xlfn.IFNA(IF(J16622>500,\"ומעלה 500\",VLOOKUP(J16622,טבלה1[#All],2,0)),\"\")","v":""}]
[null,null,null,null,null,null,null,null,null,null,null,{"$f":"_xlfn.IFNA(IF(J16623>500,\"ומעלה 500\",VLOOKUP(J16623,טבלה1[#All],2,0)),\"\")","v":""}]
[null,null,null,null,null,null,null,null,null,null,null,{"$f":"_xlfn.IFNA(IF(J16631>500,\"ומעלה 500\",VLOOKUP(J16631,טבלה1[#All],2,0)),\"\")","v":""}]
[null,null,null,null,null,null,null,null,null,null,null,{"$f":"_xlfn.IFNA(IF(J16647>500,\"ומעלה 500\",VLOOKUP(J16647,טבלה1[#All],2,0)),\"\")","v":""}]
[null,null,null,null,null,null,null,null,null,null,null,{"$f":"_xlfn.IFNA(IF(J16650>500,\"ומעלה 500\",VLOOKUP(J16650,טבלה1[#All],2,0)),\"\")","v":""}]
[null,null,null,null,null,null,null,null,null,null,null,{"$f":"_xlfn.IFNA(IF(J16662>500,\"ומעלה 500\",VLOOKUP(J16662,טבלה1[#All],2,0)),\"\")","v":""}]
[null,null,null,null,null,null,null,null,null,null,null,{"$f":"_xlfn.IFNA(IF(J16668>500,\"ומעלה 500\",VLOOKUP(J16668,טבלה1[#All],2,0)),\"\")","v":""}]
[null,null,null,null,null,null,null,null,null,null,null,{"$f":"_xlfn.IFNA(IF(J16680>500,\"ומעלה 500\",VLOOKUP(J16680,טבלה1[#All],2,0)),\"\")","v":""}]
[null,null,null,null,null,null,null,null,null,null,null,{"$f":"_xlfn.IFNA(IF(J16692>500,\"ומעלה 500\",VLOOKUP(J16692,טבלה1[#All],2,0)),\"\")","v":""}]
[null,null,null,null,null,null,null,null,null,null,null,{"$f":"_xlfn.IFNA(IF(J16693>500,\"ומעלה 500\",VLOOKUP(J16693,טבלה1[#All],2,0)),\"\")","v":""}]
[null,null,null,null,null,null,null,null,null,null,null,{"$f":"_xlfn.IFNA(IF(J16701>500,\"ומעלה 500\",VLOOKUP(J16701,טבלה1[#All],2,0)),\"\")","v":""}]
[null,null,null,null,null,null,null,null,null,null,null,{"$f":"_xlfn.IFNA(IF(J16717>500,\"ומעלה 500\",VLOOKUP(J16717,טבלה1[#All],2,0)),\"\")","v":""}]
[null,null,null,null,null,null,null,null,null,null,null,{"$f":"_xlfn.IFNA(IF(J16720>500,\"ומעלה 500\",VLOOKUP(J16720,טבלה1[#All],2,0)),\"\")","v":""}]
[null,null,null,null,null,null,null,null,null,null,null,{"$f":"_xlfn.IFNA(IF(J16732>500,\"ומעלה 500\",VLOOKUP(J16732,טבלה1[#All],2,0)),\"\")","v":""}]
[null,null,null,null,null,null,null,null,null,null,null,{"$f":"_xlfn.IFNA(IF(J16738>500,\"ומעלה 500\",VLOOKUP(J16738,טבלה1[#All],2,0)),\"\")","v":""}]
[null,null,null,null,null,null,null,null,null,null,null,{"$f":"_xlfn.IFNA(IF(J16750>500,\"ומעלה 500\",VLOOKUP(J16750,טבלה1[#All],2,0)),\"\")","v":""}]
[null,null,null,null,null,null,null,null,null,null,null,{"$f":"_xlfn.IFNA(IF(J16762>500,\"ומעלה 500\",VLOOKUP(J16762,טבלה1[#All],2,0)),\"\")","v":""}]
[null,null,null,null,null,null,null,null,null,null,null,{"$f":"_xlfn.IFNA(IF(J16763>500,\"ומעלה 500\",VLOOKUP(J16763,טבלה1[#All],2,0)),\"\")","v":""}]
[null,null,null,null,null,null,null,null,null,null,null,{"$f":"_xlfn.IFNA(IF(J16771>500,\"ומעלה 500\",VLOOKUP(J16771,טבלה1[#All],2,0)),\"\")","v":""}]
[null,null,null,null,null,null,null,null,null,null,null,{"$f":"_xlfn.IFNA(IF(J16787>500,\"ומעלה 500\",VLOOKUP(J16787,טבלה1[#All],2,0)),\"\")","v":""}]
[null,null,null,null,null,null,null,null,null,null,null,{"$f":"_xlfn.IFNA(IF(J16790>500,\"ומעלה 500\",VLOOKUP(J16790,טבלה1[#All],2,0)),\"\")","v":""}]
[null,null,null,null,null,null,null,null,null,null,null,{"$f":"_xlfn.IFNA(IF(J16802>500,\"ומעלה 500\",VLOOKUP(J16802,טבלה1[#All],2,0)),\"\")","v":""}]
[null,null,null,null,null,null,null,null,null,null,null,{"$f":"_xlfn.IFNA(IF(J16808>500,\"ומעלה 500\",VLOOKUP(J16808,טבלה1[#All],2,0)),\"\")","v":""}]
[null,null,null,null,null,null,null,null,null,null,null,{"$f":"_xlfn.IFNA(IF(J16820>500,\"ומעלה 500\",VLOOKUP(J16820,טבלה1[#All],2,0)),\"\")","v":""}]
[null,null,null,null,null,null,null,null,null,null,null,{"$f":"_xlfn.IFNA(IF(J16827>500,\"ומעלה 500\",VLOOKUP(J16827,טבלה1[#All],2,0)),\"\")","v":""}]
[null,null,null,null,null,null,null,null,null,null,null,{"$f":"_xlfn.IFNA(IF(J16833>500,\"ומעלה 500\",VLOOKUP(J16833,טבלה1[#All],2,0)),\"\")","v":""}]
[null,null,null,null,null,null,null,null,null,null,null,{"$f":"_xlfn.IFNA(IF(J16841>500,\"ומעלה 500\",VLOOKUP(J16841,טבלה1[#All],2,0)),\"\")","v":""}]
[null,null,null,null,null,null,null,null,null,null,null,{"$f":"_xlfn.IFNA(IF(J16857>500,\"ומעלה 500\",VLOOKUP(J16857,טבלה1[#All],2,0)),\"\")","v":""}]
[null,null,null,null,null,null,null,null,null,null,null,{"$f":"_xlfn.IFNA(IF(J16860>500,\"ומעלה 500\",VLOOKUP(J16860,טבלה1[#All],2,0)),\"\")","v":""}]
[null,null,null,null,null,null,null,null,null,null,null,{"$f":"_xlfn.IFNA(IF(J16872>500,\"ומעלה 500\",VLOOKUP(J16872,טבלה1[#All],2,0)),\"\")","v":""}]
[null,null,null,null,null,null,null,null,null,null,null,{"$f":"_xlfn.IFNA(IF(J16878>500,\"ומעלה 500\",VLOOKUP(J16878,טבלה1[#All],2,0)),\"\")","v":""}]
[null,null,null,null,null,null,null,null,null,null,null,{"$f":"_xlfn.IFNA(IF(J16890>500,\"ומעלה 500\",VLOOKUP(J16890,טבלה1[#All],2,0)),\"\")","v":""}]
[null,null,null,null,null,null,null,null,null,null,null,{"$f":"_xlfn.IFNA(IF(J16897>500,\"ומעלה 500\",VLOOKUP(J16897,טבלה1[#All],2,0)),\"\")","v":""}]
[null,null,null,null,null,null,null,null,null,null,null,{"$f":"_xlfn.IFNA(IF(J16903>500,\"ומעלה 500\",VLOOKUP(J16903,טבלה1[#All],2,0)),\"\")","v":""}]
[null,null,null,null,null,null,null,null,null,null,null,{"$f":"_xlfn.IFNA(IF(J16911>500,\"ומעלה 500\",VLOOKUP(J16911,טבלה1[#All],2,0)),\"\")","v":""}]
[null,null,null,null,null,null,null,null,null,null,null,{"$f":"_xlfn.IFNA(IF(J16927>500,\"ומעלה 500\",VLOOKUP(J16927,טבלה1[#All],2,0)),\"\")","v":""}]
[null,null,null,null,null,null,null,null,null,null,null,{"$f":"_xlfn.IFNA(IF(J16930>500,\"ומעלה 500\",VLOOKUP(J16930,טבלה1[#All],2,0)),\"\")","v":""}]
[null,null,null,null,null,null,null,null,null,null,null,{"$f":"_xlfn.IFNA(IF(J16942>500,\"ומעלה 500\",VLOOKUP(J16942,טבלה1[#All],2,0)),\"\")","v":""}]
[null,null,null,null,null,null,null,null,null,null,null,{"$f":"_xlfn.IFNA(IF(J16948>500,\"ומעלה 500\",VLOOKUP(J16948,טבלה1[#All],2,0)),\"\")","v":""}]
[null,null,null,null,null,null,null,null,null,null,null,{"$f":"_xlfn.IFNA(IF(J16960>500,\"ומעלה 500\",VLOOKUP(J16960,טבלה1[#All],2,0)),\"\")","v":""}]
[null,null,null,null,null,null,null,null,null,null,null,{"$f":"_xlfn.IFNA(IF(J16967>500,\"ומעלה 500\",VLOOKUP(J16967,טבלה1[#All],2,0)),\"\")","v":""}]
[null,null,null,null,null,null,null,null,null,null,null,{"$f":"_xlfn.IFNA(IF(J16973>500,\"ומעלה 500\",VLOOKUP(J16973,טבלה1[#All],2,0)),\"\")","v":""}]
[null,null,null,null,null,null,null,null,null,null,null,{"$f":"_xlfn.IFNA(IF(J16981>500,\"ומעלה 500\",VLOOKUP(J16981,טבלה1[#All],2,0)),\"\")","v":""}]
[null,null,null,null,null,null,null,null,null,null,null,{"$f":"_xlfn.IFNA(IF(J16997>500,\"ומעלה 500\",VLOOKUP(J16997,טבלה1[#All],2,0)),\"\")","v":""}]
[null,null,null,null,null,null,null,null,null,null,null,{"$f":"_xlfn.IFNA(IF(J17000>500,\"ומעלה 500\",VLOOKUP(J17000,טבלה1[#All],2,0)),\"\")","v":""}]
[null,null,null,null,null,null,null,null,null,null,null,{"$f":"_xlfn.IFNA(IF(J17012>500,\"ומעלה 500\",VLOOKUP(J17012,טבלה1[#All],2,0)),\"\")","v":""}]
[null,null,null,null,null,null,null,null,null,null,null,{"$f":"_xlfn.IFNA(IF(J17018>500,\"ומעלה 500\",VLOOKUP(J17018,טבלה1[#All],2,0)),\"\")","v":""}]
[null,null,null,null,null,null,null,null,null,null,null,{"$f":"_xlfn.IFNA(IF(J17030>500,\"ומעלה 500\",VLOOKUP(J17030,טבלה1[#All],2,0)),\"\")","v":""}]
[null,null,null,null,null,null,null,null,null,null,null,{"$f":"_xlfn.IFNA(IF(J17037>500,\"ומעלה 500\",VLOOKUP(J17037,טבלה1[#All],2,0)),\"\")","v":""}]
[null,null,null,null,null,null,null,null,null,null,null,{"$f":"_xlfn.IFNA(IF(J17043>500,\"ומעלה 500\",VLOOKUP(J17043,טבלה1[#All],2,0)),\"\")","v":""}]
[null,null,null,null,null,null,null,null,null,null,null,{"$f":"_xlfn.IFNA(IF(J17051>500,\"ומעלה 500\",VLOOKUP(J17051,טבלה1[#All],2,0)),\"\")","v":""}]
[null,null,null,null,null,null,null,null,null,null,null,{"$f":"_xlfn.IFNA(IF(J17067>500,\"ומעלה 500\",VLOOKUP(J17067,טבלה1[#All],2,0)),\"\")","v":""}]
[null,null,null,null,null,null,null,null,null,null,null,{"$f":"_xlfn.IFNA(IF(J17070>500,\"ומעלה 500\",VLOOKUP(J17070,טבלה1[#All],2,0)),\"\")","v":""}]
[null,null,null,null,null,null,null,null,null,null,null,{"$f":"_xlfn.IFNA(IF(J17082>500,\"ומעלה 500\",VLOOKUP(J17082,טבלה1[#All],2,0)),\"\")","v":""}]
[null,null,null,null,null,null,null,null,null,null,null,{"$f":"_xlfn.IFNA(IF(J17088>500,\"ומעלה 500\",VLOOKUP(J17088,טבלה1[#All],2,0)),\"\")","v":""}]
[null,null,null,null,null,null,null,null,null,null,null,{"$f":"_xlfn.IFNA(IF(J17100>500,\"ומעלה 500\",VLOOKUP(J17100,טבלה1[#All],2,0)),\"\")","v":""}]
[null,null,null,null,null,null,null,null,null,null,null,{"$f":"_xlfn.IFNA(IF(J17107>500,\"ומעלה 500\",VLOOKUP(J17107,טבלה1[#All],2,0)),\"\")","v":""}]
[null,null,null,null,null,null,null,null,null,null,null,{"$f":"_xlfn.IFNA(IF(J17113>500,\"ומעלה 500\",VLOOKUP(J17113,טבלה1[#All],2,0)),\"\")","v":""}]
[null,null,null,null,null,null,null,null,null,null,null,{"$f":"_xlfn.IFNA(IF(J17125>500,\"ומעלה 500\",VLOOKUP(J17125,טבלה1[#All],2,0)),\"\")","v":""}]
[null,null,null,null,null,null,null,null,null,null,null,{"$f":"_xlfn.IFNA(IF(J17137>500,\"ומעלה 500\",VLOOKUP(J17137,טבלה1[#All],2,0)),\"\")","v":""}]
[null,null,null,null,null,null,null,null,null,null,null,{"$f":"_xlfn.IFNA(IF(J17140>500,\"ומעלה 500\",VLOOKUP(J17140,טבלה1[#All],2,0)),\"\")","v":""}]
[null,null,null,null,null,null,null,null,null,null,null,{"$f":"_xlfn.IFNA(IF(J17152>500,\"ומעלה 500\",VLOOKUP(J17152,טבלה1[#All],2,0)),\"\")","v":""}]
[null,null,null,null,null,null,null,null,null,null,null,{"$f":"_xlfn.IFNA(IF(J17158>500,\"ומעלה 500\",VLOOKUP(J17158,טבלה1[#All],2,0)),\"\")","v":""}]
[null,null,null,null,null,null,null,null,null,null,null,{"$f":"_xlfn.IFNA(IF(J17170>500,\"ומעלה 500\",VLOOKUP(J17170,טבלה1[#All],2,0)),\"\")","v":""}]
[null,null,null,null,null,null,null,null,null,null,null,{"$f":"_xlfn.IFNA(IF(J17177>500,\"ומעלה 500\",VLOOKUP(J17177,טבלה1[#All],2,0)),\"\")","v":""}]
[null,null,null,null,null,null,null,null,null,null,null,{"$f":"_xlfn.IFNA(IF(J17183>500,\"ומעלה 500\",VLOOKUP(J17183,טבלה1[#All],2,0)),\"\")","v":""}]
[null,null,null,null,null,null,null,null,null,null,null,{"$f":"_xlfn.IFNA(IF(J17195>500,\"ומעלה 500\",VLOOKUP(J17195,טבלה1[#All],2,0)),\"\")","v":""}]
[null,null,null,null,null,null,null,null,null,null,null,{"$f":"_xlfn.IFNA(IF(J17207>500,\"ומעלה 500\",VLOOKUP(J17207,טבלה1[#All],2,0)),\"\")","v":""}]
[null,null,null,null,null,null,null,null,null,null,null,{"$f":"_xlfn.IFNA(IF(J17210>500,\"ומעלה 500\",VLOOKUP(J17210,טבלה1[#All],2,0)),\"\")","v":""}]
[null,null,null,null,null,null,null,null,null,null,null,{"$f":"_xlfn.IFNA(IF(J17222>500,\"ומעלה 500\",VLOOKUP(J17222,טבלה1[#All],2,0)),\"\")","v":""}]
[null,null,null,null,null,null,null,null,null,null,null,{"$f":"_xlfn.IFNA(IF(J17228>500,\"ומעלה 500\",VLOOKUP(J17228,טבלה1[#All],2,0)),\"\")","v":""}]
[null,null,null,null,null,null,null,null,null,null,null,{"$f":"_xlfn.IFNA(IF(J17235>500,\"ומעלה 500\",VLOOKUP(J17235,טבלה1[#All],2,0)),\"\")","v":""}]
[null,null,null,null,null,null,null,null,null,null,null,{"$f":"_xlfn.IFNA(IF(J17247>500,\"ומעלה 500\",VLOOKUP(J17247,טבלה1[#All],2,0)),\"\")","v":""}]
[null,null,null,null,null,null,null,null,null,null,null,{"$f":"_xlfn.IFNA(IF(J17253>500,\"ומעלה 500\",VLOOKUP(J17253,טבלה1[#All],2,0)),\"\")","v":""}]
[null,null,null,null,null,null,null,null,null,null,null,{"$f":"_xlfn.IFNA(IF(J17265>500,\"ומעלה 500\",VLOOKUP(J17265,טבלה1[#All],2,0)),\"\")","v":""}]
[null,null,null,null,null,null,null,null,null,null,null,{"$f":"_xlfn.IFNA(IF(J17277>500,\"ומעלה 500\",VLOOKUP(J17277,טבלה1[#All],2,0)),\"\")","v":""}]
[null,null,null,null,null,null,null,null,null,null,null,{"$f":"_xlfn.IFNA(IF(J17280>500,\"ומעלה 500\",VLOOKUP(J17280,טבלה1[#All],2,0)),\"\")","v":""}]
[null,null,null,null,null,null,null,null,null,null,null,{"$f":"_xlfn.IFNA(IF(J17292>500,\"ומעלה 500\",VLOOKUP(J17292,טבלה1[#All],2,0)),\"\")","v":""}]
[null,null,null,null,null,null,null,null,null,null,null,{"$f":"_xlfn.IFNA(IF(J17298>500,\"ומעלה 500\",VLOOKUP(J17298,טבלה1[#All],2,0)),\"\")","v":""}]
[null,null,null,null,null,null,null,null,null,null,null,{"$f":"_xlfn.IFNA(IF(J17305>500,\"ומעלה 500\",VLOOKUP(J17305,טבלה1[#All],2,0)),\"\")","v":""}]
[null,null,null,null,null,null,null,null,null,null,null,{"$f":"_xlfn.IFNA(IF(J17317>500,\"ומעלה 500\",VLOOKUP(J17317,טבלה1[#All],2,0)),\"\")","v":""}]
[null,null,null,null,null,null,null,null,null,null,null,{"$f":"_xlfn.IFNA(IF(J17323>500,\"ומעלה 500\",VLOOKUP(J17323,טבלה1[#All],2,0)),\"\")","v":""}]
[null,null,null,null,null,null,null,null,null,null,null,{"$f":"_xlfn.IFNA(IF(J17335>500,\"ומעלה 500\",VLOOKUP(J17335,טבלה1[#All],2,0)),\"\")","v":""}]
[null,null,null,null,null,null,null,null,null,null,null,{"$f":"_xlfn.IFNA(IF(J17347>500,\"ומעלה 500\",VLOOKUP(J17347,טבלה1[#All],2,0)),\"\")","v":""}]
[null,null,null,null,null,null,null,null,null,null,null,{"$f":"_xlfn.IFNA(IF(J17350>500,\"ומעלה 500\",VLOOKUP(J17350,טבלה1[#All],2,0)),\"\")","v":""}]
[null,null,null,null,null,null,null,null,null,null,null,{"$f":"_xlfn.IFNA(IF(J17362>500,\"ומעלה 500\",VLOOKUP(J17362,טבלה1[#All],2,0)),\"\")","v":""}]
[null,null,null,null,null,null,null,null,null,null,null,{"$f":"_xlfn.IFNA(IF(J17368>500,\"ומעלה 500\",VLOOKUP(J17368,טבלה1[#All],2,0)),\"\")","v":""}]
[null,null,null,null,null,null,null,null,null,null,null,{"$f":"_xlfn.IFNA(IF(J17375>500,\"ומעלה 500\",VLOOKUP(J17375,טבלה1[#All],2,0)),\"\")","v":""}]
[null,null,null,null,null,null,null,null,null,null,null,{"$f":"_xlfn.IFNA(IF(J17387>500,\"ומעלה 500\",VLOOKUP(J17387,טבלה1[#All],2,0)),\"\")","v":""}]
[null,null,null,null,null,null,null,null,null,null,null,{"$f":"_xlfn.IFNA(IF(J17393>500,\"ומעלה 500\",VLOOKUP(J17393,טבלה1[#All],2,0)),\"\")","v":""}]
[null,null,null,null,null,null,null,null,null,null,null,{"$f":"_xlfn.IFNA(IF(J17405>500,\"ומעלה 500\",VLOOKUP(J17405,טבלה1[#All],2,0)),\"\")","v":""}]
[null,null,null,null,null,null,null,null,null,null,null,{"$f":"_xlfn.IFNA(IF(J17417>500,\"ומעלה 500\",VLOOKUP(J17417,טבלה1[#All],2,0)),\"\")","v":""}]
[null,null,null,null,null,null,null,null,null,null,null,{"$f":"_xlfn.IFNA(IF(J17424>500,\"ומעלה 500\",VLOOKUP(J17424,טבלה1[#All],2,0)),\"\")","v":""}]
[null,null,null,null,null,null,null,null,null,null,null,{"$f":"_xlfn.IFNA(IF(J17432>500,\"ומעלה 500\",VLOOKUP(J17432,טבלה1[#All],2,0)),\"\")","v":""}]
[null,null,null,null,null,null,null,null,null,null,null,{"$f":"_xlfn.IFNA(IF(J17438>500,\"ומעלה 500\",VLOOKUP(J17438,טבלה1[#All],2,0)),\"\")","v":""}]
[null,null,null,null,null,null,null,null,null,null,null,{"$f":"_xlfn.IFNA(IF(J17445>500,\"ומעלה 500\",VLOOKUP(J17445,טבלה1[#All],2,0)),\"\")","v":""}]
[null,null,null,null,null,null,null,null,null,null,null,{"$f":"_xlfn.IFNA(IF(J17457>500,\"ומעלה 500\",VLOOKUP(J17457,טבלה1[#All],2,0)),\"\")","v":""}]
[null,null,null,null,null,null,null,null,null,null,null,{"$f":"_xlfn.IFNA(IF(J17463>500,\"ומעלה 500\",VLOOKUP(J17463,טבלה1[#All],2,0)),\"\")","v":""}]
[null,null,null,null,null,null,null,null,null,null,null,{"$f":"_xlfn.IFNA(IF(J17475>500,\"ומעלה 500\",VLOOKUP(J17475,טבלה1[#All],2,0)),\"\")","v":""}]
[null,null,null,null,null,null,null,null,null,null,null,{"$f":"_xlfn.IFNA(IF(J17487>500,\"ומעלה 500\",VLOOKUP(J17487,טבלה1[#All],2,0)),\"\")","v":""}]
[null,null,null,null,null,null,null,null,null,null,null,{"$f":"_xlfn.IFNA(IF(J17494>500,\"ומעלה 500\",VLOOKUP(J17494,טבלה1[#All],2,0)),\"\")","v":""}]
[null,null,null,null,null,null,null,null,null,null,null,{"$f":"_xlfn.IFNA(IF(J17502>500,\"ומעלה 500\",VLOOKUP(J17502,טבלה1[#All],2,0)),\"\")","v":""}]
[null,null,null,null,null,null,null,null,null,null,null,{"$f":"_xlfn.IFNA(IF(J17508>500,\"ומעלה 500\",VLOOKUP(J17508,טבלה1[#All],2,0)),\"\")","v":""}]
[null,null,null,null,null,null,null,null,null,null,null,{"$f":"_xlfn.IFNA(IF(J17515>500,\"ומעלה 500\",VLOOKUP(J17515,טבלה1[#All],2,0)),\"\")","v":""}]
[null,null,null,null,null,null,null,null,null,null,null,{"$f":"_xlfn.IFNA(IF(J17527>500,\"ומעלה 500\",VLOOKUP(J17527,טבלה1[#All],2,0)),\"\")","v":""}]
[null,null,null,null,null,null,null,null,null,null,null,{"$f":"_xlfn.IFNA(IF(J17533>500,\"ומעלה 500\",VLOOKUP(J17533,טבלה1[#All],2,0)),\"\")","v":""}]
[null,null,null,null,null,null,null,null,null,null,null,{"$f":"_xlfn.IFNA(IF(J17545>500,\"ומעלה 500\",VLOOKUP(J17545,טבלה1[#All],2,0)),\"\")","v":""}]
[null,null,null,null,null,null,null,null,null,null,null,{"$f":"_xlfn.IFNA(IF(J17557>500,\"ומעלה 500\",VLOOKUP(J17557,טבלה1[#All],2,0)),\"\")","v":""}]
[null,null,null,null,null,null,null,null,null,null,null,{"$f":"_xlfn.IFNA(IF(J17564>500,\"ומעלה 500\",VLOOKUP(J17564,טבלה1[#All],2,0)),\"\")","v":""}]
[null,null,null,null,null,null,null,null,null,null,null,{"$f":"_xlfn.IFNA(IF(J17572>500,\"ומעלה 500\",VLOOKUP(J17572,טבלה1[#All],2,0)),\"\")","v":""}]
[null,null,null,null,null,null,null,null,null,null,null,{"$f":"_xlfn.IFNA(IF(J17578>500,\"ומעלה 500\",VLOOKUP(J17578,טבלה1[#All],2,0)),\"\")","v":""}]
[null,null,null,null,null,null,null,null,null,null,null,{"$f":"_xlfn.IFNA(IF(J17585>500,\"ומעלה 500\",VLOOKUP(J17585,טבלה1[#All],2,0)),\"\")","v":""}]
[null,null,null,null,null,null,null,null,null,null,null,{"$f":"_xlfn.IFNA(IF(J17597>500,\"ומעלה 500\",VLOOKUP(J17597,טבלה1[#All],2,0)),\"\")","v":""}]
[null,null,null,null,null,null,null,null,null,null,null,{"$f":"_xlfn.IFNA(IF(J17603>500,\"ומעלה 500\",VLOOKUP(J17603,טבלה1[#All],2,0)),\"\")","v":""}]
[null,null,null,null,null,null,null,null,null,null,null,{"$f":"_xlfn.IFNA(IF(J17615>500,\"ומעלה 500\",VLOOKUP(J17615,טבלה1[#All],2,0)),\"\")","v":""}]
[null,null,null,null,null,null,null,null,null,null,null,{"$f":"_xlfn.IFNA(IF(J17627>500,\"ומעלה 500\",VLOOKUP(J17627,טבלה1[#All],2,0)),\"\")","v":""}]
[null,null,null,null,null,null,null,null,null,null,null,{"$f":"_xlfn.IFNA(IF(J17634>500,\"ומעלה 500\",VLOOKUP(J17634,טבלה1[#All],2,0)),\"\")","v":""}]
[null,null,null,null,null,null,null,null,null,null,null,{"$f":"_xlfn.IFNA(IF(J17642>500,\"ומעלה 500\",VLOOKUP(J17642,טבלה1[#All],2,0)),\"\")","v":""}]
[null,null,null,null,null,null,null,null,null,null,null,{"$f":"_xlfn.IFNA(IF(J17648>500,\"ומעלה 500\",VLOOKUP(J17648,טבלה1[#All],2,0)),\"\")","v":""}]
[null,null,null,null,null,null,null,null,null,null,null,{"$f":"_xlfn.IFNA(IF(J17655>500,\"ומעלה 500\",VLOOKUP(J17655,טבלה1[#All],2,0)),\"\")","v":""}]
[null,null,null,null,null,null,null,null,null,null,null,{"$f":"_xlfn.IFNA(IF(J17667>500,\"ומעלה 500\",VLOOKUP(J17667,טבלה1[#All],2,0)),\"\")","v":""}]
[null,null,null,null,null,null,null,null,null,null,null,{"$f":"_xlfn.IFNA(IF(J17673>500,\"ומעלה 500\",VLOOKUP(J17673,טבלה1[#All],2,0)),\"\")","v":""}]
[null,null,null,null,null,null,null,null,null,null,null,{"$f":"_xlfn.IFNA(IF(J17685>500,\"ומעלה 500\",VLOOKUP(J17685,טבלה1[#All],2,0)),\"\")","v":""}]
[null,null,null,null,null,null,null,null,null,null,null,{"$f":"_xlfn.IFNA(IF(J17697>500,\"ומעלה 500\",VLOOKUP(J17697,טבלה1[#All],2,0)),\"\")","v":""}]
[null,null,null,null,null,null,null,null,null,null,null,{"$f":"_xlfn.IFNA(IF(J17704>500,\"ומעלה 500\",VLOOKUP(J17704,טבלה1[#All],2,0)),\"\")","v":""}]
[null,null,null,null,null,null,null,null,null,null,null,{"$f":"_xlfn.IFNA(IF(J17712>500,\"ומעלה 500\",VLOOKUP(J17712,טבלה1[#All],2,0)),\"\")","v":""}]
[null,null,null,null,null,null,null,null,null,null,null,{"$f":"_xlfn.IFNA(IF(J17722>500,\"ומעלה 500\",VLOOKUP(J17722,טבלה1[#All],2,0)),\"\")","v":""}]
[null,null,null,null,null,null,null,null,null,null,null,{"$f":"_xlfn.IFNA(IF(J17725>500,\"ומעלה 500\",VLOOKUP(J17725,טבלה1[#All],2,0)),\"\")","v":""}]
[null,null,null,null,null,null,null,null,null,null,null,{"$f":"_xlfn.IFNA(IF(J17737>500,\"ומעלה 500\",VLOOKUP(J17737,טבלה1[#All],2,0)),\"\")","v":""}]
[null,null,null,null,null,null,null,null,null,null,null,{"$f":"_xlfn.IFNA(IF(J17743>500,\"ומעלה 500\",VLOOKUP(J17743,טבלה1[#All],2,0)),\"\")","v":""}]
[null,null,null,null,null,null,null,null,null,null,null,{"$f":"_xlfn.IFNA(IF(J17755>500,\"ומעלה 500\",VLOOKUP(J17755,טבלה1[#All],2,0)),\"\")","v":""}]
[null,null,null,null,null,null,null,null,null,null,null,{"$f":"_xlfn.IFNA(IF(J17767>500,\"ומעלה 500\",VLOOKUP(J17767,טבלה1[#All],2,0)),\"\")","v":""}]
[null,null,null,null,null,null,null,null,null,null,null,{"$f":"_xlfn.IFNA(IF(J17774>500,\"ומעלה 500\",VLOOKUP(J17774,טבלה1[#All],2,0)),\"\")","v":""}]
[null,null,null,null,null,null,null,null,null,null,null,{"$f":"_xlfn.IFNA(IF(J17782>500,\"ומעלה 500\",VLOOKUP(J17782,טבלה1[#All],2,0)),\"\")","v":""}]
[null,null,null,null,null,null,null,null,null,null,null,{"$f":"_xlfn.IFNA(IF(J17792>500,\"ומעלה 500\",VLOOKUP(J17792,טבלה1[#All],2,0)),\"\")","v":""}]
[null,null,null,null,null,null,null,null,null,null,null,{"$f":"_xlfn.IFNA(IF(J17795>500,\"ומעלה 500\",VLOOKUP(J17795,טבלה1[#All],2,0)),\"\")","v":""}]
[null,null,null,null,null,null,null,null,null,null,null,{"$f":"_xlfn.IFNA(IF(J17807>500,\"ומעלה 500\",VLOOKUP(J17807,טבלה1[#All],2,0)),\"\")","v":""}]
[null,null,null,null,null,null,null,null,null,null,null,{"$f":"_xlfn.IFNA(IF(J17813>500,\"ומעלה 500\",VLOOKUP(J17813,טבלה1[#All],2,0)),\"\")","v":""}]
[null,null,null,null,null,null,null,null,null,null,null,{"$f":"_xlfn.IFNA(IF(J17825>500,\"ומעלה 500\",VLOOKUP(J17825,טבלה1[#All],2,0)),\"\")","v":""}]
[null,null,null,null,null,null,null,null,null,null,null,{"$f":"_xlfn.IFNA(IF(J17837>500,\"ומעלה 500\",VLOOKUP(J17837,טבלה1[#All],2,0)),\"\")","v":""}]
[null,null,null,null,null,null,null,null,null,null,null,{"$f":"_xlfn.IFNA(IF(J17844>500,\"ומעלה 500\",VLOOKUP(J17844,טבלה1[#All],2,0)),\"\")","v":""}]
[null,null,null,null,null,null,null,null,null,null,null,{"$f":"_xlfn.IFNA(IF(J17852>500,\"ומעלה 500\",VLOOKUP(J17852,טבלה1[#All],2,0)),\"\")","v":""}]
[null,null,null,null,null,null,null,null,null,null,null,{"$f":"_xlfn.IFNA(IF(J17862>500,\"ומעלה 500\",VLOOKUP(J17862,טבלה1[#All],2,0)),\"\")","v":""}]
[null,null,null,null,null,null,null,null,null,null,null,{"$f":"_xlfn.IFNA(IF(J17865>500,\"ומעלה 500\",VLOOKUP(J17865,טבלה1[#All],2,0)),\"\")","v":""}]
[null,null,null,null,null,null,null,null,null,null,null,{"$f":"_xlfn.IFNA(IF(J17877>500,\"ומעלה 500\",VLOOKUP(J17877,טבלה1[#All],2,0)),\"\")","v":""}]
[null,null,null,null,null,null,null,null,null,null,null,{"$f":"_xlfn.IFNA(IF(J17883>500,\"ומעלה 500\",VLOOKUP(J17883,טבלה1[#All],2,0)),\"\")","v":""}]
[null,null,null,null,null,null,null,null,null,null,null,{"$f":"_xlfn.IFNA(IF(J17895>500,\"ומעלה 500\",VLOOKUP(J17895,טבלה1[#All],2,0)),\"\")","v":""}]
[null,null,null,null,null,null,null,null,null,null,null,{"$f":"_xlfn.IFNA(IF(J17902>500,\"ומעלה 500\",VLOOKUP(J17902,טבלה1[#All],2,0)),\"\")","v":""}]
[null,null,null,null,null,null,null,null,null,null,null,{"$f":"_xlfn.IFNA(IF(J17914>500,\"ומעלה 500\",VLOOKUP(J17914,טבלה1[#All],2,0)),\"\")","v":""}]
[null,null,null,null,null,null,null,null,null,null,null,{"$f":"_xlfn.IFNA(IF(J17922>500,\"ומעלה 500\",VLOOKUP(J17922,טבלה1[#All],2,0)),\"\")","v":""}]
[null,null,null,null,null,null,null,null,null,null,null,{"$f":"_xlfn.IFNA(IF(J17932>500,\"ומעלה 500\",VLOOKUP(J17932,טבלה1[#All],2,0)),\"\")","v":""}]
[null,null,null,null,null,null,null,null,null,null,null,{"$f":"_xlfn.IFNA(IF(J17935>500,\"ומעלה 500\",VLOOKUP(J17935,טבלה1[#All],2,0)),\"\")","v":""}]
[null,null,null,null,null,null,null,null,null,null,null,{"$f":"_xlfn.IFNA(IF(J17947>500,\"ומעלה 500\",VLOOKUP(J17947,טבלה1[#All],2,0)),\"\")","v":""}]
[null,null,null,null,null,null,null,null,null,null,null,{"$f":"_xlfn.IFNA(IF(J17953>500,\"ומעלה 500\",VLOOKUP(J17953,טבלה1[#All],2,0)),\"\")","v":""}]
[null,null,null,null,null,null,null,null,null,null,null,{"$f":"_xlfn.IFNA(IF(J17965>500,\"ומעלה 500\",VLOOKUP(J17965,טבלה1[#All],2,0)),\"\")","v":""}]
[null,null,null,null,null,null,null,null,null,null,null,{"$f":"_xlfn.IFNA(IF(J17972>500,\"ומעלה 500\",VLOOKUP(J17972,טבלה1[#All],2,0)),\"\")","v":""}]
[null,null,null,null,null,null,null,null,null,null,null,{"$f":"_xlfn.IFNA(IF(J17984>500,\"ומעלה 500\",VLOOKUP(J17984,טבלה1[#All],2,0)),\"\")","v":""}]
[null,null,null,null,null,null,null,null,null,null,null,{"$f":"_xlfn.IFNA(IF(J17992>500,\"ומעלה 500\",VLOOKUP(J17992,טבלה1[#All],2,0)),\"\")","v":""}]
[null,null,null,null,null,null,null,null,null,null,null,{"$f":"_xlfn.IFNA(IF(J18002>500,\"ומעלה 500\",VLOOKUP(J18002,טבלה1[#All],2,0)),\"\")","v":""}]
[null,null,null,null,null,null,null,null,null,null,null,{"$f":"_xlfn.IFNA(IF(J18005>500,\"ומעלה 500\",VLOOKUP(J18005,טבלה1[#All],2,0)),\"\")","v":""}]
[null,null,null,null,null,null,null,null,null,null,null,{"$f":"_xlfn.IFNA(IF(J18017>500,\"ומעלה 500\",VLOOKUP(J18017,טבלה1[#All],2,0)),\"\")","v":""}]
[null,null,null,null,null,null,null,null,null,null,null,{"$f":"_xlfn.IFNA(IF(J18023>500,\"ומעלה 500\",VLOOKUP(J18023,טבלה1[#All],2,0)),\"\")","v":""}]
[null,null,null,null,null,null,null,null,null,null,null,{"$f":"_xlfn.IFNA(IF(J18035>500,\"ומעלה 500\",VLOOKUP(J18035,טבלה1[#All],2,0)),\"\")","v":""}]
[null,null,null,null,null,null,null,null,null,null,null,{"$f":"_xlfn.IFNA(IF(J18042>500,\"ומעלה 500\",VLOOKUP(J18042,טבלה1[#All],2,0)),\"\")","v":""}]
[null,null,null,null,null,null,null,null,null,null,null,{"$f":"_xlfn.IFNA(IF(J18054>500,\"ומעלה 500\",VLOOKUP(J18054,טבלה1[#All],2,0)),\"\")","v":""}]
[null,null,null,null,null,null,null,null,null,null,null,{"$f":"_xlfn.IFNA(IF(J18062>500,\"ומעלה 500\",VLOOKUP(J18062,טבלה1[#All],2,0)),\"\")","v":""}]
[null,null,null,null,null,null,null,null,null,null,null,{"$f":"_xlfn.IFNA(IF(J18072>500,\"ומעלה 500\",VLOOKUP(J18072,טבלה1[#All],2,0)),\"\")","v":""}]
[null,null,null,null,null,null,null,null,null,null,null,{"$f":"_xlfn.IFNA(IF(J18075>500,\"ומעלה 500\",VLOOKUP(J18075,טבלה1[#All],2,0)),\"\")","v":""}]
[null,null,null,null,null,null,null,null,null,null,null,{"$f":"_xlfn.IFNA(IF(J18091>500,\"ומעלה 500\",VLOOKUP(J18091,טבלה1[#All],2,0)),\"\")","v":""}]
[null,null,null,null,null,null,null,null,null,null,null,{"$f":"_xlfn.IFNA(IF(J18093>500,\"ומעלה 500\",VLOOKUP(J18093,טבלה1[#All],2,0)),\"\")","v":""}]
[null,null,null,null,null,null,null,null,null,null,null,{"$f":"_xlfn.IFNA(IF(J18105>500,\"ומעלה 500\",VLOOKUP(J18105,טבלה1[#All],2,0)),\"\")","v":""}]
[null,null,null,null,null,null,null,null,null,null,null,{"$f":"_xlfn.IFNA(IF(J18112>500,\"ומעלה 500\",VLOOKUP(J18112,טבלה1[#All],2,0)),\"\")","v":""}]
[null,null,null,null,null,null,null,null,null,null,null,{"$f":"_xlfn.IFNA(IF(J18124>500,\"ומעלה 500\",VLOOKUP(J18124,טבלה1[#All],2,0)),\"\")","v":""}]
[null,null,null,null,null,null,null,null,null,null,null,{"$f":"_xlfn.IFNA(IF(J18132>500,\"ומעלה 500\",VLOOKUP(J18132,טבלה1[#All],2,0)),\"\")","v":""}]
[null,null,null,null,null,null,null,null,null,null,null,{"$f":"_xlfn.IFNA(IF(J18142>500,\"ומעלה 500\",VLOOKUP(J18142,טבלה1[#All],2,0)),\"\")","v":""}]
[null,null,null,null,null,null,null,null,null,null,null,{"$f":"_xlfn.IFNA(IF(J18145>500,\"ומעלה 500\",VLOOKUP(J18145,טבלה1[#All],2,0)),\"\")","v":""}]
[null,null,null,null,null,null,null,null,null,null,null,{"$f":"_xlfn.IFNA(IF(J18161>500,\"ומעלה 500\",VLOOKUP(J18161,טבלה1[#All],2,0)),\"\")","v":""}]
[null,null,null,null,null,null,null,null,null,null,null,{"$f":"_xlfn.IFNA(IF(J18163>500,\"ומעלה 500\",VLOOKUP(J18163,טבלה1[#All],2,0)),\"\")","v":""}]
[null,null,null,null,null,null,null,null,null,null,null,{"$f":"_xlfn.IFNA(IF(J18175>500,\"ומעלה 500\",VLOOKUP(J18175,טבלה1[#All],2,0)),\"\")","v":""}]
[null,null,null,null,null,null,null,null,null,null,null,{"$f":"_xlfn.IFNA(IF(J18182>500,\"ומעלה 500\",VLOOKUP(J18182,טבלה1[#All],2,0)),\"\")","v":""}]
[null,null,null,null,null,null,null,null,null,null,null,{"$f":"_xlfn.IFNA(IF(J18194>500,\"ומעלה 500\",VLOOKUP(J18194,טבלה1[#All],2,0)),\"\")","v":""}]
[null,null,null,null,null,null,null,null,null,null,null,{"$f":"_xlfn.IFNA(IF(J18202>500,\"ומעלה 500\",VLOOKUP(J18202,טבלה1[#All],2,0)),\"\")","v":""}]
[null,null,null,null,null,null,null,null,null,null,null,{"$f":"_xlfn.IFNA(IF(J18212>500,\"ומעלה 500\",VLOOKUP(J18212,טבלה1[#All],2,0)),\"\")","v":""}]
[null,null,null,null,null,null,null,null,null,null,null,{"$f":"_xlfn.IFNA(IF(J18215>500,\"ומעלה 500\",VLOOKUP(J18215,טבלה1[#All],2,0)),\"\")","v":""}]
[null,null,null,null,null,null,null,null,null,null,null,{"$f":"_xlfn.IFNA(IF(J18231>500,\"ומעלה 500\",VLOOKUP(J18231,טבלה1[#All],2,0)),\"\")","v":""}]
[null,null,null,null,null,null,null,null,null,null,null,{"$f":"_xlfn.IFNA(IF(J18233>500,\"ומעלה 500\",VLOOKUP(J18233,טבלה1[#All],2,0)),\"\")","v":""}]
[null,null,null,null,null,null,null,null,null,null,null,{"$f":"_xlfn.IFNA(IF(J18245>500,\"ומעלה 500\",VLOOKUP(J18245,טבלה1[#All],2,0)),\"\")","v":""}]
[null,null,null,null,null,null,null,null,null,null,null,{"$f":"_xlfn.IFNA(IF(J18252>500,\"ומעלה 500\",VLOOKUP(J18252,טבלה1[#All],2,0)),\"\")","v":""}]
[null,null,null,null,null,null,null,null,null,null,null,{"$f":"_xlfn.IFNA(IF(J18264>500,\"ומעלה 500\",VLOOKUP(J18264,טבלה1[#All],2,0)),\"\")","v":""}]
[null,null,null,null,null,null,null,null,null,null,null,{"$f":"_xlfn.IFNA(IF(J18272>500,\"ומעלה 500\",VLOOKUP(J18272,טבלה1[#All],2,0)),\"\")","v":""}]
[null,null,null,null,null,null,null,null,null,null,null,{"$f":"_xlfn.IFNA(IF(J18282>500,\"ומעלה 500\",VLOOKUP(J18282,טבלה1[#All],2,0)),\"\")","v":""}]
[null,null,null,null,null,null,null,null,null,null,null,{"$f":"_xlfn.IFNA(IF(J18285>500,\"ומעלה 500\",VLOOKUP(J18285,טבלה1[#All],2,0)),\"\")","v":""}]
[null,null,null,null,null,null,null,null,null,null,null,{"$f":"_xlfn.IFNA(IF(J18301>500,\"ומעלה 500\",VLOOKUP(J18301,טבלה1[#All],2,0)),\"\")","v":""}]
[null,null,null,null,null,null,null,null,null,null,null,{"$f":"_xlfn.IFNA(IF(J18303>500,\"ומעלה 500\",VLOOKUP(J18303,טבלה1[#All],2,0)),\"\")","v":""}]
[null,null,null,null,null,null,null,null,null,null,null,{"$f":"_xlfn.IFNA(IF(J18315>500,\"ומעלה 500\",VLOOKUP(J18315,טבלה1[#All],2,0)),\"\")","v":""}]
[null,null,null,null,null,null,null,null,null,null,null,{"$f":"_xlfn.IFNA(IF(J18322>500,\"ומעלה 500\",VLOOKUP(J18322,טבלה1[#All],2,0)),\"\")","v":""}]
[null,null,null,null,null,null,null,null,null,null,null,{"$f":"_xlfn.IFNA(IF(J18334>500,\"ומעלה 500\",VLOOKUP(J18334,טבלה1[#All],2,0)),\"\")","v":""}]
[null,null,null,null,null,null,null,null,null,null,null,{"$f":"_xlfn.IFNA(IF(J18342>500,\"ומעלה 500\",VLOOKUP(J18342,טבלה1[#All],2,0)),\"\")","v":""}]
[null,null,null,null,null,null,null,null,null,null,null,{"$f":"_xlfn.IFNA(IF(J18352>500,\"ומעלה 500\",VLOOKUP(J18352,טבלה1[#All],2,0)),\"\")","v":""}]
[null,null,null,null,null,null,null,null,null,null,null,{"$f":"_xlfn.IFNA(IF(J18355>500,\"ומעלה 500\",VLOOKUP(J18355,טבלה1[#All],2,0)),\"\")","v":""}]
[null,null,null,null,null,null,null,null,null,null,null,{"$f":"_xlfn.IFNA(IF(J18371>500,\"ומעלה 500\",VLOOKUP(J18371,טבלה1[#All],2,0)),\"\")","v":""}]
[null,null,null,null,null,null,null,null,null,null,null,{"$f":"_xlfn.IFNA(IF(J18373>500,\"ומעלה 500\",VLOOKUP(J18373,טבלה1[#All],2,0)),\"\")","v":""}]
[null,null,null,null,null,null,null,null,null,null,null,{"$f":"_xlfn.IFNA(IF(J18389>500,\"ומעלה 500\",VLOOKUP(J18389,טבלה1[#All],2,0)),\"\")","v":""}]
[null,null,null,null,null,null,null,null,null,null,null,{"$f":"_xlfn.IFNA(IF(J18392>500,\"ומעלה 500\",VLOOKUP(J18392,טבלה1[#All],2,0)),\"\")","v":""}]
[null,null,null,null,null,null,null,null,null,null,null,{"$f":"_xlfn.IFNA(IF(J18404>500,\"ומעלה 500\",VLOOKUP(J18404,טבלה1[#All],2,0)),\"\")","v":""}]
[null,null,null,null,null,null,null,null,null,null,null,{"$f":"_xlfn.IFNA(IF(J18412>500,\"ומעלה 500\",VLOOKUP(J18412,טבלה1[#All],2,0)),\"\")","v":""}]
[null,null,null,null,null,null,null,null,null,null,null,{"$f":"_xlfn.IFNA(IF(J18422>500,\"ומעלה 500\",VLOOKUP(J18422,טבלה1[#All],2,0)),\"\")","v":""}]
[null,null,null,null,null,null,null,null,null,null,null,{"$f":"_xlfn.IFNA(IF(J18425>500,\"ומעלה 500\",VLOOKUP(J18425,טבלה1[#All],2,0)),\"\")","v":""}]
[null,null,null,null,null,null,null,null,null,null,null,{"$f":"_xlfn.IFNA(IF(J18441>500,\"ומעלה 500\",VLOOKUP(J18441,טבלה1[#All],2,0)),\"\")","v":""}]
[null,null,null,null,null,null,null,null,null,null,null,{"$f":"_xlfn.IFNA(IF(J18443>500,\"ומעלה 500\",VLOOKUP(J18443,טבלה1[#All],2,0)),\"\")","v":""}]
[null,null,null,null,null,null,null,null,null,null,null,{"$f":"_xlfn.IFNA(IF(J18459>500,\"ומעלה 500\",VLOOKUP(J18459,טבלה1[#All],2,0)),\"\")","v":""}]
[null,null,null,null,null,null,null,null,null,null,null,{"$f":"_xlfn.IFNA(IF(J18462>500,\"ומעלה 500\",VLOOKUP(J18462,טבלה1[#All],2,0)),\"\")","v":""}]
[null,null,null,null,null,null,null,null,null,null,null,{"$f":"_xlfn.IFNA(IF(J18474>500,\"ומעלה 500\",VLOOKUP(J18474,טבלה1[#All],2,0)),\"\")","v":""}]
[null,null,null,null,null,null,null,null,null,null,null,{"$f":"_xlfn.IFNA(IF(J18482>500,\"ומעלה 500\",VLOOKUP(J18482,טבלה1[#All],2,0)),\"\")","v":""}]
[null,null,null,null,null,null,null,null,null,null,null,{"$f":"_xlfn.IFNA(IF(J18492>500,\"ומעלה 500\",VLOOKUP(J18492,טבלה1[#All],2,0)),\"\")","v":""}]
[null,null,null,null,null,null,null,null,null,null,null,{"$f":"_xlfn.IFNA(IF(J18499>500,\"ומעלה 500\",VLOOKUP(J18499,טבלה1[#All],2,0)),\"\")","v":""}]
[null,null,null,null,null,null,null,null,null,null,null,{"$f":"_xlfn.IFNA(IF(J18511>500,\"ומעלה 500\",VLOOKUP(J18511,טבלה1[#All],2,0)),\"\")","v":""}]
[null,null,null,null,null,null,null,null,null,null,null,{"$f":"_xlfn.IFNA(IF(J18513>500,\"ומעלה 500\",VLOOKUP(J18513,טבלה1[#All],2,0)),\"\")","v":""}]
[null,null,null,null,null,null,null,null,null,null,null,{"$f":"_xlfn.IFNA(IF(J18529>500,\"ומעלה 500\",VLOOKUP(J18529,טבלה1[#All],2,0)),\"\")","v":""}]
[null,null,null,null,null,null,null,null,null,null,null,{"$f":"_xlfn.IFNA(IF(J18532>500,\"ומעלה 500\",VLOOKUP(J18532,טבלה1[#All],2,0)),\"\")","v":""}]
[null,null,null,null,null,null,null,null,null,null,null,{"$f":"_xlfn.IFNA(IF(J18544>500,\"ומעלה 500\",VLOOKUP(J18544,טבלה1[#All],2,0)),\"\")","v":""}]
[null,null,null,null,null,null,null,null,null,null,null,{"$f":"_xlfn.IFNA(IF(J18552>500,\"ומעלה 500\",VLOOKUP(J18552,טבלה1[#All],2,0)),\"\")","v":""}]
[null,null,null,null,null,null,null,null,null,null,null,{"$f":"_xlfn.IFNA(IF(J18562>500,\"ומעלה 500\",VLOOKUP(J18562,טבלה1[#All],2,0)),\"\")","v":""}]
[null,null,null,null,null,null,null,null,null,null,null,{"$f":"_xlfn.IFNA(IF(J18569>500,\"ומעלה 500\",VLOOKUP(J18569,טבלה1[#All],2,0)),\"\")","v":""}]
[null,null,null,null,null,null,null,null,null,null,null,{"$f":"_xlfn.IFNA(IF(J18581>500,\"ומעלה 500\",VLOOKUP(J18581,טבלה1[#All],2,0)),\"\")","v":""}]
[null,null,null,null,null,null,null,null,null,null,null,{"$f":"_xlfn.IFNA(IF(J18583>500,\"ומעלה 500\",VLOOKUP(J18583,טבלה1[#All],2,0)),\"\")","v":""}]
[null,null,null,null,null,null,null,null,null,null,null,{"$f":"_xlfn.IFNA(IF(J18599>500,\"ומעלה 500\",VLOOKUP(J18599,טבלה1[#All],2,0)),\"\")","v":""}]
[null,null,null,null,null,null,null,null,null,null,null,{"$f":"_xlfn.IFNA(IF(J18602>500,\"ומעלה 500\",VLOOKUP(J18602,טבלה1[#All],2,0)),\"\")","v":""}]
[null,null,null,null,null,null,null,null,null,null,null,{"$f":"_xlfn.IFNA(IF(J18614>500,\"ומעלה 500\",VLOOKUP(J18614,טבלה1[#All],2,0)),\"\")","v":""}]
[null,null,null,null,null,null,null,null,null,null,null,{"$f":"_xlfn.IFNA(IF(J18622>500,\"ומעלה 500\",VLOOKUP(J18622,טבלה1[#All],2,0)),\"\")","v":""}]
[null,null,null,null,null,null,null,null,null,null,null,{"$f":"_xlfn.IFNA(IF(J18632>500,\"ומעלה 500\",VLOOKUP(J18632,טבלה1[#All],2,0)),\"\")","v":""}]
[null,null,null,null,null,null,null,null,null,null,null,{"$f":"_xlfn.IFNA(IF(J18639>500,\"ומעלה 500\",VLOOKUP(J18639,טבלה1[#All],2,0)),\"\")","v":""}]
[null,null,null,null,null,null,null,null,null,null,null,{"$f":"_xlfn.IFNA(IF(J18651>500,\"ומעלה 500\",VLOOKUP(J18651,טבלה1[#All],2,0)),\"\")","v":""}]
[null,null,null,null,null,null,null,null,null,null,null,{"$f":"_xlfn.IFNA(IF(J18653>500,\"ומעלה 500\",VLOOKUP(J18653,טבלה1[#All],2,0)),\"\")","v":""}]
[null,null,null,null,null,null,null,null,null,null,null,{"$f":"_xlfn.IFNA(IF(J18669>500,\"ומעלה 500\",VLOOKUP(J18669,טבלה1[#All],2,0)),\"\")","v":""}]
[null,null,null,null,null,null,null,null,null,null,null,{"$f":"_xlfn.IFNA(IF(J18672>500,\"ומעלה 500\",VLOOKUP(J18672,טבלה1[#All],2,0)),\"\")","v":""}]
[null,null,null,null,null,null,null,null,null,null,null,{"$f":"_xlfn.IFNA(IF(J18679>500,\"ומעלה 500\",VLOOKUP(J18679,טבלה1[#All],2,0)),\"\")","v":""}]
[null,null,null,null,null,null,null,null,null,null,null,{"$f":"_xlfn.IFNA(IF(J18692>500,\"ומעלה 500\",VLOOKUP(J18692,טבלה1[#All],2,0)),\"\")","v":""}]
[null,null,null,null,null,null,null,null,null,null,null,{"$f":"_xlfn.IFNA(IF(J18702>500,\"ומעלה 500\",VLOOKUP(J18702,טבלה1[#All],2,0)),\"\")","v":""}]
[null,null,null,null,null,null,null,null,null,null,null,{"$f":"_xlfn.IFNA(IF(J18709>500,\"ומעלה 500\",VLOOKUP(J18709,טבלה1[#All],2,0)),\"\")","v":""}]
[null,null,null,null,null,null,null,null,null,null,null,{"$f":"_xlfn.IFNA(IF(J18721>500,\"ומעלה 500\",VLOOKUP(J18721,טבלה1[#All],2,0)),\"\")","v":""}]
[null,null,null,null,null,null,null,null,null,null,null,{"$f":"_xlfn.IFNA(IF(J18723>500,\"ומעלה 500\",VLOOKUP(J18723,טבלה1[#All],2,0)),\"\")","v":""}]
[null,null,null,null,null,null,null,null,null,null,null,{"$f":"_xlfn.IFNA(IF(J18739>500,\"ומעלה 500\",VLOOKUP(J18739,טבלה1[#All],2,0)),\"\")","v":""}]
[null,null,null,null,null,null,null,null,null,null,null,{"$f":"_xlfn.IFNA(IF(J18742>500,\"ומעלה 500\",VLOOKUP(J18742,טבלה1[#All],2,0)),\"\")","v":""}]
[null,null,null,null,null,null,null,null,null,null,null,{"$f":"_xlfn.IFNA(IF(J18749>500,\"ומעלה 500\",VLOOKUP(J18749,טבלה1[#All],2,0)),\"\")","v":""}]
[null,null,null,null,null,null,null,null,null,null,null,{"$f":"_xlfn.IFNA(IF(J18762>500,\"ומעלה 500\",VLOOKUP(J18762,טבלה1[#All],2,0)),\"\")","v":""}]
[null,null,null,null,null,null,null,null,null,null,null,{"$f":"_xlfn.IFNA(IF(J18772>500,\"ומעלה 500\",VLOOKUP(J18772,טבלה1[#All],2,0)),\"\")","v":""}]
[null,null,null,null,null,null,null,null,null,null,null,{"$f":"_xlfn.IFNA(IF(J18779>500,\"ומעלה 500\",VLOOKUP(J18779,טבלה1[#All],2,0)),\"\")","v":""}]
[null,null,null,null,null,null,null,null,null,null,null,{"$f":"_xlfn.IFNA(IF(J18791>500,\"ומעלה 500\",VLOOKUP(J18791,טבלה1[#All],2,0)),\"\")","v":""}]
[null,null,null,null,null,null,null,null,null,null,null,{"$f":"_xlfn.IFNA(IF(J18793>500,\"ומעלה 500\",VLOOKUP(J18793,טבלה1[#All],2,0)),\"\")","v":""}]
[null,null,null,null,null,null,null,null,null,null,null,{"$f":"_xlfn.IFNA(IF(J18809>500,\"ומעלה 500\",VLOOKUP(J18809,טבלה1[#All],2,0)),\"\")","v":""}]
[null,null,null,null,null,null,null,null,null,null,null,{"$f":"_xlfn.IFNA(IF(J18812>500,\"ומעלה 500\",VLOOKUP(J18812,טבלה1[#All],2,0)),\"\")","v":""}]
[null,null,null,null,null,null,null,null,null,null,null,{"$f":"_xlfn.IFNA(IF(J18819>500,\"ומעלה 500\",VLOOKUP(J18819,טבלה1[#All],2,0)),\"\")","v":""}]
[null,null,null,null,null,null,null,null,null,null,null,{"$f":"_xlfn.IFNA(IF(J18832>500,\"ומעלה 500\",VLOOKUP(J18832,טבלה1[#All],2,0)),\"\")","v":""}]
[null,null,null,null,null,null,null,null,null,null,null,{"$f":"_xlfn.IFNA(IF(J18842>500,\"ומעלה 500\",VLOOKUP(J18842,טבלה1[#All],2,0)),\"\")","v":""}]
[null,null,null,null,null,null,null,null,null,null,null,{"$f":"_xlfn.IFNA(IF(J18849>500,\"ומעלה 500\",VLOOKUP(J18849,טבלה1[#All],2,0)),\"\")","v":""}]
[null,null,null,null,null,null,null,null,null,null,null,{"$f":"_xlfn.IFNA(IF(J18861>500,\"ומעלה 500\",VLOOKUP(J18861,טבלה1[#All],2,0)),\"\")","v":""}]
[null,null,null,null,null,null,null,null,null,null,null,{"$f":"_xlfn.IFNA(IF(J18863>500,\"ומעלה 500\",VLOOKUP(J18863,טבלה1[#All],2,0)),\"\")","v":""}]
[null,null,null,null,null,null,null,null,null,null,null,{"$f":"_xlfn.IFNA(IF(J18879>500,\"ומעלה 500\",VLOOKUP(J18879,טבלה1[#All],2,0)),\"\")","v":""}]
[null,null,null,null,null,null,null,null,null,null,null,{"$f":"_xlfn.IFNA(IF(J18882>500,\"ומעלה 500\",VLOOKUP(J18882,טבלה1[#All],2,0)),\"\")","v":""}]
[null,null,null,null,null,null,null,null,null,null,null,{"$f":"_xlfn.IFNA(IF(J18889>500,\"ומעלה 500\",VLOOKUP(J18889,טבלה1[#All],2,0)),\"\")","v":""}]
[null,null,null,null,null,null,null,null,null,null,null,{"$f":"_xlfn.IFNA(IF(J18902>500,\"ומעלה 500\",VLOOKUP(J18902,טבלה1[#All],2,0)),\"\")","v":""}]
[null,null,null,null,null,null,null,null,null,null,null,{"$f":"_xlfn.IFNA(IF(J18912>500,\"ומעלה 500\",VLOOKUP(J18912,טבלה1[#All],2,0)),\"\")","v":""}]
[null,null,null,null,null,null,null,null,null,null,null,{"$f":"_xlfn.IFNA(IF(J18919>500,\"ומעלה 500\",VLOOKUP(J18919,טבלה1[#All],2,0)),\"\")","v":""}]
[null,null,null,null,null,null,null,null,null,null,null,{"$f":"_xlfn.IFNA(IF(J18931>500,\"ומעלה 500\",VLOOKUP(J18931,טבלה1[#All],2,0)),\"\")","v":""}]
[null,null,null,null,null,null,null,null,null,null,null,{"$f":"_xlfn.IFNA(IF(J18933>500,\"ומעלה 500\",VLOOKUP(J18933,טבלה1[#All],2,0)),\"\")","v":""}]
[null,null,null,null,null,null,null,null,null,null,null,{"$f":"_xlfn.IFNA(IF(J18949>500,\"ומעלה 500\",VLOOKUP(J18949,טבלה1[#All],2,0)),\"\")","v":""}]
[null,null,null,null,null,null,null,null,null,null,null,{"$f":"_xlfn.IFNA(IF(J18952>500,\"ומעלה 500\",VLOOKUP(J18952,טבלה1[#All],2,0)),\"\")","v":""}]
[null,null,null,null,null,null,null,null,null,null,null,{"$f":"_xlfn.IFNA(IF(J18959>500,\"ומעלה 500\",VLOOKUP(J18959,טבלה1[#All],2,0)),\"\")","v":""}]
[null,null,null,null,null,null,null,null,null,null,null,{"$f":"_xlfn.IFNA(IF(J18972>500,\"ומעלה 500\",VLOOKUP(J18972,טבלה1[#All],2,0)),\"\")","v":""}]
[null,null,null,null,null,null,null,null,null,null,null,{"$f":"_xlfn.IFNA(IF(J18977>500,\"ומעלה 500\",VLOOKUP(J18977,טבלה1[#All],2,0)),\"\")","v":""}]
[null,null,null,null,null,null,null,null,null,null,null,{"$f":"_xlfn.IFNA(IF(J18989>500,\"ומעלה 500\",VLOOKUP(J18989,טבלה1[#All],2,0)),\"\")","v":""}]
[null,null,null,null,null,null,null,null,null,null,null,{"$f":"_xlfn.IFNA(IF(J19001>500,\"ומעלה 500\",VLOOKUP(J19001,טבלה1[#All],2,0)),\"\")","v":""}]
[null,null,null,null,null,null,null,null,null,null,null,{"$f":"_xlfn.IFNA(IF(J19003>500,\"ומעלה 500\",VLOOKUP(J19003,טבלה1[#All],2,0)),\"\")","v":""}]
[null,null,null,null,null,null,null,null,null,null,null,{"$f":"_xlfn.IFNA(IF(J19019>500,\"ומעלה 500\",VLOOKUP(J19019,טבלה1[#All],2,0)),\"\")","v":""}]
[null,null,null,null,null,null,null,null,null,null,null,{"$f":"_xlfn.IFNA(IF(J19022>500,\"ומעלה 500\",VLOOKUP(J19022,טבלה1[#All],2,0)),\"\")","v":""}]
[null,null,null,null,null,null,null,null,null,null,null,{"$f":"_xlfn.IFNA(IF(J19029>500,\"ומעלה 500\",VLOOKUP(J19029,טבלה1[#All],2,0)),\"\")","v":""}]
[null,null,null,null,null,null,null,null,null,null,null,{"$f":"_xlfn.IFNA(IF(J19042>500,\"ומעלה 500\",VLOOKUP(J19042,טבלה1[#All],2,0)),\"\")","v":""}]
[null,null,null,null,null,null,null,null,null,null,null,{"$f":"_xlfn.IFNA(IF(J19047>500,\"ומעלה 500\",VLOOKUP(J19047,טבלה1[#All],2,0)),\"\")","v":""}]
[null,null,null,null,null,null,null,null,null,null,null,{"$f":"_xlfn.IFNA(IF(J19059>500,\"ומעלה 500\",VLOOKUP(J19059,טבלה1[#All],2,0)),\"\")","v":""}]
[null,null,null,null,null,null,null,null,null,null,null,{"$f":"_xlfn.IFNA(IF(J19071>500,\"ומעלה 500\",VLOOKUP(J19071,טבלה1[#All],2,0)),\"\")","v":""}]
[null,null,null,null,null,null,null,null,null,null,null,{"$f":"_xlfn.IFNA(IF(J19073>500,\"ומעלה 500\",VLOOKUP(J19073,טבלה1[#All],2,0)),\"\")","v":""}]
[null,null,null,null,null,null,null,null,null,null,null,{"$f":"_xlfn.IFNA(IF(J19089>500,\"ומעלה 500\",VLOOKUP(J19089,טבלה1[#All],2,0)),\"\")","v":""}]
[null,null,null,null,null,null,null,null,null,null,null,{"$f":"_xlfn.IFNA(IF(J19092>500,\"ומעלה 500\",VLOOKUP(J19092,טבלה1[#All],2,0)),\"\")","v":""}]
[null,null,null,null,null,null,null,null,null,null,null,{"$f":"_xlfn.IFNA(IF(J19099>500,\"ומעלה 500\",VLOOKUP(J19099,טבלה1[#All],2,0)),\"\")","v":""}]
[null,null,null,null,null,null,null,null,null,null,null,{"$f":"_xlfn.IFNA(IF(J19112>500,\"ומעלה 500\",VLOOKUP(J19112,טבלה1[#All],2,0)),\"\")","v":""}]
[null,null,null,null,null,null,null,null,null,null,null,{"$f":"_xlfn.IFNA(IF(J19117>500,\"ומעלה 500\",VLOOKUP(J19117,טבלה1[#All],2,0)),\"\")","v":""}]
[null,null,null,null,null,null,null,null,null,null,null,{"$f":"_xlfn.IFNA(IF(J19129>500,\"ומעלה 500\",VLOOKUP(J19129,טבלה1[#All],2,0)),\"\")","v":""}]
[null,null,null,null,null,null,null,null,null,null,null,{"$f":"_xlfn.IFNA(IF(J19141>500,\"ומעלה 500\",VLOOKUP(J19141,טבלה1[#All],2,0)),\"\")","v":""}]
[null,null,null,null,null,null,null,null,null,null,null,{"$f":"_xlfn.IFNA(IF(J19143>500,\"ומעלה 500\",VLOOKUP(J19143,טבלה1[#All],2,0)),\"\")","v":""}]
[null,null,null,null,null,null,null,null,null,null,null,{"$f":"_xlfn.IFNA(IF(J19159>500,\"ומעלה 500\",VLOOKUP(J19159,טבלה1[#All],2,0)),\"\")","v":""}]
[null,null,null,null,null,null,null,null,null,null,null,{"$f":"_xlfn.IFNA(IF(J19166>500,\"ומעלה 500\",VLOOKUP(J19166,טבלה1[#All],2,0)),\"\")","v":""}]
[null,null,null,null,null,null,null,null,null,null,null,{"$f":"_xlfn.IFNA(IF(J19169>500,\"ומעלה 500\",VLOOKUP(J19169,טבלה1[#All],2,0)),\"\")","v":""}]
[null,null,null,null,null,null,null,null,null,null,null,{"$f":"_xlfn.IFNA(IF(J19182>500,\"ומעלה 500\",VLOOKUP(J19182,טבלה1[#All],2,0)),\"\")","v":""}]
[null,null,null,null,null,null,null,null,null,null,null,{"$f":"_xlfn.IFNA(IF(J19187>500,\"ומעלה 500\",VLOOKUP(J19187,טבלה1[#All],2,0)),\"\")","v":""}]
[null,null,null,null,null,null,null,null,null,null,null,{"$f":"_xlfn.IFNA(IF(J19199>500,\"ומעלה 500\",VLOOKUP(J19199,טבלה1[#All],2,0)),\"\")","v":""}]
[null,null,null,null,null,null,null,null,null,null,null,{"$f":"_xlfn.IFNA(IF(J19211>500,\"ומעלה 500\",VLOOKUP(J19211,טבלה1[#All],2,0)),\"\")","v":""}]
[null,null,null,null,null,null,null,null,null,null,null,{"$f":"_xlfn.IFNA(IF(J19213>500,\"ומעלה 500\",VLOOKUP(J19213,טבלה1[#All],2,0)),\"\")","v":""}]
[null,null,null,null,null,null,null,null,null,null,null,{"$f":"_xlfn.IFNA(IF(J19229>500,\"ומעלה 500\",VLOOKUP(J19229,טבלה1[#All],2,0)),\"\")","v":""}]
[null,null,null,null,null,null,null,null,null,null,null,{"$f":"_xlfn.IFNA(IF(J19236>500,\"ומעלה 500\",VLOOKUP(J19236,טבלה1[#All],2,0)),\"\")","v":""}]
[null,null,null,null,null,null,null,null,null,null,null,{"$f":"_xlfn.IFNA(IF(J19239>500,\"ומעלה 500\",VLOOKUP(J19239,טבלה1[#All],2,0)),\"\")","v":""}]
[null,null,null,null,null,null,null,null,null,null,null,{"$f":"_xlfn.IFNA(IF(J19252>500,\"ומעלה 500\",VLOOKUP(J19252,טבלה1[#All],2,0)),\"\")","v":""}]
[null,null,null,null,null,null,null,null,null,null,null,{"$f":"_xlfn.IFNA(IF(J19257>500,\"ומעלה 500\",VLOOKUP(J19257,טבלה1[#All],2,0)),\"\")","v":""}]
[null,null,null,null,null,null,null,null,null,null,null,{"$f":"_xlfn.IFNA(IF(J19269>500,\"ומעלה 500\",VLOOKUP(J19269,טבלה1[#All],2,0)),\"\")","v":""}]
[null,null,null,null,null,null,null,null,null,null,null,{"$f":"_xlfn.IFNA(IF(J19276>500,\"ומעלה 500\",VLOOKUP(J19276,טבלה1[#All],2,0)),\"\")","v":""}]
[null,null,null,null,null,null,null,null,null,null,null,{"$f":"_xlfn.IFNA(IF(J19283>500,\"ומעלה 500\",VLOOKUP(J19283,טבלה1[#All],2,0)),\"\")","v":""}]
[null,null,null,null,null,null,null,null,null,null,null,{"$f":"_xlfn.IFNA(IF(J19299>500,\"ומעלה 500\",VLOOKUP(J19299,טבלה1[#All],2,0)),\"\")","v":""}]
[null,null,null,null,null,null,null,null,null,null,null,{"$f":"_xlfn.IFNA(IF(J19306>500,\"ומעלה 500\",VLOOKUP(J19306,טבלה1[#All],2,0)),\"\")","v":""}]
[null,null,null,null,null,null,null,null,null,null,null,{"$f":"_xlfn.IFNA(IF(J19309>500,\"ומעלה 500\",VLOOKUP(J19309,טבלה1[#All],2,0)),\"\")","v":""}]
[null,null,null,null,null,null,null,null,null,null,null,{"$f":"_xlfn.IFNA(IF(J19322>500,\"ומעלה 500\",VLOOKUP(J19322,טבלה1[#All],2,0)),\"\")","v":""}]
[null,null,null,null,null,null,null,null,null,null,null,{"$f":"_xlfn.IFNA(IF(J19327>500,\"ומעלה 500\",VLOOKUP(J19327,טבלה1[#All],2,0)),\"\")","v":""}]
[null,null,null,null,null,null,null,null,null,null,null,{"$f":"_xlfn.IFNA(IF(J19339>500,\"ומעלה 500\",VLOOKUP(J19339,טבלה1[#All],2,0)),\"\")","v":""}]
[null,null,null,null,null,null,null,null,null,null,null,{"$f":"_xlfn.IFNA(IF(J19346>500,\"ומעלה 500\",VLOOKUP(J19346,טבלה1[#All],2,0)),\"\")","v":""}]
[null,null,null,null,null,null,null,null,null,null,null,{"$f":"_xlfn.IFNA(IF(J19353>500,\"ומעלה 500\",VLOOKUP(J19353,טבלה1[#All],2,0)),\"\")","v":""}]
[null,null,null,null,null,null,null,null,null,null,null,{"$f":"_xlfn.IFNA(IF(J19369>500,\"ומעלה 500\",VLOOKUP(J19369,טבלה1[#All],2,0)),\"\")","v":""}]
[null,null,null,null,null,null,null,null,null,null,null,{"$f":"_xlfn.IFNA(IF(J19376>500,\"ומעלה 500\",VLOOKUP(J19376,טבלה1[#All],2,0)),\"\")","v":""}]
[null,null,null,null,null,null,null,null,null,null,null,{"$f":"_xlfn.IFNA(IF(J19379>500,\"ומעלה 500\",VLOOKUP(J19379,טבלה1[#All],2,0)),\"\")","v":""}]
[null,null,null,null,null,null,null,null,null,null,null,{"$f":"_xlfn.IFNA(IF(J19392>500,\"ומעלה 500\",VLOOKUP(J19392,טבלה1[#All],2,0)),\"\")","v":""}]
[null,null,null,null,null,null,null,null,null,null,null,{"$f":"_xlfn.IFNA(IF(J19397>500,\"ומעלה 500\",VLOOKUP(J19397,טבלה1[#All],2,0)),\"\")","v":""}]
[null,null,null,null,null,null,null,null,null,null,null,{"$f":"_xlfn.IFNA(IF(J19409>500,\"ומעלה 500\",VLOOKUP(J19409,טבלה1[#All],2,0)),\"\")","v":""}]
[null,null,null,null,null,null,null,null,null,null,null,{"$f":"_xlfn.IFNA(IF(J19416>500,\"ומעלה 500\",VLOOKUP(J19416,טבלה1[#All],2,0)),\"\")","v":""}]
[null,null,null,null,null,null,null,null,null,null,null,{"$f":"_xlfn.IFNA(IF(J19423>500,\"ומעלה 500\",VLOOKUP(J19423,טבלה1[#All],2,0)),\"\")","v":""}]
[null,null,null,null,null,null,null,null,null,null,null,{"$f":"_xlfn.IFNA(IF(J19439>500,\"ומעלה 500\",VLOOKUP(J19439,טבלה1[#All],2,0)),\"\")","v":""}]
[null,null,null,null,null,null,null,null,null,null,null,{"$f":"_xlfn.IFNA(IF(J19446>500,\"ומעלה 500\",VLOOKUP(J19446,טבלה1[#All],2,0)),\"\")","v":""}]
[null,null,null,null,null,null,null,null,null,null,null,{"$f":"_xlfn.IFNA(IF(J19449>500,\"ומעלה 500\",VLOOKUP(J19449,טבלה1[#All],2,0)),\"\")","v":""}]
[null,null,null,null,null,null,null,null,null,null,null,{"$f":"_xlfn.IFNA(IF(J19462>500,\"ומעלה 500\",VLOOKUP(J19462,טבלה1[#All],2,0)),\"\")","v":""}]
[null,null,null,null,null,null,null,null,null,null,null,{"$f":"_xlfn.IFNA(IF(J19467>500,\"ומעלה 500\",VLOOKUP(J19467,טבלה1[#All],2,0)),\"\")","v":""}]
[null,null,null,null,null,null,null,null,null,null,null,{"$f":"_xlfn.IFNA(IF(J19479>500,\"ומעלה 500\",VLOOKUP(J19479,טבלה1[#All],2,0)),\"\")","v":""}]
[null,null,null,null,null,null,null,null,null,null,null,{"$f":"_xlfn.IFNA(IF(J19486>500,\"ומעלה 500\",VLOOKUP(J19486,טבלה1[#All],2,0)),\"\")","v":""}]
[null,null,null,null,null,null,null,null,null,null,null,{"$f":"_xlfn.IFNA(IF(J19498>500,\"ומעלה 500\",VLOOKUP(J19498,טבלה1[#All],2,0)),\"\")","v":""}]
[null,null,null,null,null,null,null,null,null,null,null,{"$f":"_xlfn.IFNA(IF(J19502>500,\"ומעלה 500\",VLOOKUP(J19502,טבלה1[#All],2,0)),\"\")","v":""}]
[null,null,null,null,null,null,null,null,null,null,null,{"$f":"_xlfn.IFNA(IF(J19503>500,\"ומעלה 500\",VLOOKUP(J19503,טבלה1[#All],2,0)),\"\")","v":""}]
[null,null,null,null,null,null,null,null,null,null,null,{"$f":"_xlfn.IFNA(IF(J19504>500,\"ומעלה 500\",VLOOKUP(J19504,טבלה1[#All],2,0)),\"\")","v":""}]
[null,null,null,null,null,null,null,null,null,null,null,{"$f":"_xlfn.IFNA(IF(J19505>500,\"ומעלה 500\",VLOOKUP(J19505,טבלה1[#All],2,0)),\"\")","v":""}]
[null,null,null,null,null,null,null,null,null,null,null,{"$f":"_xlfn.IFNA(IF(J19506>500,\"ומעלה 500\",VLOOKUP(J19506,טבלה1[#All],2,0)),\"\")","v":""}]
[null,null,null,null,null,null,null,null,null,null,null,{"$f":"_xlfn.IFNA(IF(J19507>500,\"ומעלה 500\",VLOOKUP(J19507,טבלה1[#All],2,0)),\"\")","v":""}]
[null,null,null,null,null,null,null,null,null,null,null,{"$f":"_xlfn.IFNA(IF(J19508>500,\"ומעלה 500\",VLOOKUP(J19508,טבלה1[#All],2,0)),\"\")","v":""}]
[null,null,null,null,null,null,null,null,null,null,null,{"$f":"_xlfn.IFNA(IF(J19509>500,\"ומעלה 500\",VLOOKUP(J19509,טבלה1[#All],2,0)),\"\")","v":""}]
[null,null,null,null,null,null,null,null,null,null,null,{"$f":"_xlfn.IFNA(IF(J19510>500,\"ומעלה 500\",VLOOKUP(J19510,טבלה1[#All],2,0)),\"\")","v":""}]
[null,null,null,null,null,null,null,null,null,null,null,{"$f":"_xlfn.IFNA(IF(J19511>500,\"ומעלה 500\",VLOOKUP(J19511,טבלה1[#All],2,0)),\"\")","v":""}]
[null,null,null,null,null,null,null,null,null,null,null,{"$f":"_xlfn.IFNA(IF(J19512>500,\"ומעלה 500\",VLOOKUP(J19512,טבלה1[#All],2,0)),\"\")","v":""}]
[null,null,null,null,null,null,null,null,null,null,null,{"$f":"_xlfn.IFNA(IF(J19513>500,\"ומעלה 500\",VLOOKUP(J19513,טבלה1[#All],2,0)),\"\")","v":""}]
[null,null,null,null,null,null,null,null,null,null,null,{"$f":"_xlfn.IFNA(IF(J19514>500,\"ומעלה 500\",VLOOKUP(J19514,טבלה1[#All],2,0)),\"\")","v":""}]
[null,null,null,null,null,null,null,null,null,null,null,{"$f":"_xlfn.IFNA(IF(J19515>500,\"ומעלה 500\",VLOOKUP(J19515,טבלה1[#All],2,0)),\"\")","v":""}]
[null,null,null,null,null,null,null,null,null,null,null,{"$f":"_xlfn.IFNA(IF(J19516>500,\"ומעלה 500\",VLOOKUP(J19516,טבלה1[#All],2,0)),\"\")","v":""}]
[null,null,null,null,null,null,null,null,null,null,null,{"$f":"_xlfn.IFNA(IF(J19517>500,\"ומעלה 500\",VLOOKUP(J19517,טבלה1[#All],2,0)),\"\")","v":""}]
[null,null,null,null,null,null,null,null,null,null,null,{"$f":"_xlfn.IFNA(IF(J19518>500,\"ומעלה 500\",VLOOKUP(J19518,טבלה1[#All],2,0)),\"\")","v":""}]
[null,null,null,null,null,null,null,null,null,null,null,{"$f":"_xlfn.IFNA(IF(J19519>500,\"ומעלה 500\",VLOOKUP(J19519,טבלה1[#All],2,0)),\"\")","v":""}]
[null,null,null,null,null,null,null,null,null,null,null,{"$f":"_xlfn.IFNA(IF(J19520>500,\"ומעלה 500\",VLOOKUP(J19520,טבלה1[#All],2,0)),\"\")","v":""}]
[null,null,null,null,null,null,null,null,null,null,null,{"$f":"_xlfn.IFNA(IF(J19521>500,\"ומעלה 500\",VLOOKUP(J19521,טבלה1[#All],2,0)),\"\")","v":""}]
[null,null,null,null,null,null,null,null,null,null,null,{"$f":"_xlfn.IFNA(IF(J19522>500,\"ומעלה 500\",VLOOKUP(J19522,טבלה1[#All],2,0)),\"\")","v":""}]
[null,null,null,null,null,null,null,null,null,null,null,{"$f":"_xlfn.IFNA(IF(J19523>500,\"ומעלה 500\",VLOOKUP(J19523,טבלה1[#All],2,0)),\"\")","v":""}]
[null,null,null,null,null,null,null,null,null,null,null,{"$f":"_xlfn.IFNA(IF(J19524>500,\"ומעלה 500\",VLOOKUP(J19524,טבלה1[#All],2,0)),\"\")","v":""}]
[null,null,null,null,null,null,null,null,null,null,null,{"$f":"_xlfn.IFNA(IF(J19525>500,\"ומעלה 500\",VLOOKUP(J19525,טבלה1[#All],2,0)),\"\")","v":""}]
[null,null,null,null,null,null,null,null,null,null,null,{"$f":"_xlfn.IFNA(IF(J19526>500,\"ומעלה 500\",VLOOKUP(J19526,טבלה1[#All],2,0)),\"\")","v":""}]
[null,null,null,null,null,null,null,null,null,null,null,{"$f":"_xlfn.IFNA(IF(J19527>500,\"ומעלה 500\",VLOOKUP(J19527,טבלה1[#All],2,0)),\"\")","v":""}]
[null,null,null,null,null,null,null,null,null,null,null,{"$f":"_xlfn.IFNA(IF(J19528>500,\"ומעלה 500\",VLOOKUP(J19528,טבלה1[#All],2,0)),\"\")","v":""}]
[null,null,null,null,null,null,null,null,null,null,null,{"$f":"_xlfn.IFNA(IF(J19529>500,\"ומעלה 500\",VLOOKUP(J19529,טבלה1[#All],2,0)),\"\")","v":""}]
[null,null,null,null,null,null,null,null,null,null,null,{"$f":"_xlfn.IFNA(IF(J19530>500,\"ומעלה 500\",VLOOKUP(J19530,טבלה1[#All],2,0)),\"\")","v":""}]
[null,null,null,null,null,null,null,null,null,null,null,{"$f":"_xlfn.IFNA(IF(J19531>500,\"ומעלה 500\",VLOOKUP(J19531,טבלה1[#All],2,0)),\"\")","v":""}]
[null,null,null,null,null,null,null,null,null,null,null,{"$f":"_xlfn.IFNA(IF(J19532>500,\"ומעלה 500\",VLOOKUP(J19532,טבלה1[#All],2,0)),\"\")","v":""}]
[null,null,null,null,null,null,null,null,null,null,null,{"$f":"_xlfn.IFNA(IF(J19533>500,\"ומעלה 500\",VLOOKUP(J19533,טבלה1[#All],2,0)),\"\")","v":""}]
[null,null,null,null,null,null,null,null,null,null,null,{"$f":"_xlfn.IFNA(IF(J19534>500,\"ומעלה 500\",VLOOKUP(J19534,טבלה1[#All],2,0)),\"\")","v":""}]
[null,null,null,null,null,null,null,null,null,null,null,{"$f":"_xlfn.IFNA(IF(J19535>500,\"ומעלה 500\",VLOOKUP(J19535,טבלה1[#All],2,0)),\"\")","v":""}]
[null,null,null,null,null,null,null,null,null,null,null,{"$f":"_xlfn.IFNA(IF(J19536>500,\"ומעלה 500\",VLOOKUP(J19536,טבלה1[#All],2,0)),\"\")","v":""}]
[null,null,null,null,null,null,null,null,null,null,null,{"$f":"_xlfn.IFNA(IF(J19537>500,\"ומעלה 500\",VLOOKUP(J19537,טבלה1[#All],2,0)),\"\")","v":""}]
[null,null,null,null,null,null,null,null,null,null,null,{"$f":"_xlfn.IFNA(IF(J19538>500,\"ומעלה 500\",VLOOKUP(J19538,טבלה1[#All],2,0)),\"\")","v":""}]
[null,null,null,null,null,null,null,null,null,null,null,{"$f":"_xlfn.IFNA(IF(J19539>500,\"ומעלה 500\",VLOOKUP(J19539,טבלה1[#All],2,0)),\"\")","v":""}]
[null,null,null,null,null,null,null,null,null,null,null,{"$f":"_xlfn.IFNA(IF(J19540>500,\"ומעלה 500\",VLOOKUP(J19540,טבלה1[#All],2,0)),\"\")","v":""}]
[null,null,null,null,null,null,null,null,null,null,null,{"$f":"_xlfn.IFNA(IF(J19541>500,\"ומעלה 500\",VLOOKUP(J19541,טבלה1[#All],2,0)),\"\")","v":""}]
[null,null,null,null,null,null,null,null,null,null,null,{"$f":"_xlfn.IFNA(IF(J19542>500,\"ומעלה 500\",VLOOKUP(J19542,טבלה1[#All],2,0)),\"\")","v":""}]
[null,null,null,null,null,null,null,null,null,null,null,{"$f":"_xlfn.IFNA(IF(J19543>500,\"ומעלה 500\",VLOOKUP(J19543,טבלה1[#All],2,0)),\"\")","v":""}]
[null,null,null,null,null,null,null,null,null,null,null,{"$f":"_xlfn.IFNA(IF(J19544>500,\"ומעלה 500\",VLOOKUP(J19544,טבלה1[#All],2,0)),\"\")","v":""}]
[null,null,null,null,null,null,null,null,null,null,null,{"$f":"_xlfn.IFNA(IF(J19545>500,\"ומעלה 500\",VLOOKUP(J19545,טבלה1[#All],2,0)),\"\")","v":""}]
[null,null,null,null,null,null,null,null,null,null,null,{"$f":"_xlfn.IFNA(IF(J19546>500,\"ומעלה 500\",VLOOKUP(J19546,טבלה1[#All],2,0)),\"\")","v":""}]
[null,null,null,null,null,null,null,null,null,null,null,{"$f":"_xlfn.IFNA(IF(J19547>500,\"ומעלה 500\",VLOOKUP(J19547,טבלה1[#All],2,0)),\"\")","v":""}]
[null,null,null,null,null,null,null,null,null,null,null,{"$f":"_xlfn.IFNA(IF(J19548>500,\"ומעלה 500\",VLOOKUP(J19548,טבלה1[#All],2,0)),\"\")","v":""}]
[null,null,null,null,null,null,null,null,null,null,null,{"$f":"_xlfn.IFNA(IF(J19549>500,\"ומעלה 500\",VLOOKUP(J19549,טבלה1[#All],2,0)),\"\")","v":""}]
[null,null,null,null,null,null,null,null,null,null,null,{"$f":"_xlfn.IFNA(IF(J19550>500,\"ומעלה 500\",VLOOKUP(J19550,טבלה1[#All],2,0)),\"\")","v":""}]
[null,null,null,null,null,null,null,null,null,null,null,{"$f":"_xlfn.IFNA(IF(J19551>500,\"ומעלה 500\",VLOOKUP(J19551,טבלה1[#All],2,0)),\"\")","v":""}]
[null,null,null,null,null,null,null,null,null,null,null,{"$f":"_xlfn.IFNA(IF(J19552>500,\"ומעלה 500\",VLOOKUP(J19552,טבלה1[#All],2,0)),\"\")","v":""}]
[null,null,null,null,null,null,null,null,null,null,null,{"$f":"_xlfn.IFNA(IF(J19553>500,\"ומעלה 500\",VLOOKUP(J19553,טבלה1[#All],2,0)),\"\")","v":""}]
[null,null,null,null,null,null,null,null,null,null,null,{"$f":"_xlfn.IFNA(IF(J19554>500,\"ומעלה 500\",VLOOKUP(J19554,טבלה1[#All],2,0)),\"\")","v":""}]
[null,null,null,null,null,null,null,null,null,null,null,{"$f":"_xlfn.IFNA(IF(J19555>500,\"ומעלה 500\",VLOOKUP(J19555,טבלה1[#All],2,0)),\"\")","v":""}]
[null,null,null,null,null,null,null,null,null,null,null,{"$f":"_xlfn.IFNA(IF(J19556>500,\"ומעלה 500\",VLOOKUP(J19556,טבלה1[#All],2,0)),\"\")","v":""}]
[null,null,null,null,null,null,null,null,null,null,null,{"$f":"_xlfn.IFNA(IF(J19557>500,\"ומעלה 500\",VLOOKUP(J19557,טבלה1[#All],2,0)),\"\")","v":""}]
[null,null,null,null,null,null,null,null,null,null,null,{"$f":"_xlfn.IFNA(IF(J19558>500,\"ומעלה 500\",VLOOKUP(J19558,טבלה1[#All],2,0)),\"\")","v":""}]
[null,null,null,null,null,null,null,null,null,null,null,{"$f":"_xlfn.IFNA(IF(J19559>500,\"ומעלה 500\",VLOOKUP(J19559,טבלה1[#All],2,0)),\"\")","v":""}]
[null,null,null,null,null,null,null,null,null,null,null,{"$f":"_xlfn.IFNA(IF(J19560>500,\"ומעלה 500\",VLOOKUP(J19560,טבלה1[#All],2,0)),\"\")","v":""}]
[null,null,null,null,null,null,null,null,null,null,null,{"$f":"_xlfn.IFNA(IF(J19561>500,\"ומעלה 500\",VLOOKUP(J19561,טבלה1[#All],2,0)),\"\")","v":""}]
[null,null,null,null,null,null,null,null,null,null,null,{"$f":"_xlfn.IFNA(IF(J19562>500,\"ומעלה 500\",VLOOKUP(J19562,טבלה1[#All],2,0)),\"\")","v":""}]
[null,null,null,null,null,null,null,null,null,null,null,{"$f":"_xlfn.IFNA(IF(J19563>500,\"ומעלה 500\",VLOOKUP(J19563,טבלה1[#All],2,0)),\"\")","v":""}]
[null,null,null,null,null,null,null,null,null,null,null,{"$f":"_xlfn.IFNA(IF(J19564>500,\"ומעלה 500\",VLOOKUP(J19564,טבלה1[#All],2,0)),\"\")","v":""}]
[null,null,null,null,null,null,null,null,null,null,null,{"$f":"_xlfn.IFNA(IF(J19565>500,\"ומעלה 500\",VLOOKUP(J19565,טבלה1[#All],2,0)),\"\")","v":""}]
[null,null,null,null,null,null,null,null,null,null,null,{"$f":"_xlfn.IFNA(IF(J19566>500,\"ומעלה 500\",VLOOKUP(J19566,טבלה1[#All],2,0)),\"\")","v":""}]
[null,null,null,null,null,null,null,null,null,null,null,{"$f":"_xlfn.IFNA(IF(J19567>500,\"ומעלה 500\",VLOOKUP(J19567,טבלה1[#All],2,0)),\"\")","v":""}]
[null,null,null,null,null,null,null,null,null,null,null,{"$f":"_xlfn.IFNA(IF(J19568>500,\"ומעלה 500\",VLOOKUP(J19568,טבלה1[#All],2,0)),\"\")","v":""}]
[null,null,null,null,null,null,null,null,null,null,null,{"$f":"_xlfn.IFNA(IF(J19569>500,\"ומעלה 500\",VLOOKUP(J19569,טבלה1[#All],2,0)),\"\")","v":""}]
[null,null,null,null,null,null,null,null,null,null,null,{"$f":"_xlfn.IFNA(IF(J19570>500,\"ומעלה 500\",VLOOKUP(J19570,טבלה1[#All],2,0)),\"\")","v":""}]
[null,null,null,null,null,null,null,null,null,null,null,{"$f":"_xlfn.IFNA(IF(J19571>500,\"ומעלה 500\",VLOOKUP(J19571,טבלה1[#All],2,0)),\"\")","v":""}]
[null,null,null,null,null,null,null,null,null,null,null,{"$f":"_xlfn.IFNA(IF(J19572>500,\"ומעלה 500\",VLOOKUP(J19572,טבלה1[#All],2,0)),\"\")","v":""}]
[null,null,null,null,null,null,null,null,null,null,null,{"$f":"_xlfn.IFNA(IF(J19573>500,\"ומעלה 500\",VLOOKUP(J19573,טבלה1[#All],2,0)),\"\")","v":""}]
[null,null,null,null,null,null,null,null,null,null,null,{"$f":"_xlfn.IFNA(IF(J19574>500,\"ומעלה 500\",VLOOKUP(J19574,טבלה1[#All],2,0)),\"\")","v":""}]
[null,null,null,null,null,null,null,null,null,null,null,{"$f":"_xlfn.IFNA(IF(J19575>500,\"ומעלה 500\",VLOOKUP(J19575,טבלה1[#All],2,0)),\"\")","v":""}]
[null,null,null,null,null,null,null,null,null,null,null,{"$f":"_xlfn.IFNA(IF(J19576>500,\"ומעלה 500\",VLOOKUP(J19576,טבלה1[#All],2,0)),\"\")","v":""}]
[null,null,null,null,null,null,null,null,null,null,null,{"$f":"_xlfn.IFNA(IF(J19577>500,\"ומעלה 500\",VLOOKUP(J19577,טבלה1[#All],2,0)),\"\")","v":""}]
[null,null,null,null,null,null,null,null,null,null,null,{"$f":"_xlfn.IFNA(IF(J19578>500,\"ומעלה 500\",VLOOKUP(J19578,טבלה1[#All],2,0)),\"\")","v":""}]
[null,null,null,null,null,null,null,null,null,null,null,{"$f":"_xlfn.IFNA(IF(J19579>500,\"ומעלה 500\",VLOOKUP(J19579,טבלה1[#All],2,0)),\"\")","v":""}]
[null,null,null,null,null,null,null,null,null,null,null,{"$f":"_xlfn.IFNA(IF(J19580>500,\"ומעלה 500\",VLOOKUP(J19580,טבלה1[#All],2,0)),\"\")","v":""}]
[null,null,null,null,null,null,null,null,null,null,null,{"$f":"_xlfn.IFNA(IF(J19581>500,\"ומעלה 500\",VLOOKUP(J19581,טבלה1[#All],2,0)),\"\")","v":""}]
[null,null,null,null,null,null,null,null,null,null,null,{"$f":"_xlfn.IFNA(IF(J19582>500,\"ומעלה 500\",VLOOKUP(J19582,טבלה1[#All],2,0)),\"\")","v":""}]
[null,null,null,null,null,null,null,null,null,null,null,{"$f":"_xlfn.IFNA(IF(J19583>500,\"ומעלה 500\",VLOOKUP(J19583,טבלה1[#All],2,0)),\"\")","v":""}]
[null,null,null,null,null,null,null,null,null,null,null,{"$f":"_xlfn.IFNA(IF(J19584>500,\"ומעלה 500\",VLOOKUP(J19584,טבלה1[#All],2,0)),\"\")","v":""}]
[null,null,null,null,null,null,null,null,null,null,null,{"$f":"_xlfn.IFNA(IF(J19585>500,\"ומעלה 500\",VLOOKUP(J19585,טבלה1[#All],2,0)),\"\")","v":""}]
[null,null,null,null,null,null,null,null,null,null,null,{"$f":"_xlfn.IFNA(IF(J19586>500,\"ומעלה 500\",VLOOKUP(J19586,טבלה1[#All],2,0)),\"\")","v":""}]
[null,null,null,null,null,null,null,null,null,null,null,{"$f":"_xlfn.IFNA(IF(J19587>500,\"ומעלה 500\",VLOOKUP(J19587,טבלה1[#All],2,0)),\"\")","v":""}]
[null,null,null,null,null,null,null,null,null,null,null,{"$f":"_xlfn.IFNA(IF(J19588>500,\"ומעלה 500\",VLOOKUP(J19588,טבלה1[#All],2,0)),\"\")","v":""}]
[null,null,null,null,null,null,null,null,null,null,null,{"$f":"_xlfn.IFNA(IF(J19589>500,\"ומעלה 500\",VLOOKUP(J19589,טבלה1[#All],2,0)),\"\")","v":""}]
[null,null,null,null,null,null,null,null,null,null,null,{"$f":"_xlfn.IFNA(IF(J19590>500,\"ומעלה 500\",VLOOKUP(J19590,טבלה1[#All],2,0)),\"\")","v":""}]
[null,null,null,null,null,null,null,null,null,null,null,{"$f":"_xlfn.IFNA(IF(J19591>500,\"ומעלה 500\",VLOOKUP(J19591,טבלה1[#All],2,0)),\"\")","v":""}]
[null,null,null,null,null,null,null,null,null,null,null,{"$f":"_xlfn.IFNA(IF(J19592>500,\"ומעלה 500\",VLOOKUP(J19592,טבלה1[#All],2,0)),\"\")","v":""}]
[null,null,null,null,null,null,null,null,null,null,null,{"$f":"_xlfn.IFNA(IF(J19593>500,\"ומעלה 500\",VLOOKUP(J19593,טבלה1[#All],2,0)),\"\")","v":""}]
[null,null,null,null,null,null,null,null,null,null,null,{"$f":"_xlfn.IFNA(IF(J19594>500,\"ומעלה 500\",VLOOKUP(J19594,טבלה1[#All],2,0)),\"\")","v":""}]
[null,null,null,null,null,null,null,null,null,null,null,{"$f":"_xlfn.IFNA(IF(J19595>500,\"ומעלה 500\",VLOOKUP(J19595,טבלה1[#All],2,0)),\"\")","v":""}]
[null,null,null,null,null,null,null,null,null,null,null,{"$f":"_xlfn.IFNA(IF(J19596>500,\"ומעלה 500\",VLOOKUP(J19596,טבלה1[#All],2,0)),\"\")","v":""}]
[null,null,null,null,null,null,null,null,null,null,null,{"$f":"_xlfn.IFNA(IF(J19597>500,\"ומעלה 500\",VLOOKUP(J19597,טבלה1[#All],2,0)),\"\")","v":""}]
[null,null,null,null,null,null,null,null,null,null,null,{"$f":"_xlfn.IFNA(IF(J19598>500,\"ומעלה 500\",VLOOKUP(J19598,טבלה1[#All],2,0)),\"\")","v":""}]
[null,null,null,null,null,null,null,null,null,null,null,{"$f":"_xlfn.IFNA(IF(J19599>500,\"ומעלה 500\",VLOOKUP(J19599,טבלה1[#All],2,0)),\"\")","v":""}]
[null,null,null,null,null,null,null,null,null,null,null,{"$f":"_xlfn.IFNA(IF(J19600>500,\"ומעלה 500\",VLOOKUP(J19600,טבלה1[#All],2,0)),\"\")","v":""}]
[null,null,null,null,null,null,null,null,null,null,null,{"$f":"_xlfn.IFNA(IF(J19601>500,\"ומעלה 500\",VLOOKUP(J19601,טבלה1[#All],2,0)),\"\")","v":""}]
[null,null,null,null,null,null,null,null,null,null,null,{"$f":"_xlfn.IFNA(IF(J19602>500,\"ומעלה 500\",VLOOKUP(J19602,טבלה1[#All],2,0)),\"\")","v":""}]
[null,null,null,null,null,null,null,null,null,null,null,{"$f":"_xlfn.IFNA(IF(J19603>500,\"ומעלה 500\",VLOOKUP(J19603,טבלה1[#All],2,0)),\"\")","v":""}]
[null,null,null,null,null,null,null,null,null,null,null,{"$f":"_xlfn.IFNA(IF(J19604>500,\"ומעלה 500\",VLOOKUP(J19604,טבלה1[#All],2,0)),\"\")","v":""}]
[null,null,null,null,null,null,null,null,null,null,null,{"$f":"_xlfn.IFNA(IF(J19605>500,\"ומעלה 500\",VLOOKUP(J19605,טבלה1[#All],2,0)),\"\")","v":""}]
[null,null,null,null,null,null,null,null,null,null,null,{"$f":"_xlfn.IFNA(IF(J19606>500,\"ומעלה 500\",VLOOKUP(J19606,טבלה1[#All],2,0)),\"\")","v":""}]
[null,null,null,null,null,null,null,null,null,null,null,{"$f":"_xlfn.IFNA(IF(J19607>500,\"ומעלה 500\",VLOOKUP(J19607,טבלה1[#All],2,0)),\"\")","v":""}]
[null,null,null,null,null,null,null,null,null,null,null,{"$f":"_xlfn.IFNA(IF(J19608>500,\"ומעלה 500\",VLOOKUP(J19608,טבלה1[#All],2,0)),\"\")","v":""}]
[null,null,null,null,null,null,null,null,null,null,null,{"$f":"_xlfn.IFNA(IF(J19609>500,\"ומעלה 500\",VLOOKUP(J19609,טבלה1[#All],2,0)),\"\")","v":""}]
[null,null,null,null,null,null,null,null,null,null,null,{"$f":"_xlfn.IFNA(IF(J19610>500,\"ומעלה 500\",VLOOKUP(J19610,טבלה1[#All],2,0)),\"\")","v":""}]
[null,null,null,null,null,null,null,null,null,null,null,{"$f":"_xlfn.IFNA(IF(J19611>500,\"ומעלה 500\",VLOOKUP(J19611,טבלה1[#All],2,0)),\"\")","v":""}]
[null,null,null,null,null,null,null,null,null,null,null,{"$f":"_xlfn.IFNA(IF(J19612>500,\"ומעלה 500\",VLOOKUP(J19612,טבלה1[#All],2,0)),\"\")","v":""}]
[null,null,null,null,null,null,null,null,null,null,null,{"$f":"_xlfn.IFNA(IF(J19613>500,\"ומעלה 500\",VLOOKUP(J19613,טבלה1[#All],2,0)),\"\")","v":""}]
[null,null,null,null,null,null,null,null,null,null,null,{"$f":"_xlfn.IFNA(IF(J19614>500,\"ומעלה 500\",VLOOKUP(J19614,טבלה1[#All],2,0)),\"\")","v":""}]
[null,null,null,null,null,null,null,null,null,null,null,{"$f":"_xlfn.IFNA(IF(J19615>500,\"ומעלה 500\",VLOOKUP(J19615,טבלה1[#All],2,0)),\"\")","v":""}]
[null,null,null,null,null,null,null,null,null,null,null,{"$f":"_xlfn.IFNA(IF(J19616>500,\"ומעלה 500\",VLOOKUP(J19616,טבלה1[#All],2,0)),\"\")","v":""}]
[null,null,null,null,null,null,null,null,null,null,null,{"$f":"_xlfn.IFNA(IF(J19617>500,\"ומעלה 500\",VLOOKUP(J19617,טבלה1[#All],2,0)),\"\")","v":""}]
[null,null,null,null,null,null,null,null,null,null,null,{"$f":"_xlfn.IFNA(IF(J19618>500,\"ומעלה 500\",VLOOKUP(J19618,טבלה1[#All],2,0)),\"\")","v":""}]
[null,null,null,null,null,null,null,null,null,null,null,{"$f":"_xlfn.IFNA(IF(J19619>500,\"ומעלה 500\",VLOOKUP(J19619,טבלה1[#All],2,0)),\"\")","v":""}]
[null,null,null,null,null,null,null,null,null,null,null,{"$f":"_xlfn.IFNA(IF(J19620>500,\"ומעלה 500\",VLOOKUP(J19620,טבלה1[#All],2,0)),\"\")","v":""}]
[null,null,null,null,null,null,null,null,null,null,null,{"$f":"_xlfn.IFNA(IF(J19621>500,\"ומעלה 500\",VLOOKUP(J19621,טבלה1[#All],2,0)),\"\")","v":""}]
[null,null,null,null,null,null,null,null,null,null,null,{"$f":"_xlfn.IFNA(IF(J19622>500,\"ומעלה 500\",VLOOKUP(J19622,טבלה1[#All],2,0)),\"\")","v":""}]
[null,null,null,null,null,null,null,null,null,null,null,{"$f":"_xlfn.IFNA(IF(J19623>500,\"ומעלה 500\",VLOOKUP(J19623,טבלה1[#All],2,0)),\"\")","v":""}]
[null,null,null,null,null,null,null,null,null,null,null,{"$f":"_xlfn.IFNA(IF(J19624>500,\"ומעלה 500\",VLOOKUP(J19624,טבלה1[#All],2,0)),\"\")","v":""}]
[null,null,null,null,null,null,null,null,null,null,null,{"$f":"_xlfn.IFNA(IF(J19625>500,\"ומעלה 500\",VLOOKUP(J19625,טבלה1[#All],2,0)),\"\")","v":""}]
[null,null,null,null,null,null,null,null,null,null,null,{"$f":"_xlfn.IFNA(IF(J19626>500,\"ומעלה 500\",VLOOKUP(J19626,טבלה1[#All],2,0)),\"\")","v":""}]
[null,null,null,null,null,null,null,null,null,null,null,{"$f":"_xlfn.IFNA(IF(J19627>500,\"ומעלה 500\",VLOOKUP(J19627,טבלה1[#All],2,0)),\"\")","v":""}]
[null,null,null,null,null,null,null,null,null,null,null,{"$f":"_xlfn.IFNA(IF(J19628>500,\"ומעלה 500\",VLOOKUP(J19628,טבלה1[#All],2,0)),\"\")","v":""}]
[null,null,null,null,null,null,null,null,null,null,null,{"$f":"_xlfn.IFNA(IF(J19629>500,\"ומעלה 500\",VLOOKUP(J19629,טבלה1[#All],2,0)),\"\")","v":""}]
[null,null,null,null,null,null,null,null,null,null,null,{"$f":"_xlfn.IFNA(IF(J19630>500,\"ומעלה 500\",VLOOKUP(J19630,טבלה1[#All],2,0)),\"\")","v":""}]
[null,null,null,null,null,null,null,null,null,null,null,{"$f":"_xlfn.IFNA(IF(J19631>500,\"ומעלה 500\",VLOOKUP(J19631,טבלה1[#All],2,0)),\"\")","v":""}]
[null,null,null,null,null,null,null,null,null,null,null,{"$f":"_xlfn.IFNA(IF(J19632>500,\"ומעלה 500\",VLOOKUP(J19632,טבלה1[#All],2,0)),\"\")","v":""}]
[null,null,null,null,null,null,null,null,null,null,null,{"$f":"_xlfn.IFNA(IF(J19633>500,\"ומעלה 500\",VLOOKUP(J19633,טבלה1[#All],2,0)),\"\")","v":""}]
[null,null,null,null,null,null,null,null,null,null,null,{"$f":"_xlfn.IFNA(IF(J19634>500,\"ומעלה 500\",VLOOKUP(J19634,טבלה1[#All],2,0)),\"\")","v":""}]
[null,null,null,null,null,null,null,null,null,null,null,{"$f":"_xlfn.IFNA(IF(J19635>500,\"ומעלה 500\",VLOOKUP(J19635,טבלה1[#All],2,0)),\"\")","v":""}]
[null,null,null,null,null,null,null,null,null,null,null,{"$f":"_xlfn.IFNA(IF(J19636>500,\"ומעלה 500\",VLOOKUP(J19636,טבלה1[#All],2,0)),\"\")","v":""}]
[null,null,null,null,null,null,null,null,null,null,null,{"$f":"_xlfn.IFNA(IF(J19637>500,\"ומעלה 500\",VLOOKUP(J19637,טבלה1[#All],2,0)),\"\")","v":""}]
[null,null,null,null,null,null,null,null,null,null,null,{"$f":"_xlfn.IFNA(IF(J19638>500,\"ומעלה 500\",VLOOKUP(J19638,טבלה1[#All],2,0)),\"\")","v":""}]
[null,null,null,null,null,null,null,null,null,null,null,{"$f":"_xlfn.IFNA(IF(J19639>500,\"ומעלה 500\",VLOOKUP(J19639,טבלה1[#All],2,0)),\"\")","v":""}]
[null,null,null,null,null,null,null,null,null,null,null,{"$f":"_xlfn.IFNA(IF(J19640>500,\"ומעלה 500\",VLOOKUP(J19640,טבלה1[#All],2,0)),\"\")","v":""}]
[null,null,null,null,null,null,null,null,null,null,null,{"$f":"_xlfn.IFNA(IF(J19641>500,\"ומעלה 500\",VLOOKUP(J19641,טבלה1[#All],2,0)),\"\")","v":""}]
[null,null,null,null,null,null,null,null,null,null,null,{"$f":"_xlfn.IFNA(IF(J19642>500,\"ומעלה 500\",VLOOKUP(J19642,טבלה1[#All],2,0)),\"\")","v":""}]
[null,null,null,null,null,null,null,null,null,null,null,{"$f":"_xlfn.IFNA(IF(J19643>500,\"ומעלה 500\",VLOOKUP(J19643,טבלה1[#All],2,0)),\"\")","v":""}]
[null,null,null,null,null,null,null,null,null,null,null,{"$f":"_xlfn.IFNA(IF(J19644>500,\"ומעלה 500\",VLOOKUP(J19644,טבלה1[#All],2,0)),\"\")","v":""}]
[null,null,null,null,null,null,null,null,null,null,null,{"$f":"_xlfn.IFNA(IF(J19645>500,\"ומעלה 500\",VLOOKUP(J19645,טבלה1[#All],2,0)),\"\")","v":""}]
[null,null,null,null,null,null,null,null,null,null,null,{"$f":"_xlfn.IFNA(IF(J19646>500,\"ומעלה 500\",VLOOKUP(J19646,טבלה1[#All],2,0)),\"\")","v":""}]
[null,null,null,null,null,null,null,null,null,null,null,{"$f":"_xlfn.IFNA(IF(J19647>500,\"ומעלה 500\",VLOOKUP(J19647,טבלה1[#All],2,0)),\"\")","v":""}]
[null,null,null,null,null,null,null,null,null,null,null,{"$f":"_xlfn.IFNA(IF(J19648>500,\"ומעלה 500\",VLOOKUP(J19648,טבלה1[#All],2,0)),\"\")","v":""}]
[null,null,null,null,null,null,null,null,null,null,null,{"$f":"_xlfn.IFNA(IF(J19649>500,\"ומעלה 500\",VLOOKUP(J19649,טבלה1[#All],2,0)),\"\")","v":""}]
[null,null,null,null,null,null,null,null,null,null,null,{"$f":"_xlfn.IFNA(IF(J19650>500,\"ומעלה 500\",VLOOKUP(J19650,טבלה1[#All],2,0)),\"\")","v":""}]
[null,null,null,null,null,null,null,null,null,null,null,{"$f":"_xlfn.IFNA(IF(J19651>500,\"ומעלה 500\",VLOOKUP(J19651,טבלה1[#All],2,0)),\"\")","v":""}]
[null,null,null,null,null,null,null,null,null,null,null,{"$f":"_xlfn.IFNA(IF(J19652>500,\"ומעלה 500\",VLOOKUP(J19652,טבלה1[#All],2,0)),\"\")","v":""}]
[null,null,null,null,null,null,null,null,null,null,null,{"$f":"_xlfn.IFNA(IF(J19653>500,\"ומעלה 500\",VLOOKUP(J19653,טבלה1[#All],2,0)),\"\")","v":""}]
[null,null,null,null,null,null,null,null,null,null,null,{"$f":"_xlfn.IFNA(IF(J19654>500,\"ומעלה 500\",VLOOKUP(J19654,טבלה1[#All],2,0)),\"\")","v":""}]
[null,null,null,null,null,null,null,null,null,null,null,{"$f":"_xlfn.IFNA(IF(J19655>500,\"ומעלה 500\",VLOOKUP(J19655,טבלה1[#All],2,0)),\"\")","v":""}]
[null,null,null,null,null,null,null,null,null,null,null,{"$f":"_xlfn.IFNA(IF(J19656>500,\"ומעלה 500\",VLOOKUP(J19656,טבלה1[#All],2,0)),\"\")","v":""}]
[null,null,null,null,null,null,null,null,null,null,null,{"$f":"_xlfn.IFNA(IF(J19657>500,\"ומעלה 500\",VLOOKUP(J19657,טבלה1[#All],2,0)),\"\")","v":""}]
[null,null,null,null,null,null,null,null,null,null,null,{"$f":"_xlfn.IFNA(IF(J19658>500,\"ומעלה 500\",VLOOKUP(J19658,טבלה1[#All],2,0)),\"\")","v":""}]
[null,null,null,null,null,null,null,null,null,null,null,{"$f":"_xlfn.IFNA(IF(J19659>500,\"ומעלה 500\",VLOOKUP(J19659,טבלה1[#All],2,0)),\"\")","v":""}]
[null,null,null,null,null,null,null,null,null,null,null,{"$f":"_xlfn.IFNA(IF(J19660>500,\"ומעלה 500\",VLOOKUP(J19660,טבלה1[#All],2,0)),\"\")","v":""}]
[null,null,null,null,null,null,null,null,null,null,null,{"$f":"_xlfn.IFNA(IF(J19661>500,\"ומעלה 500\",VLOOKUP(J19661,טבלה1[#All],2,0)),\"\")","v":""}]
[null,null,null,null,null,null,null,null,null,null,null,{"$f":"_xlfn.IFNA(IF(J19662>500,\"ומעלה 500\",VLOOKUP(J19662,טבלה1[#All],2,0)),\"\")","v":""}]
[null,null,null,null,null,null,null,null,null,null,null,{"$f":"_xlfn.IFNA(IF(J19663>500,\"ומעלה 500\",VLOOKUP(J19663,טבלה1[#All],2,0)),\"\")","v":""}]
[null,null,null,null,null,null,null,null,null,null,null,{"$f":"_xlfn.IFNA(IF(J19664>500,\"ומעלה 500\",VLOOKUP(J19664,טבלה1[#All],2,0)),\"\")","v":""}]
[null,null,null,null,null,null,null,null,null,null,null,{"$f":"_xlfn.IFNA(IF(J19665>500,\"ומעלה 500\",VLOOKUP(J19665,טבלה1[#All],2,0)),\"\")","v":""}]
[null,null,null,null,null,null,null,null,null,null,null,{"$f":"_xlfn.IFNA(IF(J19666>500,\"ומעלה 500\",VLOOKUP(J19666,טבלה1[#All],2,0)),\"\")","v":""}]
[null,null,null,null,null,null,null,null,null,null,null,{"$f":"_xlfn.IFNA(IF(J19667>500,\"ומעלה 500\",VLOOKUP(J19667,טבלה1[#All],2,0)),\"\")","v":""}]
[null,null,null,null,null,null,null,null,null,null,null,{"$f":"_xlfn.IFNA(IF(J19668>500,\"ומעלה 500\",VLOOKUP(J19668,טבלה1[#All],2,0)),\"\")","v":""}]
[null,null,null,null,null,null,null,null,null,null,null,{"$f":"_xlfn.IFNA(IF(J19669>500,\"ומעלה 500\",VLOOKUP(J19669,טבלה1[#All],2,0)),\"\")","v":""}]
[null,null,null,null,null,null,null,null,null,null,null,{"$f":"_xlfn.IFNA(IF(J19670>500,\"ומעלה 500\",VLOOKUP(J19670,טבלה1[#All],2,0)),\"\")","v":""}]
[null,null,null,null,null,null,null,null,null,null,null,{"$f":"_xlfn.IFNA(IF(J19671>500,\"ומעלה 500\",VLOOKUP(J19671,טבלה1[#All],2,0)),\"\")","v":""}]
[null,null,null,null,null,null,null,null,null,null,null,{"$f":"_xlfn.IFNA(IF(J19672>500,\"ומעלה 500\",VLOOKUP(J19672,טבלה1[#All],2,0)),\"\")","v":""}]
[null,null,null,null,null,null,null,null,null,null,null,{"$f":"_xlfn.IFNA(IF(J19673>500,\"ומעלה 500\",VLOOKUP(J19673,טבלה1[#All],2,0)),\"\")","v":""}]
[null,null,null,null,null,null,null,null,null,null,null,{"$f":"_xlfn.IFNA(IF(J19674>500,\"ומעלה 500\",VLOOKUP(J19674,טבלה1[#All],2,0)),\"\")","v":""}]
[null,null,null,null,null,null,null,null,null,null,null,{"$f":"_xlfn.IFNA(IF(J19675>500,\"ומעלה 500\",VLOOKUP(J19675,טבלה1[#All],2,0)),\"\")","v":""}]
[null,null,null,null,null,null,null,null,null,null,null,{"$f":"_xlfn.IFNA(IF(J19676>500,\"ומעלה 500\",VLOOKUP(J19676,טבלה1[#All],2,0)),\"\")","v":""}]
[null,null,null,null,null,null,null,null,null,null,null,{"$f":"_xlfn.IFNA(IF(J19677>500,\"ומעלה 500\",VLOOKUP(J19677,טבלה1[#All],2,0)),\"\")","v":""}]
[null,null,null,null,null,null,null,null,null,null,null,{"$f":"_xlfn.IFNA(IF(J19678>500,\"ומעלה 500\",VLOOKUP(J19678,טבלה1[#All],2,0)),\"\")","v":""}]
[null,null,null,null,null,null,null,null,null,null,null,{"$f":"_xlfn.IFNA(IF(J19679>500,\"ומעלה 500\",VLOOKUP(J19679,טבלה1[#All],2,0)),\"\")","v":""}]
[null,null,null,null,null,null,null,null,null,null,null,{"$f":"_xlfn.IFNA(IF(J19680>500,\"ומעלה 500\",VLOOKUP(J19680,טבלה1[#All],2,0)),\"\")","v":""}]
[null,null,null,null,null,null,null,null,null,null,null,{"$f":"_xlfn.IFNA(IF(J19681>500,\"ומעלה 500\",VLOOKUP(J19681,טבלה1[#All],2,0)),\"\")","v":""}]
[null,null,null,null,null,null,null,null,null,null,null,{"$f":"_xlfn.IFNA(IF(J19682>500,\"ומעלה 500\",VLOOKUP(J19682,טבלה1[#All],2,0)),\"\")","v":""}]
[null,null,null,null,null,null,null,null,null,null,null,{"$f":"_xlfn.IFNA(IF(J19683>500,\"ומעלה 500\",VLOOKUP(J19683,טבלה1[#All],2,0)),\"\")","v":""}]
[null,null,null,null,null,null,null,null,null,null,null,{"$f":"_xlfn.IFNA(IF(J19684>500,\"ומעלה 500\",VLOOKUP(J19684,טבלה1[#All],2,0)),\"\")","v":""}]
[null,null,null,null,null,null,null,null,null,null,null,{"$f":"_xlfn.IFNA(IF(J19685>500,\"ומעלה 500\",VLOOKUP(J19685,טבלה1[#All],2,0)),\"\")","v":""}]
[null,null,null,null,null,null,null,null,null,null,null,{"$f":"_xlfn.IFNA(IF(J19686>500,\"ומעלה 500\",VLOOKUP(J19686,טבלה1[#All],2,0)),\"\")","v":""}]
[null,null,null,null,null,null,null,null,null,null,null,{"$f":"_xlfn.IFNA(IF(J19687>500,\"ומעלה 500\",VLOOKUP(J19687,טבלה1[#All],2,0)),\"\")","v":""}]
[null,null,null,null,null,null,null,null,null,null,null,{"$f":"_xlfn.IFNA(IF(J19688>500,\"ומעלה 500\",VLOOKUP(J19688,טבלה1[#All],2,0)),\"\")","v":""}]
[null,null,null,null,null,null,null,null,null,null,null,{"$f":"_xlfn.IFNA(IF(J19689>500,\"ומעלה 500\",VLOOKUP(J19689,טבלה1[#All],2,0)),\"\")","v":""}]
[null,null,null,null,null,null,null,null,null,null,null,{"$f":"_xlfn.IFNA(IF(J19690>500,\"ומעלה 500\",VLOOKUP(J19690,טבלה1[#All],2,0)),\"\")","v":""}]
[null,null,null,null,null,null,null,null,null,null,null,{"$f":"_xlfn.IFNA(IF(J19691>500,\"ומעלה 500\",VLOOKUP(J19691,טבלה1[#All],2,0)),\"\")","v":""}]
[null,null,null,null,null,null,null,null,null,null,null,{"$f":"_xlfn.IFNA(IF(J19692>500,\"ומעלה 500\",VLOOKUP(J19692,טבלה1[#All],2,0)),\"\")","v":""}]
[null,null,null,null,null,null,null,null,null,null,null,{"$f":"_xlfn.IFNA(IF(J19693>500,\"ומעלה 500\",VLOOKUP(J19693,טבלה1[#All],2,0)),\"\")","v":""}]
[null,null,null,null,null,null,null,null,null,null,null,{"$f":"_xlfn.IFNA(IF(J19694>500,\"ומעלה 500\",VLOOKUP(J19694,טבלה1[#All],2,0)),\"\")","v":""}]
[null,null,null,null,null,null,null,null,null,null,null,{"$f":"_xlfn.IFNA(IF(J19695>500,\"ומעלה 500\",VLOOKUP(J19695,טבלה1[#All],2,0)),\"\")","v":""}]
[null,null,null,null,null,null,null,null,null,null,null,{"$f":"_xlfn.IFNA(IF(J19696>500,\"ומעלה 500\",VLOOKUP(J19696,טבלה1[#All],2,0)),\"\")","v":""}]
[null,null,null,null,null,null,null,null,null,null,null,{"$f":"_xlfn.IFNA(IF(J19697>500,\"ומעלה 500\",VLOOKUP(J19697,טבלה1[#All],2,0)),\"\")","v":""}]
[null,null,null,null,null,null,null,null,null,null,null,{"$f":"_xlfn.IFNA(IF(J19698>500,\"ומעלה 500\",VLOOKUP(J19698,טבלה1[#All],2,0)),\"\")","v":""}]
[null,null,null,null,null,null,null,null,null,null,null,{"$f":"_xlfn.IFNA(IF(J19699>500,\"ומעלה 500\",VLOOKUP(J19699,טבלה1[#All],2,0)),\"\")","v":""}]
[null,null,null,null,null,null,null,null,null,null,null,{"$f":"_xlfn.IFNA(IF(J19700>500,\"ומעלה 500\",VLOOKUP(J19700,טבלה1[#All],2,0)),\"\")","v":""}]
[null,null,null,null,null,null,null,null,null,null,null,{"$f":"_xlfn.IFNA(IF(J19701>500,\"ומעלה 500\",VLOOKUP(J19701,טבלה1[#All],2,0)),\"\")","v":""}]
[null,null,null,null,null,null,null,null,null,null,null,{"$f":"_xlfn.IFNA(IF(J19702>500,\"ומעלה 500\",VLOOKUP(J19702,טבלה1[#All],2,0)),\"\")","v":""}]
[null,null,null,null,null,null,null,null,null,null,null,{"$f":"_xlfn.IFNA(IF(J19703>500,\"ומעלה 500\",VLOOKUP(J19703,טבלה1[#All],2,0)),\"\")","v":""}]
[null,null,null,null,null,null,null,null,null,null,null,{"$f":"_xlfn.IFNA(IF(J19704>500,\"ומעלה 500\",VLOOKUP(J19704,טבלה1[#All],2,0)),\"\")","v":""}]
[null,null,null,null,null,null,null,null,null,null,null,{"$f":"_xlfn.IFNA(IF(J19705>500,\"ומעלה 500\",VLOOKUP(J19705,טבלה1[#All],2,0)),\"\")","v":""}]
[null,null,null,null,null,null,null,null,null,null,null,{"$f":"_xlfn.IFNA(IF(J19706>500,\"ומעלה 500\",VLOOKUP(J19706,טבלה1[#All],2,0)),\"\")","v":""}]
[null,null,null,null,null,null,null,null,null,null,null,{"$f":"_xlfn.IFNA(IF(J19707>500,\"ומעלה 500\",VLOOKUP(J19707,טבלה1[#All],2,0)),\"\")","v":""}]
[null,null,null,null,null,null,null,null,null,null,null,{"$f":"_xlfn.IFNA(IF(J19708>500,\"ומעלה 500\",VLOOKUP(J19708,טבלה1[#All],2,0)),\"\")","v":""}]
[null,null,null,null,null,null,null,null,null,null,null,{"$f":"_xlfn.IFNA(IF(J19709>500,\"ומעלה 500\",VLOOKUP(J19709,טבלה1[#All],2,0)),\"\")","v":""}]
[null,null,null,null,null,null,null,null,null,null,null,{"$f":"_xlfn.IFNA(IF(J19710>500,\"ומעלה 500\",VLOOKUP(J19710,טבלה1[#All],2,0)),\"\")","v":""}]
[null,null,null,null,null,null,null,null,null,null,null,{"$f":"_xlfn.IFNA(IF(J19711>500,\"ומעלה 500\",VLOOKUP(J19711,טבלה1[#All],2,0)),\"\")","v":""}]
[null,null,null,null,null,null,null,null,null,null,null,{"$f":"_xlfn.IFNA(IF(J19712>500,\"ומעלה 500\",VLOOKUP(J19712,טבלה1[#All],2,0)),\"\")","v":""}]
[null,null,null,null,null,null,null,null,null,null,null,{"$f":"_xlfn.IFNA(IF(J19713>500,\"ומעלה 500\",VLOOKUP(J19713,טבלה1[#All],2,0)),\"\")","v":""}]
[null,null,null,null,null,null,null,null,null,null,null,{"$f":"_xlfn.IFNA(IF(J19714>500,\"ומעלה 500\",VLOOKUP(J19714,טבלה1[#All],2,0)),\"\")","v":""}]
[null,null,null,null,null,null,null,null,null,null,null,{"$f":"_xlfn.IFNA(IF(J19715>500,\"ומעלה 500\",VLOOKUP(J19715,טבלה1[#All],2,0)),\"\")","v":""}]
[null,null,null,null,null,null,null,null,null,null,null,{"$f":"_xlfn.IFNA(IF(J19716>500,\"ומעלה 500\",VLOOKUP(J19716,טבלה1[#All],2,0)),\"\")","v":""}]
[null,null,null,null,null,null,null,null,null,null,null,{"$f":"_xlfn.IFNA(IF(J19717>500,\"ומעלה 500\",VLOOKUP(J19717,טבלה1[#All],2,0)),\"\")","v":""}]
[null,null,null,null,null,null,null,null,null,null,null,{"$f":"_xlfn.IFNA(IF(J19718>500,\"ומעלה 500\",VLOOKUP(J19718,טבלה1[#All],2,0)),\"\")","v":""}]
[null,null,null,null,null,null,null,null,null,null,null,{"$f":"_xlfn.IFNA(IF(J19719>500,\"ומעלה 500\",VLOOKUP(J19719,טבלה1[#All],2,0)),\"\")","v":""}]
[null,null,null,null,null,null,null,null,null,null,null,{"$f":"_xlfn.IFNA(IF(J19720>500,\"ומעלה 500\",VLOOKUP(J19720,טבלה1[#All],2,0)),\"\")","v":""}]
[null,null,null,null,null,null,null,null,null,null,null,{"$f":"_xlfn.IFNA(IF(J19721>500,\"ומעלה 500\",VLOOKUP(J19721,טבלה1[#All],2,0)),\"\")","v":""}]
[null,null,null,null,null,null,null,null,null,null,null,{"$f":"_xlfn.IFNA(IF(J19722>500,\"ומעלה 500\",VLOOKUP(J19722,טבלה1[#All],2,0)),\"\")","v":""}]
[null,null,null,null,null,null,null,null,null,null,null,{"$f":"_xlfn.IFNA(IF(J19723>500,\"ומעלה 500\",VLOOKUP(J19723,טבלה1[#All],2,0)),\"\")","v":""}]
[null,null,null,null,null,null,null,null,null,null,null,{"$f":"_xlfn.IFNA(IF(J19724>500,\"ומעלה 500\",VLOOKUP(J19724,טבלה1[#All],2,0)),\"\")","v":""}]
[null,null,null,null,null,null,null,null,null,null,null,{"$f":"_xlfn.IFNA(IF(J19725>500,\"ומעלה 500\",VLOOKUP(J19725,טבלה1[#All],2,0)),\"\")","v":""}]
[null,null,null,null,null,null,null,null,null,null,null,{"$f":"_xlfn.IFNA(IF(J19726>500,\"ומעלה 500\",VLOOKUP(J19726,טבלה1[#All],2,0)),\"\")","v":""}]
[null,null,null,null,null,null,null,null,null,null,null,{"$f":"_xlfn.IFNA(IF(J19727>500,\"ומעלה 500\",VLOOKUP(J19727,טבלה1[#All],2,0)),\"\")","v":""}]
[null,null,null,null,null,null,null,null,null,null,null,{"$f":"_xlfn.IFNA(IF(J19728>500,\"ומעלה 500\",VLOOKUP(J19728,טבלה1[#All],2,0)),\"\")","v":""}]
[null,null,null,null,null,null,null,null,null,null,null,{"$f":"_xlfn.IFNA(IF(J19729>500,\"ומעלה 500\",VLOOKUP(J19729,טבלה1[#All],2,0)),\"\")","v":""}]
[null,null,null,null,null,null,null,null,null,null,null,{"$f":"_xlfn.IFNA(IF(J19730>500,\"ומעלה 500\",VLOOKUP(J19730,טבלה1[#All],2,0)),\"\")","v":""}]
[null,null,null,null,null,null,null,null,null,null,null,{"$f":"_xlfn.IFNA(IF(J19731>500,\"ומעלה 500\",VLOOKUP(J19731,טבלה1[#All],2,0)),\"\")","v":""}]
[null,null,null,null,null,null,null,null,null,null,null,{"$f":"_xlfn.IFNA(IF(J19732>500,\"ומעלה 500\",VLOOKUP(J19732,טבלה1[#All],2,0)),\"\")","v":""}]
[null,null,null,null,null,null,null,null,null,null,null,{"$f":"_xlfn.IFNA(IF(J19733>500,\"ומעלה 500\",VLOOKUP(J19733,טבלה1[#All],2,0)),\"\")","v":""}]
[null,null,null,null,null,null,null,null,null,null,null,{"$f":"_xlfn.IFNA(IF(J19734>500,\"ומעלה 500\",VLOOKUP(J19734,טבלה1[#All],2,0)),\"\")","v":""}]
[null,null,null,null,null,null,null,null,null,null,null,{"$f":"_xlfn.IFNA(IF(J19735>500,\"ומעלה 500\",VLOOKUP(J19735,טבלה1[#All],2,0)),\"\")","v":""}]
[null,null,null,null,null,null,null,null,null,null,null,{"$f":"_xlfn.IFNA(IF(J19736>500,\"ומעלה 500\",VLOOKUP(J19736,טבלה1[#All],2,0)),\"\")","v":""}]
[null,null,null,null,null,null,null,null,null,null,null,{"$f":"_xlfn.IFNA(IF(J19737>500,\"ומעלה 500\",VLOOKUP(J19737,טבלה1[#All],2,0)),\"\")","v":""}]
[null,null,null,null,null,null,null,null,null,null,null,{"$f":"_xlfn.IFNA(IF(J19738>500,\"ומעלה 500\",VLOOKUP(J19738,טבלה1[#All],2,0)),\"\")","v":""}]
[null,null,null,null,null,null,null,null,null,null,null,{"$f":"_xlfn.IFNA(IF(J19739>500,\"ומעלה 500\",VLOOKUP(J19739,טבלה1[#All],2,0)),\"\")","v":""}]
[null,null,null,null,null,null,null,null,null,null,null,{"$f":"_xlfn.IFNA(IF(J19740>500,\"ומעלה 500\",VLOOKUP(J19740,טבלה1[#All],2,0)),\"\")","v":""}]
[null,null,null,null,null,null,null,null,null,null,null,{"$f":"_xlfn.IFNA(IF(J19741>500,\"ומעלה 500\",VLOOKUP(J19741,טבלה1[#All],2,0)),\"\")","v":""}]
[null,null,null,null,null,null,null,null,null,null,null,{"$f":"_xlfn.IFNA(IF(J19742>500,\"ומעלה 500\",VLOOKUP(J19742,טבלה1[#All],2,0)),\"\")","v":""}]
[null,null,null,null,null,null,null,null,null,null,null,{"$f":"_xlfn.IFNA(IF(J19743>500,\"ומעלה 500\",VLOOKUP(J19743,טבלה1[#All],2,0)),\"\")","v":""}]
[null,null,null,null,null,null,null,null,null,null,null,{"$f":"_xlfn.IFNA(IF(J19744>500,\"ומעלה 500\",VLOOKUP(J19744,טבלה1[#All],2,0)),\"\")","v":""}]
[null,null,null,null,null,null,null,null,null,null,null,{"$f":"_xlfn.IFNA(IF(J19745>500,\"ומעלה 500\",VLOOKUP(J19745,טבלה1[#All],2,0)),\"\")","v":""}]
[null,null,null,null,null,null,null,null,null,null,null,{"$f":"_xlfn.IFNA(IF(J19746>500,\"ומעלה 500\",VLOOKUP(J19746,טבלה1[#All],2,0)),\"\")","v":""}]
[null,null,null,null,null,null,null,null,null,null,null,{"$f":"_xlfn.IFNA(IF(J19747>500,\"ומעלה 500\",VLOOKUP(J19747,טבלה1[#All],2,0)),\"\")","v":""}]
[null,null,null,null,null,null,null,null,null,null,null,{"$f":"_xlfn.IFNA(IF(J19748>500,\"ומעלה 500\",VLOOKUP(J19748,טבלה1[#All],2,0)),\"\")","v":""}]
[null,null,null,null,null,null,null,null,null,null,null,{"$f":"_xlfn.IFNA(IF(J19749>500,\"ומעלה 500\",VLOOKUP(J19749,טבלה1[#All],2,0)),\"\")","v":""}]
[null,null,null,null,null,null,null,null,null,null,null,{"$f":"_xlfn.IFNA(IF(J19750>500,\"ומעלה 500\",VLOOKUP(J19750,טבלה1[#All],2,0)),\"\")","v":""}]
[null,null,null,null,null,null,null,null,null,null,null,{"$f":"_xlfn.IFNA(IF(J19751>500,\"ומעלה 500\",VLOOKUP(J19751,טבלה1[#All],2,0)),\"\")","v":""}]
[null,null,null,null,null,null,null,null,null,null,null,{"$f":"_xlfn.IFNA(IF(J19752>500,\"ומעלה 500\",VLOOKUP(J19752,טבלה1[#All],2,0)),\"\")","v":""}]
[null,null,null,null,null,null,null,null,null,null,null,{"$f":"_xlfn.IFNA(IF(J19753>500,\"ומעלה 500\",VLOOKUP(J19753,טבלה1[#All],2,0)),\"\")","v":""}]
[null,null,null,null,null,null,null,null,null,null,null,{"$f":"_xlfn.IFNA(IF(J19754>500,\"ומעלה 500\",VLOOKUP(J19754,טבלה1[#All],2,0)),\"\")","v":""}]
[null,null,null,null,null,null,null,null,null,null,null,{"$f":"_xlfn.IFNA(IF(J19755>500,\"ומעלה 500\",VLOOKUP(J19755,טבלה1[#All],2,0)),\"\")","v":""}]
[null,null,null,null,null,null,null,null,null,null,null,{"$f":"_xlfn.IFNA(IF(J19756>500,\"ומעלה 500\",VLOOKUP(J19756,טבלה1[#All],2,0)),\"\")","v":""}]
[null,null,null,null,null,null,null,null,null,null,null,{"$f":"_xlfn.IFNA(IF(J19757>500,\"ומעלה 500\",VLOOKUP(J19757,טבלה1[#All],2,0)),\"\")","v":""}]
[null,null,null,null,null,null,null,null,null,null,null,{"$f":"_xlfn.IFNA(IF(J19758>500,\"ומעלה 500\",VLOOKUP(J19758,טבלה1[#All],2,0)),\"\")","v":""}]
[null,null,null,null,null,null,null,null,null,null,null,{"$f":"_xlfn.IFNA(IF(J19759>500,\"ומעלה 500\",VLOOKUP(J19759,טבלה1[#All],2,0)),\"\")","v":""}]
[null,null,null,null,null,null,null,null,null,null,null,{"$f":"_xlfn.IFNA(IF(J19760>500,\"ומעלה 500\",VLOOKUP(J19760,טבלה1[#All],2,0)),\"\")","v":""}]
[null,null,null,null,null,null,null,null,null,null,null,{"$f":"_xlfn.IFNA(IF(J19761>500,\"ומעלה 500\",VLOOKUP(J19761,טבלה1[#All],2,0)),\"\")","v":""}]
[null,null,null,null,null,null,null,null,null,null,null,{"$f":"_xlfn.IFNA(IF(J19762>500,\"ומעלה 500\",VLOOKUP(J19762,טבלה1[#All],2,0)),\"\")","v":""}]
[null,null,null,null,null,null,null,null,null,null,null,{"$f":"_xlfn.IFNA(IF(J19763>500,\"ומעלה 500\",VLOOKUP(J19763,טבלה1[#All],2,0)),\"\")","v":""}]
[null,null,null,null,null,null,null,null,null,null,null,{"$f":"_xlfn.IFNA(IF(J19764>500,\"ומעלה 500\",VLOOKUP(J19764,טבלה1[#All],2,0)),\"\")","v":""}]
[null,null,null,null,null,null,null,null,null,null,null,{"$f":"_xlfn.IFNA(IF(J19765>500,\"ומעלה 500\",VLOOKUP(J19765,טבלה1[#All],2,0)),\"\")","v":""}]
[null,null,null,null,null,null,null,null,null,null,null,{"$f":"_xlfn.IFNA(IF(J19766>500,\"ומעלה 500\",VLOOKUP(J19766,טבלה1[#All],2,0)),\"\")","v":""}]
[null,null,null,null,null,null,null,null,null,null,null,{"$f":"_xlfn.IFNA(IF(J19767>500,\"ומעלה 500\",VLOOKUP(J19767,טבלה1[#All],2,0)),\"\")","v":""}]
[null,null,null,null,null,null,null,null,null,null,null,{"$f":"_xlfn.IFNA(IF(J19768>500,\"ומעלה 500\",VLOOKUP(J19768,טבלה1[#All],2,0)),\"\")","v":""}]
[null,null,null,null,null,null,null,null,null,null,null,{"$f":"_xlfn.IFNA(IF(J19769>500,\"ומעלה 500\",VLOOKUP(J19769,טבלה1[#All],2,0)),\"\")","v":""}]
[null,null,null,null,null,null,null,null,null,null,null,{"$f":"_xlfn.IFNA(IF(J19770>500,\"ומעלה 500\",VLOOKUP(J19770,טבלה1[#All],2,0)),\"\")","v":""}]
[null,null,null,null,null,null,null,null,null,null,null,{"$f":"_xlfn.IFNA(IF(J19771>500,\"ומעלה 500\",VLOOKUP(J19771,טבלה1[#All],2,0)),\"\")","v":""}]
[null,null,null,null,null,null,null,null,null,null,null,{"$f":"_xlfn.IFNA(IF(J19772>500,\"ומעלה 500\",VLOOKUP(J19772,טבלה1[#All],2,0)),\"\")","v":""}]
[null,null,null,null,null,null,null,null,null,null,null,{"$f":"_xlfn.IFNA(IF(J19773>500,\"ומעלה 500\",VLOOKUP(J19773,טבלה1[#All],2,0)),\"\")","v":""}]
[null,null,null,null,null,null,null,null,null,null,null,{"$f":"_xlfn.IFNA(IF(J19774>500,\"ומעלה 500\",VLOOKUP(J19774,טבלה1[#All],2,0)),\"\")","v":""}]
[null,null,null,null,null,null,null,null,null,null,null,{"$f":"_xlfn.IFNA(IF(J19775>500,\"ומעלה 500\",VLOOKUP(J19775,טבלה1[#All],2,0)),\"\")","v":""}]
[null,null,null,null,null,null,null,null,null,null,null,{"$f":"_xlfn.IFNA(IF(J19776>500,\"ומעלה 500\",VLOOKUP(J19776,טבלה1[#All],2,0)),\"\")","v":""}]
[null,null,null,null,null,null,null,null,null,null,null,{"$f":"_xlfn.IFNA(IF(J19777>500,\"ומעלה 500\",VLOOKUP(J19777,טבלה1[#All],2,0)),\"\")","v":""}]
[null,null,null,null,null,null,null,null,null,null,null,{"$f":"_xlfn.IFNA(IF(J19778>500,\"ומעלה 500\",VLOOKUP(J19778,טבלה1[#All],2,0)),\"\")","v":""}]
[null,null,null,null,null,null,null,null,null,null,null,{"$f":"_xlfn.IFNA(IF(J19779>500,\"ומעלה 500\",VLOOKUP(J19779,טבלה1[#All],2,0)),\"\")","v":""}]
[null,null,null,null,null,null,null,null,null,null,null,{"$f":"_xlfn.IFNA(IF(J19780>500,\"ומעלה 500\",VLOOKUP(J19780,טבלה1[#All],2,0)),\"\")","v":""}]
[null,null,null,null,null,null,null,null,null,null,null,{"$f":"_xlfn.IFNA(IF(J19781>500,\"ומעלה 500\",VLOOKUP(J19781,טבלה1[#All],2,0)),\"\")","v":""}]
[null,null,null,null,null,null,null,null,null,null,null,{"$f":"_xlfn.IFNA(IF(J19782>500,\"ומעלה 500\",VLOOKUP(J19782,טבלה1[#All],2,0)),\"\")","v":""}]
[null,null,null,null,null,null,null,null,null,null,null,{"$f":"_xlfn.IFNA(IF(J19783>500,\"ומעלה 500\",VLOOKUP(J19783,טבלה1[#All],2,0)),\"\")","v":""}]
[null,null,null,null,null,null,null,null,null,null,null,{"$f":"_xlfn.IFNA(IF(J19784>500,\"ומעלה 500\",VLOOKUP(J19784,טבלה1[#All],2,0)),\"\")","v":""}]
[null,null,null,null,null,null,null,null,null,null,null,{"$f":"_xlfn.IFNA(IF(J19785>500,\"ומעלה 500\",VLOOKUP(J19785,טבלה1[#All],2,0)),\"\")","v":""}]
[null,null,null,null,null,null,null,null,null,null,null,{"$f":"_xlfn.IFNA(IF(J19786>500,\"ומעלה 500\",VLOOKUP(J19786,טבלה1[#All],2,0)),\"\")","v":""}]
[null,null,null,null,null,null,null,null,null,null,null,{"$f":"_xlfn.IFNA(IF(J19787>500,\"ומעלה 500\",VLOOKUP(J19787,טבלה1[#All],2,0)),\"\")","v":""}]
[null,null,null,null,null,null,null,null,null,null,null,{"$f":"_xlfn.IFNA(IF(J19788>500,\"ומעלה 500\",VLOOKUP(J19788,טבלה1[#All],2,0)),\"\")","v":""}]
[null,null,null,null,null,null,null,null,null,null,null,{"$f":"_xlfn.IFNA(IF(J19789>500,\"ומעלה 500\",VLOOKUP(J19789,טבלה1[#All],2,0)),\"\")","v":""}]
[null,null,null,null,null,null,null,null,null,null,null,{"$f":"_xlfn.IFNA(IF(J19790>500,\"ומעלה 500\",VLOOKUP(J19790,טבלה1[#All],2,0)),\"\")","v":""}]
[null,null,null,null,null,null,null,null,null,null,null,{"$f":"_xlfn.IFNA(IF(J19791>500,\"ומעלה 500\",VLOOKUP(J19791,טבלה1[#All],2,0)),\"\")","v":""}]
[null,null,null,null,null,null,null,null,null,null,null,{"$f":"_xlfn.IFNA(IF(J19792>500,\"ומעלה 500\",VLOOKUP(J19792,טבלה1[#All],2,0)),\"\")","v":""}]
[null,null,null,null,null,null,null,null,null,null,null,{"$f":"_xlfn.IFNA(IF(J19793>500,\"ומעלה 500\",VLOOKUP(J19793,טבלה1[#All],2,0)),\"\")","v":""}]
[null,null,null,null,null,null,null,null,null,null,null,{"$f":"_xlfn.IFNA(IF(J19794>500,\"ומעלה 500\",VLOOKUP(J19794,טבלה1[#All],2,0)),\"\")","v":""}]
[null,null,null,null,null,null,null,null,null,null,null,{"$f":"_xlfn.IFNA(IF(J19795>500,\"ומעלה 500\",VLOOKUP(J19795,טבלה1[#All],2,0)),\"\")","v":""}]
[null,null,null,null,null,null,null,null,null,null,null,{"$f":"_xlfn.IFNA(IF(J19796>500,\"ומעלה 500\",VLOOKUP(J19796,טבלה1[#All],2,0)),\"\")","v":""}]
[null,null,null,null,null,null,null,null,null,null,null,{"$f":"_xlfn.IFNA(IF(J19797>500,\"ומעלה 500\",VLOOKUP(J19797,טבלה1[#All],2,0)),\"\")","v":""}]
[null,null,null,null,null,null,null,null,null,null,null,{"$f":"_xlfn.IFNA(IF(J19798>500,\"ומעלה 500\",VLOOKUP(J19798,טבלה1[#All],2,0)),\"\")","v":""}]
[null,null,null,null,null,null,null,null,null,null,null,{"$f":"_xlfn.IFNA(IF(J19799>500,\"ומעלה 500\",VLOOKUP(J19799,טבלה1[#All],2,0)),\"\")","v":""}]
[null,null,null,null,null,null,null,null,null,null,null,{"$f":"_xlfn.IFNA(IF(J19800>500,\"ומעלה 500\",VLOOKUP(J19800,טבלה1[#All],2,0)),\"\")","v":""}]
[null,null,null,null,null,null,null,null,null,null,null,{"$f":"_xlfn.IFNA(IF(J19801>500,\"ומעלה 500\",VLOOKUP(J19801,טבלה1[#All],2,0)),\"\")","v":""}]
[null,null,null,null,null,null,null,null,null,null,null,{"$f":"_xlfn.IFNA(IF(J19802>500,\"ומעלה 500\",VLOOKUP(J19802,טבלה1[#All],2,0)),\"\")","v":""}]
[null,null,null,null,null,null,null,null,null,null,null,{"$f":"_xlfn.IFNA(IF(J19803>500,\"ומעלה 500\",VLOOKUP(J19803,טבלה1[#All],2,0)),\"\")","v":""}]
[null,null,null,null,null,null,null,null,null,null,null,{"$f":"_xlfn.IFNA(IF(J19804>500,\"ומעלה 500\",VLOOKUP(J19804,טבלה1[#All],2,0)),\"\")","v":""}]
[null,null,null,null,null,null,null,null,null,null,null,{"$f":"_xlfn.IFNA(IF(J19805>500,\"ומעלה 500\",VLOOKUP(J19805,טבלה1[#All],2,0)),\"\")","v":""}]
[null,null,null,null,null,null,null,null,null,null,null,{"$f":"_xlfn.IFNA(IF(J19806>500,\"ומעלה 500\",VLOOKUP(J19806,טבלה1[#All],2,0)),\"\")","v":""}]
[null,null,null,null,null,null,null,null,null,null,null,{"$f":"_xlfn.IFNA(IF(J19807>500,\"ומעלה 500\",VLOOKUP(J19807,טבלה1[#All],2,0)),\"\")","v":""}]
[null,null,null,null,null,null,null,null,null,null,null,{"$f":"_xlfn.IFNA(IF(J19808>500,\"ומעלה 500\",VLOOKUP(J19808,טבלה1[#All],2,0)),\"\")","v":""}]
[null,null,null,null,null,null,null,null,null,null,null,{"$f":"_xlfn.IFNA(IF(J19809>500,\"ומעלה 500\",VLOOKUP(J19809,טבלה1[#All],2,0)),\"\")","v":""}]
[null,null,null,null,null,null,null,null,null,null,null,{"$f":"_xlfn.IFNA(IF(J19810>500,\"ומעלה 500\",VLOOKUP(J19810,טבלה1[#All],2,0)),\"\")","v":""}]
[null,null,null,null,null,null,null,null,null,null,null,{"$f":"_xlfn.IFNA(IF(J19811>500,\"ומעלה 500\",VLOOKUP(J19811,טבלה1[#All],2,0)),\"\")","v":""}]
[null,null,null,null,null,null,null,null,null,null,null,{"$f":"_xlfn.IFNA(IF(J19812>500,\"ומעלה 500\",VLOOKUP(J19812,טבלה1[#All],2,0)),\"\")","v":""}]
[null,null,null,null,null,null,null,null,null,null,null,{"$f":"_xlfn.IFNA(IF(J19813>500,\"ומעלה 500\",VLOOKUP(J19813,טבלה1[#All],2,0)),\"\")","v":""}]
[null,null,null,null,null,null,null,null,null,null,null,{"$f":"_xlfn.IFNA(IF(J19814>500,\"ומעלה 500\",VLOOKUP(J19814,טבלה1[#All],2,0)),\"\")","v":""}]
[null,null,null,null,null,null,null,null,null,null,null,{"$f":"_xlfn.IFNA(IF(J19815>500,\"ומעלה 500\",VLOOKUP(J19815,טבלה1[#All],2,0)),\"\")","v":""}]
[null,null,null,null,null,null,null,null,null,null,null,{"$f":"_xlfn.IFNA(IF(J19816>500,\"ומעלה 500\",VLOOKUP(J19816,טבלה1[#All],2,0)),\"\")","v":""}]
[null,null,null,null,null,null,null,null,null,null,null,{"$f":"_xlfn.IFNA(IF(J19817>500,\"ומעלה 500\",VLOOKUP(J19817,טבלה1[#All],2,0)),\"\")","v":""}]
[null,null,null,null,null,null,null,null,null,null,null,{"$f":"_xlfn.IFNA(IF(J19818>500,\"ומעלה 500\",VLOOKUP(J19818,טבלה1[#All],2,0)),\"\")","v":""}]
[null,null,null,null,null,null,null,null,null,null,null,{"$f":"_xlfn.IFNA(IF(J19819>500,\"ומעלה 500\",VLOOKUP(J19819,טבלה1[#All],2,0)),\"\")","v":""}]
[null,null,null,null,null,null,null,null,null,null,null,{"$f":"_xlfn.IFNA(IF(J19820>500,\"ומעלה 500\",VLOOKUP(J19820,טבלה1[#All],2,0)),\"\")","v":""}]
[null,null,null,null,null,null,null,null,null,null,null,{"$f":"_xlfn.IFNA(IF(J19821>500,\"ומעלה 500\",VLOOKUP(J19821,טבלה1[#All],2,0)),\"\")","v":""}]
[null,null,null,null,null,null,null,null,null,null,null,{"$f":"_xlfn.IFNA(IF(J19822>500,\"ומעלה 500\",VLOOKUP(J19822,טבלה1[#All],2,0)),\"\")","v":""}]
[null,null,null,null,null,null,null,null,null,null,null,{"$f":"_xlfn.IFNA(IF(J19823>500,\"ומעלה 500\",VLOOKUP(J19823,טבלה1[#All],2,0)),\"\")","v":""}]
[null,null,null,null,null,null,null,null,null,null,null,{"$f":"_xlfn.IFNA(IF(J19824>500,\"ומעלה 500\",VLOOKUP(J19824,טבלה1[#All],2,0)),\"\")","v":""}]
[null,null,null,null,null,null,null,null,null,null,null,{"$f":"_xlfn.IFNA(IF(J19825>500,\"ומעלה 500\",VLOOKUP(J19825,טבלה1[#All],2,0)),\"\")","v":""}]
[null,null,null,null,null,null,null,null,null,null,null,{"$f":"_xlfn.IFNA(IF(J19826>500,\"ומעלה 500\",VLOOKUP(J19826,טבלה1[#All],2,0)),\"\")","v":""}]
[null,null,null,null,null,null,null,null,null,null,null,{"$f":"_xlfn.IFNA(IF(J19827>500,\"ומעלה 500\",VLOOKUP(J19827,טבלה1[#All],2,0)),\"\")","v":""}]
[null,null,null,null,null,null,null,null,null,null,null,{"$f":"_xlfn.IFNA(IF(J19828>500,\"ומעלה 500\",VLOOKUP(J19828,טבלה1[#All],2,0)),\"\")","v":""}]
[null,null,null,null,null,null,null,null,null,null,null,{"$f":"_xlfn.IFNA(IF(J19829>500,\"ומעלה 500\",VLOOKUP(J19829,טבלה1[#All],2,0)),\"\")","v":""}]
[null,null,null,null,null,null,null,null,null,null,null,{"$f":"_xlfn.IFNA(IF(J19830>500,\"ומעלה 500\",VLOOKUP(J19830,טבלה1[#All],2,0)),\"\")","v":""}]
[null,null,null,null,null,null,null,null,null,null,null,{"$f":"_xlfn.IFNA(IF(J19831>500,\"ומעלה 500\",VLOOKUP(J19831,טבלה1[#All],2,0)),\"\")","v":""}]
[null,null,null,null,null,null,null,null,null,null,null,{"$f":"_xlfn.IFNA(IF(J19832>500,\"ומעלה 500\",VLOOKUP(J19832,טבלה1[#All],2,0)),\"\")","v":""}]
[null,null,null,null,null,null,null,null,null,null,null,{"$f":"_xlfn.IFNA(IF(J19833>500,\"ומעלה 500\",VLOOKUP(J19833,טבלה1[#All],2,0)),\"\")","v":""}]
[null,null,null,null,null,null,null,null,null,null,null,{"$f":"_xlfn.IFNA(IF(J19834>500,\"ומעלה 500\",VLOOKUP(J19834,טבלה1[#All],2,0)),\"\")","v":""}]
[null,null,null,null,null,null,null,null,null,null,null,{"$f":"_xlfn.IFNA(IF(J19835>500,\"ומעלה 500\",VLOOKUP(J19835,טבלה1[#All],2,0)),\"\")","v":""}]
[null,null,null,null,null,null,null,null,null,null,null,{"$f":"_xlfn.IFNA(IF(J19836>500,\"ומעלה 500\",VLOOKUP(J19836,טבלה1[#All],2,0)),\"\")","v":""}]
[null,null,null,null,null,null,null,null,null,null,null,{"$f":"_xlfn.IFNA(IF(J19837>500,\"ומעלה 500\",VLOOKUP(J19837,טבלה1[#All],2,0)),\"\")","v":""}]
[null,null,null,null,null,null,null,null,null,null,null,{"$f":"_xlfn.IFNA(IF(J19838>500,\"ומעלה 500\",VLOOKUP(J19838,טבלה1[#All],2,0)),\"\")","v":""}]
[null,null,null,null,null,null,null,null,null,null,null,{"$f":"_xlfn.IFNA(IF(J19839>500,\"ומעלה 500\",VLOOKUP(J19839,טבלה1[#All],2,0)),\"\")","v":""}]
[null,null,null,null,null,null,null,null,null,null,null,{"$f":"_xlfn.IFNA(IF(J19840>500,\"ומעלה 500\",VLOOKUP(J19840,טבלה1[#All],2,0)),\"\")","v":""}]
[null,null,null,null,null,null,null,null,null,null,null,{"$f":"_xlfn.IFNA(IF(J19841>500,\"ומעלה 500\",VLOOKUP(J19841,טבלה1[#All],2,0)),\"\")","v":""}]
[null,null,null,null,null,null,null,null,null,null,null,{"$f":"_xlfn.IFNA(IF(J19842>500,\"ומעלה 500\",VLOOKUP(J19842,טבלה1[#All],2,0)),\"\")","v":""}]
[null,null,null,null,null,null,null,null,null,null,null,{"$f":"_xlfn.IFNA(IF(J19843>500,\"ומעלה 500\",VLOOKUP(J19843,טבלה1[#All],2,0)),\"\")","v":""}]
[null,null,null,null,null,null,null,null,null,null,null,{"$f":"_xlfn.IFNA(IF(J19844>500,\"ומעלה 500\",VLOOKUP(J19844,טבלה1[#All],2,0)),\"\")","v":""}]
[null,null,null,null,null,null,null,null,null,null,null,{"$f":"_xlfn.IFNA(IF(J19845>500,\"ומעלה 500\",VLOOKUP(J19845,טבלה1[#All],2,0)),\"\")","v":""}]
[null,null,null,null,null,null,null,null,null,null,null,{"$f":"_xlfn.IFNA(IF(J19846>500,\"ומעלה 500\",VLOOKUP(J19846,טבלה1[#All],2,0)),\"\")","v":""}]
[null,null,null,null,null,null,null,null,null,null,null,{"$f":"_xlfn.IFNA(IF(J19847>500,\"ומעלה 500\",VLOOKUP(J19847,טבלה1[#All],2,0)),\"\")","v":""}]
[null,null,null,null,null,null,null,null,null,null,null,{"$f":"_xlfn.IFNA(IF(J19848>500,\"ומעלה 500\",VLOOKUP(J19848,טבלה1[#All],2,0)),\"\")","v":""}]
[null,null,null,null,null,null,null,null,null,null,null,{"$f":"_xlfn.IFNA(IF(J19849>500,\"ומעלה 500\",VLOOKUP(J19849,טבלה1[#All],2,0)),\"\")","v":""}]
[null,null,null,null,null,null,null,null,null,null,null,{"$f":"_xlfn.IFNA(IF(J19850>500,\"ומעלה 500\",VLOOKUP(J19850,טבלה1[#All],2,0)),\"\")","v":""}]
[null,null,null,null,null,null,null,null,null,null,null,{"$f":"_xlfn.IFNA(IF(J19851>500,\"ומעלה 500\",VLOOKUP(J19851,טבלה1[#All],2,0)),\"\")","v":""}]
[null,null,null,null,null,null,null,null,null,null,null,{"$f":"_xlfn.IFNA(IF(J19852>500,\"ומעלה 500\",VLOOKUP(J19852,טבלה1[#All],2,0)),\"\")","v":""}]
[null,null,null,null,null,null,null,null,null,null,null,{"$f":"_xlfn.IFNA(IF(J19853>500,\"ומעלה 500\",VLOOKUP(J19853,טבלה1[#All],2,0)),\"\")","v":""}]
[null,null,null,null,null,null,null,null,null,null,null,{"$f":"_xlfn.IFNA(IF(J19854>500,\"ומעלה 500\",VLOOKUP(J19854,טבלה1[#All],2,0)),\"\")","v":""}]
[null,null,null,null,null,null,null,null,null,null,null,{"$f":"_xlfn.IFNA(IF(J19855>500,\"ומעלה 500\",VLOOKUP(J19855,טבלה1[#All],2,0)),\"\")","v":""}]
[null,null,null,null,null,null,null,null,null,null,null,{"$f":"_xlfn.IFNA(IF(J19856>500,\"ומעלה 500\",VLOOKUP(J19856,טבלה1[#All],2,0)),\"\")","v":""}]
[null,null,null,null,null,null,null,null,null,null,null,{"$f":"_xlfn.IFNA(IF(J19857>500,\"ומעלה 500\",VLOOKUP(J19857,טבלה1[#All],2,0)),\"\")","v":""}]
[null,null,null,null,null,null,null,null,null,null,null,{"$f":"_xlfn.IFNA(IF(J19858>500,\"ומעלה 500\",VLOOKUP(J19858,טבלה1[#All],2,0)),\"\")","v":""}]
[null,null,null,null,null,null,null,null,null,null,null,{"$f":"_xlfn.IFNA(IF(J19859>500,\"ומעלה 500\",VLOOKUP(J19859,טבלה1[#All],2,0)),\"\")","v":""}]
[null,null,null,null,null,null,null,null,null,null,null,{"$f":"_xlfn.IFNA(IF(J19860>500,\"ומעלה 500\",VLOOKUP(J19860,טבלה1[#All],2,0)),\"\")","v":""}]
[null,null,null,null,null,null,null,null,null,null,null,{"$f":"_xlfn.IFNA(IF(J19861>500,\"ומעלה 500\",VLOOKUP(J19861,טבלה1[#All],2,0)),\"\")","v":""}]
[null,null,null,null,null,null,null,null,null,null,null,{"$f":"_xlfn.IFNA(IF(J19862>500,\"ומעלה 500\",VLOOKUP(J19862,טבלה1[#All],2,0)),\"\")","v":""}]
[null,null,null,null,null,null,null,null,null,null,null,{"$f":"_xlfn.IFNA(IF(J19863>500,\"ומעלה 500\",VLOOKUP(J19863,טבלה1[#All],2,0)),\"\")","v":""}]
[null,null,null,null,null,null,null,null,null,null,null,{"$f":"_xlfn.IFNA(IF(J19864>500,\"ומעלה 500\",VLOOKUP(J19864,טבלה1[#All],2,0)),\"\")","v":""}]
[null,null,null,null,null,null,null,null,null,null,null,{"$f":"_xlfn.IFNA(IF(J19865>500,\"ומעלה 500\",VLOOKUP(J19865,טבלה1[#All],2,0)),\"\")","v":""}]
[null,null,null,null,null,null,null,null,null,null,null,{"$f":"_xlfn.IFNA(IF(J19866>500,\"ומעלה 500\",VLOOKUP(J19866,טבלה1[#All],2,0)),\"\")","v":""}]
[null,null,null,null,null,null,null,null,null,null,null,{"$f":"_xlfn.IFNA(IF(J19867>500,\"ומעלה 500\",VLOOKUP(J19867,טבלה1[#All],2,0)),\"\")","v":""}]
[null,null,null,null,null,null,null,null,null,null,null,{"$f":"_xlfn.IFNA(IF(J19868>500,\"ומעלה 500\",VLOOKUP(J19868,טבלה1[#All],2,0)),\"\")","v":""}]
[null,null,null,null,null,null,null,null,null,null,null,{"$f":"_xlfn.IFNA(IF(J19869>500,\"ומעלה 500\",VLOOKUP(J19869,טבלה1[#All],2,0)),\"\")","v":""}]
[null,null,null,null,null,null,null,null,null,null,null,{"$f":"_xlfn.IFNA(IF(J19870>500,\"ומעלה 500\",VLOOKUP(J19870,טבלה1[#All],2,0)),\"\")","v":""}]
[null,null,null,null,null,null,null,null,null,null,null,{"$f":"_xlfn.IFNA(IF(J19871>500,\"ומעלה 500\",VLOOKUP(J19871,טבלה1[#All],2,0)),\"\")","v":""}]
[null,null,null,null,null,null,null,null,null,null,null,{"$f":"_xlfn.IFNA(IF(J19872>500,\"ומעלה 500\",VLOOKUP(J19872,טבלה1[#All],2,0)),\"\")","v":""}]
[null,null,null,null,null,null,null,null,null,null,null,{"$f":"_xlfn.IFNA(IF(J19873>500,\"ומעלה 500\",VLOOKUP(J19873,טבלה1[#All],2,0)),\"\")","v":""}]
[null,null,null,null,null,null,null,null,null,null,null,{"$f":"_xlfn.IFNA(IF(J19874>500,\"ומעלה 500\",VLOOKUP(J19874,טבלה1[#All],2,0)),\"\")","v":""}]
[null,null,null,null,null,null,null,null,null,null,null,{"$f":"_xlfn.IFNA(IF(J19875>500,\"ומעלה 500\",VLOOKUP(J19875,טבלה1[#All],2,0)),\"\")","v":""}]
[null,null,null,null,null,null,null,null,null,null,null,{"$f":"_xlfn.IFNA(IF(J19876>500,\"ומעלה 500\",VLOOKUP(J19876,טבלה1[#All],2,0)),\"\")","v":""}]
[null,null,null,null,null,null,null,null,null,null,null,{"$f":"_xlfn.IFNA(IF(J19877>500,\"ומעלה 500\",VLOOKUP(J19877,טבלה1[#All],2,0)),\"\")","v":""}]
[null,null,null,null,null,null,null,null,null,null,null,{"$f":"_xlfn.IFNA(IF(J19878>500,\"ומעלה 500\",VLOOKUP(J19878,טבלה1[#All],2,0)),\"\")","v":""}]
[null,null,null,null,null,null,null,null,null,null,null,{"$f":"_xlfn.IFNA(IF(J19879>500,\"ומעלה 500\",VLOOKUP(J19879,טבלה1[#All],2,0)),\"\")","v":""}]
[null,null,null,null,null,null,null,null,null,null,null,{"$f":"_xlfn.IFNA(IF(J19880>500,\"ומעלה 500\",VLOOKUP(J19880,טבלה1[#All],2,0)),\"\")","v":""}]
[null,null,null,null,null,null,null,null,null,null,null,{"$f":"_xlfn.IFNA(IF(J19881>500,\"ומעלה 500\",VLOOKUP(J19881,טבלה1[#All],2,0)),\"\")","v":""}]
[null,null,null,null,null,null,null,null,null,null,null,{"$f":"_xlfn.IFNA(IF(J19882>500,\"ומעלה 500\",VLOOKUP(J19882,טבלה1[#All],2,0)),\"\")","v":""}]
[null,null,null,null,null,null,null,null,null,null,null,{"$f":"_xlfn.IFNA(IF(J19883>500,\"ומעלה 500\",VLOOKUP(J19883,טבלה1[#All],2,0)),\"\")","v":""}]
[null,null,null,null,null,null,null,null,null,null,null,{"$f":"_xlfn.IFNA(IF(J19884>500,\"ומעלה 500\",VLOOKUP(J19884,טבלה1[#All],2,0)),\"\")","v":""}]
[null,null,null,null,null,null,null,null,null,null,null,{"$f":"_xlfn.IFNA(IF(J19885>500,\"ומעלה 500\",VLOOKUP(J19885,טבלה1[#All],2,0)),\"\")","v":""}]
[null,null,null,null,null,null,null,null,null,null,null,{"$f":"_xlfn.IFNA(IF(J19886>500,\"ומעלה 500\",VLOOKUP(J19886,טבלה1[#All],2,0)),\"\")","v":""}]
[null,null,null,null,null,null,null,null,null,null,null,{"$f":"_xlfn.IFNA(IF(J19887>500,\"ומעלה 500\",VLOOKUP(J19887,טבלה1[#All],2,0)),\"\")","v":""}]
[null,null,null,null,null,null,null,null,null,null,null,{"$f":"_xlfn.IFNA(IF(J19888>500,\"ומעלה 500\",VLOOKUP(J19888,טבלה1[#All],2,0)),\"\")","v":""}]
[null,null,null,null,null,null,null,null,null,null,null,{"$f":"_xlfn.IFNA(IF(J19889>500,\"ומעלה 500\",VLOOKUP(J19889,טבלה1[#All],2,0)),\"\")","v":""}]
[null,null,null,null,null,null,null,null,null,null,null,{"$f":"_xlfn.IFNA(IF(J19890>500,\"ומעלה 500\",VLOOKUP(J19890,טבלה1[#All],2,0)),\"\")","v":""}]
[null,null,null,null,null,null,null,null,null,null,null,{"$f":"_xlfn.IFNA(IF(J19891>500,\"ומעלה 500\",VLOOKUP(J19891,טבלה1[#All],2,0)),\"\")","v":""}]
[null,null,null,null,null,null,null,null,null,null,null,{"$f":"_xlfn.IFNA(IF(J19892>500,\"ומעלה 500\",VLOOKUP(J19892,טבלה1[#All],2,0)),\"\")","v":""}]
[null,null,null,null,null,null,null,null,null,null,null,{"$f":"_xlfn.IFNA(IF(J19893>500,\"ומעלה 500\",VLOOKUP(J19893,טבלה1[#All],2,0)),\"\")","v":""}]
[null,null,null,null,null,null,null,null,null,null,null,{"$f":"_xlfn.IFNA(IF(J19894>500,\"ומעלה 500\",VLOOKUP(J19894,טבלה1[#All],2,0)),\"\")","v":""}]
[null,null,null,null,null,null,null,null,null,null,null,{"$f":"_xlfn.IFNA(IF(J19895>500,\"ומעלה 500\",VLOOKUP(J19895,טבלה1[#All],2,0)),\"\")","v":""}]
[null,null,null,null,null,null,null,null,null,null,null,{"$f":"_xlfn.IFNA(IF(J19896>500,\"ומעלה 500\",VLOOKUP(J19896,טבלה1[#All],2,0)),\"\")","v":""}]
[null,null,null,null,null,null,null,null,null,null,null,{"$f":"_xlfn.IFNA(IF(J19897>500,\"ומעלה 500\",VLOOKUP(J19897,טבלה1[#All],2,0)),\"\")","v":""}]
[null,null,null,null,null,null,null,null,null,null,null,{"$f":"_xlfn.IFNA(IF(J19898>500,\"ומעלה 500\",VLOOKUP(J19898,טבלה1[#All],2,0)),\"\")","v":""}]
[null,null,null,null,null,null,null,null,null,null,null,{"$f":"_xlfn.IFNA(IF(J19899>500,\"ומעלה 500\",VLOOKUP(J19899,טבלה1[#All],2,0)),\"\")","v":""}]
[null,null,null,null,null,null,null,null,null,null,null,{"$f":"_xlfn.IFNA(IF(J19900>500,\"ומעלה 500\",VLOOKUP(J19900,טבלה1[#All],2,0)),\"\")","v":""}]
[null,null,null,null,null,null,null,null,null,null,null,{"$f":"_xlfn.IFNA(IF(J19901>500,\"ומעלה 500\",VLOOKUP(J19901,טבלה1[#All],2,0)),\"\")","v":""}]
[null,null,null,null,null,null,null,null,null,null,null,{"$f":"_xlfn.IFNA(IF(J19902>500,\"ומעלה 500\",VLOOKUP(J19902,טבלה1[#All],2,0)),\"\")","v":""}]
[null,null,null,null,null,null,null,null,null,null,null,{"$f":"_xlfn.IFNA(IF(J19903>500,\"ומעלה 500\",VLOOKUP(J19903,טבלה1[#All],2,0)),\"\")","v":""}]
[null,null,null,null,null,null,null,null,null,null,null,{"$f":"_xlfn.IFNA(IF(J19904>500,\"ומעלה 500\",VLOOKUP(J19904,טבלה1[#All],2,0)),\"\")","v":""}]
[null,null,null,null,null,null,null,null,null,null,null,{"$f":"_xlfn.IFNA(IF(J19905>500,\"ומעלה 500\",VLOOKUP(J19905,טבלה1[#All],2,0)),\"\")","v":""}]
[null,null,null,null,null,null,null,null,null,null,null,{"$f":"_xlfn.IFNA(IF(J19906>500,\"ומעלה 500\",VLOOKUP(J19906,טבלה1[#All],2,0)),\"\")","v":""}]
[null,null,null,null,null,null,null,null,null,null,null,{"$f":"_xlfn.IFNA(IF(J19907>500,\"ומעלה 500\",VLOOKUP(J19907,טבלה1[#All],2,0)),\"\")","v":""}]
[null,null,null,null,null,null,null,null,null,null,null,{"$f":"_xlfn.IFNA(IF(J19908>500,\"ומעלה 500\",VLOOKUP(J19908,טבלה1[#All],2,0)),\"\")","v":""}]
[null,null,null,null,null,null,null,null,null,null,null,{"$f":"_xlfn.IFNA(IF(J19909>500,\"ומעלה 500\",VLOOKUP(J19909,טבלה1[#All],2,0)),\"\")","v":""}]
[null,null,null,null,null,null,null,null,null,null,null,{"$f":"_xlfn.IFNA(IF(J19910>500,\"ומעלה 500\",VLOOKUP(J19910,טבלה1[#All],2,0)),\"\")","v":""}]
[null,null,null,null,null,null,null,null,null,null,null,{"$f":"_xlfn.IFNA(IF(J19911>500,\"ומעלה 500\",VLOOKUP(J19911,טבלה1[#All],2,0)),\"\")","v":""}]
[null,null,null,null,null,null,null,null,null,null,null,{"$f":"_xlfn.IFNA(IF(J19912>500,\"ומעלה 500\",VLOOKUP(J19912,טבלה1[#All],2,0)),\"\")","v":""}]
[null,null,null,null,null,null,null,null,null,null,null,{"$f":"_xlfn.IFNA(IF(J19913>500,\"ומעלה 500\",VLOOKUP(J19913,טבלה1[#All],2,0)),\"\")","v":""}]
[null,null,null,null,null,null,null,null,null,null,null,{"$f":"_xlfn.IFNA(IF(J19914>500,\"ומעלה 500\",VLOOKUP(J19914,טבלה1[#All],2,0)),\"\")","v":""}]
[null,null,null,null,null,null,null,null,null,null,null,{"$f":"_xlfn.IFNA(IF(J19915>500,\"ומעלה 500\",VLOOKUP(J19915,טבלה1[#All],2,0)),\"\")","v":""}]
[null,null,null,null,null,null,null,null,null,null,null,{"$f":"_xlfn.IFNA(IF(J19916>500,\"ומעלה 500\",VLOOKUP(J19916,טבלה1[#All],2,0)),\"\")","v":""}]
[null,null,null,null,null,null,null,null,null,null,null,{"$f":"_xlfn.IFNA(IF(J19917>500,\"ומעלה 500\",VLOOKUP(J19917,טבלה1[#All],2,0)),\"\")","v":""}]
[null,null,null,null,null,null,null,null,null,null,null,{"$f":"_xlfn.IFNA(IF(J19918>500,\"ומעלה 500\",VLOOKUP(J19918,טבלה1[#All],2,0)),\"\")","v":""}]
[null,null,null,null,null,null,null,null,null,null,null,{"$f":"_xlfn.IFNA(IF(J19919>500,\"ומעלה 500\",VLOOKUP(J19919,טבלה1[#All],2,0)),\"\")","v":""}]
[null,null,null,null,null,null,null,null,null,null,null,{"$f":"_xlfn.IFNA(IF(J19920>500,\"ומעלה 500\",VLOOKUP(J19920,טבלה1[#All],2,0)),\"\")","v":""}]
[null,null,null,null,null,null,null,null,null,null,null,{"$f":"_xlfn.IFNA(IF(J19921>500,\"ומעלה 500\",VLOOKUP(J19921,טבלה1[#All],2,0)),\"\")","v":""}]
[null,null,null,null,null,null,null,null,null,null,null,{"$f":"_xlfn.IFNA(IF(J19922>500,\"ומעלה 500\",VLOOKUP(J19922,טבלה1[#All],2,0)),\"\")","v":""}]
[null,null,null,null,null,null,null,null,null,null,null,{"$f":"_xlfn.IFNA(IF(J19923>500,\"ומעלה 500\",VLOOKUP(J19923,טבלה1[#All],2,0)),\"\")","v":""}]
[null,null,null,null,null,null,null,null,null,null,null,{"$f":"_xlfn.IFNA(IF(J19924>500,\"ומעלה 500\",VLOOKUP(J19924,טבלה1[#All],2,0)),\"\")","v":""}]
[null,null,null,null,null,null,null,null,null,null,null,{"$f":"_xlfn.IFNA(IF(J19925>500,\"ומעלה 500\",VLOOKUP(J19925,טבלה1[#All],2,0)),\"\")","v":""}]
[null,null,null,null,null,null,null,null,null,null,null,{"$f":"_xlfn.IFNA(IF(J19926>500,\"ומעלה 500\",VLOOKUP(J19926,טבלה1[#All],2,0)),\"\")","v":""}]
[null,null,null,null,null,null,null,null,null,null,null,{"$f":"_xlfn.IFNA(IF(J19927>500,\"ומעלה 500\",VLOOKUP(J19927,טבלה1[#All],2,0)),\"\")","v":""}]
[null,null,null,null,null,null,null,null,null,null,null,{"$f":"_xlfn.IFNA(IF(J19928>500,\"ומעלה 500\",VLOOKUP(J19928,טבלה1[#All],2,0)),\"\")","v":""}]
[null,null,null,null,null,null,null,null,null,null,null,{"$f":"_xlfn.IFNA(IF(J19929>500,\"ומעלה 500\",VLOOKUP(J19929,טבלה1[#All],2,0)),\"\")","v":""}]
[null,null,null,null,null,null,null,null,null,null,null,{"$f":"_xlfn.IFNA(IF(J19930>500,\"ומעלה 500\",VLOOKUP(J19930,טבלה1[#All],2,0)),\"\")","v":""}]
[null,null,null,null,null,null,null,null,null,null,null,{"$f":"_xlfn.IFNA(IF(J19931>500,\"ומעלה 500\",VLOOKUP(J19931,טבלה1[#All],2,0)),\"\")","v":""}]
[null,null,null,null,null,null,null,null,null,null,null,{"$f":"_xlfn.IFNA(IF(J19932>500,\"ומעלה 500\",VLOOKUP(J19932,טבלה1[#All],2,0)),\"\")","v":""}]
[null,null,null,null,null,null,null,null,null,null,null,{"$f":"_xlfn.IFNA(IF(J19933>500,\"ומעלה 500\",VLOOKUP(J19933,טבלה1[#All],2,0)),\"\")","v":""}]
[null,null,null,null,null,null,null,null,null,null,null,{"$f":"_xlfn.IFNA(IF(J19934>500,\"ומעלה 500\",VLOOKUP(J19934,טבלה1[#All],2,0)),\"\")","v":""}]
[null,null,null,null,null,null,null,null,null,null,null,{"$f":"_xlfn.IFNA(IF(J19935>500,\"ומעלה 500\",VLOOKUP(J19935,טבלה1[#All],2,0)),\"\")","v":""}]
[null,null,null,null,null,null,null,null,null,null,null,{"$f":"_xlfn.IFNA(IF(J19936>500,\"ומעלה 500\",VLOOKUP(J19936,טבלה1[#All],2,0)),\"\")","v":""}]
[null,null,null,null,null,null,null,null,null,null,null,{"$f":"_xlfn.IFNA(IF(J19937>500,\"ומעלה 500\",VLOOKUP(J19937,טבלה1[#All],2,0)),\"\")","v":""}]
[null,null,null,null,null,null,null,null,null,null,null,{"$f":"_xlfn.IFNA(IF(J19938>500,\"ומעלה 500\",VLOOKUP(J19938,טבלה1[#All],2,0)),\"\")","v":""}]
[null,null,null,null,null,null,null,null,null,null,null,{"$f":"_xlfn.IFNA(IF(J19939>500,\"ומעלה 500\",VLOOKUP(J19939,טבלה1[#All],2,0)),\"\")","v":""}]
[null,null,null,null,null,null,null,null,null,null,null,{"$f":"_xlfn.IFNA(IF(J19940>500,\"ומעלה 500\",VLOOKUP(J19940,טבלה1[#All],2,0)),\"\")","v":""}]
[null,null,null,null,null,null,null,null,null,null,null,{"$f":"_xlfn.IFNA(IF(J19941>500,\"ומעלה 500\",VLOOKUP(J19941,טבלה1[#All],2,0)),\"\")","v":""}]
[null,null,null,null,null,null,null,null,null,null,null,{"$f":"_xlfn.IFNA(IF(J19942>500,\"ומעלה 500\",VLOOKUP(J19942,טבלה1[#All],2,0)),\"\")","v":""}]
[null,null,null,null,null,null,null,null,null,null,null,{"$f":"_xlfn.IFNA(IF(J19943>500,\"ומעלה 500\",VLOOKUP(J19943,טבלה1[#All],2,0)),\"\")","v":""}]
[null,null,null,null,null,null,null,null,null,null,null,{"$f":"_xlfn.IFNA(IF(J19944>500,\"ומעלה 500\",VLOOKUP(J19944,טבלה1[#All],2,0)),\"\")","v":""}]
[null,null,null,null,null,null,null,null,null,null,null,{"$f":"_xlfn.IFNA(IF(J19945>500,\"ומעלה 500\",VLOOKUP(J19945,טבלה1[#All],2,0)),\"\")","v":""}]
[null,null,null,null,null,null,null,null,null,null,null,{"$f":"_xlfn.IFNA(IF(J19946>500,\"ומעלה 500\",VLOOKUP(J19946,טבלה1[#All],2,0)),\"\")","v":""}]
[null,null,null,null,null,null,null,null,null,null,null,{"$f":"_xlfn.IFNA(IF(J19947>500,\"ומעלה 500\",VLOOKUP(J19947,טבלה1[#All],2,0)),\"\")","v":""}]
[null,null,null,null,null,null,null,null,null,null,null,{"$f":"_xlfn.IFNA(IF(J19948>500,\"ומעלה 500\",VLOOKUP(J19948,טבלה1[#All],2,0)),\"\")","v":""}]
[null,null,null,null,null,null,null,null,null,null,null,{"$f":"_xlfn.IFNA(IF(J19949>500,\"ומעלה 500\",VLOOKUP(J19949,טבלה1[#All],2,0)),\"\")","v":""}]
[null,null,null,null,null,null,null,null,null,null,null,{"$f":"_xlfn.IFNA(IF(J19950>500,\"ומעלה 500\",VLOOKUP(J19950,טבלה1[#All],2,0)),\"\")","v":""}]
[null,null,null,null,null,null,null,null,null,null,null,{"$f":"_xlfn.IFNA(IF(J19951>500,\"ומעלה 500\",VLOOKUP(J19951,טבלה1[#All],2,0)),\"\")","v":""}]
[null,null,null,null,null,null,null,null,null,null,null,{"$f":"_xlfn.IFNA(IF(J19952>500,\"ומעלה 500\",VLOOKUP(J19952,טבלה1[#All],2,0)),\"\")","v":""}]
[null,null,null,null,null,null,null,null,null,null,null,{"$f":"_xlfn.IFNA(IF(J19953>500,\"ומעלה 500\",VLOOKUP(J19953,טבלה1[#All],2,0)),\"\")","v":""}]
[null,null,null,null,null,null,null,null,null,null,null,{"$f":"_xlfn.IFNA(IF(J19954>500,\"ומעלה 500\",VLOOKUP(J19954,טבלה1[#All],2,0)),\"\")","v":""}]
[null,null,null,null,null,null,null,null,null,null,null,{"$f":"_xlfn.IFNA(IF(J19955>500,\"ומעלה 500\",VLOOKUP(J19955,טבלה1[#All],2,0)),\"\")","v":""}]
[null,null,null,null,null,null,null,null,null,null,null,{"$f":"_xlfn.IFNA(IF(J19956>500,\"ומעלה 500\",VLOOKUP(J19956,טבלה1[#All],2,0)),\"\")","v":""}]
[null,null,null,null,null,null,null,null,null,null,null,{"$f":"_xlfn.IFNA(IF(J19957>500,\"ומעלה 500\",VLOOKUP(J19957,טבלה1[#All],2,0)),\"\")","v":""}]
[null,null,null,null,null,null,null,null,null,null,null,{"$f":"_xlfn.IFNA(IF(J19958>500,\"ומעלה 500\",VLOOKUP(J19958,טבלה1[#All],2,0)),\"\")","v":""}]
[null,null,null,null,null,null,null,null,null,null,null,{"$f":"_xlfn.IFNA(IF(J19959>500,\"ומעלה 500\",VLOOKUP(J19959,טבלה1[#All],2,0)),\"\")","v":""}]
[null,null,null,null,null,null,null,null,null,null,null,{"$f":"_xlfn.IFNA(IF(J19960>500,\"ומעלה 500\",VLOOKUP(J19960,טבלה1[#All],2,0)),\"\")","v":""}]
[null,null,null,null,null,null,null,null,null,null,null,{"$f":"_xlfn.IFNA(IF(J19961>500,\"ומעלה 500\",VLOOKUP(J19961,טבלה1[#All],2,0)),\"\")","v":""}]
[null,null,null,null,null,null,null,null,null,null,null,{"$f":"_xlfn.IFNA(IF(J19962>500,\"ומעלה 500\",VLOOKUP(J19962,טבלה1[#All],2,0)),\"\")","v":""}]
[null,null,null,null,null,null,null,null,null,null,null,{"$f":"_xlfn.IFNA(IF(J19963>500,\"ומעלה 500\",VLOOKUP(J19963,טבלה1[#All],2,0)),\"\")","v":""}]
[null,null,null,null,null,null,null,null,null,null,null,{"$f":"_xlfn.IFNA(IF(J19964>500,\"ומעלה 500\",VLOOKUP(J19964,טבלה1[#All],2,0)),\"\")","v":""}]
[null,null,null,null,null,null,null,null,null,null,null,{"$f":"_xlfn.IFNA(IF(J19965>500,\"ומעלה 500\",VLOOKUP(J19965,טבלה1[#All],2,0)),\"\")","v":""}]
[null,null,null,null,null,null,null,null,null,null,null,{"$f":"_xlfn.IFNA(IF(J19966>500,\"ומעלה 500\",VLOOKUP(J19966,טבלה1[#All],2,0)),\"\")","v":""}]
[null,null,null,null,null,null,null,null,null,null,null,{"$f":"_xlfn.IFNA(IF(J19967>500,\"ומעלה 500\",VLOOKUP(J19967,טבלה1[#All],2,0)),\"\")","v":""}]
[null,null,null,null,null,null,null,null,null,null,null,{"$f":"_xlfn.IFNA(IF(J19968>500,\"ומעלה 500\",VLOOKUP(J19968,טבלה1[#All],2,0)),\"\")","v":""}]
[null,null,null,null,null,null,null,null,null,null,null,{"$f":"_xlfn.IFNA(IF(J19969>500,\"ומעלה 500\",VLOOKUP(J19969,טבלה1[#All],2,0)),\"\")","v":""}]
[null,null,null,null,null,null,null,null,null,null,null,{"$f":"_xlfn.IFNA(IF(J19970>500,\"ומעלה 500\",VLOOKUP(J19970,טבלה1[#All],2,0)),\"\")","v":""}]
[null,null,null,null,null,null,null,null,null,null,null,{"$f":"_xlfn.IFNA(IF(J19971>500,\"ומעלה 500\",VLOOKUP(J19971,טבלה1[#All],2,0)),\"\")","v":""}]
[null,null,null,null,null,null,null,null,null,null,null,{"$f":"_xlfn.IFNA(IF(J19972>500,\"ומעלה 500\",VLOOKUP(J19972,טבלה1[#All],2,0)),\"\")","v":""}]
[null,null,null,null,null,null,null,null,null,null,null,{"$f":"_xlfn.IFNA(IF(J19973>500,\"ומעלה 500\",VLOOKUP(J19973,טבלה1[#All],2,0)),\"\")","v":""}]
[null,null,null,null,null,null,null,null,null,null,null,{"$f":"_xlfn.IFNA(IF(J19974>500,\"ומעלה 500\",VLOOKUP(J19974,טבלה1[#All],2,0)),\"\")","v":""}]
[null,null,null,null,null,null,null,null,null,null,null,{"$f":"_xlfn.IFNA(IF(J19975>500,\"ומעלה 500\",VLOOKUP(J19975,טבלה1[#All],2,0)),\"\")","v":""}]
[null,null,null,null,null,null,null,null,null,null,null,{"$f":"_xlfn.IFNA(IF(J19976>500,\"ומעלה 500\",VLOOKUP(J19976,טבלה1[#All],2,0)),\"\")","v":""}]
[null,null,null,null,null,null,null,null,null,null,null,{"$f":"_xlfn.IFNA(IF(J19977>500,\"ומעלה 500\",VLOOKUP(J19977,טבלה1[#All],2,0)),\"\")","v":""}]
[null,null,null,null,null,null,null,null,null,null,null,{"$f":"_xlfn.IFNA(IF(J19978>500,\"ומעלה 500\",VLOOKUP(J19978,טבלה1[#All],2,0)),\"\")","v":""}]
[null,null,null,null,null,null,null,null,null,null,null,{"$f":"_xlfn.IFNA(IF(J19979>500,\"ומעלה 500\",VLOOKUP(J19979,טבלה1[#All],2,0)),\"\")","v":""}]
[null,null,null,null,null,null,null,null,null,null,null,{"$f":"_xlfn.IFNA(IF(J19980>500,\"ומעלה 500\",VLOOKUP(J19980,טבלה1[#All],2,0)),\"\")","v":""}]
[null,null,null,null,null,null,null,null,null,null,null,{"$f":"_xlfn.IFNA(IF(J19981>500,\"ומעלה 500\",VLOOKUP(J19981,טבלה1[#All],2,0)),\"\")","v":""}]
[null,null,null,null,null,null,null,null,null,null,null,{"$f":"_xlfn.IFNA(IF(J19982>500,\"ומעלה 500\",VLOOKUP(J19982,טבלה1[#All],2,0)),\"\")","v":""}]
[null,null,null,null,null,null,null,null,null,null,null,{"$f":"_xlfn.IFNA(IF(J19983>500,\"ומעלה 500\",VLOOKUP(J19983,טבלה1[#All],2,0)),\"\")","v":""}]
[null,null,null,null,null,null,null,null,null,null,null,{"$f":"_xlfn.IFNA(IF(J19984>500,\"ומעלה 500\",VLOOKUP(J19984,טבלה1[#All],2,0)),\"\")","v":""}]
[null,null,null,null,null,null,null,null,null,null,null,{"$f":"_xlfn.IFNA(IF(J19985>500,\"ומעלה 500\",VLOOKUP(J19985,טבלה1[#All],2,0)),\"\")","v":""}]
[null,null,null,null,null,null,null,null,null,null,null,{"$f":"_xlfn.IFNA(IF(J19986>500,\"ומעלה 500\",VLOOKUP(J19986,טבלה1[#All],2,0)),\"\")","v":""}]
[null,null,null,null,null,null,null,null,null,null,null,{"$f":"_xlfn.IFNA(IF(J19987>500,\"ומעלה 500\",VLOOKUP(J19987,טבלה1[#All],2,0)),\"\")","v":""}]
[null,null,null,null,null,null,null,null,null,null,null,{"$f":"_xlfn.IFNA(IF(J19988>500,\"ומעלה 500\",VLOOKUP(J19988,טבלה1[#All],2,0)),\"\")","v":""}]
[null,null,null,null,null,null,null,null,null,null,null,{"$f":"_xlfn.IFNA(IF(J19989>500,\"ומעלה 500\",VLOOKUP(J19989,טבלה1[#All],2,0)),\"\")","v":""}]
[null,null,null,null,null,null,null,null,null,null,null,{"$f":"_xlfn.IFNA(IF(J19990>500,\"ומעלה 500\",VLOOKUP(J19990,טבלה1[#All],2,0)),\"\")","v":""}]
[null,null,null,null,null,null,null,null,null,null,null,{"$f":"_xlfn.IFNA(IF(J19991>500,\"ומעלה 500\",VLOOKUP(J19991,טבלה1[#All],2,0)),\"\")","v":""}]
[null,null,null,null,null,null,null,null,null,null,null,{"$f":"_xlfn.IFNA(IF(J19992>500,\"ומעלה 500\",VLOOKUP(J19992,טבלה1[#All],2,0)),\"\")","v":""}]
[null,null,null,null,null,null,null,null,null,null,null,{"$f":"_xlfn.IFNA(IF(J19993>500,\"ומעלה 500\",VLOOKUP(J19993,טבלה1[#All],2,0)),\"\")","v":""}]
[null,null,null,null,null,null,null,null,null,null,null,{"$f":"_xlfn.IFNA(IF(J19994>500,\"ומעלה 500\",VLOOKUP(J19994,טבלה1[#All],2,0)),\"\")","v":""}]
[null,null,null,null,null,null,null,null,null,null,null,{"$f":"_xlfn.IFNA(IF(J19995>500,\"ומעלה 500\",VLOOKUP(J19995,טבלה1[#All],2,0)),\"\")","v":""}]
[null,null,null,null,null,null,null,null,null,null,null,{"$f":"_xlfn.IFNA(IF(J19996>500,\"ומעלה 500\",VLOOKUP(J19996,טבלה1[#All],2,0)),\"\")","v":""}]
[null,null,null,null,null,null,null,null,null,null,null,{"$f":"_xlfn.IFNA(IF(J19997>500,\"ומעלה 500\",VLOOKUP(J19997,טבלה1[#All],2,0)),\"\")","v":""}]
[null,null,null,null,null,null,null,null,null,null,null,{"$f":"_xlfn.IFNA(IF(J19998>500,\"ומעלה 500\",VLOOKUP(J19998,טבלה1[#All],2,0)),\"\")","v":""}]
[null,null,null,null,null,null,null,null,null,null,null,{"$f":"_xlfn.IFNA(IF(J19999>500,\"ומעלה 500\",VLOOKUP(J19999,טבלה1[#All],2,0)),\"\")","v":""}]
[null,null,null,null,null,null,null,null,null,null,null,{"$f":"_xlfn.IFNA(IF(J20000>500,\"ומעלה 500\",VLOOKUP(J20000,טבלה1[#All],2,0)),\"\")","v":""}]
[null,null,null,null,null,null,null,null,null,null,null,{"$f":"_xlfn.IFNA(IF(J20001>500,\"ומעלה 500\",VLOOKUP(J20001,טבלה1[#All],2,0)),\"\")","v":""}]

{"sheet":"מרכזיות תאורה","index":4,"n_rows":2,"n_cols":10,"rows_kept":2,"cut":false,"hidden":false,"merged":[]}
[]
["ישוב","כתובת","קואורדינטת Y","קואורדינטת X","שם מרכזייה","גודל חיבור [אמפר]","מספר חוזה","מספר מונה חשמל של חח\"י","קריאת מונה","תיאור מקום מרכזייה"]

{"sheet":"סיכום","index":5,"n_rows":30,"n_cols":18,"rows_kept":30,"cut":false,"hidden":false,"merged":[]}
[null,null,null,null,null,null,null,null,null,null,null,"סכום של מספר נורות על עמוד התאורה","תוויות עמודה"]
[null,"הספק (וואט)","מספר גופי לד","מספר גופים שאינם לד","הספק מתוכנן להחלפה","עלות החלפת גוף תאורה","עלות החלפת כלל הגופים","חסכון בקוט\"ש","חסכון בש\"ח בשנה","זמן החזר השקעה",null,"תוויות שורה","נל\"ג","(ריק)","מטאל הלייד","לד","כספית","סכום כולל"]
[null,{"$f":"IF(ISBLANK(L3),\"(ריק)\",L3)","v":"(ריק)"},{"$f":"IF(P3=0,\"\",P3)","v":""},{"$f":"IF((M3+O3+Q3)=0,\"\",(M3+O3+Q3))","v":""},null,null,{"$f":"IF(ISBLANK(F3),\"\",F3*D3)","v":""},{"$f":"IF(ISBLANK(E3),\"\",(B3-E3)*D3*0.001*$C$30)","v":""},{"$f":"IFERROR($C$29*H3,\"\")","v":""},{"$f":"IFERROR(G3/I3,\"\")","v":""},null,"(ריק)"]
[null,{"$f":"IF(ISBLANK(L4),\"(ריק)\",L4)","v":"סכום כולל"},{"$f":"IF(P4=0,\"\",P4)","v":""},"",null,null,{"$f":"IF(ISBLANK(F4),\"\",F4*D4)","v":""},"","",{"$f":"IFERROR(G4/I4,\"\")","v":""},null,"סכום כולל"]
[null,"(ריק)","","",null,null,"","","",""]
[null,"(ריק)","","",null,null,"","","",""]
[null,"(ריק)","","",null,null,"","","",""]
[null,"(ריק)","","",null,null,"","","",""]
[null,"(ריק)","","",null,null,"","","",""]
[null,"(ריק)","","",null,null,"","","",""]
[null,"(ריק)","","",null,null,"","","",""]
[null,"(ריק)","","",null,null,"","","",""]
[null,"(ריק)","","",null,null,"","","",""]
[null,"(ריק)",{"$f":"IF((M14+O14+Q14)=0,\"\",(M14+O14+Q14))","v":""},null,null,null,"","","",""]
[null,"(ריק)",{"$f":"IF((M15+O15+Q15)=0,\"\",(M15+O15+Q15))","v":""},null,null,null,{"$f":"IF(ISBLANK(F15),\"\",F15*D15)","v":""},"","",{"$f":"IFERROR(G15/I15,\"\")","v":""}]
[null,"(ריק)","",null,null,null,"","","",""]
[null,"(ריק)","",null,null,null,"","","",""]
[null,"(ריק)","",null,null,null,"","","",""]
[null,"(ריק)","",null,null,null,"","","",""]
[null,"(ריק)","",null,null,null,"","","",""]
[null,"(ריק)","",null,null,null,"","","",""]
[null,"(ריק)","",null,null,null,"","","",""]
[null,"(ריק)","",null,null,null,"","","",""]
[null,"(ריק)","",null,null,null,"","","",""]
[null,"(ריק)","",null,null,null,"","","",""]
[null,"(ריק)","",null,null,null,"","","",""]
[]
[]
[null,"ש\"ח לקוטש",0.4,null,"סה\"כ עלות בש\"ח",{"$f":"SUM(G3:G26)","v":0},null,"סה\"כ חסכון בקוט\"ש",{"$f":"SUM(H3:H26)","v":0}]
[null,"שעות הפעלה בשנה",4200,null,null,null,null,"סה\"כ חסכון בש\"ח",{"$f":"SUM(I3:I26)","v":0}]